{"text_format":"1","workbook":"xlsx","n_sheets":16,"sheets":["CONTEST","REG","Výsledky","OVERALL","G Q 1-2","G Q 3","G Q 4","G H2H","H Q 1-2","H Q 3","H Q 4","H H2H","T Q 1-2","T Q 3","T Q 4","T H2H"],"not_rendered":{"charts":0,"images":0,"macros":1,"external_links":1,"defined_names":14,"comments":0,"pivot_tables":0},"unopened":[],"bounds":{"document_bytes":16777216,"sheet_cells":100000,"rows_first":2000,"rows_last":500,"rows_between":2000,"halvings":0,"cell_chars":16384,"cell_head_chars":4096},"cells_cut":0,"cells_raw":0,"read":"whole","date_system":"1904"}

{"sheet":"CONTEST","index":0,"n_rows":20,"n_cols":10,"rows_kept":20,"cut":false,"hidden":false,"merged":[[11,1,11,5],[12,1,12,5],[3,1,3,5],[5,1,5,5],[7,1,7,5],[8,1,8,5],[9,1,9,5],[10,1,10,5]]}
[]
[]
[null,"Contest"]
[null,{"$f":"+[1]ZAVOD!$B4","v":"Skate n Roll Polička  2022"}]
[]
["Datum",{"$f":"+[1]ZAVOD!$B6","v":"13.8. - 14.8.2022"}]
[]
["slalom 1",{"$f":"+[1]ZAVOD!$B8","v":"GIANT SLALOM"},null,null,null,null,"tight","T"]
["slalom 2",{"$f":"+[1]ZAVOD!$B9","v":"HYBRID SLALOM"},null,null,null,null,"straight","S"]
["slalom 3",{"$f":"+[1]ZAVOD!$B10","v":"TIGHT SLALOM"},null,null,null,null,"hybrid","H"]
["slalom 4",{"$f":"+[1]ZAVOD!$B11","v":0},null,null,null,null,"special"]
["slalom 5",{"$f":"+[1]ZAVOD!$B12","v":0},null,null,null,null,"giant"]
["kategorie",{"$f":"+[1]TEEN!$C$2","v":"TEEN 12-14"}]
[null,null,null,null,null,"dnes",{"$f":"TODAY()","v":"2022-08-14"},{"$f":"YEAR(G14)","v":2022}]
[null,null,null,"VETERAN",null,{"$f":"H14-50","v":1972}]
[null,"Qualifications",null,"OPEN MAN"]
[null," Eliminations",null,"WOMAN"]
[null,null,null,"JUNIOR 17","J-",{"$f":"H14-15","v":2007},{"$f":"H14-17","v":2005},"15-17",17,{"$f":"I18-17","v":0}]
[null,null,null,"JUNIOR 15 TEEN","T-",{"$f":"H14-12","v":2010},{"$f":"H14-14","v":2008},"12-14",14,{"$f":"I19-17","v":-3}]
[null,null,null,"KIDS 11","K-",{"$f":"H14","v":2022},{"$f":"H14-100","v":1922},"0-11",11,{"$f":"I20-16","v":-5}]

{"sheet":"REG","index":1,"n_rows":111,"n_cols":7,"rows_kept":111,"cut":false,"hidden":false,"merged":[[3,1,3,3],[4,1,4,3],[5,1,5,3]]}
[]
[null,"Registrace",{"$f":"+CONTEST!B13","v":"TEEN 12-14"}]
[]
[null,{"$f":"CONTEST!B4","v":"Skate n Roll Polička  2022"}]
[null,{"$f":"CONTEST!B6","v":"13.8. - 14.8.2022"}]
[null,{"$f":"CONTEST!B8","v":"GIANT SLALOM"}]
[]
[]
[]
[null,"Startnumer","riders::name","riders::Country","riders::TEAM","riders::Birth"]
[null,{"$f":"IF([1]TEEN!B11<>\"\",[1]TEEN!B11,\"\")","v":""},{"$f":"IF([1]TEEN!C11<>\"\",[1]TEEN!C11,\"\")","v":"Voves  Jindřich "},{"$f":"IF([1]TEEN!D11<>\"\",[1]TEEN!D11,\"\")","v":"CZE"},{"$f":"IF([1]TEEN!E11<>\"\",[1]TEEN!E11,\"\")","v":"Skatecahoot "},{"$f":"IF([1]TEEN!F11<>\"\",[1]TEEN!F11,\"\")","v":""},{"$f":"IF(C11<>\"\",CONCATENATE(C11,\" [\",D11,\"] \"),\"\")","v":"Voves  Jindřich  [CZE] "}]
[null,{"$f":"IF([1]TEEN!B12<>\"\",[1]TEEN!B12,\"\")","v":""},{"$f":"IF([1]TEEN!C12<>\"\",[1]TEEN!C12,\"\")","v":"Rezková  Anna "},{"$f":"IF([1]TEEN!D12<>\"\",[1]TEEN!D12,\"\")","v":"CZE"},{"$f":"IF([1]TEEN!E12<>\"\",[1]TEEN!E12,\"\")","v":"Skatecahoot "},{"$f":"IF([1]TEEN!F12<>\"\",[1]TEEN!F12,\"\")","v":""},"Rezková  Anna  [CZE] "]
[null,{"$f":"IF([1]TEEN!B13<>\"\",[1]TEEN!B13,\"\")","v":""},{"$f":"IF([1]TEEN!C13<>\"\",[1]TEEN!C13,\"\")","v":""},{"$f":"IF([1]TEEN!D13<>\"\",[1]TEEN!D13,\"\")","v":""},{"$f":"IF([1]TEEN!E13<>\"\",[1]TEEN!E13,\"\")","v":""},{"$f":"IF([1]TEEN!F13<>\"\",[1]TEEN!F13,\"\")","v":""},""]
[null,{"$f":"IF([1]TEEN!B14<>\"\",[1]TEEN!B14,\"\")","v":""},{"$f":"IF([1]TEEN!C14<>\"\",[1]TEEN!C14,\"\")","v":""},{"$f":"IF([1]TEEN!D14<>\"\",[1]TEEN!D14,\"\")","v":""},{"$f":"IF([1]TEEN!E14<>\"\",[1]TEEN!E14,\"\")","v":""},{"$f":"IF([1]TEEN!F14<>\"\",[1]TEEN!F14,\"\")","v":""},""]
[null,{"$f":"IF([1]TEEN!B15<>\"\",[1]TEEN!B15,\"\")","v":""},{"$f":"IF([1]TEEN!C15<>\"\",[1]TEEN!C15,\"\")","v":""},{"$f":"IF([1]TEEN!D15<>\"\",[1]TEEN!D15,\"\")","v":""},{"$f":"IF([1]TEEN!E15<>\"\",[1]TEEN!E15,\"\")","v":""},{"$f":"IF([1]TEEN!F15<>\"\",[1]TEEN!F15,\"\")","v":""},""]
[null,{"$f":"IF([1]TEEN!B16<>\"\",[1]TEEN!B16,\"\")","v":""},{"$f":"IF([1]TEEN!C16<>\"\",[1]TEEN!C16,\"\")","v":""},{"$f":"IF([1]TEEN!D16<>\"\",[1]TEEN!D16,\"\")","v":""},{"$f":"IF([1]TEEN!E16<>\"\",[1]TEEN!E16,\"\")","v":""},{"$f":"IF([1]TEEN!F16<>\"\",[1]TEEN!F16,\"\")","v":""},""]
[null,{"$f":"IF([1]TEEN!B17<>\"\",[1]TEEN!B17,\"\")","v":""},{"$f":"IF([1]TEEN!C17<>\"\",[1]TEEN!C17,\"\")","v":""},{"$f":"IF([1]TEEN!D17<>\"\",[1]TEEN!D17,\"\")","v":""},{"$f":"IF([1]TEEN!E17<>\"\",[1]TEEN!E17,\"\")","v":""},{"$f":"IF([1]TEEN!F17<>\"\",[1]TEEN!F17,\"\")","v":""},""]
[null,{"$f":"IF([1]TEEN!B18<>\"\",[1]TEEN!B18,\"\")","v":""},{"$f":"IF([1]TEEN!C18<>\"\",[1]TEEN!C18,\"\")","v":""},{"$f":"IF([1]TEEN!D18<>\"\",[1]TEEN!D18,\"\")","v":""},{"$f":"IF([1]TEEN!E18<>\"\",[1]TEEN!E18,\"\")","v":""},{"$f":"IF([1]TEEN!F18<>\"\",[1]TEEN!F18,\"\")","v":""},""]
[null,{"$f":"IF([1]TEEN!B19<>\"\",[1]TEEN!B19,\"\")","v":""},{"$f":"IF([1]TEEN!C19<>\"\",[1]TEEN!C19,\"\")","v":""},{"$f":"IF([1]TEEN!D19<>\"\",[1]TEEN!D19,\"\")","v":""},{"$f":"IF([1]TEEN!E19<>\"\",[1]TEEN!E19,\"\")","v":""},{"$f":"IF([1]TEEN!F19<>\"\",[1]TEEN!F19,\"\")","v":""},""]
[null,{"$f":"IF([1]TEEN!B20<>\"\",[1]TEEN!B20,\"\")","v":""},{"$f":"IF([1]TEEN!C20<>\"\",[1]TEEN!C20,\"\")","v":""},{"$f":"IF([1]TEEN!D20<>\"\",[1]TEEN!D20,\"\")","v":""},{"$f":"IF([1]TEEN!E20<>\"\",[1]TEEN!E20,\"\")","v":""},{"$f":"IF([1]TEEN!F20<>\"\",[1]TEEN!F20,\"\")","v":""},""]
[null,{"$f":"IF([1]TEEN!B21<>\"\",[1]TEEN!B21,\"\")","v":""},{"$f":"IF([1]TEEN!C21<>\"\",[1]TEEN!C21,\"\")","v":""},{"$f":"IF([1]TEEN!D21<>\"\",[1]TEEN!D21,\"\")","v":""},{"$f":"IF([1]TEEN!E21<>\"\",[1]TEEN!E21,\"\")","v":""},{"$f":"IF([1]TEEN!F21<>\"\",[1]TEEN!F21,\"\")","v":""},""]
[null,{"$f":"IF([1]TEEN!B22<>\"\",[1]TEEN!B22,\"\")","v":""},{"$f":"IF([1]TEEN!C22<>\"\",[1]TEEN!C22,\"\")","v":""},{"$f":"IF([1]TEEN!D22<>\"\",[1]TEEN!D22,\"\")","v":""},{"$f":"IF([1]TEEN!E22<>\"\",[1]TEEN!E22,\"\")","v":""},{"$f":"IF([1]TEEN!F22<>\"\",[1]TEEN!F22,\"\")","v":""},""]
[null,{"$f":"IF([1]TEEN!B23<>\"\",[1]TEEN!B23,\"\")","v":""},{"$f":"IF([1]TEEN!C23<>\"\",[1]TEEN!C23,\"\")","v":""},{"$f":"IF([1]TEEN!D23<>\"\",[1]TEEN!D23,\"\")","v":""},{"$f":"IF([1]TEEN!E23<>\"\",[1]TEEN!E23,\"\")","v":""},{"$f":"IF([1]TEEN!F23<>\"\",[1]TEEN!F23,\"\")","v":""},""]
[null,{"$f":"IF([1]TEEN!B24<>\"\",[1]TEEN!B24,\"\")","v":""},{"$f":"IF([1]TEEN!C24<>\"\",[1]TEEN!C24,\"\")","v":""},{"$f":"IF([1]TEEN!D24<>\"\",[1]TEEN!D24,\"\")","v":""},{"$f":"IF([1]TEEN!E24<>\"\",[1]TEEN!E24,\"\")","v":""},{"$f":"IF([1]TEEN!F24<>\"\",[1]TEEN!F24,\"\")","v":""},""]
[null,{"$f":"IF([1]TEEN!B25<>\"\",[1]TEEN!B25,\"\")","v":""},{"$f":"IF([1]TEEN!C25<>\"\",[1]TEEN!C25,\"\")","v":""},{"$f":"IF([1]TEEN!D25<>\"\",[1]TEEN!D25,\"\")","v":""},{"$f":"IF([1]TEEN!E25<>\"\",[1]TEEN!E25,\"\")","v":""},{"$f":"IF([1]TEEN!F25<>\"\",[1]TEEN!F25,\"\")","v":""},""]
[null,{"$f":"IF([1]TEEN!B26<>\"\",[1]TEEN!B26,\"\")","v":""},{"$f":"IF([1]TEEN!C26<>\"\",[1]TEEN!C26,\"\")","v":""},{"$f":"IF([1]TEEN!D26<>\"\",[1]TEEN!D26,\"\")","v":""},{"$f":"IF([1]TEEN!E26<>\"\",[1]TEEN!E26,\"\")","v":""},{"$f":"IF([1]TEEN!F26<>\"\",[1]TEEN!F26,\"\")","v":""},""]
[null,{"$f":"IF([1]TEEN!B27<>\"\",[1]TEEN!B27,\"\")","v":""},{"$f":"IF([1]TEEN!C27<>\"\",[1]TEEN!C27,\"\")","v":""},{"$f":"IF([1]TEEN!D27<>\"\",[1]TEEN!D27,\"\")","v":""},{"$f":"IF([1]TEEN!E27<>\"\",[1]TEEN!E27,\"\")","v":""},{"$f":"IF([1]TEEN!F27<>\"\",[1]TEEN!F27,\"\")","v":""},""]
[null,{"$f":"IF([1]TEEN!B28<>\"\",[1]TEEN!B28,\"\")","v":""},{"$f":"IF([1]TEEN!C28<>\"\",[1]TEEN!C28,\"\")","v":""},{"$f":"IF([1]TEEN!D28<>\"\",[1]TEEN!D28,\"\")","v":""},{"$f":"IF([1]TEEN!E28<>\"\",[1]TEEN!E28,\"\")","v":""},{"$f":"IF([1]TEEN!F28<>\"\",[1]TEEN!F28,\"\")","v":""},""]
[null,{"$f":"IF([1]TEEN!B29<>\"\",[1]TEEN!B29,\"\")","v":""},{"$f":"IF([1]TEEN!C29<>\"\",[1]TEEN!C29,\"\")","v":""},{"$f":"IF([1]TEEN!D29<>\"\",[1]TEEN!D29,\"\")","v":""},{"$f":"IF([1]TEEN!E29<>\"\",[1]TEEN!E29,\"\")","v":""},{"$f":"IF([1]TEEN!F29<>\"\",[1]TEEN!F29,\"\")","v":""},""]
[null,{"$f":"IF([1]TEEN!B30<>\"\",[1]TEEN!B30,\"\")","v":""},{"$f":"IF([1]TEEN!C30<>\"\",[1]TEEN!C30,\"\")","v":""},{"$f":"IF([1]TEEN!D30<>\"\",[1]TEEN!D30,\"\")","v":""},{"$f":"IF([1]TEEN!E30<>\"\",[1]TEEN!E30,\"\")","v":""},{"$f":"IF([1]TEEN!F30<>\"\",[1]TEEN!F30,\"\")","v":""},""]
[null,{"$f":"IF([1]TEEN!B31<>\"\",[1]TEEN!B31,\"\")","v":""},{"$f":"IF([1]TEEN!C31<>\"\",[1]TEEN!C31,\"\")","v":""},{"$f":"IF([1]TEEN!D31<>\"\",[1]TEEN!D31,\"\")","v":""},{"$f":"IF([1]TEEN!E31<>\"\",[1]TEEN!E31,\"\")","v":""},{"$f":"IF([1]TEEN!F31<>\"\",[1]TEEN!F31,\"\")","v":""},""]
[null,{"$f":"IF([1]TEEN!B32<>\"\",[1]TEEN!B32,\"\")","v":""},{"$f":"IF([1]TEEN!C32<>\"\",[1]TEEN!C32,\"\")","v":""},{"$f":"IF([1]TEEN!D32<>\"\",[1]TEEN!D32,\"\")","v":""},{"$f":"IF([1]TEEN!E32<>\"\",[1]TEEN!E32,\"\")","v":""},{"$f":"IF([1]TEEN!F32<>\"\",[1]TEEN!F32,\"\")","v":""},""]
[null,{"$f":"IF([1]TEEN!B33<>\"\",[1]TEEN!B33,\"\")","v":""},{"$f":"IF([1]TEEN!C33<>\"\",[1]TEEN!C33,\"\")","v":""},{"$f":"IF([1]TEEN!D33<>\"\",[1]TEEN!D33,\"\")","v":""},{"$f":"IF([1]TEEN!E33<>\"\",[1]TEEN!E33,\"\")","v":""},{"$f":"IF([1]TEEN!F33<>\"\",[1]TEEN!F33,\"\")","v":""},""]
[null,{"$f":"IF([1]TEEN!B34<>\"\",[1]TEEN!B34,\"\")","v":""},{"$f":"IF([1]TEEN!C34<>\"\",[1]TEEN!C34,\"\")","v":""},{"$f":"IF([1]TEEN!D34<>\"\",[1]TEEN!D34,\"\")","v":""},{"$f":"IF([1]TEEN!E34<>\"\",[1]TEEN!E34,\"\")","v":""},{"$f":"IF([1]TEEN!F34<>\"\",[1]TEEN!F34,\"\")","v":""},""]
[null,{"$f":"IF([1]TEEN!B35<>\"\",[1]TEEN!B35,\"\")","v":""},{"$f":"IF([1]TEEN!C35<>\"\",[1]TEEN!C35,\"\")","v":""},{"$f":"IF([1]TEEN!D35<>\"\",[1]TEEN!D35,\"\")","v":""},{"$f":"IF([1]TEEN!E35<>\"\",[1]TEEN!E35,\"\")","v":""},{"$f":"IF([1]TEEN!F35<>\"\",[1]TEEN!F35,\"\")","v":""},""]
[null,{"$f":"IF([1]TEEN!B36<>\"\",[1]TEEN!B36,\"\")","v":""},{"$f":"IF([1]TEEN!C36<>\"\",[1]TEEN!C36,\"\")","v":""},{"$f":"IF([1]TEEN!D36<>\"\",[1]TEEN!D36,\"\")","v":""},{"$f":"IF([1]TEEN!E36<>\"\",[1]TEEN!E36,\"\")","v":""},{"$f":"IF([1]TEEN!F36<>\"\",[1]TEEN!F36,\"\")","v":""},""]
[null,{"$f":"IF([1]TEEN!B37<>\"\",[1]TEEN!B37,\"\")","v":""},{"$f":"IF([1]TEEN!C37<>\"\",[1]TEEN!C37,\"\")","v":""},{"$f":"IF([1]TEEN!D37<>\"\",[1]TEEN!D37,\"\")","v":""},{"$f":"IF([1]TEEN!E37<>\"\",[1]TEEN!E37,\"\")","v":""},{"$f":"IF([1]TEEN!F37<>\"\",[1]TEEN!F37,\"\")","v":""},""]
[null,{"$f":"IF([1]TEEN!B38<>\"\",[1]TEEN!B38,\"\")","v":""},{"$f":"IF([1]TEEN!C38<>\"\",[1]TEEN!C38,\"\")","v":""},{"$f":"IF([1]TEEN!D38<>\"\",[1]TEEN!D38,\"\")","v":""},{"$f":"IF([1]TEEN!E38<>\"\",[1]TEEN!E38,\"\")","v":""},{"$f":"IF([1]TEEN!F38<>\"\",[1]TEEN!F38,\"\")","v":""},{"$f":"IF(C38<>\"\",CONCATENATE(C38,\" [\",D38,\"] \"),\"\")","v":""}]
[null,{"$f":"IF([1]TEEN!B39<>\"\",[1]TEEN!B39,\"\")","v":""},{"$f":"IF([1]TEEN!C39<>\"\",[1]TEEN!C39,\"\")","v":""},{"$f":"IF([1]TEEN!D39<>\"\",[1]TEEN!D39,\"\")","v":""},{"$f":"IF([1]TEEN!E39<>\"\",[1]TEEN!E39,\"\")","v":""},{"$f":"IF([1]TEEN!F39<>\"\",[1]TEEN!F39,\"\")","v":""},{"$f":"IF(C39<>\"\",CONCATENATE(C39,\" [\",D39,\"] \"),\"\")","v":""}]
[null,{"$f":"IF([1]TEEN!B40<>\"\",[1]TEEN!B40,\"\")","v":""},{"$f":"IF([1]TEEN!C40<>\"\",[1]TEEN!C40,\"\")","v":""},{"$f":"IF([1]TEEN!D40<>\"\",[1]TEEN!D40,\"\")","v":""},{"$f":"IF([1]TEEN!E40<>\"\",[1]TEEN!E40,\"\")","v":""},{"$f":"IF([1]TEEN!F40<>\"\",[1]TEEN!F40,\"\")","v":""},""]
[null,{"$f":"IF([1]TEEN!B41<>\"\",[1]TEEN!B41,\"\")","v":""},{"$f":"IF([1]TEEN!C41<>\"\",[1]TEEN!C41,\"\")","v":""},{"$f":"IF([1]TEEN!D41<>\"\",[1]TEEN!D41,\"\")","v":""},{"$f":"IF([1]TEEN!E41<>\"\",[1]TEEN!E41,\"\")","v":""},{"$f":"IF([1]TEEN!F41<>\"\",[1]TEEN!F41,\"\")","v":""},""]
[null,{"$f":"IF([1]TEEN!B42<>\"\",[1]TEEN!B42,\"\")","v":""},{"$f":"IF([1]TEEN!C42<>\"\",[1]TEEN!C42,\"\")","v":""},{"$f":"IF([1]TEEN!D42<>\"\",[1]TEEN!D42,\"\")","v":""},{"$f":"IF([1]TEEN!E42<>\"\",[1]TEEN!E42,\"\")","v":""},{"$f":"IF([1]TEEN!F42<>\"\",[1]TEEN!F42,\"\")","v":""},""]
[null,{"$f":"IF([1]TEEN!B43<>\"\",[1]TEEN!B43,\"\")","v":""},{"$f":"IF([1]TEEN!C43<>\"\",[1]TEEN!C43,\"\")","v":""},{"$f":"IF([1]TEEN!D43<>\"\",[1]TEEN!D43,\"\")","v":""},{"$f":"IF([1]TEEN!E43<>\"\",[1]TEEN!E43,\"\")","v":""},{"$f":"IF([1]TEEN!F43<>\"\",[1]TEEN!F43,\"\")","v":""},""]
[null,{"$f":"IF([1]TEEN!B44<>\"\",[1]TEEN!B44,\"\")","v":""},{"$f":"IF([1]TEEN!C44<>\"\",[1]TEEN!C44,\"\")","v":""},{"$f":"IF([1]TEEN!D44<>\"\",[1]TEEN!D44,\"\")","v":""},{"$f":"IF([1]TEEN!E44<>\"\",[1]TEEN!E44,\"\")","v":""},{"$f":"IF([1]TEEN!F44<>\"\",[1]TEEN!F44,\"\")","v":""},""]
[null,{"$f":"IF([1]TEEN!B45<>\"\",[1]TEEN!B45,\"\")","v":""},{"$f":"IF([1]TEEN!C45<>\"\",[1]TEEN!C45,\"\")","v":""},{"$f":"IF([1]TEEN!D45<>\"\",[1]TEEN!D45,\"\")","v":""},{"$f":"IF([1]TEEN!E45<>\"\",[1]TEEN!E45,\"\")","v":""},{"$f":"IF([1]TEEN!F45<>\"\",[1]TEEN!F45,\"\")","v":""},""]
[null,{"$f":"IF([1]TEEN!B46<>\"\",[1]TEEN!B46,\"\")","v":""},{"$f":"IF([1]TEEN!C46<>\"\",[1]TEEN!C46,\"\")","v":""},{"$f":"IF([1]TEEN!D46<>\"\",[1]TEEN!D46,\"\")","v":""},{"$f":"IF([1]TEEN!E46<>\"\",[1]TEEN!E46,\"\")","v":""},{"$f":"IF([1]TEEN!F46<>\"\",[1]TEEN!F46,\"\")","v":""},""]
[null,{"$f":"IF([1]TEEN!B47<>\"\",[1]TEEN!B47,\"\")","v":""},{"$f":"IF([1]TEEN!C47<>\"\",[1]TEEN!C47,\"\")","v":""},{"$f":"IF([1]TEEN!D47<>\"\",[1]TEEN!D47,\"\")","v":""},{"$f":"IF([1]TEEN!E47<>\"\",[1]TEEN!E47,\"\")","v":""},{"$f":"IF([1]TEEN!F47<>\"\",[1]TEEN!F47,\"\")","v":""},""]
[null,{"$f":"IF([1]TEEN!B48<>\"\",[1]TEEN!B48,\"\")","v":""},{"$f":"IF([1]TEEN!C48<>\"\",[1]TEEN!C48,\"\")","v":""},{"$f":"IF([1]TEEN!D48<>\"\",[1]TEEN!D48,\"\")","v":""},{"$f":"IF([1]TEEN!E48<>\"\",[1]TEEN!E48,\"\")","v":""},{"$f":"IF([1]TEEN!F48<>\"\",[1]TEEN!F48,\"\")","v":""},""]
[null,{"$f":"IF([1]TEEN!B49<>\"\",[1]TEEN!B49,\"\")","v":""},{"$f":"IF([1]TEEN!C49<>\"\",[1]TEEN!C49,\"\")","v":""},{"$f":"IF([1]TEEN!D49<>\"\",[1]TEEN!D49,\"\")","v":""},{"$f":"IF([1]TEEN!E49<>\"\",[1]TEEN!E49,\"\")","v":""},{"$f":"IF([1]TEEN!F49<>\"\",[1]TEEN!F49,\"\")","v":""},""]
[null,{"$f":"IF([1]TEEN!B50<>\"\",[1]TEEN!B50,\"\")","v":""},{"$f":"IF([1]TEEN!C50<>\"\",[1]TEEN!C50,\"\")","v":""},{"$f":"IF([1]TEEN!D50<>\"\",[1]TEEN!D50,\"\")","v":""},{"$f":"IF([1]TEEN!E50<>\"\",[1]TEEN!E50,\"\")","v":""},{"$f":"IF([1]TEEN!F50<>\"\",[1]TEEN!F50,\"\")","v":""},""]
[null,{"$f":"IF([1]TEEN!B51<>\"\",[1]TEEN!B51,\"\")","v":""},{"$f":"IF([1]TEEN!C51<>\"\",[1]TEEN!C51,\"\")","v":""},{"$f":"IF([1]TEEN!D51<>\"\",[1]TEEN!D51,\"\")","v":""},{"$f":"IF([1]TEEN!E51<>\"\",[1]TEEN!E51,\"\")","v":""},{"$f":"IF([1]TEEN!F51<>\"\",[1]TEEN!F51,\"\")","v":""},""]
[null,{"$f":"IF([1]TEEN!B52<>\"\",[1]TEEN!B52,\"\")","v":""},{"$f":"IF([1]TEEN!C52<>\"\",[1]TEEN!C52,\"\")","v":""},{"$f":"IF([1]TEEN!D52<>\"\",[1]TEEN!D52,\"\")","v":""},{"$f":"IF([1]TEEN!E52<>\"\",[1]TEEN!E52,\"\")","v":""},{"$f":"IF([1]TEEN!F52<>\"\",[1]TEEN!F52,\"\")","v":""},""]
[null,{"$f":"IF([1]TEEN!B53<>\"\",[1]TEEN!B53,\"\")","v":""},{"$f":"IF([1]TEEN!C53<>\"\",[1]TEEN!C53,\"\")","v":""},{"$f":"IF([1]TEEN!D53<>\"\",[1]TEEN!D53,\"\")","v":""},{"$f":"IF([1]TEEN!E53<>\"\",[1]TEEN!E53,\"\")","v":""},{"$f":"IF([1]TEEN!F53<>\"\",[1]TEEN!F53,\"\")","v":""},""]
[null,{"$f":"IF([1]TEEN!B54<>\"\",[1]TEEN!B54,\"\")","v":""},{"$f":"IF([1]TEEN!C54<>\"\",[1]TEEN!C54,\"\")","v":""},{"$f":"IF([1]TEEN!D54<>\"\",[1]TEEN!D54,\"\")","v":""},{"$f":"IF([1]TEEN!E54<>\"\",[1]TEEN!E54,\"\")","v":""},{"$f":"IF([1]TEEN!F54<>\"\",[1]TEEN!F54,\"\")","v":""},""]
[null,{"$f":"IF([1]TEEN!B55<>\"\",[1]TEEN!B55,\"\")","v":""},{"$f":"IF([1]TEEN!C55<>\"\",[1]TEEN!C55,\"\")","v":""},{"$f":"IF([1]TEEN!D55<>\"\",[1]TEEN!D55,\"\")","v":""},{"$f":"IF([1]TEEN!E55<>\"\",[1]TEEN!E55,\"\")","v":""},{"$f":"IF([1]TEEN!F55<>\"\",[1]TEEN!F55,\"\")","v":""},""]
[null,{"$f":"IF([1]TEEN!B56<>\"\",[1]TEEN!B56,\"\")","v":""},{"$f":"IF([1]TEEN!C56<>\"\",[1]TEEN!C56,\"\")","v":""},{"$f":"IF([1]TEEN!D56<>\"\",[1]TEEN!D56,\"\")","v":""},{"$f":"IF([1]TEEN!E56<>\"\",[1]TEEN!E56,\"\")","v":""},{"$f":"IF([1]TEEN!F56<>\"\",[1]TEEN!F56,\"\")","v":""},""]
[null,{"$f":"IF([1]TEEN!B57<>\"\",[1]TEEN!B57,\"\")","v":""},{"$f":"IF([1]TEEN!C57<>\"\",[1]TEEN!C57,\"\")","v":""},{"$f":"IF([1]TEEN!D57<>\"\",[1]TEEN!D57,\"\")","v":""},{"$f":"IF([1]TEEN!E57<>\"\",[1]TEEN!E57,\"\")","v":""},{"$f":"IF([1]TEEN!F57<>\"\",[1]TEEN!F57,\"\")","v":""},""]
[null,{"$f":"IF([1]TEEN!B58<>\"\",[1]TEEN!B58,\"\")","v":""},{"$f":"IF([1]TEEN!C58<>\"\",[1]TEEN!C58,\"\")","v":""},{"$f":"IF([1]TEEN!D58<>\"\",[1]TEEN!D58,\"\")","v":""},{"$f":"IF([1]TEEN!E58<>\"\",[1]TEEN!E58,\"\")","v":""},{"$f":"IF([1]TEEN!F58<>\"\",[1]TEEN!F58,\"\")","v":""},""]
[null,{"$f":"IF([1]TEEN!B59<>\"\",[1]TEEN!B59,\"\")","v":""},{"$f":"IF([1]TEEN!C59<>\"\",[1]TEEN!C59,\"\")","v":""},{"$f":"IF([1]TEEN!D59<>\"\",[1]TEEN!D59,\"\")","v":""},{"$f":"IF([1]TEEN!E59<>\"\",[1]TEEN!E59,\"\")","v":""},{"$f":"IF([1]TEEN!F59<>\"\",[1]TEEN!F59,\"\")","v":""},""]
[null,{"$f":"IF([1]TEEN!B60<>\"\",[1]TEEN!B60,\"\")","v":""},{"$f":"IF([1]TEEN!C60<>\"\",[1]TEEN!C60,\"\")","v":""},{"$f":"IF([1]TEEN!D60<>\"\",[1]TEEN!D60,\"\")","v":""},{"$f":"IF([1]TEEN!E60<>\"\",[1]TEEN!E60,\"\")","v":""},{"$f":"IF([1]TEEN!F60<>\"\",[1]TEEN!F60,\"\")","v":""},""]
[null,{"$f":"IF([1]TEEN!B61<>\"\",[1]TEEN!B61,\"\")","v":""},{"$f":"IF([1]TEEN!C61<>\"\",[1]TEEN!C61,\"\")","v":""},{"$f":"IF([1]TEEN!D61<>\"\",[1]TEEN!D61,\"\")","v":""},{"$f":"IF([1]TEEN!E61<>\"\",[1]TEEN!E61,\"\")","v":""},{"$f":"IF([1]TEEN!F61<>\"\",[1]TEEN!F61,\"\")","v":""},""]
[null,{"$f":"IF([1]TEEN!B62<>\"\",[1]TEEN!B62,\"\")","v":""},{"$f":"IF([1]TEEN!C62<>\"\",[1]TEEN!C62,\"\")","v":""},{"$f":"IF([1]TEEN!D62<>\"\",[1]TEEN!D62,\"\")","v":""},{"$f":"IF([1]TEEN!E62<>\"\",[1]TEEN!E62,\"\")","v":""},{"$f":"IF([1]TEEN!F62<>\"\",[1]TEEN!F62,\"\")","v":""},""]
[null,{"$f":"IF([1]TEEN!B63<>\"\",[1]TEEN!B63,\"\")","v":""},{"$f":"IF([1]TEEN!C63<>\"\",[1]TEEN!C63,\"\")","v":""},{"$f":"IF([1]TEEN!D63<>\"\",[1]TEEN!D63,\"\")","v":""},{"$f":"IF([1]TEEN!E63<>\"\",[1]TEEN!E63,\"\")","v":""},{"$f":"IF([1]TEEN!F63<>\"\",[1]TEEN!F63,\"\")","v":""},""]
[null,{"$f":"IF([1]TEEN!B64<>\"\",[1]TEEN!B64,\"\")","v":""},{"$f":"IF([1]TEEN!C64<>\"\",[1]TEEN!C64,\"\")","v":""},{"$f":"IF([1]TEEN!D64<>\"\",[1]TEEN!D64,\"\")","v":""},{"$f":"IF([1]TEEN!E64<>\"\",[1]TEEN!E64,\"\")","v":""},{"$f":"IF([1]TEEN!F64<>\"\",[1]TEEN!F64,\"\")","v":""},""]
[null,{"$f":"IF([1]TEEN!B65<>\"\",[1]TEEN!B65,\"\")","v":""},{"$f":"IF([1]TEEN!C65<>\"\",[1]TEEN!C65,\"\")","v":""},{"$f":"IF([1]TEEN!D65<>\"\",[1]TEEN!D65,\"\")","v":""},{"$f":"IF([1]TEEN!E65<>\"\",[1]TEEN!E65,\"\")","v":""},{"$f":"IF([1]TEEN!F65<>\"\",[1]TEEN!F65,\"\")","v":""},""]
[null,{"$f":"IF([1]TEEN!B66<>\"\",[1]TEEN!B66,\"\")","v":""},{"$f":"IF([1]TEEN!C66<>\"\",[1]TEEN!C66,\"\")","v":""},{"$f":"IF([1]TEEN!D66<>\"\",[1]TEEN!D66,\"\")","v":""},{"$f":"IF([1]TEEN!E66<>\"\",[1]TEEN!E66,\"\")","v":""},{"$f":"IF([1]TEEN!F66<>\"\",[1]TEEN!F66,\"\")","v":""},""]
[null,{"$f":"IF([1]TEEN!B67<>\"\",[1]TEEN!B67,\"\")","v":""},{"$f":"IF([1]TEEN!C67<>\"\",[1]TEEN!C67,\"\")","v":""},{"$f":"IF([1]TEEN!D67<>\"\",[1]TEEN!D67,\"\")","v":""},{"$f":"IF([1]TEEN!E67<>\"\",[1]TEEN!E67,\"\")","v":""},{"$f":"IF([1]TEEN!F67<>\"\",[1]TEEN!F67,\"\")","v":""},""]
[null,{"$f":"IF([1]TEEN!B68<>\"\",[1]TEEN!B68,\"\")","v":""},{"$f":"IF([1]TEEN!C68<>\"\",[1]TEEN!C68,\"\")","v":""},{"$f":"IF([1]TEEN!D68<>\"\",[1]TEEN!D68,\"\")","v":""},{"$f":"IF([1]TEEN!E68<>\"\",[1]TEEN!E68,\"\")","v":""},{"$f":"IF([1]TEEN!F68<>\"\",[1]TEEN!F68,\"\")","v":""},""]
[null,{"$f":"IF([1]TEEN!B69<>\"\",[1]TEEN!B69,\"\")","v":""},{"$f":"IF([1]TEEN!C69<>\"\",[1]TEEN!C69,\"\")","v":""},{"$f":"IF([1]TEEN!D69<>\"\",[1]TEEN!D69,\"\")","v":""},{"$f":"IF([1]TEEN!E69<>\"\",[1]TEEN!E69,\"\")","v":""},{"$f":"IF([1]TEEN!F69<>\"\",[1]TEEN!F69,\"\")","v":""},""]
[null,{"$f":"IF([1]TEEN!B70<>\"\",[1]TEEN!B70,\"\")","v":""},{"$f":"IF([1]TEEN!C70<>\"\",[1]TEEN!C70,\"\")","v":""},{"$f":"IF([1]TEEN!D70<>\"\",[1]TEEN!D70,\"\")","v":""},{"$f":"IF([1]TEEN!E70<>\"\",[1]TEEN!E70,\"\")","v":""},{"$f":"IF([1]TEEN!F70<>\"\",[1]TEEN!F70,\"\")","v":""},""]
[null,{"$f":"IF([1]TEEN!B71<>\"\",[1]TEEN!B71,\"\")","v":""},{"$f":"IF([1]TEEN!C71<>\"\",[1]TEEN!C71,\"\")","v":""},{"$f":"IF([1]TEEN!D71<>\"\",[1]TEEN!D71,\"\")","v":""},{"$f":"IF([1]TEEN!E71<>\"\",[1]TEEN!E71,\"\")","v":""},{"$f":"IF([1]TEEN!F71<>\"\",[1]TEEN!F71,\"\")","v":""},""]
[null,{"$f":"IF([1]TEEN!B72<>\"\",[1]TEEN!B72,\"\")","v":""},{"$f":"IF([1]TEEN!C72<>\"\",[1]TEEN!C72,\"\")","v":""},{"$f":"IF([1]TEEN!D72<>\"\",[1]TEEN!D72,\"\")","v":""},{"$f":"IF([1]TEEN!E72<>\"\",[1]TEEN!E72,\"\")","v":""},{"$f":"IF([1]TEEN!F72<>\"\",[1]TEEN!F72,\"\")","v":""},""]
[null,{"$f":"IF([1]TEEN!B73<>\"\",[1]TEEN!B73,\"\")","v":""},{"$f":"IF([1]TEEN!C73<>\"\",[1]TEEN!C73,\"\")","v":""},{"$f":"IF([1]TEEN!D73<>\"\",[1]TEEN!D73,\"\")","v":""},{"$f":"IF([1]TEEN!E73<>\"\",[1]TEEN!E73,\"\")","v":""},{"$f":"IF([1]TEEN!F73<>\"\",[1]TEEN!F73,\"\")","v":""},""]
[null,{"$f":"IF([1]TEEN!B74<>\"\",[1]TEEN!B74,\"\")","v":""},{"$f":"IF([1]TEEN!C74<>\"\",[1]TEEN!C74,\"\")","v":""},{"$f":"IF([1]TEEN!D74<>\"\",[1]TEEN!D74,\"\")","v":""},{"$f":"IF([1]TEEN!E74<>\"\",[1]TEEN!E74,\"\")","v":""},{"$f":"IF([1]TEEN!F74<>\"\",[1]TEEN!F74,\"\")","v":""},""]
[null,{"$f":"IF([1]TEEN!B75<>\"\",[1]TEEN!B75,\"\")","v":""},{"$f":"IF([1]TEEN!C75<>\"\",[1]TEEN!C75,\"\")","v":""},{"$f":"IF([1]TEEN!D75<>\"\",[1]TEEN!D75,\"\")","v":""},{"$f":"IF([1]TEEN!E75<>\"\",[1]TEEN!E75,\"\")","v":""},{"$f":"IF([1]TEEN!F75<>\"\",[1]TEEN!F75,\"\")","v":""},""]
[null,{"$f":"IF([1]TEEN!B76<>\"\",[1]TEEN!B76,\"\")","v":""},{"$f":"IF([1]TEEN!C76<>\"\",[1]TEEN!C76,\"\")","v":""},{"$f":"IF([1]TEEN!D76<>\"\",[1]TEEN!D76,\"\")","v":""},{"$f":"IF([1]TEEN!E76<>\"\",[1]TEEN!E76,\"\")","v":""},{"$f":"IF([1]TEEN!F76<>\"\",[1]TEEN!F76,\"\")","v":""},""]
[null,{"$f":"IF([1]TEEN!B77<>\"\",[1]TEEN!B77,\"\")","v":""},{"$f":"IF([1]TEEN!C77<>\"\",[1]TEEN!C77,\"\")","v":""},{"$f":"IF([1]TEEN!D77<>\"\",[1]TEEN!D77,\"\")","v":""},{"$f":"IF([1]TEEN!E77<>\"\",[1]TEEN!E77,\"\")","v":""},{"$f":"IF([1]TEEN!F77<>\"\",[1]TEEN!F77,\"\")","v":""},""]
[null,{"$f":"IF([1]TEEN!B78<>\"\",[1]TEEN!B78,\"\")","v":""},{"$f":"IF([1]TEEN!C78<>\"\",[1]TEEN!C78,\"\")","v":""},{"$f":"IF([1]TEEN!D78<>\"\",[1]TEEN!D78,\"\")","v":""},{"$f":"IF([1]TEEN!E78<>\"\",[1]TEEN!E78,\"\")","v":""},{"$f":"IF([1]TEEN!F78<>\"\",[1]TEEN!F78,\"\")","v":""},""]
[null,{"$f":"IF([1]TEEN!B79<>\"\",[1]TEEN!B79,\"\")","v":""},{"$f":"IF([1]TEEN!C79<>\"\",[1]TEEN!C79,\"\")","v":""},{"$f":"IF([1]TEEN!D79<>\"\",[1]TEEN!D79,\"\")","v":""},{"$f":"IF([1]TEEN!E79<>\"\",[1]TEEN!E79,\"\")","v":""},{"$f":"IF([1]TEEN!F79<>\"\",[1]TEEN!F79,\"\")","v":""},""]
[null,{"$f":"IF([1]TEEN!B80<>\"\",[1]TEEN!B80,\"\")","v":""},{"$f":"IF([1]TEEN!C80<>\"\",[1]TEEN!C80,\"\")","v":""},{"$f":"IF([1]TEEN!D80<>\"\",[1]TEEN!D80,\"\")","v":""},{"$f":"IF([1]TEEN!E80<>\"\",[1]TEEN!E80,\"\")","v":""},{"$f":"IF([1]TEEN!F80<>\"\",[1]TEEN!F80,\"\")","v":""},""]
[null,{"$f":"IF([1]TEEN!B81<>\"\",[1]TEEN!B81,\"\")","v":""},{"$f":"IF([1]TEEN!C81<>\"\",[1]TEEN!C81,\"\")","v":""},{"$f":"IF([1]TEEN!D81<>\"\",[1]TEEN!D81,\"\")","v":""},{"$f":"IF([1]TEEN!E81<>\"\",[1]TEEN!E81,\"\")","v":""},{"$f":"IF([1]TEEN!F81<>\"\",[1]TEEN!F81,\"\")","v":""},""]
[null,{"$f":"IF([1]TEEN!B82<>\"\",[1]TEEN!B82,\"\")","v":""},{"$f":"IF([1]TEEN!C82<>\"\",[1]TEEN!C82,\"\")","v":""},{"$f":"IF([1]TEEN!D82<>\"\",[1]TEEN!D82,\"\")","v":""},{"$f":"IF([1]TEEN!E82<>\"\",[1]TEEN!E82,\"\")","v":""},{"$f":"IF([1]TEEN!F82<>\"\",[1]TEEN!F82,\"\")","v":""},""]
[null,{"$f":"IF([1]TEEN!B83<>\"\",[1]TEEN!B83,\"\")","v":""},{"$f":"IF([1]TEEN!C83<>\"\",[1]TEEN!C83,\"\")","v":""},{"$f":"IF([1]TEEN!D83<>\"\",[1]TEEN!D83,\"\")","v":""},{"$f":"IF([1]TEEN!E83<>\"\",[1]TEEN!E83,\"\")","v":""},{"$f":"IF([1]TEEN!F83<>\"\",[1]TEEN!F83,\"\")","v":""},""]
[null,{"$f":"IF([1]TEEN!B84<>\"\",[1]TEEN!B84,\"\")","v":""},{"$f":"IF([1]TEEN!C84<>\"\",[1]TEEN!C84,\"\")","v":""},{"$f":"IF([1]TEEN!D84<>\"\",[1]TEEN!D84,\"\")","v":""},{"$f":"IF([1]TEEN!E84<>\"\",[1]TEEN!E84,\"\")","v":""},{"$f":"IF([1]TEEN!F84<>\"\",[1]TEEN!F84,\"\")","v":""},""]
[null,{"$f":"IF([1]TEEN!B85<>\"\",[1]TEEN!B85,\"\")","v":""},{"$f":"IF([1]TEEN!C85<>\"\",[1]TEEN!C85,\"\")","v":""},{"$f":"IF([1]TEEN!D85<>\"\",[1]TEEN!D85,\"\")","v":""},{"$f":"IF([1]TEEN!E85<>\"\",[1]TEEN!E85,\"\")","v":""},{"$f":"IF([1]TEEN!F85<>\"\",[1]TEEN!F85,\"\")","v":""},""]
[null,{"$f":"IF([1]TEEN!B86<>\"\",[1]TEEN!B86,\"\")","v":""},{"$f":"IF([1]TEEN!C86<>\"\",[1]TEEN!C86,\"\")","v":""},{"$f":"IF([1]TEEN!D86<>\"\",[1]TEEN!D86,\"\")","v":""},{"$f":"IF([1]TEEN!E86<>\"\",[1]TEEN!E86,\"\")","v":""},{"$f":"IF([1]TEEN!F86<>\"\",[1]TEEN!F86,\"\")","v":""},""]
[null,{"$f":"IF([1]TEEN!B87<>\"\",[1]TEEN!B87,\"\")","v":""},{"$f":"IF([1]TEEN!C87<>\"\",[1]TEEN!C87,\"\")","v":""},{"$f":"IF([1]TEEN!D87<>\"\",[1]TEEN!D87,\"\")","v":""},{"$f":"IF([1]TEEN!E87<>\"\",[1]TEEN!E87,\"\")","v":""},{"$f":"IF([1]TEEN!F87<>\"\",[1]TEEN!F87,\"\")","v":""},""]
[null,{"$f":"IF([1]TEEN!B88<>\"\",[1]TEEN!B88,\"\")","v":""},{"$f":"IF([1]TEEN!C88<>\"\",[1]TEEN!C88,\"\")","v":""},{"$f":"IF([1]TEEN!D88<>\"\",[1]TEEN!D88,\"\")","v":""},{"$f":"IF([1]TEEN!E88<>\"\",[1]TEEN!E88,\"\")","v":""},{"$f":"IF([1]TEEN!F88<>\"\",[1]TEEN!F88,\"\")","v":""},""]
[null,{"$f":"IF([1]TEEN!B89<>\"\",[1]TEEN!B89,\"\")","v":""},{"$f":"IF([1]TEEN!C89<>\"\",[1]TEEN!C89,\"\")","v":""},{"$f":"IF([1]TEEN!D89<>\"\",[1]TEEN!D89,\"\")","v":""},{"$f":"IF([1]TEEN!E89<>\"\",[1]TEEN!E89,\"\")","v":""},{"$f":"IF([1]TEEN!F89<>\"\",[1]TEEN!F89,\"\")","v":""},""]
[null,{"$f":"IF([1]TEEN!B90<>\"\",[1]TEEN!B90,\"\")","v":""},{"$f":"IF([1]TEEN!C90<>\"\",[1]TEEN!C90,\"\")","v":""},{"$f":"IF([1]TEEN!D90<>\"\",[1]TEEN!D90,\"\")","v":""},{"$f":"IF([1]TEEN!E90<>\"\",[1]TEEN!E90,\"\")","v":""},{"$f":"IF([1]TEEN!F90<>\"\",[1]TEEN!F90,\"\")","v":""},""]
[null,{"$f":"IF([1]TEEN!B91<>\"\",[1]TEEN!B91,\"\")","v":""},{"$f":"IF([1]TEEN!C91<>\"\",[1]TEEN!C91,\"\")","v":""},{"$f":"IF([1]TEEN!D91<>\"\",[1]TEEN!D91,\"\")","v":""},{"$f":"IF([1]TEEN!E91<>\"\",[1]TEEN!E91,\"\")","v":""},{"$f":"IF([1]TEEN!F91<>\"\",[1]TEEN!F91,\"\")","v":""},""]
[null,{"$f":"IF([1]TEEN!B92<>\"\",[1]TEEN!B92,\"\")","v":""},{"$f":"IF([1]TEEN!C92<>\"\",[1]TEEN!C92,\"\")","v":""},{"$f":"IF([1]TEEN!D92<>\"\",[1]TEEN!D92,\"\")","v":""},{"$f":"IF([1]TEEN!E92<>\"\",[1]TEEN!E92,\"\")","v":""},{"$f":"IF([1]TEEN!F92<>\"\",[1]TEEN!F92,\"\")","v":""},""]
[null,{"$f":"IF([1]TEEN!B93<>\"\",[1]TEEN!B93,\"\")","v":""},{"$f":"IF([1]TEEN!C93<>\"\",[1]TEEN!C93,\"\")","v":""},{"$f":"IF([1]TEEN!D93<>\"\",[1]TEEN!D93,\"\")","v":""},{"$f":"IF([1]TEEN!E93<>\"\",[1]TEEN!E93,\"\")","v":""},{"$f":"IF([1]TEEN!F93<>\"\",[1]TEEN!F93,\"\")","v":""},""]
[null,{"$f":"IF([1]TEEN!B94<>\"\",[1]TEEN!B94,\"\")","v":""},{"$f":"IF([1]TEEN!C94<>\"\",[1]TEEN!C94,\"\")","v":""},{"$f":"IF([1]TEEN!D94<>\"\",[1]TEEN!D94,\"\")","v":""},{"$f":"IF([1]TEEN!E94<>\"\",[1]TEEN!E94,\"\")","v":""},{"$f":"IF([1]TEEN!F94<>\"\",[1]TEEN!F94,\"\")","v":""},""]
[null,{"$f":"IF([1]TEEN!B95<>\"\",[1]TEEN!B95,\"\")","v":""},{"$f":"IF([1]TEEN!C95<>\"\",[1]TEEN!C95,\"\")","v":""},{"$f":"IF([1]TEEN!D95<>\"\",[1]TEEN!D95,\"\")","v":""},{"$f":"IF([1]TEEN!E95<>\"\",[1]TEEN!E95,\"\")","v":""},{"$f":"IF([1]TEEN!F95<>\"\",[1]TEEN!F95,\"\")","v":""},""]
[null,{"$f":"IF([1]TEEN!B96<>\"\",[1]TEEN!B96,\"\")","v":""},{"$f":"IF([1]TEEN!C96<>\"\",[1]TEEN!C96,\"\")","v":""},{"$f":"IF([1]TEEN!D96<>\"\",[1]TEEN!D96,\"\")","v":""},{"$f":"IF([1]TEEN!E96<>\"\",[1]TEEN!E96,\"\")","v":""},{"$f":"IF([1]TEEN!F96<>\"\",[1]TEEN!F96,\"\")","v":""},""]
[null,{"$f":"IF([1]TEEN!B97<>\"\",[1]TEEN!B97,\"\")","v":""},{"$f":"IF([1]TEEN!C97<>\"\",[1]TEEN!C97,\"\")","v":""},{"$f":"IF([1]TEEN!D97<>\"\",[1]TEEN!D97,\"\")","v":""},{"$f":"IF([1]TEEN!E97<>\"\",[1]TEEN!E97,\"\")","v":""},{"$f":"IF([1]TEEN!F97<>\"\",[1]TEEN!F97,\"\")","v":""},""]
[null,{"$f":"IF([1]TEEN!B98<>\"\",[1]TEEN!B98,\"\")","v":""},{"$f":"IF([1]TEEN!C98<>\"\",[1]TEEN!C98,\"\")","v":""},{"$f":"IF([1]TEEN!D98<>\"\",[1]TEEN!D98,\"\")","v":""},{"$f":"IF([1]TEEN!E98<>\"\",[1]TEEN!E98,\"\")","v":""},{"$f":"IF([1]TEEN!F98<>\"\",[1]TEEN!F98,\"\")","v":""},""]
[null,{"$f":"IF([1]TEEN!B99<>\"\",[1]TEEN!B99,\"\")","v":""},{"$f":"IF([1]TEEN!C99<>\"\",[1]TEEN!C99,\"\")","v":""},{"$f":"IF([1]TEEN!D99<>\"\",[1]TEEN!D99,\"\")","v":""},{"$f":"IF([1]TEEN!E99<>\"\",[1]TEEN!E99,\"\")","v":""},{"$f":"IF([1]TEEN!F99<>\"\",[1]TEEN!F99,\"\")","v":""},""]
[null,{"$f":"IF([1]TEEN!B100<>\"\",[1]TEEN!B100,\"\")","v":""},{"$f":"IF([1]TEEN!C100<>\"\",[1]TEEN!C100,\"\")","v":""},{"$f":"IF([1]TEEN!D100<>\"\",[1]TEEN!D100,\"\")","v":""},{"$f":"IF([1]TEEN!E100<>\"\",[1]TEEN!E100,\"\")","v":""},{"$f":"IF([1]TEEN!F100<>\"\",[1]TEEN!F100,\"\")","v":""},""]
[null,{"$f":"IF([1]TEEN!B101<>\"\",[1]TEEN!B101,\"\")","v":""},{"$f":"IF([1]TEEN!C101<>\"\",[1]TEEN!C101,\"\")","v":""},{"$f":"IF([1]TEEN!D101<>\"\",[1]TEEN!D101,\"\")","v":""},{"$f":"IF([1]TEEN!E101<>\"\",[1]TEEN!E101,\"\")","v":""},{"$f":"IF([1]TEEN!F101<>\"\",[1]TEEN!F101,\"\")","v":""},""]
[null,{"$f":"IF([1]TEEN!B102<>\"\",[1]TEEN!B102,\"\")","v":""},{"$f":"IF([1]TEEN!C102<>\"\",[1]TEEN!C102,\"\")","v":""},{"$f":"IF([1]TEEN!D102<>\"\",[1]TEEN!D102,\"\")","v":""},{"$f":"IF([1]TEEN!E102<>\"\",[1]TEEN!E102,\"\")","v":""},{"$f":"IF([1]TEEN!F102<>\"\",[1]TEEN!F102,\"\")","v":""},""]
[null,{"$f":"IF([1]TEEN!B103<>\"\",[1]TEEN!B103,\"\")","v":""},{"$f":"IF([1]TEEN!C103<>\"\",[1]TEEN!C103,\"\")","v":""},{"$f":"IF([1]TEEN!D103<>\"\",[1]TEEN!D103,\"\")","v":""},{"$f":"IF([1]TEEN!E103<>\"\",[1]TEEN!E103,\"\")","v":""},{"$f":"IF([1]TEEN!F103<>\"\",[1]TEEN!F103,\"\")","v":""},{"$f":"IF(C103<>\"\",CONCATENATE(C103,\" [\",D103,\"] \"),\"\")","v":""}]
[null,{"$f":"IF([1]TEEN!B104<>\"\",[1]TEEN!B104,\"\")","v":""},{"$f":"IF([1]TEEN!C104<>\"\",[1]TEEN!C104,\"\")","v":""},{"$f":"IF([1]TEEN!D104<>\"\",[1]TEEN!D104,\"\")","v":""},{"$f":"IF([1]TEEN!E104<>\"\",[1]TEEN!E104,\"\")","v":""},{"$f":"IF([1]TEEN!F104<>\"\",[1]TEEN!F104,\"\")","v":""},""]
[null,{"$f":"IF([1]TEEN!B105<>\"\",[1]TEEN!B105,\"\")","v":""},{"$f":"IF([1]TEEN!C105<>\"\",[1]TEEN!C105,\"\")","v":""},{"$f":"IF([1]TEEN!D105<>\"\",[1]TEEN!D105,\"\")","v":""},{"$f":"IF([1]TEEN!E105<>\"\",[1]TEEN!E105,\"\")","v":""},{"$f":"IF([1]TEEN!F105<>\"\",[1]TEEN!F105,\"\")","v":""},""]
[null,{"$f":"IF([1]TEEN!B106<>\"\",[1]TEEN!B106,\"\")","v":""},{"$f":"IF([1]TEEN!C106<>\"\",[1]TEEN!C106,\"\")","v":""},{"$f":"IF([1]TEEN!D106<>\"\",[1]TEEN!D106,\"\")","v":""},{"$f":"IF([1]TEEN!E106<>\"\",[1]TEEN!E106,\"\")","v":""},{"$f":"IF([1]TEEN!F106<>\"\",[1]TEEN!F106,\"\")","v":""},""]
[null,{"$f":"IF([1]TEEN!B107<>\"\",[1]TEEN!B107,\"\")","v":""},{"$f":"IF([1]TEEN!C107<>\"\",[1]TEEN!C107,\"\")","v":""},{"$f":"IF([1]TEEN!D107<>\"\",[1]TEEN!D107,\"\")","v":""},{"$f":"IF([1]TEEN!E107<>\"\",[1]TEEN!E107,\"\")","v":""},{"$f":"IF([1]TEEN!F107<>\"\",[1]TEEN!F107,\"\")","v":""},""]
[null,{"$f":"IF([1]TEEN!B108<>\"\",[1]TEEN!B108,\"\")","v":""},{"$f":"IF([1]TEEN!C108<>\"\",[1]TEEN!C108,\"\")","v":""},{"$f":"IF([1]TEEN!D108<>\"\",[1]TEEN!D108,\"\")","v":""},{"$f":"IF([1]TEEN!E108<>\"\",[1]TEEN!E108,\"\")","v":""},{"$f":"IF([1]TEEN!F108<>\"\",[1]TEEN!F108,\"\")","v":""},""]
[null,{"$f":"IF([1]TEEN!B109<>\"\",[1]TEEN!B109,\"\")","v":""},{"$f":"IF([1]TEEN!C109<>\"\",[1]TEEN!C109,\"\")","v":""},{"$f":"IF([1]TEEN!D109<>\"\",[1]TEEN!D109,\"\")","v":""},{"$f":"IF([1]TEEN!E109<>\"\",[1]TEEN!E109,\"\")","v":""},{"$f":"IF([1]TEEN!F109<>\"\",[1]TEEN!F109,\"\")","v":""},""]
[null,{"$f":"IF([1]TEEN!B110<>\"\",[1]TEEN!B110,\"\")","v":""},{"$f":"IF([1]TEEN!C110<>\"\",[1]TEEN!C110,\"\")","v":""},{"$f":"IF([1]TEEN!D110<>\"\",[1]TEEN!D110,\"\")","v":""},{"$f":"IF([1]TEEN!E110<>\"\",[1]TEEN!E110,\"\")","v":""},{"$f":"IF([1]TEEN!F110<>\"\",[1]TEEN!F110,\"\")","v":""},""]
[null,{"$f":"IF([1]TEEN!B111<>\"\",[1]TEEN!B111,\"\")","v":""},{"$f":"IF([1]TEEN!C111<>\"\",[1]TEEN!C111,\"\")","v":""},{"$f":"IF([1]TEEN!D111<>\"\",[1]TEEN!D111,\"\")","v":""},{"$f":"IF([1]TEEN!E111<>\"\",[1]TEEN!E111,\"\")","v":""},{"$f":"IF([1]TEEN!F111<>\"\",[1]TEEN!F111,\"\")","v":""},""]

{"sheet":"Výsledky","index":2,"n_rows":102,"n_cols":8,"rows_kept":102,"cut":false,"hidden":false,"merged":[]}
[null,{"$f":"+CONTEST!B8","v":"GIANT SLALOM"},null,{"$f":"+CONTEST!B9","v":"HYBRID SLALOM"},null,{"$f":"+CONTEST!B10","v":"TIGHT SLALOM"},null,"reg"]
["Final Position","Racer No. & Name","Final Position","Racer No. & Name","Final Position","Racer No. & Name"]
[{"$f":"+'G H2H'!H91","v":1},{"$f":"IF('G Q 1-2'!AQ12<>\"BYE\",(+'G H2H'!I91),\"\")","v":"Voves  Jindřich  [CZE] "},{"$f":"+'H H2H'!H91","v":1},{"$f":"IF('H Q 1-2'!AQ12<>\"BYE\",(+'H H2H'!I91),\"\")","v":"Rezková  Anna  [CZE] "},{"$f":"+'T H2H'!H91","v":1},{"$f":"IF('T Q 1-2'!AQ12<>\"BYE\",(+'T H2H'!I91),\"\")","v":"Voves  Jindřich  [CZE] "}]
[{"$f":"+'G H2H'!H92","v":2},{"$f":"IF('G Q 1-2'!AQ13<>\"BYE\",(+'G H2H'!I92),\"\")","v":"Rezková  Anna  [CZE] "},{"$f":"+'H H2H'!H92","v":2},{"$f":"IF('H Q 1-2'!AQ13<>\"BYE\",(+'H H2H'!I92),\"\")","v":"Voves  Jindřich  [CZE] "},{"$f":"+'T H2H'!H92","v":2},{"$f":"IF('T Q 1-2'!AQ13<>\"BYE\",(+'T H2H'!I92),\"\")","v":"Rezková  Anna  [CZE] "}]
[{"$f":"+'G H2H'!H93","v":3},{"$f":"IF('G Q 1-2'!AQ14<>\"BYE\",(+'G H2H'!I93),\"\")","v":""},{"$f":"+'H H2H'!H93","v":3},{"$f":"IF('H Q 1-2'!AQ14<>\"BYE\",(+'H H2H'!I93),\"\")","v":""},{"$f":"+'T H2H'!H93","v":3},{"$f":"IF('T Q 1-2'!AQ14<>\"BYE\",(+'T H2H'!I93),\"\")","v":""}]
[{"$f":"+'G H2H'!H94","v":4},{"$f":"IF('G Q 1-2'!AQ15<>\"BYE\",(+'G H2H'!I94),\"\")","v":""},{"$f":"+'H H2H'!H94","v":4},{"$f":"IF('H Q 1-2'!AQ15<>\"BYE\",(+'H H2H'!I94),\"\")","v":""},{"$f":"+'T H2H'!H94","v":4},{"$f":"IF('T Q 1-2'!AQ15<>\"BYE\",(+'T H2H'!I94),\"\")","v":""}]
[{"$f":"+'G H2H'!H95","v":5},{"$f":"IF('G Q 1-2'!AQ16<>\"BYE\",(+'G H2H'!I95),\"\")","v":""},{"$f":"+'H H2H'!H95","v":5},{"$f":"IF('H Q 1-2'!AQ16<>\"BYE\",(+'H H2H'!I95),\"\")","v":""},{"$f":"+'T H2H'!H95","v":5},{"$f":"IF('T Q 1-2'!AQ16<>\"BYE\",(+'T H2H'!I95),\"\")","v":""}]
[{"$f":"+'G H2H'!H96","v":6},{"$f":"IF('G Q 1-2'!AQ17<>\"BYE\",(+'G H2H'!I96),\"\")","v":""},{"$f":"+'H H2H'!H96","v":6},{"$f":"IF('H Q 1-2'!AQ17<>\"BYE\",(+'H H2H'!I96),\"\")","v":""},{"$f":"+'T H2H'!H96","v":6},{"$f":"IF('T Q 1-2'!AQ17<>\"BYE\",(+'T H2H'!I96),\"\")","v":""}]
[{"$f":"+'G H2H'!H97","v":7},{"$f":"IF('G Q 1-2'!AQ18<>\"BYE\",(+'G H2H'!I97),\"\")","v":""},{"$f":"+'H H2H'!H97","v":7},{"$f":"IF('H Q 1-2'!AQ18<>\"BYE\",(+'H H2H'!I97),\"\")","v":""},{"$f":"+'T H2H'!H97","v":7},{"$f":"IF('T Q 1-2'!AQ18<>\"BYE\",(+'T H2H'!I97),\"\")","v":""}]
[{"$f":"+'G H2H'!H98","v":8},{"$f":"IF('G Q 1-2'!AQ19<>\"BYE\",(+'G H2H'!I98),\"\")","v":""},{"$f":"+'H H2H'!H98","v":8},{"$f":"IF('H Q 1-2'!AQ19<>\"BYE\",(+'H H2H'!I98),\"\")","v":""},{"$f":"+'T H2H'!H98","v":8},{"$f":"IF('T Q 1-2'!AQ19<>\"BYE\",(+'T H2H'!I98),\"\")","v":""}]
[{"$f":"+'G H2H'!H99","v":9},{"$f":"IF('G Q 1-2'!AQ20<>\"BYE\",(+'G H2H'!I99),\"\")","v":""},{"$f":"+'H H2H'!H99","v":9},{"$f":"IF('H Q 1-2'!AQ20<>\"BYE\",(+'H H2H'!I99),\"\")","v":""},{"$f":"+'T H2H'!H99","v":9},{"$f":"IF('T Q 1-2'!AQ20<>\"BYE\",(+'T H2H'!I99),\"\")","v":""}]
[{"$f":"+'G H2H'!H100","v":10},{"$f":"IF('G Q 1-2'!AQ21<>\"BYE\",(+'G H2H'!I100),\"\")","v":""},{"$f":"+'H H2H'!H100","v":10},{"$f":"IF('H Q 1-2'!AQ21<>\"BYE\",(+'H H2H'!I100),\"\")","v":""},{"$f":"+'T H2H'!H100","v":10},{"$f":"IF('T Q 1-2'!AQ21<>\"BYE\",(+'T H2H'!I100),\"\")","v":""}]
[{"$f":"+'G H2H'!H101","v":11},{"$f":"IF('G Q 1-2'!AQ22<>\"BYE\",(+'G H2H'!I101),\"\")","v":""},{"$f":"+'H H2H'!H101","v":11},{"$f":"IF('H Q 1-2'!AQ22<>\"BYE\",(+'H H2H'!I101),\"\")","v":""},{"$f":"+'T H2H'!H101","v":11},{"$f":"IF('T Q 1-2'!AQ22<>\"BYE\",(+'T H2H'!I101),\"\")","v":""}]
[{"$f":"+'G H2H'!H102","v":12},{"$f":"IF('G Q 1-2'!AQ23<>\"BYE\",(+'G H2H'!I102),\"\")","v":""},{"$f":"+'H H2H'!H102","v":12},{"$f":"IF('H Q 1-2'!AQ23<>\"BYE\",(+'H H2H'!I102),\"\")","v":""},{"$f":"+'T H2H'!H102","v":12},{"$f":"IF('T Q 1-2'!AQ23<>\"BYE\",(+'T H2H'!I102),\"\")","v":""}]
[{"$f":"+'G H2H'!H103","v":13},{"$f":"IF('G Q 1-2'!AQ24<>\"BYE\",(+'G H2H'!I103),\"\")","v":""},{"$f":"+'H H2H'!H103","v":13},{"$f":"IF('H Q 1-2'!AQ24<>\"BYE\",(+'H H2H'!I103),\"\")","v":""},{"$f":"+'T H2H'!H103","v":13},{"$f":"IF('T Q 1-2'!AQ24<>\"BYE\",(+'T H2H'!I103),\"\")","v":""}]
[{"$f":"+'G H2H'!H104","v":14},{"$f":"IF('G Q 1-2'!AQ25<>\"BYE\",(+'G H2H'!I104),\"\")","v":""},{"$f":"+'H H2H'!H104","v":14},{"$f":"IF('H Q 1-2'!AQ25<>\"BYE\",(+'H H2H'!I104),\"\")","v":""},{"$f":"+'T H2H'!H104","v":14},{"$f":"IF('T Q 1-2'!AQ25<>\"BYE\",(+'T H2H'!I104),\"\")","v":""}]
[{"$f":"+'G H2H'!H105","v":15},{"$f":"IF('G Q 1-2'!AQ26<>\"BYE\",(+'G H2H'!I105),\"\")","v":""},{"$f":"+'H H2H'!H105","v":15},{"$f":"IF('H Q 1-2'!AQ26<>\"BYE\",(+'H H2H'!I105),\"\")","v":""},{"$f":"+'T H2H'!H105","v":15},{"$f":"IF('T Q 1-2'!AQ26<>\"BYE\",(+'T H2H'!I105),\"\")","v":""}]
[{"$f":"+'G H2H'!H106","v":16},{"$f":"IF('G Q 1-2'!AQ27<>\"BYE\",(+'G H2H'!I106),\"\")","v":""},{"$f":"+'H H2H'!H106","v":16},{"$f":"IF('H Q 1-2'!AQ27<>\"BYE\",(+'H H2H'!I106),\"\")","v":""},{"$f":"+'T H2H'!H106","v":16},{"$f":"IF('T Q 1-2'!AQ27<>\"BYE\",(+'T H2H'!I106),\"\")","v":""}]
[{"$f":"+'G H2H'!H107","v":17},{"$f":"IF('G Q 1-2'!AQ28<>\"BYE\",(+'G H2H'!I107),\"\")","v":""},{"$f":"+'H H2H'!H107","v":17},{"$f":"IF('H Q 1-2'!AQ28<>\"BYE\",(+'H H2H'!I107),\"\")","v":""},{"$f":"+'T H2H'!H107","v":17},{"$f":"IF('T Q 1-2'!AQ28<>\"BYE\",(+'T H2H'!I107),\"\")","v":""}]
[{"$f":"+'G H2H'!H108","v":18},{"$f":"IF('G Q 1-2'!AQ29<>\"BYE\",(+'G H2H'!I108),\"\")","v":""},{"$f":"+'H H2H'!H108","v":18},{"$f":"IF('H Q 1-2'!AQ29<>\"BYE\",(+'H H2H'!I108),\"\")","v":""},{"$f":"+'T H2H'!H108","v":18},{"$f":"IF('T Q 1-2'!AQ29<>\"BYE\",(+'T H2H'!I108),\"\")","v":""}]
[{"$f":"+'G H2H'!H109","v":19},{"$f":"IF('G Q 1-2'!AQ30<>\"BYE\",(+'G H2H'!I109),\"\")","v":""},{"$f":"+'H H2H'!H109","v":19},{"$f":"IF('H Q 1-2'!AQ30<>\"BYE\",(+'H H2H'!I109),\"\")","v":""},{"$f":"+'T H2H'!H109","v":19},{"$f":"IF('T Q 1-2'!AQ30<>\"BYE\",(+'T H2H'!I109),\"\")","v":""}]
[{"$f":"+'G H2H'!H110","v":20},{"$f":"IF('G Q 1-2'!AQ31<>\"BYE\",(+'G H2H'!I110),\"\")","v":""},{"$f":"+'H H2H'!H110","v":20},{"$f":"IF('H Q 1-2'!AQ31<>\"BYE\",(+'H H2H'!I110),\"\")","v":""},{"$f":"+'T H2H'!H110","v":20},{"$f":"IF('T Q 1-2'!AQ31<>\"BYE\",(+'T H2H'!I110),\"\")","v":""}]
[{"$f":"+'G H2H'!H111","v":21},{"$f":"IF('G Q 1-2'!AQ32<>\"BYE\",(+'G H2H'!I111),\"\")","v":""},{"$f":"+'H H2H'!H111","v":21},{"$f":"IF('H Q 1-2'!AQ32<>\"BYE\",(+'H H2H'!I111),\"\")","v":""},{"$f":"+'T H2H'!H111","v":21},{"$f":"IF('T Q 1-2'!AQ32<>\"BYE\",(+'T H2H'!I111),\"\")","v":""}]
[{"$f":"+'G H2H'!H112","v":22},{"$f":"IF('G Q 1-2'!AQ33<>\"BYE\",(+'G H2H'!I112),\"\")","v":""},{"$f":"+'H H2H'!H112","v":22},{"$f":"IF('H Q 1-2'!AQ33<>\"BYE\",(+'H H2H'!I112),\"\")","v":""},{"$f":"+'T H2H'!H112","v":22},{"$f":"IF('T Q 1-2'!AQ33<>\"BYE\",(+'T H2H'!I112),\"\")","v":""}]
[{"$f":"+'G H2H'!H113","v":23},{"$f":"IF('G Q 1-2'!AQ34<>\"BYE\",(+'G H2H'!I113),\"\")","v":""},{"$f":"+'H H2H'!H113","v":23},{"$f":"IF('H Q 1-2'!AQ34<>\"BYE\",(+'H H2H'!I113),\"\")","v":""},{"$f":"+'T H2H'!H113","v":23},{"$f":"IF('T Q 1-2'!AQ34<>\"BYE\",(+'T H2H'!I113),\"\")","v":""}]
[{"$f":"+'G H2H'!H114","v":24},{"$f":"IF('G Q 1-2'!AQ35<>\"BYE\",(+'G H2H'!I114),\"\")","v":""},{"$f":"+'H H2H'!H114","v":24},{"$f":"IF('H Q 1-2'!AQ35<>\"BYE\",(+'H H2H'!I114),\"\")","v":""},{"$f":"+'T H2H'!H114","v":24},{"$f":"IF('T Q 1-2'!AQ35<>\"BYE\",(+'T H2H'!I114),\"\")","v":""}]
[{"$f":"+'G H2H'!H115","v":25},{"$f":"IF('G Q 1-2'!AQ36<>\"BYE\",(+'G H2H'!I115),\"\")","v":""},{"$f":"+'H H2H'!H115","v":25},{"$f":"IF('H Q 1-2'!AQ36<>\"BYE\",(+'H H2H'!I115),\"\")","v":""},{"$f":"+'T H2H'!H115","v":25},{"$f":"IF('T Q 1-2'!AQ36<>\"BYE\",(+'T H2H'!I115),\"\")","v":""}]
[{"$f":"+'G H2H'!H116","v":26},{"$f":"IF('G Q 1-2'!AQ37<>\"BYE\",(+'G H2H'!I116),\"\")","v":""},{"$f":"+'H H2H'!H116","v":26},{"$f":"IF('H Q 1-2'!AQ37<>\"BYE\",(+'H H2H'!I116),\"\")","v":""},{"$f":"+'T H2H'!H116","v":26},{"$f":"IF('T Q 1-2'!AQ37<>\"BYE\",(+'T H2H'!I116),\"\")","v":""}]
[{"$f":"+'G H2H'!H117","v":27},{"$f":"IF('G Q 1-2'!AQ38<>\"BYE\",(+'G H2H'!I117),\"\")","v":""},{"$f":"+'H H2H'!H117","v":27},{"$f":"IF('H Q 1-2'!AQ38<>\"BYE\",(+'H H2H'!I117),\"\")","v":""},{"$f":"+'T H2H'!H117","v":27},{"$f":"IF('T Q 1-2'!AQ38<>\"BYE\",(+'T H2H'!I117),\"\")","v":""}]
[{"$f":"+'G H2H'!H118","v":28},{"$f":"IF('G Q 1-2'!AQ39<>\"BYE\",(+'G H2H'!I118),\"\")","v":""},{"$f":"+'H H2H'!H118","v":28},{"$f":"IF('H Q 1-2'!AQ39<>\"BYE\",(+'H H2H'!I118),\"\")","v":""},{"$f":"+'T H2H'!H118","v":28},{"$f":"IF('T Q 1-2'!AQ39<>\"BYE\",(+'T H2H'!I118),\"\")","v":""}]
[{"$f":"+'G H2H'!H119","v":29},{"$f":"IF('G Q 1-2'!AQ40<>\"BYE\",(+'G H2H'!I119),\"\")","v":""},{"$f":"+'H H2H'!H119","v":29},{"$f":"IF('H Q 1-2'!AQ40<>\"BYE\",(+'H H2H'!I119),\"\")","v":""},{"$f":"+'T H2H'!H119","v":29},{"$f":"IF('T Q 1-2'!AQ40<>\"BYE\",(+'T H2H'!I119),\"\")","v":""}]
[{"$f":"+'G H2H'!H120","v":30},{"$f":"IF('G Q 1-2'!AQ41<>\"BYE\",(+'G H2H'!I120),\"\")","v":""},{"$f":"+'H H2H'!H120","v":30},{"$f":"IF('H Q 1-2'!AQ41<>\"BYE\",(+'H H2H'!I120),\"\")","v":""},{"$f":"+'T H2H'!H120","v":30},{"$f":"IF('T Q 1-2'!AQ41<>\"BYE\",(+'T H2H'!I120),\"\")","v":""}]
[{"$f":"+'G H2H'!H121","v":31},{"$f":"IF('G Q 1-2'!AQ42<>\"BYE\",(+'G H2H'!I121),\"\")","v":""},{"$f":"+'H H2H'!H121","v":31},{"$f":"IF('H Q 1-2'!AQ42<>\"BYE\",(+'H H2H'!I121),\"\")","v":""},{"$f":"+'T H2H'!H121","v":31},{"$f":"IF('T Q 1-2'!AQ42<>\"BYE\",(+'T H2H'!I121),\"\")","v":""}]
[{"$f":"+'G H2H'!H122","v":32},{"$f":"IF('G Q 1-2'!AQ43<>\"BYE\",(+'G H2H'!I122),\"\")","v":""},{"$f":"+'H H2H'!H122","v":32},{"$f":"IF('H Q 1-2'!AQ43<>\"BYE\",(+'H H2H'!I122),\"\")","v":""},{"$f":"+'T H2H'!H122","v":32},{"$f":"IF('T Q 1-2'!AQ43<>\"BYE\",(+'T H2H'!I122),\"\")","v":""}]
[{"$f":"+'G H2H'!H123","v":33},{"$f":"IF('G Q 1-2'!AQ44<>\"BYE\",(+'G H2H'!I123),\"\")","v":""},{"$f":"+'H H2H'!H123","v":33},{"$f":"IF('H Q 1-2'!AQ44<>\"BYE\",(+'H H2H'!I123),\"\")","v":""},{"$f":"+'T H2H'!H123","v":33},{"$f":"IF('T Q 1-2'!AQ44<>\"BYE\",(+'T H2H'!I123),\"\")","v":""}]
[{"$f":"+'G H2H'!H124","v":34},{"$f":"IF('G Q 1-2'!AQ45<>\"BYE\",(+'G H2H'!I124),\"\")","v":""},{"$f":"+'H H2H'!H124","v":34},{"$f":"IF('H Q 1-2'!AQ45<>\"BYE\",(+'H H2H'!I124),\"\")","v":""},{"$f":"+'T H2H'!H124","v":34},{"$f":"IF('T Q 1-2'!AQ45<>\"BYE\",(+'T H2H'!I124),\"\")","v":""}]
[{"$f":"+'G H2H'!H125","v":35},{"$f":"IF('G Q 1-2'!AQ46<>\"BYE\",(+'G H2H'!I125),\"\")","v":""},{"$f":"+'H H2H'!H125","v":35},{"$f":"IF('H Q 1-2'!AQ46<>\"BYE\",(+'H H2H'!I125),\"\")","v":""},{"$f":"+'T H2H'!H125","v":35},{"$f":"IF('T Q 1-2'!AQ46<>\"BYE\",(+'T H2H'!I125),\"\")","v":""}]
[{"$f":"+'G H2H'!H126","v":36},{"$f":"IF('G Q 1-2'!AQ47<>\"BYE\",(+'G H2H'!I126),\"\")","v":""},{"$f":"+'H H2H'!H126","v":36},{"$f":"IF('H Q 1-2'!AQ47<>\"BYE\",(+'H H2H'!I126),\"\")","v":""},{"$f":"+'T H2H'!H126","v":36},{"$f":"IF('T Q 1-2'!AQ47<>\"BYE\",(+'T H2H'!I126),\"\")","v":""}]
[{"$f":"+'G H2H'!H127","v":37},{"$f":"IF('G Q 1-2'!AQ48<>\"BYE\",(+'G H2H'!I127),\"\")","v":""},{"$f":"+'H H2H'!H127","v":37},{"$f":"IF('H Q 1-2'!AQ48<>\"BYE\",(+'H H2H'!I127),\"\")","v":""},{"$f":"+'T H2H'!H127","v":37},{"$f":"IF('T Q 1-2'!AQ48<>\"BYE\",(+'T H2H'!I127),\"\")","v":""}]
[{"$f":"+'G H2H'!H128","v":38},{"$f":"IF('G Q 1-2'!AQ49<>\"BYE\",(+'G H2H'!I128),\"\")","v":""},{"$f":"+'H H2H'!H128","v":38},{"$f":"IF('H Q 1-2'!AQ49<>\"BYE\",(+'H H2H'!I128),\"\")","v":""},{"$f":"+'T H2H'!H128","v":38},{"$f":"IF('T Q 1-2'!AQ49<>\"BYE\",(+'T H2H'!I128),\"\")","v":""}]
[{"$f":"+'G H2H'!H129","v":39},{"$f":"IF('G Q 1-2'!AQ50<>\"BYE\",(+'G H2H'!I129),\"\")","v":""},{"$f":"+'H H2H'!H129","v":39},{"$f":"IF('H Q 1-2'!AQ50<>\"BYE\",(+'H H2H'!I129),\"\")","v":""},{"$f":"+'T H2H'!H129","v":39},{"$f":"IF('T Q 1-2'!AQ50<>\"BYE\",(+'T H2H'!I129),\"\")","v":""}]
[{"$f":"+'G H2H'!H130","v":40},{"$f":"IF('G Q 1-2'!AQ51<>\"BYE\",(+'G H2H'!I130),\"\")","v":""},{"$f":"+'H H2H'!H130","v":40},{"$f":"IF('H Q 1-2'!AQ51<>\"BYE\",(+'H H2H'!I130),\"\")","v":""},{"$f":"+'T H2H'!H130","v":40},{"$f":"IF('T Q 1-2'!AQ51<>\"BYE\",(+'T H2H'!I130),\"\")","v":""}]
[{"$f":"+'G H2H'!H131","v":41},{"$f":"IF('G Q 1-2'!AQ52<>\"BYE\",(+'G H2H'!I131),\"\")","v":""},{"$f":"+'H H2H'!H131","v":41},{"$f":"IF('H Q 1-2'!AQ52<>\"BYE\",(+'H H2H'!I131),\"\")","v":""},{"$f":"+'T H2H'!H131","v":41},{"$f":"IF('T Q 1-2'!AQ52<>\"BYE\",(+'T H2H'!I131),\"\")","v":""}]
[{"$f":"+'G H2H'!H132","v":42},{"$f":"IF('G Q 1-2'!AQ53<>\"BYE\",(+'G H2H'!I132),\"\")","v":""},{"$f":"+'H H2H'!H132","v":42},{"$f":"IF('H Q 1-2'!AQ53<>\"BYE\",(+'H H2H'!I132),\"\")","v":""},{"$f":"+'T H2H'!H132","v":42},{"$f":"IF('T Q 1-2'!AQ53<>\"BYE\",(+'T H2H'!I132),\"\")","v":""}]
[{"$f":"+'G H2H'!H133","v":43},{"$f":"IF('G Q 1-2'!AQ54<>\"BYE\",(+'G H2H'!I133),\"\")","v":""},{"$f":"+'H H2H'!H133","v":43},{"$f":"IF('H Q 1-2'!AQ54<>\"BYE\",(+'H H2H'!I133),\"\")","v":""},{"$f":"+'T H2H'!H133","v":43},{"$f":"IF('T Q 1-2'!AQ54<>\"BYE\",(+'T H2H'!I133),\"\")","v":""}]
[{"$f":"+'G H2H'!H134","v":44},{"$f":"IF('G Q 1-2'!AQ55<>\"BYE\",(+'G H2H'!I134),\"\")","v":""},{"$f":"+'H H2H'!H134","v":44},{"$f":"IF('H Q 1-2'!AQ55<>\"BYE\",(+'H H2H'!I134),\"\")","v":""},{"$f":"+'T H2H'!H134","v":44},{"$f":"IF('T Q 1-2'!AQ55<>\"BYE\",(+'T H2H'!I134),\"\")","v":""}]
[{"$f":"+'G H2H'!H135","v":45},{"$f":"IF('G Q 1-2'!AQ56<>\"BYE\",(+'G H2H'!I135),\"\")","v":""},{"$f":"+'H H2H'!H135","v":45},{"$f":"IF('H Q 1-2'!AQ56<>\"BYE\",(+'H H2H'!I135),\"\")","v":""},{"$f":"+'T H2H'!H135","v":45},{"$f":"IF('T Q 1-2'!AQ56<>\"BYE\",(+'T H2H'!I135),\"\")","v":""}]
[{"$f":"+'G H2H'!H136","v":46},{"$f":"IF('G Q 1-2'!AQ57<>\"BYE\",(+'G H2H'!I136),\"\")","v":""},{"$f":"+'H H2H'!H136","v":46},{"$f":"IF('H Q 1-2'!AQ57<>\"BYE\",(+'H H2H'!I136),\"\")","v":""},{"$f":"+'T H2H'!H136","v":46},{"$f":"IF('T Q 1-2'!AQ57<>\"BYE\",(+'T H2H'!I136),\"\")","v":""}]
[{"$f":"+'G H2H'!H137","v":47},{"$f":"IF('G Q 1-2'!AQ58<>\"BYE\",(+'G H2H'!I137),\"\")","v":""},{"$f":"+'H H2H'!H137","v":47},{"$f":"IF('H Q 1-2'!AQ58<>\"BYE\",(+'H H2H'!I137),\"\")","v":""},{"$f":"+'T H2H'!H137","v":47},{"$f":"IF('T Q 1-2'!AQ58<>\"BYE\",(+'T H2H'!I137),\"\")","v":""}]
[{"$f":"+'G H2H'!H138","v":48},{"$f":"IF('G Q 1-2'!AQ59<>\"BYE\",(+'G H2H'!I138),\"\")","v":""},{"$f":"+'H H2H'!H138","v":48},{"$f":"IF('H Q 1-2'!AQ59<>\"BYE\",(+'H H2H'!I138),\"\")","v":""},{"$f":"+'T H2H'!H138","v":48},{"$f":"IF('T Q 1-2'!AQ59<>\"BYE\",(+'T H2H'!I138),\"\")","v":""}]
[{"$f":"+'G H2H'!H139","v":49},{"$f":"IF('G Q 1-2'!AQ60<>\"BYE\",(+'G H2H'!I139),\"\")","v":""},{"$f":"+'H H2H'!H139","v":49},{"$f":"IF('H Q 1-2'!AQ60<>\"BYE\",(+'H H2H'!I139),\"\")","v":""},{"$f":"+'T H2H'!H139","v":49},{"$f":"IF('T Q 1-2'!AQ60<>\"BYE\",(+'T H2H'!I139),\"\")","v":""}]
[{"$f":"+'G H2H'!H140","v":50},{"$f":"IF('G Q 1-2'!AQ61<>\"BYE\",(+'G H2H'!I140),\"\")","v":""},{"$f":"+'H H2H'!H140","v":50},{"$f":"IF('H Q 1-2'!AQ61<>\"BYE\",(+'H H2H'!I140),\"\")","v":""},{"$f":"+'T H2H'!H140","v":50},{"$f":"IF('T Q 1-2'!AQ61<>\"BYE\",(+'T H2H'!I140),\"\")","v":""}]
[{"$f":"+'G H2H'!H141","v":51},{"$f":"IF('G Q 1-2'!AQ62<>\"BYE\",(+'G H2H'!I141),\"\")","v":""},{"$f":"+'H H2H'!H141","v":51},{"$f":"IF('H Q 1-2'!AQ62<>\"BYE\",(+'H H2H'!I141),\"\")","v":""},{"$f":"+'T H2H'!H141","v":51},{"$f":"IF('T Q 1-2'!AQ62<>\"BYE\",(+'T H2H'!I141),\"\")","v":""}]
[{"$f":"+'G H2H'!H142","v":52},{"$f":"IF('G Q 1-2'!AQ63<>\"BYE\",(+'G H2H'!I142),\"\")","v":""},{"$f":"+'H H2H'!H142","v":52},{"$f":"IF('H Q 1-2'!AQ63<>\"BYE\",(+'H H2H'!I142),\"\")","v":""},{"$f":"+'T H2H'!H142","v":52},{"$f":"IF('T Q 1-2'!AQ63<>\"BYE\",(+'T H2H'!I142),\"\")","v":""}]
[{"$f":"+'G H2H'!H143","v":53},{"$f":"IF('G Q 1-2'!AQ64<>\"BYE\",(+'G H2H'!I143),\"\")","v":""},{"$f":"+'H H2H'!H143","v":53},{"$f":"IF('H Q 1-2'!AQ64<>\"BYE\",(+'H H2H'!I143),\"\")","v":""},{"$f":"+'T H2H'!H143","v":53},{"$f":"IF('T Q 1-2'!AQ64<>\"BYE\",(+'T H2H'!I143),\"\")","v":""}]
[{"$f":"+'G H2H'!H144","v":54},{"$f":"IF('G Q 1-2'!AQ65<>\"BYE\",(+'G H2H'!I144),\"\")","v":""},{"$f":"+'H H2H'!H144","v":54},{"$f":"IF('H Q 1-2'!AQ65<>\"BYE\",(+'H H2H'!I144),\"\")","v":""},{"$f":"+'T H2H'!H144","v":54},{"$f":"IF('T Q 1-2'!AQ65<>\"BYE\",(+'T H2H'!I144),\"\")","v":""}]
[{"$f":"+'G H2H'!H145","v":55},{"$f":"IF('G Q 1-2'!AQ66<>\"BYE\",(+'G H2H'!I145),\"\")","v":""},{"$f":"+'H H2H'!H145","v":55},{"$f":"IF('H Q 1-2'!AQ66<>\"BYE\",(+'H H2H'!I145),\"\")","v":""},{"$f":"+'T H2H'!H145","v":55},{"$f":"IF('T Q 1-2'!AQ66<>\"BYE\",(+'T H2H'!I145),\"\")","v":""}]
[{"$f":"+'G H2H'!H146","v":56},{"$f":"IF('G Q 1-2'!AQ67<>\"BYE\",(+'G H2H'!I146),\"\")","v":""},{"$f":"+'H H2H'!H146","v":56},{"$f":"IF('H Q 1-2'!AQ67<>\"BYE\",(+'H H2H'!I146),\"\")","v":""},{"$f":"+'T H2H'!H146","v":56},{"$f":"IF('T Q 1-2'!AQ67<>\"BYE\",(+'T H2H'!I146),\"\")","v":""}]
[{"$f":"+'G H2H'!H147","v":57},{"$f":"IF('G Q 1-2'!AQ68<>\"BYE\",(+'G H2H'!I147),\"\")","v":""},{"$f":"+'H H2H'!H147","v":57},{"$f":"IF('H Q 1-2'!AQ68<>\"BYE\",(+'H H2H'!I147),\"\")","v":""},{"$f":"+'T H2H'!H147","v":57},{"$f":"IF('T Q 1-2'!AQ68<>\"BYE\",(+'T H2H'!I147),\"\")","v":""}]
[{"$f":"+'G H2H'!H148","v":58},{"$f":"IF('G Q 1-2'!AQ69<>\"BYE\",(+'G H2H'!I148),\"\")","v":""},{"$f":"+'H H2H'!H148","v":58},{"$f":"IF('H Q 1-2'!AQ69<>\"BYE\",(+'H H2H'!I148),\"\")","v":""},{"$f":"+'T H2H'!H148","v":58},{"$f":"IF('T Q 1-2'!AQ69<>\"BYE\",(+'T H2H'!I148),\"\")","v":""}]
[{"$f":"+'G H2H'!H149","v":59},{"$f":"IF('G Q 1-2'!AQ70<>\"BYE\",(+'G H2H'!I149),\"\")","v":""},{"$f":"+'H H2H'!H149","v":59},{"$f":"IF('H Q 1-2'!AQ70<>\"BYE\",(+'H H2H'!I149),\"\")","v":""},{"$f":"+'T H2H'!H149","v":59},{"$f":"IF('T Q 1-2'!AQ70<>\"BYE\",(+'T H2H'!I149),\"\")","v":""}]
[{"$f":"+'G H2H'!H150","v":60},{"$f":"IF('G Q 1-2'!AQ71<>\"BYE\",(+'G H2H'!I150),\"\")","v":""},{"$f":"+'H H2H'!H150","v":60},{"$f":"IF('H Q 1-2'!AQ71<>\"BYE\",(+'H H2H'!I150),\"\")","v":""},{"$f":"+'T H2H'!H150","v":60},{"$f":"IF('T Q 1-2'!AQ71<>\"BYE\",(+'T H2H'!I150),\"\")","v":""}]
[{"$f":"+'G H2H'!H151","v":61},{"$f":"IF('G Q 1-2'!AQ72<>\"BYE\",(+'G H2H'!I151),\"\")","v":""},{"$f":"+'H H2H'!H151","v":61},{"$f":"IF('H Q 1-2'!AQ72<>\"BYE\",(+'H H2H'!I151),\"\")","v":""},{"$f":"+'T H2H'!H151","v":61},{"$f":"IF('T Q 1-2'!AQ72<>\"BYE\",(+'T H2H'!I151),\"\")","v":""}]
[{"$f":"+'G H2H'!H152","v":62},{"$f":"IF('G Q 1-2'!AQ73<>\"BYE\",(+'G H2H'!I152),\"\")","v":""},{"$f":"+'H H2H'!H152","v":62},{"$f":"IF('H Q 1-2'!AQ73<>\"BYE\",(+'H H2H'!I152),\"\")","v":""},{"$f":"+'T H2H'!H152","v":62},{"$f":"IF('T Q 1-2'!AQ73<>\"BYE\",(+'T H2H'!I152),\"\")","v":""}]
[{"$f":"+'G H2H'!H153","v":63},{"$f":"IF('G Q 1-2'!AQ74<>\"BYE\",(+'G H2H'!I153),\"\")","v":""},{"$f":"+'H H2H'!H153","v":63},{"$f":"IF('H Q 1-2'!AQ74<>\"BYE\",(+'H H2H'!I153),\"\")","v":""},{"$f":"+'T H2H'!H153","v":63},{"$f":"IF('T Q 1-2'!AQ74<>\"BYE\",(+'T H2H'!I153),\"\")","v":""}]
[{"$f":"+'G H2H'!H154","v":64},{"$f":"IF('G Q 1-2'!AQ75<>\"BYE\",(+'G H2H'!I154),\"\")","v":""},{"$f":"+'H H2H'!H154","v":64},{"$f":"IF('H Q 1-2'!AQ75<>\"BYE\",(+'H H2H'!I154),\"\")","v":""},{"$f":"+'T H2H'!H154","v":64},{"$f":"IF('T Q 1-2'!AQ75<>\"BYE\",(+'T H2H'!I154),\"\")","v":""}]
[{"$f":"+'G H2H'!H155","v":65},{"$f":"IF('G Q 1-2'!AQ76<>\"BYE\",(+'G H2H'!I155),\"\")","v":""},{"$f":"+'H H2H'!H155","v":65},{"$f":"IF('H Q 1-2'!AQ76<>\"BYE\",(+'H H2H'!I155),\"\")","v":""},{"$f":"+'T H2H'!H155","v":65},{"$f":"IF('T Q 1-2'!AQ76<>\"BYE\",(+'T H2H'!I155),\"\")","v":""}]
[{"$f":"+'G H2H'!H156","v":66},{"$f":"IF('G Q 1-2'!AQ77<>\"BYE\",(+'G H2H'!I156),\"\")","v":""},{"$f":"+'H H2H'!H156","v":66},{"$f":"IF('H Q 1-2'!AQ77<>\"BYE\",(+'H H2H'!I156),\"\")","v":""},{"$f":"+'T H2H'!H156","v":66},{"$f":"IF('T Q 1-2'!AQ77<>\"BYE\",(+'T H2H'!I156),\"\")","v":""}]
[{"$f":"+'G H2H'!H157","v":67},{"$f":"IF('G Q 1-2'!AQ78<>\"BYE\",(+'G H2H'!I157),\"\")","v":""},{"$f":"+'H H2H'!H157","v":67},{"$f":"IF('H Q 1-2'!AQ78<>\"BYE\",(+'H H2H'!I157),\"\")","v":""},{"$f":"+'T H2H'!H157","v":67},{"$f":"IF('T Q 1-2'!AQ78<>\"BYE\",(+'T H2H'!I157),\"\")","v":""}]
[{"$f":"+'G H2H'!H158","v":68},{"$f":"IF('G Q 1-2'!AQ79<>\"BYE\",(+'G H2H'!I158),\"\")","v":""},{"$f":"+'H H2H'!H158","v":68},{"$f":"IF('H Q 1-2'!AQ79<>\"BYE\",(+'H H2H'!I158),\"\")","v":""},{"$f":"+'T H2H'!H158","v":68},{"$f":"IF('T Q 1-2'!AQ79<>\"BYE\",(+'T H2H'!I158),\"\")","v":""}]
[{"$f":"+'G H2H'!H159","v":69},{"$f":"IF('G Q 1-2'!AQ80<>\"BYE\",(+'G H2H'!I159),\"\")","v":""},{"$f":"+'H H2H'!H159","v":69},{"$f":"IF('H Q 1-2'!AQ80<>\"BYE\",(+'H H2H'!I159),\"\")","v":""},{"$f":"+'T H2H'!H159","v":69},{"$f":"IF('T Q 1-2'!AQ80<>\"BYE\",(+'T H2H'!I159),\"\")","v":""}]
[{"$f":"+'G H2H'!H160","v":70},{"$f":"IF('G Q 1-2'!AQ81<>\"BYE\",(+'G H2H'!I160),\"\")","v":""},{"$f":"+'H H2H'!H160","v":70},{"$f":"IF('H Q 1-2'!AQ81<>\"BYE\",(+'H H2H'!I160),\"\")","v":""},{"$f":"+'T H2H'!H160","v":70},{"$f":"IF('T Q 1-2'!AQ81<>\"BYE\",(+'T H2H'!I160),\"\")","v":""}]
[{"$f":"+'G H2H'!H161","v":71},{"$f":"IF('G Q 1-2'!AQ82<>\"BYE\",(+'G H2H'!I161),\"\")","v":""},{"$f":"+'H H2H'!H161","v":71},{"$f":"IF('H Q 1-2'!AQ82<>\"BYE\",(+'H H2H'!I161),\"\")","v":""},{"$f":"+'T H2H'!H161","v":71},{"$f":"IF('T Q 1-2'!AQ82<>\"BYE\",(+'T H2H'!I161),\"\")","v":""}]
[{"$f":"+'G H2H'!H162","v":72},{"$f":"IF('G Q 1-2'!AQ83<>\"BYE\",(+'G H2H'!I162),\"\")","v":""},{"$f":"+'H H2H'!H162","v":72},{"$f":"IF('H Q 1-2'!AQ83<>\"BYE\",(+'H H2H'!I162),\"\")","v":""},{"$f":"+'T H2H'!H162","v":72},{"$f":"IF('T Q 1-2'!AQ83<>\"BYE\",(+'T H2H'!I162),\"\")","v":""}]
[{"$f":"+'G H2H'!H163","v":73},{"$f":"IF('G Q 1-2'!AQ84<>\"BYE\",(+'G H2H'!I163),\"\")","v":""},{"$f":"+'H H2H'!H163","v":73},{"$f":"IF('H Q 1-2'!AQ84<>\"BYE\",(+'H H2H'!I163),\"\")","v":""},{"$f":"+'T H2H'!H163","v":73},{"$f":"IF('T Q 1-2'!AQ84<>\"BYE\",(+'T H2H'!I163),\"\")","v":""}]
[{"$f":"+'G H2H'!H164","v":74},{"$f":"IF('G Q 1-2'!AQ85<>\"BYE\",(+'G H2H'!I164),\"\")","v":""},{"$f":"+'H H2H'!H164","v":74},{"$f":"IF('H Q 1-2'!AQ85<>\"BYE\",(+'H H2H'!I164),\"\")","v":""},{"$f":"+'T H2H'!H164","v":74},{"$f":"IF('T Q 1-2'!AQ85<>\"BYE\",(+'T H2H'!I164),\"\")","v":""}]
[{"$f":"+'G H2H'!H165","v":75},{"$f":"IF('G Q 1-2'!AQ86<>\"BYE\",(+'G H2H'!I165),\"\")","v":""},{"$f":"+'H H2H'!H165","v":75},{"$f":"IF('H Q 1-2'!AQ86<>\"BYE\",(+'H H2H'!I165),\"\")","v":""},{"$f":"+'T H2H'!H165","v":75},{"$f":"IF('T Q 1-2'!AQ86<>\"BYE\",(+'T H2H'!I165),\"\")","v":""}]
[{"$f":"+'G H2H'!H166","v":76},{"$f":"IF('G Q 1-2'!AQ87<>\"BYE\",(+'G H2H'!I166),\"\")","v":""},{"$f":"+'H H2H'!H166","v":76},{"$f":"IF('H Q 1-2'!AQ87<>\"BYE\",(+'H H2H'!I166),\"\")","v":""},{"$f":"+'T H2H'!H166","v":76},{"$f":"IF('T Q 1-2'!AQ87<>\"BYE\",(+'T H2H'!I166),\"\")","v":""}]
[{"$f":"+'G H2H'!H167","v":77},{"$f":"IF('G Q 1-2'!AQ88<>\"BYE\",(+'G H2H'!I167),\"\")","v":""},{"$f":"+'H H2H'!H167","v":77},{"$f":"IF('H Q 1-2'!AQ88<>\"BYE\",(+'H H2H'!I167),\"\")","v":""},{"$f":"+'T H2H'!H167","v":77},{"$f":"IF('T Q 1-2'!AQ88<>\"BYE\",(+'T H2H'!I167),\"\")","v":""}]
[{"$f":"+'G H2H'!H168","v":78},{"$f":"IF('G Q 1-2'!AQ89<>\"BYE\",(+'G H2H'!I168),\"\")","v":""},{"$f":"+'H H2H'!H168","v":78},{"$f":"IF('H Q 1-2'!AQ89<>\"BYE\",(+'H H2H'!I168),\"\")","v":""},{"$f":"+'T H2H'!H168","v":78},{"$f":"IF('T Q 1-2'!AQ89<>\"BYE\",(+'T H2H'!I168),\"\")","v":""}]
[{"$f":"+'G H2H'!H169","v":79},{"$f":"IF('G Q 1-2'!AQ90<>\"BYE\",(+'G H2H'!I169),\"\")","v":""},{"$f":"+'H H2H'!H169","v":79},{"$f":"IF('H Q 1-2'!AQ90<>\"BYE\",(+'H H2H'!I169),\"\")","v":""},{"$f":"+'T H2H'!H169","v":79},{"$f":"IF('T Q 1-2'!AQ90<>\"BYE\",(+'T H2H'!I169),\"\")","v":""}]
[{"$f":"+'G H2H'!H170","v":80},{"$f":"IF('G Q 1-2'!AQ91<>\"BYE\",(+'G H2H'!I170),\"\")","v":""},{"$f":"+'H H2H'!H170","v":80},{"$f":"IF('H Q 1-2'!AQ91<>\"BYE\",(+'H H2H'!I170),\"\")","v":""},{"$f":"+'T H2H'!H170","v":80},{"$f":"IF('T Q 1-2'!AQ91<>\"BYE\",(+'T H2H'!I170),\"\")","v":""}]
[{"$f":"+'G H2H'!H171","v":81},{"$f":"IF('G Q 1-2'!AQ92<>\"BYE\",(+'G H2H'!I171),\"\")","v":""},{"$f":"+'H H2H'!H171","v":81},{"$f":"IF('H Q 1-2'!AQ92<>\"BYE\",(+'H H2H'!I171),\"\")","v":""},{"$f":"+'T H2H'!H171","v":81},{"$f":"IF('T Q 1-2'!AQ92<>\"BYE\",(+'T H2H'!I171),\"\")","v":""}]
[{"$f":"+'G H2H'!H172","v":82},{"$f":"IF('G Q 1-2'!AQ93<>\"BYE\",(+'G H2H'!I172),\"\")","v":""},{"$f":"+'H H2H'!H172","v":82},{"$f":"IF('H Q 1-2'!AQ93<>\"BYE\",(+'H H2H'!I172),\"\")","v":""},{"$f":"+'T H2H'!H172","v":82},{"$f":"IF('T Q 1-2'!AQ93<>\"BYE\",(+'T H2H'!I172),\"\")","v":""}]
[{"$f":"+'G H2H'!H173","v":83},{"$f":"IF('G Q 1-2'!AQ94<>\"BYE\",(+'G H2H'!I173),\"\")","v":""},{"$f":"+'H H2H'!H173","v":83},{"$f":"IF('H Q 1-2'!AQ94<>\"BYE\",(+'H H2H'!I173),\"\")","v":""},{"$f":"+'T H2H'!H173","v":83},{"$f":"IF('T Q 1-2'!AQ94<>\"BYE\",(+'T H2H'!I173),\"\")","v":""}]
[{"$f":"+'G H2H'!H174","v":84},{"$f":"IF('G Q 1-2'!AQ95<>\"BYE\",(+'G H2H'!I174),\"\")","v":""},{"$f":"+'H H2H'!H174","v":84},{"$f":"IF('H Q 1-2'!AQ95<>\"BYE\",(+'H H2H'!I174),\"\")","v":""},{"$f":"+'T H2H'!H174","v":84},{"$f":"IF('T Q 1-2'!AQ95<>\"BYE\",(+'T H2H'!I174),\"\")","v":""}]
[{"$f":"+'G H2H'!H175","v":85},{"$f":"IF('G Q 1-2'!AQ96<>\"BYE\",(+'G H2H'!I175),\"\")","v":""},{"$f":"+'H H2H'!H175","v":85},{"$f":"IF('H Q 1-2'!AQ96<>\"BYE\",(+'H H2H'!I175),\"\")","v":""},{"$f":"+'T H2H'!H175","v":85},{"$f":"IF('T Q 1-2'!AQ96<>\"BYE\",(+'T H2H'!I175),\"\")","v":""}]
[{"$f":"+'G H2H'!H176","v":86},{"$f":"IF('G Q 1-2'!AQ97<>\"BYE\",(+'G H2H'!I176),\"\")","v":""},{"$f":"+'H H2H'!H176","v":86},{"$f":"IF('H Q 1-2'!AQ97<>\"BYE\",(+'H H2H'!I176),\"\")","v":""},{"$f":"+'T H2H'!H176","v":86},{"$f":"IF('T Q 1-2'!AQ97<>\"BYE\",(+'T H2H'!I176),\"\")","v":""}]
[{"$f":"+'G H2H'!H177","v":87},{"$f":"IF('G Q 1-2'!AQ98<>\"BYE\",(+'G H2H'!I177),\"\")","v":""},{"$f":"+'H H2H'!H177","v":87},{"$f":"IF('H Q 1-2'!AQ98<>\"BYE\",(+'H H2H'!I177),\"\")","v":""},{"$f":"+'T H2H'!H177","v":87},{"$f":"IF('T Q 1-2'!AQ98<>\"BYE\",(+'T H2H'!I177),\"\")","v":""}]
[{"$f":"+'G H2H'!H178","v":88},{"$f":"IF('G Q 1-2'!AQ99<>\"BYE\",(+'G H2H'!I178),\"\")","v":""},{"$f":"+'H H2H'!H178","v":88},{"$f":"IF('H Q 1-2'!AQ99<>\"BYE\",(+'H H2H'!I178),\"\")","v":""},{"$f":"+'T H2H'!H178","v":88},{"$f":"IF('T Q 1-2'!AQ99<>\"BYE\",(+'T H2H'!I178),\"\")","v":""}]
[{"$f":"+'G H2H'!H179","v":89},{"$f":"IF('G Q 1-2'!AQ100<>\"BYE\",(+'G H2H'!I179),\"\")","v":""},{"$f":"+'H H2H'!H179","v":89},{"$f":"IF('H Q 1-2'!AQ100<>\"BYE\",(+'H H2H'!I179),\"\")","v":""},{"$f":"+'T H2H'!H179","v":89},{"$f":"IF('T Q 1-2'!AQ100<>\"BYE\",(+'T H2H'!I179),\"\")","v":""}]
[{"$f":"+'G H2H'!H180","v":90},{"$f":"IF('G Q 1-2'!AQ101<>\"BYE\",(+'G H2H'!I180),\"\")","v":""},{"$f":"+'H H2H'!H180","v":90},{"$f":"IF('H Q 1-2'!AQ101<>\"BYE\",(+'H H2H'!I180),\"\")","v":""},{"$f":"+'T H2H'!H180","v":90},{"$f":"IF('T Q 1-2'!AQ101<>\"BYE\",(+'T H2H'!I180),\"\")","v":""}]
[{"$f":"+'G H2H'!H181","v":91},{"$f":"IF('G Q 1-2'!AQ102<>\"BYE\",(+'G H2H'!I181),\"\")","v":""},{"$f":"+'H H2H'!H181","v":91},{"$f":"IF('H Q 1-2'!AQ102<>\"BYE\",(+'H H2H'!I181),\"\")","v":""},{"$f":"+'T H2H'!H181","v":91},{"$f":"IF('T Q 1-2'!AQ102<>\"BYE\",(+'T H2H'!I181),\"\")","v":""}]
[{"$f":"+'G H2H'!H182","v":92},{"$f":"IF('G Q 1-2'!AQ103<>\"BYE\",(+'G H2H'!I182),\"\")","v":""},{"$f":"+'H H2H'!H182","v":92},{"$f":"IF('H Q 1-2'!AQ103<>\"BYE\",(+'H H2H'!I182),\"\")","v":""},{"$f":"+'T H2H'!H182","v":92},{"$f":"IF('T Q 1-2'!AQ103<>\"BYE\",(+'T H2H'!I182),\"\")","v":""}]
[{"$f":"+'G H2H'!H183","v":93},{"$f":"IF('G Q 1-2'!AQ104<>\"BYE\",(+'G H2H'!I183),\"\")","v":""},{"$f":"+'H H2H'!H183","v":93},{"$f":"IF('H Q 1-2'!AQ104<>\"BYE\",(+'H H2H'!I183),\"\")","v":""},{"$f":"+'T H2H'!H183","v":93},{"$f":"IF('T Q 1-2'!AQ104<>\"BYE\",(+'T H2H'!I183),\"\")","v":""}]
[{"$f":"+'G H2H'!H184","v":94},{"$f":"IF('G Q 1-2'!AQ105<>\"BYE\",(+'G H2H'!I184),\"\")","v":""},{"$f":"+'H H2H'!H184","v":94},{"$f":"IF('H Q 1-2'!AQ105<>\"BYE\",(+'H H2H'!I184),\"\")","v":""},{"$f":"+'T H2H'!H184","v":94},{"$f":"IF('T Q 1-2'!AQ105<>\"BYE\",(+'T H2H'!I184),\"\")","v":""}]
[{"$f":"+'G H2H'!H185","v":95},{"$f":"IF('G Q 1-2'!AQ106<>\"BYE\",(+'G H2H'!I185),\"\")","v":""},{"$f":"+'H H2H'!H185","v":95},{"$f":"IF('H Q 1-2'!AQ106<>\"BYE\",(+'H H2H'!I185),\"\")","v":""},{"$f":"+'T H2H'!H185","v":95},{"$f":"IF('T Q 1-2'!AQ106<>\"BYE\",(+'T H2H'!I185),\"\")","v":""}]
[{"$f":"+'G H2H'!H186","v":96},{"$f":"IF('G Q 1-2'!AQ107<>\"BYE\",(+'G H2H'!I186),\"\")","v":""},{"$f":"+'H H2H'!H186","v":96},{"$f":"IF('H Q 1-2'!AQ107<>\"BYE\",(+'H H2H'!I186),\"\")","v":""},{"$f":"+'T H2H'!H186","v":96},{"$f":"IF('T Q 1-2'!AQ107<>\"BYE\",(+'T H2H'!I186),\"\")","v":""}]
[{"$f":"+'G H2H'!H187","v":97},{"$f":"IF('G Q 1-2'!AQ108<>\"BYE\",(+'G H2H'!I187),\"\")","v":""},{"$f":"+'H H2H'!H187","v":97},{"$f":"IF('H Q 1-2'!AQ108<>\"BYE\",(+'H H2H'!I187),\"\")","v":""},{"$f":"+'T H2H'!H187","v":97},{"$f":"IF('T Q 1-2'!AQ108<>\"BYE\",(+'T H2H'!I187),\"\")","v":""}]
[{"$f":"+'G H2H'!H188","v":98},{"$f":"IF('G Q 1-2'!AQ109<>\"BYE\",(+'G H2H'!I188),\"\")","v":""},{"$f":"+'H H2H'!H188","v":98},{"$f":"IF('H Q 1-2'!AQ109<>\"BYE\",(+'H H2H'!I188),\"\")","v":""},{"$f":"+'T H2H'!H188","v":98},{"$f":"IF('T Q 1-2'!AQ109<>\"BYE\",(+'T H2H'!I188),\"\")","v":""}]
[{"$f":"+'G H2H'!H189","v":99},{"$f":"IF('G Q 1-2'!AQ110<>\"BYE\",(+'G H2H'!I189),\"\")","v":""},{"$f":"+'H H2H'!H189","v":99},{"$f":"IF('H Q 1-2'!AQ110<>\"BYE\",(+'H H2H'!I189),\"\")","v":""},{"$f":"+'T H2H'!H189","v":99},{"$f":"IF('T Q 1-2'!AQ110<>\"BYE\",(+'T H2H'!I189),\"\")","v":""}]
[{"$f":"+'G H2H'!H190","v":100},{"$f":"IF('G Q 1-2'!AQ111<>\"BYE\",(+'G H2H'!I190),\"\")","v":""},{"$f":"+'H H2H'!H190","v":100},{"$f":"IF('H Q 1-2'!AQ111<>\"BYE\",(+'H H2H'!I190),\"\")","v":""},{"$f":"+'T H2H'!H190","v":100},{"$f":"IF('T Q 1-2'!AQ111<>\"BYE\",(+'T H2H'!I190),\"\")","v":""}]

{"sheet":"OVERALL","index":3,"n_rows":101,"n_cols":36,"rows_kept":101,"cut":false,"hidden":false,"merged":[[0,6,0,8],[0,10,0,12],[0,1,1,1],[0,2,0,4],[0,5,1,5]]}
[null,{"$f":"CONTEST!B13","v":"TEEN 12-14"},"Place in the slalom ",null,null,"Sum of points","Points of the slalom",null,null,null,"Umístění"]
[null,null,"GIANT","HYBRID","TIGHT",null,{"$f":"+C2","v":"GIANT"},{"$f":"+D2","v":"HYBRID"},{"$f":"+E2","v":"TIGHT"},null,{"$f":"+G2","v":"GIANT"},{"$f":"+H2","v":"HYBRID"},{"$f":"+I2","v":"TIGHT"},null,null,null,null,null,null,null,null,null,"Overall place",{"$f":"CONCATENATE(\"OVERALL  \",CONTEST!B13)","v":"OVERALL  TEEN 12-14"},"Sum of points",null,null,null,"rank","rada","prenos",null,"prenos","over all","over all","over all"]
[1,{"$f":"+REG!G11","v":"Voves  Jindřich  [CZE] "},{"$f":"IF(K3=K$101,0,K3)","v":1},{"$f":"IF(L3=L$101,0,L3)","v":2},{"$f":"IF(M3=M$101,0,M3)","v":1},{"$f":"SUM(G3:I3)+A3/1000","v":580.00099999999998},{"$f":"IF(C3=1,200,IF(C3=2,180,IF(C3=3,160,IF(C3=4,150,IF(C3=5,145,IF(C3=6,140,IF(C3=7,136,IF(C3=8,132,O3))))))))","v":200},180,200,null,{"$f":"+'G Q 4'!S12","v":1},{"$f":"+'H Q 4'!S12","v":2},{"$f":"+'T Q 4'!S12","v":1},null,{"$f":"IF(C3=9,129,IF(C3=10,126,IF(C3=11,124,IF(C3=12,122,IF(C3=13,120,IF(C3=14,118,IF(C3>14,116+15-C3,50)))))))","v":50},50,50,null,null,null,null,null,1,{"$f":"IF(AE3<>\"\",AI3,\"\")","v":"Voves  Jindřich  [CZE] "},{"$f":"IF(AE3<>\"\",AJ3,\"\")","v":580.00099999999998},null,null,null,{"$f":"RANK(F3,F:F,0)","v":1},1,{"$f":"B3","v":"Voves  Jindřich  [CZE] "},null,{"$f":"+F3","v":580.00099999999998},1,{"$f":"VLOOKUP($AD$3:$AD$100,$AC$3:$AG$100,3,0)","v":"Voves  Jindřich  [CZE] "},{"$f":"VLOOKUP($AD$3:$AD$100,$AC$3:$AG$100,5,0)","v":580.00099999999998}]
[2,{"$f":"+REG!G12","v":"Rezková  Anna  [CZE] "},2,1,2,{"$f":"SUM(G4:I4)+A4/1000","v":560.00199999999995},180,200,180,null,{"$f":"+'G Q 4'!S13","v":2},{"$f":"+'H Q 4'!S13","v":1},{"$f":"+'T Q 4'!S13","v":2},null,50,50,50,null,null,null,null,null,{"$f":"IF(Y4<>\"\",IF(Y3-Y4<1,AD3,AD4),\"\")","v":2},{"$f":"IF(AE4<>\"\",AI4,\"\")","v":"Rezková  Anna  [CZE] "},{"$f":"IF(AE4<>\"\",AJ4,\"\")","v":560.00199999999995},null,null,null,2,2,"Rezková  Anna  [CZE] ",null,{"$f":"+F4","v":560.00199999999995},2,{"$f":"VLOOKUP($AD$3:$AD$100,$AC$3:$AG$100,3,0)","v":"Rezková  Anna  [CZE] "},{"$f":"VLOOKUP($AD$3:$AD$100,$AC$3:$AG$100,5,0)","v":560.00199999999995}]
[3,{"$f":"+REG!G13","v":""},0,0,0,150.00299999999999,50,50,50,null,{"$f":"+'G Q 4'!S14","v":3},{"$f":"+'H Q 4'!S14","v":3},{"$f":"+'T Q 4'!S14","v":3},null,50,50,{"$f":"IF(E5=9,129,IF(E5=10,126,IF(E5=11,124,IF(E5=12,122,IF(E5=13,120,IF(E5=14,118,IF(E5>14,116+15-E5,50)))))))","v":50},null,null,null,null,null,{"$f":"IF(Y5<>\"\",IF(Y4-Y5<1,AD4,AD5),\"\")","v":""},"","",null,null,null,98,3,"",null,150.00299999999999,3,"",150.09800000000001]
[4,{"$f":"+REG!G14","v":""},0,0,0,150.00399999999999,50,50,50,null,{"$f":"+'G Q 4'!S15","v":3},{"$f":"+'H Q 4'!S15","v":3},{"$f":"+'T Q 4'!S15","v":3},null,50,50,50,null,null,null,null,null,"","","",null,null,null,97,4,"",null,150.00399999999999,4,"",150.09700000000001]
[5,{"$f":"+REG!G15","v":""},0,0,0,150.005,50,50,50,null,{"$f":"+'G Q 4'!S16","v":3},{"$f":"+'H Q 4'!S16","v":3},{"$f":"+'T Q 4'!S16","v":3},null,50,50,50,null,null,null,null,null,"","","",null,null,null,96,5,"",null,150.005,5,"",150.096]
[6,{"$f":"+REG!G16","v":""},0,0,0,150.006,50,50,50,null,{"$f":"+'G Q 4'!S17","v":3},{"$f":"+'H Q 4'!S17","v":3},{"$f":"+'T Q 4'!S17","v":3},null,50,50,50,null,null,null,null,null,"","","",null,null,null,95,6,"",null,150.006,6,"",150.095]
[7,{"$f":"+REG!G17","v":""},0,0,0,150.00700000000001,50,50,50,null,{"$f":"+'G Q 4'!S18","v":3},{"$f":"+'H Q 4'!S18","v":3},{"$f":"+'T Q 4'!S18","v":3},null,50,50,50,null,null,null,null,null,"","","",null,null,null,94,7,"",null,150.00700000000001,7,"",150.09399999999999]
[8,{"$f":"+REG!G18","v":""},0,0,0,150.00800000000001,50,50,50,null,{"$f":"+'G Q 4'!S19","v":3},{"$f":"+'H Q 4'!S19","v":3},{"$f":"+'T Q 4'!S19","v":3},null,50,50,50,null,null,null,null,null,"","","",null,null,null,93,8,"",null,150.00800000000001,8,"",150.09299999999999]
[9,{"$f":"+REG!G19","v":""},0,0,0,150.00899999999999,50,50,50,null,{"$f":"+'G Q 4'!S20","v":3},{"$f":"+'H Q 4'!S20","v":3},{"$f":"+'T Q 4'!S20","v":3},null,50,50,50,null,null,null,null,null,"","","",null,null,null,92,9,"",null,150.00899999999999,9,"",150.09200000000001]
[10,{"$f":"+REG!G20","v":""},{"$f":"IF(K12=K$101,0,K12)","v":0},0,0,150.01,50,50,50,null,{"$f":"+'G Q 4'!S21","v":3},{"$f":"+'H Q 4'!S21","v":3},{"$f":"+'T Q 4'!S21","v":3},null,50,50,50,null,null,null,null,null,"","","",null,null,null,91,10,"",null,150.01,10,"",150.09100000000001]
[11,{"$f":"+REG!G21","v":""},0,0,0,150.011,50,50,50,null,{"$f":"+'G Q 4'!S22","v":3},{"$f":"+'H Q 4'!S22","v":3},{"$f":"+'T Q 4'!S22","v":3},null,50,50,50,null,null,null,null,null,"","","",null,null,null,90,11,"",null,150.011,11,"",150.09]
[12,{"$f":"+REG!G22","v":""},0,0,0,150.012,50,50,50,null,{"$f":"+'G Q 4'!S23","v":3},{"$f":"+'H Q 4'!S23","v":3},{"$f":"+'T Q 4'!S23","v":3},null,50,50,50,null,null,null,null,null,"","","",null,null,null,89,12,"",null,150.012,12,"",150.089]
[13,{"$f":"+REG!G23","v":""},0,0,0,150.01300000000001,50,50,50,null,{"$f":"+'G Q 4'!S24","v":3},{"$f":"+'H Q 4'!S24","v":3},{"$f":"+'T Q 4'!S24","v":3},null,50,50,50,null,null,null,null,null,"","","",null,null,null,88,13,"",null,150.01300000000001,13,"",150.08799999999999]
[14,{"$f":"+REG!G24","v":""},0,0,0,150.01400000000001,50,50,50,null,{"$f":"+'G Q 4'!S25","v":3},{"$f":"+'H Q 4'!S25","v":3},{"$f":"+'T Q 4'!S25","v":3},null,50,50,50,null,null,null,null,null,"","","",null,null,null,87,14,"",null,150.01400000000001,14,"",150.08699999999999]
[15,{"$f":"+REG!G25","v":""},0,0,0,150.01499999999999,50,50,50,null,{"$f":"+'G Q 4'!S26","v":3},{"$f":"+'H Q 4'!S26","v":3},{"$f":"+'T Q 4'!S26","v":3},null,50,50,50,null,null,null,null,null,"","","",null,null,null,86,15,"",null,150.01499999999999,15,"",150.08600000000001]
[16,{"$f":"+REG!G26","v":""},0,0,0,150.01599999999999,50,50,50,null,{"$f":"+'G Q 4'!S27","v":3},{"$f":"+'H Q 4'!S27","v":3},{"$f":"+'T Q 4'!S27","v":3},null,50,50,50,null,null,null,null,null,"","","",null,null,null,85,16,"",null,150.01599999999999,16,"",150.08500000000001]
[17,{"$f":"+REG!G27","v":""},{"$f":"IF(K19=K$101,0,K19)","v":0},0,0,150.017,50,50,50,null,{"$f":"+'G Q 4'!S28","v":3},{"$f":"+'H Q 4'!S28","v":3},{"$f":"+'T Q 4'!S28","v":3},null,50,50,50,null,null,null,null,null,"","","",null,null,null,84,17,"",null,150.017,17,"",150.084]
[18,{"$f":"+REG!G28","v":""},0,0,0,150.018,50,50,50,null,{"$f":"+'G Q 4'!S29","v":3},{"$f":"+'H Q 4'!S29","v":3},{"$f":"+'T Q 4'!S29","v":3},null,50,50,50,null,null,null,null,null,"","","",null,null,null,83,18,"",null,150.018,18,"",150.083]
[19,{"$f":"+REG!G29","v":""},0,0,0,150.01900000000001,50,50,50,null,{"$f":"+'G Q 4'!S30","v":3},{"$f":"+'H Q 4'!S30","v":3},{"$f":"+'T Q 4'!S30","v":3},null,50,50,50,null,null,null,null,null,"","","",null,null,null,82,19,"",null,150.01900000000001,19,"",150.08199999999999]
[20,{"$f":"+REG!G30","v":""},0,0,0,150.02000000000001,50,50,50,null,{"$f":"+'G Q 4'!S31","v":3},{"$f":"+'H Q 4'!S31","v":3},{"$f":"+'T Q 4'!S31","v":3},null,50,50,50,null,null,null,null,null,"","","",null,null,null,81,20,"",null,150.02000000000001,20,"",150.08099999999999]
[21,{"$f":"+REG!G31","v":""},0,0,0,150.02099999999999,50,50,50,null,{"$f":"+'G Q 4'!S32","v":3},{"$f":"+'H Q 4'!S32","v":3},{"$f":"+'T Q 4'!S32","v":3},null,50,50,50,null,null,null,null,null,"","","",null,null,null,80,21,"",null,150.02099999999999,21,"",150.08000000000001]
[22,{"$f":"+REG!G32","v":""},0,0,0,150.02199999999999,50,50,50,null,{"$f":"+'G Q 4'!S33","v":3},{"$f":"+'H Q 4'!S33","v":3},{"$f":"+'T Q 4'!S33","v":3},null,50,50,50,null,null,null,null,null,"","","",null,null,null,79,22,"",null,150.02199999999999,22,"",150.07900000000001]
[23,{"$f":"+REG!G33","v":""},0,0,0,150.023,50,50,50,null,{"$f":"+'G Q 4'!S34","v":3},{"$f":"+'H Q 4'!S34","v":3},{"$f":"+'T Q 4'!S34","v":3},null,50,50,50,null,null,null,null,null,"","","",null,null,null,78,23,"",null,150.023,23,"",150.078]
[24,{"$f":"+REG!G34","v":""},0,0,0,150.024,50,50,50,null,{"$f":"+'G Q 4'!S35","v":3},{"$f":"+'H Q 4'!S35","v":3},{"$f":"+'T Q 4'!S35","v":3},null,50,50,50,null,null,null,null,null,"","","",null,null,null,77,24,"",null,150.024,24,"",150.077]
[25,{"$f":"+REG!G35","v":""},0,0,0,150.02500000000001,50,50,50,null,{"$f":"+'G Q 4'!S36","v":3},{"$f":"+'H Q 4'!S36","v":3},{"$f":"+'T Q 4'!S36","v":3},null,50,50,50,null,null,null,null,null,"","","",null,null,null,76,25,"",null,150.02500000000001,25,"",150.07599999999999]
[26,{"$f":"+REG!G36","v":""},0,0,0,150.02600000000001,50,50,50,null,{"$f":"+'G Q 4'!S37","v":3},{"$f":"+'H Q 4'!S37","v":3},{"$f":"+'T Q 4'!S37","v":3},null,50,50,50,null,null,null,null,null,"","","",null,null,null,75,26,"",null,150.02600000000001,26,"",150.07499999999999]
[27,{"$f":"+REG!G37","v":""},0,0,0,150.02699999999999,50,50,50,null,{"$f":"+'G Q 4'!S38","v":3},{"$f":"+'H Q 4'!S38","v":3},{"$f":"+'T Q 4'!S38","v":3},null,50,50,50,null,null,null,null,null,"","","",null,null,null,74,27,"",null,150.02699999999999,27,"",150.07400000000001]
[28,{"$f":"+REG!G38","v":""},0,0,0,150.02799999999999,50,50,50,null,{"$f":"+'G Q 4'!S39","v":3},{"$f":"+'H Q 4'!S39","v":3},{"$f":"+'T Q 4'!S39","v":3},null,50,50,50,null,null,null,null,null,"","","",null,null,null,73,28,"",null,150.02799999999999,28,"",150.07300000000001]
[29,{"$f":"+REG!G39","v":""},0,0,0,150.029,50,50,50,null,{"$f":"+'G Q 4'!S40","v":3},{"$f":"+'H Q 4'!S40","v":3},{"$f":"+'T Q 4'!S40","v":3},null,50,50,50,null,null,null,null,null,"","","",null,null,null,72,29,"",null,150.029,29,"",150.072]
[30,{"$f":"+REG!G40","v":""},0,0,0,150.03,50,50,50,null,{"$f":"+'G Q 4'!S41","v":3},{"$f":"+'H Q 4'!S41","v":3},{"$f":"+'T Q 4'!S41","v":3},null,50,50,50,null,null,null,null,null,"","","",null,null,null,71,30,"",null,150.03,30,"",150.071]
[31,{"$f":"+REG!G41","v":""},0,0,0,150.03100000000001,50,50,50,null,{"$f":"+'G Q 4'!S42","v":3},{"$f":"+'H Q 4'!S42","v":3},{"$f":"+'T Q 4'!S42","v":3},null,50,50,50,null,null,null,null,null,"","","",null,null,null,70,31,"",null,150.03100000000001,31,"",150.07]
[32,{"$f":"+REG!G42","v":""},0,0,0,150.03200000000001,50,50,50,null,{"$f":"+'G Q 4'!S43","v":3},{"$f":"+'H Q 4'!S43","v":3},{"$f":"+'T Q 4'!S43","v":3},null,50,50,50,null,null,null,null,null,"","","",null,null,null,69,32,"",null,150.03200000000001,32,"",150.06899999999999]
[33,{"$f":"+REG!G43","v":""},0,0,0,150.03299999999999,{"$f":"IF(C35=1,200,IF(C35=2,180,IF(C35=3,160,IF(C35=4,150,IF(C35=5,145,IF(C35=6,140,IF(C35=7,136,IF(C35=8,132,O35))))))))","v":50},50,50,null,{"$f":"+'G Q 4'!S44","v":3},{"$f":"+'H Q 4'!S44","v":3},{"$f":"+'T Q 4'!S44","v":3},null,{"$f":"IF(C35=9,129,IF(C35=10,126,IF(C35=11,124,IF(C35=12,122,IF(C35=13,120,IF(C35=14,118,IF(C35>14,116+15-C35,50)))))))","v":50},50,50,null,null,null,null,null,"","","",null,null,null,68,33,"",null,150.03299999999999,33,"",150.06800000000001]
[34,{"$f":"+REG!G44","v":""},0,0,0,150.03399999999999,50,50,50,null,{"$f":"+'G Q 4'!S45","v":3},{"$f":"+'H Q 4'!S45","v":3},{"$f":"+'T Q 4'!S45","v":3},null,50,50,50,null,null,null,null,null,"","","",null,null,null,67,34,"",null,150.03399999999999,34,"",150.06700000000001]
[35,{"$f":"+REG!G45","v":""},0,0,0,150.035,50,50,50,null,{"$f":"+'G Q 4'!S46","v":3},{"$f":"+'H Q 4'!S46","v":3},{"$f":"+'T Q 4'!S46","v":3},null,50,50,50,null,null,null,null,null,"","","",null,null,null,66,35,"",null,150.035,35,"",150.066]
[36,{"$f":"+REG!G46","v":""},0,0,0,150.036,50,50,50,null,{"$f":"+'G Q 4'!S47","v":3},{"$f":"+'H Q 4'!S47","v":3},{"$f":"+'T Q 4'!S47","v":3},null,50,50,50,null,null,null,null,null,"","","",null,null,null,65,36,"",null,150.036,36,"",150.065]
[37,{"$f":"+REG!G47","v":""},0,0,0,150.03700000000001,50,50,50,null,{"$f":"+'G Q 4'!S48","v":3},{"$f":"+'H Q 4'!S48","v":3},{"$f":"+'T Q 4'!S48","v":3},null,50,50,50,null,null,null,null,null,"","","",null,null,null,64,37,"",null,150.03700000000001,37,"",150.06399999999999]
[38,{"$f":"+REG!G48","v":""},0,0,0,150.03800000000001,50,50,50,null,{"$f":"+'G Q 4'!S49","v":3},{"$f":"+'H Q 4'!S49","v":3},{"$f":"+'T Q 4'!S49","v":3},null,50,50,50,null,null,null,null,null,"","","",null,null,null,63,38,"",null,150.03800000000001,38,"",150.06299999999999]
[39,{"$f":"+REG!G49","v":""},0,0,0,150.03899999999999,50,50,50,null,{"$f":"+'G Q 4'!S50","v":3},{"$f":"+'H Q 4'!S50","v":3},{"$f":"+'T Q 4'!S50","v":3},null,50,50,50,null,null,null,null,null,"","","",null,null,null,62,39,"",null,150.03899999999999,39,"",150.06200000000001]
[40,{"$f":"+REG!G50","v":""},0,0,0,150.04,50,50,50,null,{"$f":"+'G Q 4'!S51","v":3},{"$f":"+'H Q 4'!S51","v":3},{"$f":"+'T Q 4'!S51","v":3},null,50,50,50,null,null,null,null,null,"","","",null,null,null,61,40,"",null,150.04,40,"",150.06100000000001]
[41,{"$f":"+REG!G51","v":""},0,0,0,150.041,50,50,50,null,{"$f":"+'G Q 4'!S52","v":3},{"$f":"+'H Q 4'!S52","v":3},{"$f":"+'T Q 4'!S52","v":3},null,50,50,50,null,null,null,null,null,"","","",null,null,null,60,41,"",null,150.041,41,"",150.06]
[42,{"$f":"+REG!G52","v":""},0,0,0,150.042,50,50,50,null,{"$f":"+'G Q 4'!S53","v":3},{"$f":"+'H Q 4'!S53","v":3},{"$f":"+'T Q 4'!S53","v":3},null,50,50,50,null,null,null,null,null,"","","",null,null,null,59,42,"",null,150.042,42,"",150.059]
[43,{"$f":"+REG!G53","v":""},0,0,0,150.04300000000001,50,50,50,null,{"$f":"+'G Q 4'!S54","v":3},{"$f":"+'H Q 4'!S54","v":3},{"$f":"+'T Q 4'!S54","v":3},null,50,50,50,null,null,null,null,null,"","","",null,null,null,58,43,"",null,150.04300000000001,43,"",150.05799999999999]
[44,{"$f":"+REG!G54","v":""},0,0,0,150.04400000000001,50,50,50,null,{"$f":"+'G Q 4'!S55","v":3},{"$f":"+'H Q 4'!S55","v":3},{"$f":"+'T Q 4'!S55","v":3},null,50,50,50,null,null,null,null,null,"","","",null,null,null,57,44,"",null,150.04400000000001,44,"",150.05699999999999]
[45,{"$f":"+REG!G55","v":""},0,0,0,150.04499999999999,50,50,50,null,{"$f":"+'G Q 4'!S56","v":3},{"$f":"+'H Q 4'!S56","v":3},{"$f":"+'T Q 4'!S56","v":3},null,50,50,50,null,null,null,null,null,"","","",null,null,null,56,45,"",null,150.04499999999999,45,"",150.05600000000001]
[46,{"$f":"+REG!G56","v":""},0,0,0,150.04599999999999,50,50,50,null,{"$f":"+'G Q 4'!S57","v":3},{"$f":"+'H Q 4'!S57","v":3},{"$f":"+'T Q 4'!S57","v":3},null,50,50,50,null,null,null,null,null,"","","",null,null,null,55,46,"",null,150.04599999999999,46,"",150.05500000000001]
[47,{"$f":"+REG!G57","v":""},0,0,0,150.047,50,50,50,null,{"$f":"+'G Q 4'!S58","v":3},{"$f":"+'H Q 4'!S58","v":3},{"$f":"+'T Q 4'!S58","v":3},null,50,50,50,null,null,null,null,null,"","","",null,null,null,54,47,"",null,150.047,47,"",150.054]
[48,{"$f":"+REG!G58","v":""},0,0,0,150.048,50,50,50,null,{"$f":"+'G Q 4'!S59","v":3},{"$f":"+'H Q 4'!S59","v":3},{"$f":"+'T Q 4'!S59","v":3},null,50,50,50,null,null,null,null,null,"","","",null,null,null,53,48,"",null,150.048,48,"",150.053]
[49,{"$f":"+REG!G59","v":""},0,0,0,150.04900000000001,50,50,50,null,{"$f":"+'G Q 4'!S60","v":3},{"$f":"+'H Q 4'!S60","v":3},{"$f":"+'T Q 4'!S60","v":3},null,50,50,50,null,null,null,null,null,"","","",null,null,null,52,49,"",null,150.04900000000001,49,"",150.05199999999999]
[50,{"$f":"+REG!G60","v":""},0,0,0,150.05000000000001,50,50,50,null,{"$f":"+'G Q 4'!S61","v":3},{"$f":"+'H Q 4'!S61","v":3},{"$f":"+'T Q 4'!S61","v":3},null,50,50,50,null,null,null,null,null,"","","",null,null,null,51,50,"",null,150.05000000000001,50,"",150.05099999999999]
[51,{"$f":"+REG!G61","v":""},0,0,0,150.05099999999999,50,50,50,null,{"$f":"+'G Q 4'!S62","v":3},{"$f":"+'H Q 4'!S62","v":3},{"$f":"+'T Q 4'!S62","v":3},null,50,50,50,null,null,null,null,null,"","","",null,null,null,50,51,"",null,150.05099999999999,51,"",150.05000000000001]
[52,{"$f":"+REG!G62","v":""},0,0,0,150.05199999999999,50,50,50,null,{"$f":"+'G Q 4'!S63","v":3},{"$f":"+'H Q 4'!S63","v":3},{"$f":"+'T Q 4'!S63","v":3},null,50,50,50,null,null,null,null,null,"","","",null,null,null,49,52,"",null,150.05199999999999,52,"",150.04900000000001]
[53,{"$f":"+REG!G63","v":""},0,0,0,150.053,50,50,50,null,{"$f":"+'G Q 4'!S64","v":3},{"$f":"+'H Q 4'!S64","v":3},{"$f":"+'T Q 4'!S64","v":3},null,50,50,50,null,null,null,null,null,"","","",null,null,null,48,53,"",null,150.053,53,"",150.048]
[54,{"$f":"+REG!G64","v":""},0,0,0,150.054,50,50,50,null,{"$f":"+'G Q 4'!S65","v":3},{"$f":"+'H Q 4'!S65","v":3},{"$f":"+'T Q 4'!S65","v":3},null,50,50,50,null,null,null,null,null,"","","",null,null,null,47,54,"",null,150.054,54,"",150.047]
[55,{"$f":"+REG!G65","v":""},0,0,0,150.05500000000001,50,50,50,null,{"$f":"+'G Q 4'!S66","v":3},{"$f":"+'H Q 4'!S66","v":3},{"$f":"+'T Q 4'!S66","v":3},null,50,50,50,null,null,null,null,null,"","","",null,null,null,46,55,"",null,150.05500000000001,55,"",150.04599999999999]
[56,{"$f":"+REG!G66","v":""},0,0,0,150.05600000000001,50,50,50,null,{"$f":"+'G Q 4'!S67","v":3},{"$f":"+'H Q 4'!S67","v":3},{"$f":"+'T Q 4'!S67","v":3},null,50,50,50,null,null,null,null,null,"","","",null,null,null,45,56,"",null,150.05600000000001,56,"",150.04499999999999]
[57,{"$f":"+REG!G67","v":""},0,0,0,150.05699999999999,50,50,50,null,{"$f":"+'G Q 4'!S68","v":3},{"$f":"+'H Q 4'!S68","v":3},{"$f":"+'T Q 4'!S68","v":3},null,50,50,50,null,null,null,null,null,"","","",null,null,null,44,57,"",null,150.05699999999999,57,"",150.04400000000001]
[58,{"$f":"+REG!G68","v":""},0,0,0,150.05799999999999,50,50,50,null,{"$f":"+'G Q 4'!S69","v":3},{"$f":"+'H Q 4'!S69","v":3},{"$f":"+'T Q 4'!S69","v":3},null,50,50,50,null,null,null,null,null,"","","",null,null,null,43,58,"",null,150.05799999999999,58,"",150.04300000000001]
[59,{"$f":"+REG!G69","v":""},0,0,0,150.059,50,50,50,null,{"$f":"+'G Q 4'!S70","v":3},{"$f":"+'H Q 4'!S70","v":3},{"$f":"+'T Q 4'!S70","v":3},null,50,50,50,null,null,null,null,null,"","","",null,null,null,42,59,"",null,150.059,59,"",150.042]
[60,{"$f":"+REG!G70","v":""},0,0,0,150.06,50,50,50,null,{"$f":"+'G Q 4'!S71","v":3},{"$f":"+'H Q 4'!S71","v":3},{"$f":"+'T Q 4'!S71","v":3},null,50,50,50,null,null,null,null,null,"","","",null,null,null,41,60,"",null,150.06,60,"",150.041]
[61,{"$f":"+REG!G71","v":""},0,0,0,150.06100000000001,50,50,50,null,{"$f":"+'G Q 4'!S72","v":3},{"$f":"+'H Q 4'!S72","v":3},{"$f":"+'T Q 4'!S72","v":3},null,50,50,50,null,null,null,null,null,"","","",null,null,null,40,61,"",null,150.06100000000001,61,"",150.04]
[62,{"$f":"+REG!G72","v":""},0,0,0,150.06200000000001,50,50,50,null,{"$f":"+'G Q 4'!S73","v":3},{"$f":"+'H Q 4'!S73","v":3},{"$f":"+'T Q 4'!S73","v":3},null,50,50,50,null,null,null,null,null,"","","",null,null,null,39,62,"",null,150.06200000000001,62,"",150.03899999999999]
[63,{"$f":"+REG!G73","v":""},0,0,0,150.06299999999999,50,50,50,null,{"$f":"+'G Q 4'!S74","v":3},{"$f":"+'H Q 4'!S74","v":3},{"$f":"+'T Q 4'!S74","v":3},null,50,50,50,null,null,null,null,null,"","","",null,null,null,38,63,"",null,150.06299999999999,63,"",150.03800000000001]
[64,{"$f":"+REG!G74","v":""},0,0,0,150.06399999999999,50,50,50,null,{"$f":"+'G Q 4'!S75","v":3},{"$f":"+'H Q 4'!S75","v":3},{"$f":"+'T Q 4'!S75","v":3},null,50,50,50,null,null,null,null,null,"","","",null,null,null,37,64,"",null,150.06399999999999,64,"",150.03700000000001]
[65,{"$f":"+REG!G75","v":""},0,0,0,150.065,{"$f":"IF(C67=1,200,IF(C67=2,180,IF(C67=3,160,IF(C67=4,150,IF(C67=5,145,IF(C67=6,140,IF(C67=7,136,IF(C67=8,132,O67))))))))","v":50},50,50,null,{"$f":"+'G Q 4'!S76","v":3},{"$f":"+'H Q 4'!S76","v":3},{"$f":"+'T Q 4'!S76","v":3},null,{"$f":"IF(C67=9,129,IF(C67=10,126,IF(C67=11,124,IF(C67=12,122,IF(C67=13,120,IF(C67=14,118,IF(C67>14,116+15-C67,50)))))))","v":50},50,50,null,null,null,null,null,"","","",null,null,null,{"$f":"RANK(F67,F:F,0)","v":36},65,{"$f":"B67","v":""},null,150.065,65,"",150.036]
[66,{"$f":"+REG!G76","v":""},{"$f":"IF(K68=K$101,0,K68)","v":0},0,0,{"$f":"SUM(G68:I68)+A68/1000","v":150.066},50,50,50,null,{"$f":"+'G Q 4'!S77","v":3},{"$f":"+'H Q 4'!S77","v":3},{"$f":"+'T Q 4'!S77","v":3},null,50,50,50,null,null,null,null,null,"",{"$f":"IF(AE68<>\"\",AI68,\"\")","v":""},{"$f":"IF(AE68<>\"\",AJ68,\"\")","v":""},null,null,null,35,66,"",null,{"$f":"+F68","v":150.066},66,{"$f":"VLOOKUP($AD$3:$AD$100,$AC$3:$AG$100,3,0)","v":""},{"$f":"VLOOKUP($AD$3:$AD$100,$AC$3:$AG$100,5,0)","v":150.035}]
[67,{"$f":"+REG!G77","v":""},0,0,0,150.06700000000001,50,50,50,null,{"$f":"+'G Q 4'!S78","v":3},{"$f":"+'H Q 4'!S78","v":3},{"$f":"+'T Q 4'!S78","v":3},null,50,50,50,null,null,null,null,null,{"$f":"IF(Y69<>\"\",IF(Y68-Y69<1,AD68,AD69),\"\")","v":""},"","",null,null,null,34,67,"",null,150.06700000000001,67,"",150.03399999999999]
[68,{"$f":"+REG!G78","v":""},0,0,0,150.06800000000001,50,50,50,null,{"$f":"+'G Q 4'!S79","v":3},{"$f":"+'H Q 4'!S79","v":3},{"$f":"+'T Q 4'!S79","v":3},null,50,50,50,null,null,null,null,null,"","","",null,null,null,33,68,"",null,150.06800000000001,68,"",150.03299999999999]
[69,{"$f":"+REG!G79","v":""},0,0,0,150.06899999999999,50,50,50,null,{"$f":"+'G Q 4'!S80","v":3},{"$f":"+'H Q 4'!S80","v":3},{"$f":"+'T Q 4'!S80","v":3},null,50,50,50,null,null,null,null,null,"","","",null,null,null,32,69,"",null,150.06899999999999,69,"",150.03200000000001]
[70,{"$f":"+REG!G80","v":""},0,0,0,150.07,50,50,50,null,{"$f":"+'G Q 4'!S81","v":3},{"$f":"+'H Q 4'!S81","v":3},{"$f":"+'T Q 4'!S81","v":3},null,50,50,50,null,null,null,null,null,"","","",null,null,null,31,70,"",null,150.07,70,"",150.03100000000001]
[71,{"$f":"+REG!G81","v":""},0,0,0,150.071,50,50,50,null,{"$f":"+'G Q 4'!S82","v":3},{"$f":"+'H Q 4'!S82","v":3},{"$f":"+'T Q 4'!S82","v":3},null,50,50,50,null,null,null,null,null,"","","",null,null,null,30,71,"",null,150.071,71,"",150.03]
[72,{"$f":"+REG!G82","v":""},0,0,0,150.072,50,50,50,null,{"$f":"+'G Q 4'!S83","v":3},{"$f":"+'H Q 4'!S83","v":3},{"$f":"+'T Q 4'!S83","v":3},null,50,50,50,null,null,null,null,null,"","","",null,null,null,29,72,"",null,150.072,72,"",150.029]
[73,{"$f":"+REG!G83","v":""},0,0,0,150.07300000000001,50,50,50,null,{"$f":"+'G Q 4'!S84","v":3},{"$f":"+'H Q 4'!S84","v":3},{"$f":"+'T Q 4'!S84","v":3},null,50,50,50,null,null,null,null,null,"","","",null,null,null,28,73,"",null,150.07300000000001,73,"",150.02799999999999]
[74,{"$f":"+REG!G84","v":""},0,0,0,150.07400000000001,50,50,50,null,{"$f":"+'G Q 4'!S85","v":3},{"$f":"+'H Q 4'!S85","v":3},{"$f":"+'T Q 4'!S85","v":3},null,50,50,50,null,null,null,null,null,"","","",null,null,null,27,74,"",null,150.07400000000001,74,"",150.02699999999999]
[75,{"$f":"+REG!G85","v":""},0,0,0,150.07499999999999,50,50,50,null,{"$f":"+'G Q 4'!S86","v":3},{"$f":"+'H Q 4'!S86","v":3},{"$f":"+'T Q 4'!S86","v":3},null,50,50,50,null,null,null,null,null,"","","",null,null,null,26,75,"",null,150.07499999999999,75,"",150.02600000000001]
[76,{"$f":"+REG!G86","v":""},0,0,0,150.07599999999999,50,50,50,null,{"$f":"+'G Q 4'!S87","v":3},{"$f":"+'H Q 4'!S87","v":3},{"$f":"+'T Q 4'!S87","v":3},null,50,50,50,null,null,null,null,null,"","","",null,null,null,25,76,"",null,150.07599999999999,76,"",150.02500000000001]
[77,{"$f":"+REG!G87","v":""},0,0,0,150.077,50,50,50,null,{"$f":"+'G Q 4'!S88","v":3},{"$f":"+'H Q 4'!S88","v":3},{"$f":"+'T Q 4'!S88","v":3},null,50,50,50,null,null,null,null,null,"","","",null,null,null,24,77,"",null,150.077,77,"",150.024]
[78,{"$f":"+REG!G88","v":""},0,0,0,150.078,50,50,50,null,{"$f":"+'G Q 4'!S89","v":3},{"$f":"+'H Q 4'!S89","v":3},{"$f":"+'T Q 4'!S89","v":3},null,50,50,50,null,null,null,null,null,"","","",null,null,null,23,78,"",null,150.078,78,"",150.023]
[79,{"$f":"+REG!G89","v":""},0,0,0,150.07900000000001,50,50,50,null,{"$f":"+'G Q 4'!S90","v":3},{"$f":"+'H Q 4'!S90","v":3},{"$f":"+'T Q 4'!S90","v":3},null,50,50,50,null,null,null,null,null,"","","",null,null,null,22,79,"",null,150.07900000000001,79,"",150.02199999999999]
[80,{"$f":"+REG!G90","v":""},0,0,0,150.08000000000001,50,50,50,null,{"$f":"+'G Q 4'!S91","v":3},{"$f":"+'H Q 4'!S91","v":3},{"$f":"+'T Q 4'!S91","v":3},null,50,50,50,null,null,null,null,null,"","","",null,null,null,21,80,"",null,150.08000000000001,80,"",150.02099999999999]
[81,{"$f":"+REG!G91","v":""},0,0,0,150.08099999999999,50,50,50,null,{"$f":"+'G Q 4'!S92","v":3},{"$f":"+'H Q 4'!S92","v":3},{"$f":"+'T Q 4'!S92","v":3},null,50,50,50,null,null,null,null,null,"","","",null,null,null,20,81,"",null,150.08099999999999,81,"",150.02000000000001]
[82,{"$f":"+REG!G92","v":""},0,0,0,150.08199999999999,50,50,50,null,{"$f":"+'G Q 4'!S93","v":3},{"$f":"+'H Q 4'!S93","v":3},{"$f":"+'T Q 4'!S93","v":3},null,50,50,50,null,null,null,null,null,"","","",null,null,null,19,82,"",null,150.08199999999999,82,"",150.01900000000001]
[83,{"$f":"+REG!G93","v":""},0,0,0,150.083,50,50,50,null,{"$f":"+'G Q 4'!S94","v":3},{"$f":"+'H Q 4'!S94","v":3},{"$f":"+'T Q 4'!S94","v":3},null,50,50,50,null,null,null,null,null,"","","",null,null,null,18,83,"",null,150.083,83,"",150.018]
[84,{"$f":"+REG!G94","v":""},0,0,0,150.084,50,50,50,null,{"$f":"+'G Q 4'!S95","v":3},{"$f":"+'H Q 4'!S95","v":3},{"$f":"+'T Q 4'!S95","v":3},null,50,50,50,null,null,null,null,null,"","","",null,null,null,17,84,"",null,150.084,84,"",150.017]
[85,{"$f":"+REG!G95","v":""},0,0,0,150.08500000000001,50,50,50,null,{"$f":"+'G Q 4'!S96","v":3},{"$f":"+'H Q 4'!S96","v":3},{"$f":"+'T Q 4'!S96","v":3},null,50,50,50,null,null,null,null,null,"","","",null,null,null,16,85,"",null,150.08500000000001,85,"",150.01599999999999]
[86,{"$f":"+REG!G96","v":""},0,0,0,150.08600000000001,50,50,50,null,{"$f":"+'G Q 4'!S97","v":3},{"$f":"+'H Q 4'!S97","v":3},{"$f":"+'T Q 4'!S97","v":3},null,50,50,50,null,null,null,null,null,"","","",null,null,null,15,86,"",null,150.08600000000001,86,"",150.01499999999999]
[87,{"$f":"+REG!G97","v":""},0,0,0,150.08699999999999,50,50,50,null,{"$f":"+'G Q 4'!S98","v":3},{"$f":"+'H Q 4'!S98","v":3},{"$f":"+'T Q 4'!S98","v":3},null,50,50,50,null,null,null,null,null,"","","",null,null,null,14,87,"",null,150.08699999999999,87,"",150.01400000000001]
[88,{"$f":"+REG!G98","v":""},0,0,0,150.08799999999999,50,50,50,null,{"$f":"+'G Q 4'!S99","v":3},{"$f":"+'H Q 4'!S99","v":3},{"$f":"+'T Q 4'!S99","v":3},null,50,50,50,null,null,null,null,null,"","","",null,null,null,13,88,"",null,150.08799999999999,88,"",150.01300000000001]
[89,{"$f":"+REG!G99","v":""},0,0,0,150.089,50,50,50,null,{"$f":"+'G Q 4'!S100","v":3},{"$f":"+'H Q 4'!S100","v":3},{"$f":"+'T Q 4'!S100","v":3},null,50,50,50,null,null,null,null,null,"","","",null,null,null,12,89,"",null,150.089,89,"",150.012]
[90,{"$f":"+REG!G100","v":""},0,0,0,150.09,50,50,50,null,{"$f":"+'G Q 4'!S101","v":3},{"$f":"+'H Q 4'!S101","v":3},{"$f":"+'T Q 4'!S101","v":3},null,50,50,50,null,null,null,null,null,"","","",null,null,null,11,90,"",null,150.09,90,"",150.011]
[91,{"$f":"+REG!G101","v":""},0,0,0,150.09100000000001,50,50,50,null,{"$f":"+'G Q 4'!S102","v":3},{"$f":"+'H Q 4'!S102","v":3},{"$f":"+'T Q 4'!S102","v":3},null,50,50,50,null,null,null,null,null,"","","",null,null,null,10,91,"",null,150.09100000000001,91,"",150.01]
[92,{"$f":"+REG!G102","v":""},0,0,0,150.09200000000001,50,50,50,null,{"$f":"+'G Q 4'!S103","v":3},{"$f":"+'H Q 4'!S103","v":3},{"$f":"+'T Q 4'!S103","v":3},null,50,50,50,null,null,null,null,null,"","","",null,null,null,9,92,"",null,150.09200000000001,92,"",150.00899999999999]
[93,{"$f":"+REG!G103","v":""},0,0,0,150.09299999999999,50,50,50,null,{"$f":"+'G Q 4'!S104","v":3},{"$f":"+'H Q 4'!S104","v":3},{"$f":"+'T Q 4'!S104","v":3},null,50,50,50,null,null,null,null,null,"","","",null,null,null,8,93,"",null,150.09299999999999,93,"",150.00800000000001]
[94,{"$f":"+REG!G104","v":""},0,0,0,150.09399999999999,50,50,50,null,{"$f":"+'G Q 4'!S105","v":3},{"$f":"+'H Q 4'!S105","v":3},{"$f":"+'T Q 4'!S105","v":3},null,50,50,50,null,null,null,null,null,"","","",null,null,null,7,94,"",null,150.09399999999999,94,"",150.00700000000001]
[95,{"$f":"+REG!G105","v":""},0,0,0,150.095,50,50,50,null,{"$f":"+'G Q 4'!S106","v":3},{"$f":"+'H Q 4'!S106","v":3},{"$f":"+'T Q 4'!S106","v":3},null,50,50,50,null,null,null,null,null,"","","",null,null,null,6,95,"",null,150.095,95,"",150.006]
[96,{"$f":"+REG!G106","v":""},0,0,0,150.096,50,50,50,null,{"$f":"+'G Q 4'!S107","v":3},{"$f":"+'H Q 4'!S107","v":3},{"$f":"+'T Q 4'!S107","v":3},null,50,50,50,null,null,null,null,null,"","","",null,null,null,5,96,"",null,150.096,96,"",150.005]
[97,{"$f":"+REG!G107","v":""},0,0,0,150.09700000000001,50,50,50,null,{"$f":"+'G Q 4'!S108","v":3},{"$f":"+'H Q 4'!S108","v":3},{"$f":"+'T Q 4'!S108","v":3},null,50,50,50,null,null,null,null,null,"","","",null,null,null,4,97,"",null,150.09700000000001,97,"",150.00399999999999]
[98,{"$f":"+REG!G108","v":""},0,0,0,150.09800000000001,50,50,50,null,{"$f":"+'G Q 4'!S109","v":3},{"$f":"+'H Q 4'!S109","v":3},{"$f":"+'T Q 4'!S109","v":3},null,50,50,50,null,null,null,null,null,"","","",null,null,null,3,98,"",null,150.09800000000001,98,"",150.00299999999999]
[null,null,null,null,null,null,null,null,null,null,{"$f":"MAX(K3:K100)","v":3},{"$f":"MAX(L3:L100)","v":3},{"$f":"MAX(M3:M100)","v":3},null,null,null,null,null,null,null,null,null,{"$f":"IF(Y101<>\"\",IF(Y100-Y101<1,AN100,AN101),\"\")","v":""}]

{"sheet":"G Q 1-2","index":4,"n_rows":111,"n_cols":45,"rows_kept":111,"cut":false,"hidden":false,"merged":[[0,41,0,42],[1,41,1,42],[4,1,4,2],[6,1,6,2],[5,1,5,2],[0,3,0,18],[1,3,1,18],[2,3,2,18],[9,2,10,2],[9,1,10,1],[7,1,7,2],[6,3,6,18],[7,3,7,18],[8,1,8,2],[9,3,9,8],[9,10,9,15],[9,16,10,16],[9,18,10,18],[9,20,10,20],[9,23,10,23],[6,44,7,44],[9,39,10,39],[6,41,6,43],[7,41,7,43],[9,43,10,43],[9,44,10,44],[9,41,10,41],[9,40,10,40],[9,27,10,27],[9,21,10,21],[9,29,10,29],[9,24,10,24],[9,25,10,25],[9,0,10,0],[9,42,10,42],[9,38,10,38],[9,19,10,19],[9,22,10,22],[9,30,10,30],[9,37,10,37],[9,17,10,17],[9,31,10,31],[9,26,10,26],[9,36,10,36],[9,28,10,28],[9,33,10,33],[9,35,10,35],[9,32,10,32],[9,34,10,34]]}
[null,null,null,{"$f":"CONTEST!B4","v":"Skate n Roll Polička  2022"}]
[null,null,null,{"$f":"CONTEST!B6","v":"13.8. - 14.8.2022"}]
[null,null,null,{"$f":"CONCATENATE(CONTEST!B8,\" / \",CONTEST!B16,\" / \",CONTEST!B13)","v":"GIANT SLALOM / Qualifications / TEEN 12-14"}]
[null,null,{"$f":"_xll.iPush(\"TEEN_Giant_Q\", \"WCH_SK8_2018\", 'G Q 1-2'!$A$5:$S$111, 'G Q 1-2'!$A$5:$S$111, 'G Q 1-2'!$A$5:$S$111, 1, TRUE)","v":{"$error":"#NAME?"}}]
[0.2,"secs penalty per hit cone"]
[7,"maximum hit cones before DQ"]
[2,"false start multiplication factor",null,"Under \"Raw Time,\" enter \"DQ\" or\"DNF\" for",null,null,null,null,null,null,null,null,null,null,null,null,null,null,null,null,null,null,null,null,null,null,null,null,null,null,null,null,null,null,null,null,null,null,null,null,null,"Advance Racers who DQ",null,null,"Y"]
[{"$f":"IF(ISERROR(0.1*AR12)=TRUE,\"\",ROUND(0.1*AR12,2))","v":3.72},"secs head-to-head DQ/DNR penalty",null,"\"Disqualified\" and \"DNR\" for \"Did Not Race.\"",null,null,null,null,null,null,null,null,null,null,null,null,null,null,null,null,null,null,null,null,null,null,null,null,null,null,null,null,null,null,null,null,null,null,null,null,null,"all Qualifying Runs? (Y/N)"]
[{"$f":"IF(ISERROR(0.1*AR12)=TRUE,\"\",ROUND(0.1*AR12,2))","v":3.72},"secs max head-to-head victory margin"]
[null,"START Number","Racer Name","Run 1",null,null,null,null,null,null,"Run 2",null,null,null,null,null,"Qual Rank (w/out DQs)","Best Time","Qualifying Position","Qual Rank (w/DQs sequenced)","Racer No. & Name","Best Time","Double DQ Place Factor","No. of Ties per Best Time","Tied-at Time","Tied-at Time Rank","Run 1 Time w/DQ Adjust","Run 2 Time w/DQ Adjust","Total Time w/DQ Adjust","Total Time Rank","Total Tie Place Factor","Tie 1 Total Time Rank","Tie 1 Place Factor","Tie 2 Total Time Rank","Tie 2 Place Factor","Tie 3 Total Time Rank","Tie 3 Place Factor","Placed Racer No. & Name","Withdrawal Place Factor","Double DQ Place Factor 2","Final Spot - Withdrawals","Qualifying Position",{"$f":"CONCATENATE(+CONTEST!B4,\"                                \",+CONTEST!B8,\"                                   \",\"RUN 1-2\",\"                                     \",\"  Racer No. & Name\")","v":"Skate n Roll Polička  2022                                GIANT SLALOM                                   RUN 1-2                                       Racer No. & Name"},"Best Time","Withdraw (W)"]
[null,null,null,"Raw Time","Cones","Reaction Time","False Start","Final Time","Run Rank",null,"Raw Time","Cones","Reaction Time","False Start","Final Time","Run Rank"]
[1,{"$f":"IF(REG!B11<>\"\",REG!B11,\"\")","v":""},{"$f":"IF(REG!C11<>\"\",REG!G11,\"\")","v":"Voves  Jindřich  [CZE] "},38.445,0,0.90800000000000003,null,{"$f":"IF(LEFT(D12:D111,1)=\"D\",\"-\",IF(E12:E111>A6,\"-\",IF(D12:D111>0,D12:D111+E12:E111*A5+G12:G111*A7,\"\")))","v":38.445},{"$f":"IF(H12:H111=\"\",\"\",IF(H12:H111=\"-\",\"\",RANK(H12:H111,H12:H111,1)))","v":2},null,37.204000000000001,0,4.0419999999999998,null,{"$f":"IF(LEFT(K12:K111,1)=\"D\",\"-\",IF(L12:L111>A6,\"-\",IF(K12:K111>0,K12:K111+L12:L111*A5+N12:N111*A7,\"\")))","v":37.204000000000001},{"$f":"IF(O12:O111=\"\",\"\",IF(O12:O111=\"-\",\"\",RANK(O12:O111,O12:O111,1)))","v":1},{"$f":"IF(R12:R111=\"\",\"\",IF(R12:R111=\"-\",\"\",RANK(R12:R111,R12:R111,1)))","v":1},{"$f":"IF(AND(ISBLANK(D12),ISBLANK(K12)),\"\",IF(AND(H12=\"-\",O12=\"-\"),\"-\",IF(AND(H12=\"-\",ISBLANK(K12)),\"-\",MIN(H12,O12))))","v":37.204000000000001},{"$f":"IF(R12:R111=\"\",\"\",VLOOKUP(U12:U111,AL12:AP111,5,FALSE))","v":1},{"$f":"IF(R12:R111=\"\",\"\",IF(R12:R111=\"-\",COUNT(Q12:Q111)+W12:W111,Q12:Q111+AE12:AE111+AG12:AG111+AI12:AI111+AK12:AK111))","v":1},{"$f":"IF(B12:B111 =\"\",\"\",B12:B111 & \" \")&C12:C111","v":"Voves  Jindřich  [CZE] "},{"$f":"R12:R111","v":37.204000000000001},{"$f":"IF(R12=\"\",\"\",COUNTIF(R12:R12,\"-\"))","v":0},{"$f":"IF(Q12:Q111=\"\",\"\",COUNTIF(Q12:Q111,Q12:Q111)-1)","v":0},{"$f":"IF(R12:R111=\"-\",\"\",IF(X12:X111=0,\"\",R12:R111))","v":""},{"$f":"IF(Y12:Y111=\"\",\"\",RANK(Y12:Y111,Y12:Y111,1))","v":""},{"$f":"IF(X12:X111=\"\",\"\",IF(X12:X111=0,\"\",IF(LEFT(H12:H111,1)=\"-\",\"199\",H12:H111)))","v":""},{"$f":"IF(X12:X111=\"\",\"\",IF(X12:X111=0,\"\",IF(LEFT(O12:O111,1)=\"-\",\"199\",O12:O111)))","v":""},{"$f":"IF(ISERROR(AA12:AA111+AB12:AB111)=TRUE,AA12:AA111,AA12:AA111+AB12:AB111)","v":""},{"$f":"IF(R12:R111=\"\",\"\",IF(X12:X111=0,\"0\",IF(ISERROR(RANK(AC12:AC111,AC12:AC111,1))=TRUE,\"0\",RANK(AC12:AC111,AC12:AC111,1))))","v":"0"},0,{"$f":"IF(ISERROR(X12:X111)=TRUE,\"\",IF(Z12:Z111=1,AD12:AD111,\"\"))","v":""},{"$f":"IF(R12:R111=\"\",\"\",IF(AF12:AF111=\"\",\"0\",RANK(AF12:AF111,AF12:AF111,1)-1))","v":"0"},{"$f":"IF(ISERROR(X12:X111)=TRUE,\"\",IF(Z12:Z111=COUNT(AF12:AF111)+1,AD12:AD111,\"\"))","v":""},{"$f":"IF(R12:R111=\"\",\"\",IF(AH12:AH111=\"\",\"0\",RANK(AH12:AH111,AH12:AH111,1)-1))","v":"0"},{"$f":"IF(ISERROR(X12:X111)=TRUE,\"\",IF(Z12:Z111=COUNT(AF12:AF111)+COUNT(AH12:AH111)+1,AD12:AD111,\"\"))","v":""},{"$f":"IF(R12:R111=\"\",\"\",IF(AJ12:AJ111=\"\",\"0\",RANK(AJ12:AJ111,AJ12:AJ111,1)-1))","v":"0"},{"$f":"AQ12:AQ111","v":"Voves  Jindřich  [CZE] "},{"$f":"COUNTIF(AS12:AS12,\"W\")","v":0},{"$f":"IF(AR12=\"\",\"\",COUNTIF(AR12:AR12,\"-\"))","v":0},{"$f":"IF(AQ12:AQ111=\"BYE\",\"\",IF(AS12:AS111=\"W\",\"\",IF(AS7=\"N\",IF(AP12:AP111<=COUNT(Q12:Q111),AP12:AP111-AM12:AM111,\"\"),IF(AP12:AP111<=COUNT(Q12:Q111),AP12:AP111-AM12:AM111,AP12:AP111-AM12:AM111+AN12:AN111-1))))","v":1},{"$f":"IF(R12:R111=\"\",\"\",IF(AP11:AP110+1<=COUNT(Q12:Q111),AP11:AP110+1,COUNT(Q12:Q111)+1))","v":1},{"$f":"IF(R12:R111=\"\",\"BYE\",IF(ISERROR(VLOOKUP(A12:A111,T12:U111,2,FALSE))=TRUE,\"\",VLOOKUP(A12:A111,T12:U111,2,FALSE)))","v":"Voves  Jindřich  [CZE] "},{"$f":"IF(C12:C111=\"BYE\", \"\",IF(A12:A111=\"\",\"\",IF(ISERROR(VLOOKUP(A12:A111,T12:V111,3,FALSE))=TRUE,\"\",VLOOKUP(A12:A111,T12:V111,3,FALSE))))","v":37.204000000000001}]
[2,{"$f":"IF(REG!B12<>\"\",REG!B12,\"\")","v":""},{"$f":"IF(REG!C12<>\"\",REG!G12,\"\")","v":"Rezková  Anna  [CZE] "},38.090000000000003,0,0.22700000000000001,null,38.090000000000003,1,null,38.728999999999999,1,4.6680000000000001,null,38.929000000000002,2,2,38.090000000000003,2,2,"Rezková  Anna  [CZE] ",38.090000000000003,{"$f":"IF(R13=\"\",\"\",COUNTIF(R12:R13,\"-\"))","v":0},0,"","","","","","0",{"$f":"IF(R13=\"\",\"\",IF(AD13=\"0\",\"0\",COUNTIF(AD12:AD12,AD13)))","v":"0"},"","0","","0","","0","Rezková  Anna  [CZE] ",{"$f":"COUNTIF(AS12:AS13,\"W\")","v":0},{"$f":"IF(AR13=\"\",\"\",COUNTIF(AR12:AR13,\"-\"))","v":0},2,2,"Rezková  Anna  [CZE] ",38.090000000000003]
[3,{"$f":"IF(REG!B13<>\"\",REG!B13,\"\")","v":""},{"$f":"IF(REG!C13<>\"\",REG!G13,\"\")","v":""},null,null,null,null,"","",null,null,null,null,null,"","","","","","","","",{"$f":"IF(R14=\"\",\"\",COUNTIF(R12:R14,\"-\"))","v":""},"","","","","","","",{"$f":"IF(R14=\"\",\"\",IF(AD14=\"0\",\"0\",COUNTIF(AD12:AD13,AD14)))","v":""},"","","","","","","BYE",{"$f":"COUNTIF(AS12:AS14,\"W\")","v":0},{"$f":"IF(AR14=\"\",\"\",COUNTIF(AR12:AR14,\"-\"))","v":""},"","","BYE",""]
[4,{"$f":"IF(REG!B14<>\"\",REG!B14,\"\")","v":""},{"$f":"IF(REG!C14<>\"\",REG!G14,\"\")","v":""},null,null,null,null,"","",null,null,null,null,null,"","","","","","","","",{"$f":"IF(R15=\"\",\"\",COUNTIF(R12:R15,\"-\"))","v":""},"","","","","","","",{"$f":"IF(R15=\"\",\"\",IF(AD15=\"0\",\"0\",COUNTIF(AD12:AD14,AD15)))","v":""},"","","","","","","BYE",{"$f":"COUNTIF(AS12:AS15,\"W\")","v":0},{"$f":"IF(AR15=\"\",\"\",COUNTIF(AR12:AR15,\"-\"))","v":""},"","","BYE",""]
[5,{"$f":"IF(REG!B15<>\"\",REG!B15,\"\")","v":""},{"$f":"IF(REG!C15<>\"\",REG!G15,\"\")","v":""},null,null,null,null,"","",null,null,null,null,null,"","","","","","","","",{"$f":"IF(R16=\"\",\"\",COUNTIF(R12:R16,\"-\"))","v":""},"","","","","","","",{"$f":"IF(R16=\"\",\"\",IF(AD16=\"0\",\"0\",COUNTIF(AD12:AD15,AD16)))","v":""},"","","","","","","BYE",{"$f":"COUNTIF(AS12:AS16,\"W\")","v":0},{"$f":"IF(AR16=\"\",\"\",COUNTIF(AR12:AR16,\"-\"))","v":""},"","","BYE",""]
[6,{"$f":"IF(REG!B16<>\"\",REG!B16,\"\")","v":""},{"$f":"IF(REG!C16<>\"\",REG!G16,\"\")","v":""},null,null,null,null,"","",null,null,null,null,null,"","","","","","","","",{"$f":"IF(R17=\"\",\"\",COUNTIF(R12:R17,\"-\"))","v":""},"","","","","","","",{"$f":"IF(R17=\"\",\"\",IF(AD17=\"0\",\"0\",COUNTIF(AD12:AD16,AD17)))","v":""},"","","","","","","BYE",{"$f":"COUNTIF(AS12:AS17,\"W\")","v":0},{"$f":"IF(AR17=\"\",\"\",COUNTIF(AR12:AR17,\"-\"))","v":""},"","","BYE",""]
[7,{"$f":"IF(REG!B17<>\"\",REG!B17,\"\")","v":""},{"$f":"IF(REG!C17<>\"\",REG!G17,\"\")","v":""},null,null,null,null,"","",null,null,null,null,null,"","","","","","","","",{"$f":"IF(R18=\"\",\"\",COUNTIF(R12:R18,\"-\"))","v":""},"","","","","","","",{"$f":"IF(R18=\"\",\"\",IF(R18=\"\",\"\",IF(AD18=\"0\",\"0\",COUNTIF(AD12:AD17,AD18))))","v":""},"","","","","","","BYE",{"$f":"COUNTIF(AS12:AS18,\"W\")","v":0},{"$f":"IF(AR18=\"\",\"\",COUNTIF(AR12:AR18,\"-\"))","v":""},"","","BYE",""]
[8,{"$f":"IF(REG!B18<>\"\",REG!B18,\"\")","v":""},{"$f":"IF(REG!C18<>\"\",REG!G18,\"\")","v":""},null,null,null,null,"","",null,null,null,null,null,"","","","","","","","",{"$f":"IF(R19=\"\",\"\",COUNTIF(R12:R19,\"-\"))","v":""},"","","","","","","",{"$f":"IF(R19=\"\",\"\",IF(R19=\"\",\"\",IF(AD19=\"0\",\"0\",COUNTIF(AD12:AD18,AD19))))","v":""},"","","","","","","BYE",{"$f":"COUNTIF(AS12:AS19,\"W\")","v":0},{"$f":"IF(AR19=\"\",\"\",COUNTIF(AR12:AR19,\"-\"))","v":""},"","","BYE",""]
[9,{"$f":"IF(REG!B19<>\"\",REG!B19,\"\")","v":""},{"$f":"IF(REG!C19<>\"\",REG!G19,\"\")","v":""},null,null,null,null,"","",null,null,null,null,null,"","","","","","","","",{"$f":"IF(R20=\"\",\"\",COUNTIF(R12:R20,\"-\"))","v":""},"","","","","","","",{"$f":"IF(R20=\"\",\"\",IF(R20=\"\",\"\",IF(AD20=\"0\",\"0\",COUNTIF(AD12:AD19,AD20))))","v":""},"","","","","","","BYE",{"$f":"COUNTIF(AS12:AS20,\"W\")","v":0},{"$f":"IF(AR20=\"\",\"\",COUNTIF(AR12:AR20,\"-\"))","v":""},"","","BYE",""]
[10,{"$f":"IF(REG!B20<>\"\",REG!B20,\"\")","v":""},{"$f":"IF(REG!C20<>\"\",REG!G20,\"\")","v":""},null,null,null,null,"","",null,null,null,null,null,"","","","","","","","",{"$f":"IF(R21=\"\",\"\",COUNTIF(R12:R21,\"-\"))","v":""},"","","","","","","",{"$f":"IF(R21=\"\",\"\",IF(AD21=\"0\",\"0\",COUNTIF(AD12:AD20,AD21)))","v":""},"","","","","","","BYE",{"$f":"COUNTIF(AS12:AS21,\"W\")","v":0},{"$f":"IF(AR21=\"\",\"\",COUNTIF(AR12:AR21,\"-\"))","v":""},"","","BYE",""]
[11,{"$f":"IF(REG!B21<>\"\",REG!B21,\"\")","v":""},{"$f":"IF(REG!C21<>\"\",REG!G21,\"\")","v":""},null,null,null,null,"","",null,null,null,null,null,"","","","","","","","",{"$f":"IF(R22=\"\",\"\",COUNTIF(R12:R22,\"-\"))","v":""},"","","","","","","",{"$f":"IF(R22=\"\",\"\",IF(AD22=\"0\",\"0\",COUNTIF(AD1:AD21,AD22)))","v":""},"","","","","","","BYE",{"$f":"COUNTIF(AS12:AS22,\"W\")","v":0},{"$f":"IF(AR22=\"\",\"\",COUNTIF(AR12:AR22,\"-\"))","v":""},"","","BYE",""]
[12,{"$f":"IF(REG!B22<>\"\",REG!B22,\"\")","v":""},{"$f":"IF(REG!C22<>\"\",REG!G22,\"\")","v":""},null,null,null,null,"","",null,null,null,null,null,"","","","","","","","",{"$f":"IF(R23=\"\",\"\",COUNTIF(R12:R23,\"-\"))","v":""},"","","","","","","",{"$f":"IF(R23=\"\",\"\",IF(AD23=\"0\",\"0\",COUNTIF(AD12:AD22,AD23)))","v":""},"","","","","","","BYE",{"$f":"COUNTIF(AS12:AS23,\"W\")","v":0},{"$f":"IF(AR23=\"\",\"\",COUNTIF(AR12:AR23,\"-\"))","v":""},"","","BYE",""]
[13,{"$f":"IF(REG!B23<>\"\",REG!B23,\"\")","v":""},{"$f":"IF(REG!C23<>\"\",REG!G23,\"\")","v":""},null,null,null,null,"","",null,null,null,null,null,"","","","","","","","",{"$f":"IF(R24=\"\",\"\",COUNTIF(R12:R24,\"-\"))","v":""},"","","","","","","",{"$f":"IF(R24=\"\",\"\",IF(AD24=\"0\",\"0\",COUNTIF(AD12:AD23,AD24)))","v":""},"","","","","","","BYE",{"$f":"COUNTIF(AS12:AS24,\"W\")","v":0},{"$f":"IF(AR24=\"\",\"\",COUNTIF(AR12:AR24,\"-\"))","v":""},"","","BYE",""]
[14,{"$f":"IF(REG!B24<>\"\",REG!B24,\"\")","v":""},{"$f":"IF(REG!C24<>\"\",REG!G24,\"\")","v":""},null,null,null,null,"","",null,null,null,null,null,"","","","","","","","",{"$f":"IF(R25=\"\",\"\",COUNTIF(R12:R25,\"-\"))","v":""},"","","","","","","",{"$f":"IF(R25=\"\",\"\",IF(AD25=\"0\",\"0\",COUNTIF(AD12:AD24,AD25)))","v":""},"","","","","","","BYE",{"$f":"COUNTIF(AS12:AS25,\"W\")","v":0},{"$f":"IF(AR25=\"\",\"\",COUNTIF(AR12:AR25,\"-\"))","v":""},"","","BYE",""]
[15,{"$f":"IF(REG!B25<>\"\",REG!B25,\"\")","v":""},{"$f":"IF(REG!C25<>\"\",REG!G25,\"\")","v":""},null,null,null,null,"","",null,null,null,null,null,"","","","","","","","",{"$f":"IF(R26=\"\",\"\",COUNTIF(R12:R26,\"-\"))","v":""},"","","","","","","",{"$f":"IF(R26=\"\",\"\",IF(AD26=\"0\",\"0\",COUNTIF(AD12:AD25,AD26)))","v":""},"","","","","","","BYE",{"$f":"COUNTIF(AS12:AS26,\"W\")","v":0},{"$f":"IF(AR26=\"\",\"\",COUNTIF(AR12:AR26,\"-\"))","v":""},"","","BYE",""]
[16,{"$f":"IF(REG!B26<>\"\",REG!B26,\"\")","v":""},{"$f":"IF(REG!C26<>\"\",REG!G26,\"\")","v":""},null,null,null,null,"","",null,null,null,null,null,"","","","","","","","",{"$f":"IF(R27=\"\",\"\",COUNTIF(R12:R27,\"-\"))","v":""},"","","","","","","",{"$f":"IF(R27=\"\",\"\",IF(AD27=\"0\",\"0\",COUNTIF(AD12:AD26,AD27)))","v":""},"","","","","","","BYE",{"$f":"COUNTIF(AS12:AS27,\"W\")","v":0},{"$f":"IF(AR27=\"\",\"\",COUNTIF(AR12:AR27,\"-\"))","v":""},"","","BYE",""]
[17,{"$f":"IF(REG!B27<>\"\",REG!B27,\"\")","v":""},{"$f":"IF(REG!C27<>\"\",REG!G27,\"\")","v":""},null,null,null,null,"","",null,null,null,null,null,"","","","","","","","",{"$f":"IF(R28=\"\",\"\",COUNTIF(R12:R28,\"-\"))","v":""},"","","","","","","",{"$f":"IF(R28=\"\",\"\",IF(AD28=\"0\",\"0\",COUNTIF(AD12:AD27,AD28)))","v":""},"","","","","","","BYE",{"$f":"COUNTIF(AS12:AS28,\"W\")","v":0},{"$f":"IF(AR28=\"\",\"\",COUNTIF(AR12:AR28,\"-\"))","v":""},"","","BYE",""]
[18,{"$f":"IF(REG!B28<>\"\",REG!B28,\"\")","v":""},{"$f":"IF(REG!C28<>\"\",REG!G28,\"\")","v":""},null,null,null,null,"","",null,null,null,null,null,"","","","","","","","",{"$f":"IF(R29=\"\",\"\",COUNTIF(R12:R29,\"-\"))","v":""},"","","","","","","",{"$f":"IF(R29=\"\",\"\",IF(AD29=\"0\",\"0\",COUNTIF(AD12:AD28,AD29)))","v":""},"","","","","","","BYE",{"$f":"COUNTIF(AS12:AS29,\"W\")","v":0},{"$f":"IF(AR29=\"\",\"\",COUNTIF(AR12:AR29,\"-\"))","v":""},"","","BYE",""]
[19,{"$f":"IF(REG!B29<>\"\",REG!B29,\"\")","v":""},{"$f":"IF(REG!C29<>\"\",REG!G29,\"\")","v":""},null,null,null,null,"","",null,null,null,null,null,"","","","","","","","",{"$f":"IF(R30=\"\",\"\",COUNTIF(R12:R30,\"-\"))","v":""},"","","","","","","",{"$f":"IF(R30=\"\",\"\",IF(AD30=\"0\",\"0\",COUNTIF(AD12:AD29,AD30)))","v":""},"","","","","","","BYE",{"$f":"COUNTIF(AS12:AS30,\"W\")","v":0},{"$f":"IF(AR30=\"\",\"\",COUNTIF(AR12:AR30,\"-\"))","v":""},"","","BYE",""]
[20,{"$f":"IF(REG!B30<>\"\",REG!B30,\"\")","v":""},{"$f":"IF(REG!C30<>\"\",REG!G30,\"\")","v":""},null,null,null,null,"","",null,null,null,null,null,"","","","","","","","",{"$f":"IF(R31=\"\",\"\",COUNTIF(R12:R31,\"-\"))","v":""},"","","","","","","",{"$f":"IF(R31=\"\",\"\",IF(AD31=\"0\",\"0\",COUNTIF(AD12:AD30,AD31)))","v":""},"","","","","","","BYE",{"$f":"COUNTIF(AS12:AS31,\"W\")","v":0},{"$f":"IF(AR31=\"\",\"\",COUNTIF(AR12:AR31,\"-\"))","v":""},"","","BYE",""]
[21,{"$f":"IF(REG!B31<>\"\",REG!B31,\"\")","v":""},{"$f":"IF(REG!C31<>\"\",REG!G31,\"\")","v":""},null,null,null,null,"","",null,null,null,null,null,"","","","","","","","",{"$f":"IF(R32=\"\",\"\",COUNTIF(R12:R32,\"-\"))","v":""},"","","","","","","",{"$f":"IF(R32=\"\",\"\",IF(AD32=\"0\",\"0\",COUNTIF(AD12:AD31,AD32)))","v":""},"","","","","","","BYE",{"$f":"COUNTIF(AS12:AS32,\"W\")","v":0},{"$f":"IF(AR32=\"\",\"\",COUNTIF(AR12:AR32,\"-\"))","v":""},"","","BYE",""]
[22,{"$f":"IF(REG!B32<>\"\",REG!B32,\"\")","v":""},{"$f":"IF(REG!C32<>\"\",REG!G32,\"\")","v":""},null,null,null,null,"","",null,null,null,null,null,"","","","","","","","",{"$f":"IF(R33=\"\",\"\",COUNTIF(R12:R33,\"-\"))","v":""},"","","","","","","",{"$f":"IF(R33=\"\",\"\",IF(AD33=\"0\",\"0\",COUNTIF(AD12:AD32,AD33)))","v":""},"","","","","","","BYE",{"$f":"COUNTIF(AS12:AS33,\"W\")","v":0},{"$f":"IF(AR33=\"\",\"\",COUNTIF(AR12:AR33,\"-\"))","v":""},"","","BYE",""]
[23,{"$f":"IF(REG!B33<>\"\",REG!B33,\"\")","v":""},{"$f":"IF(REG!C33<>\"\",REG!G33,\"\")","v":""},null,null,null,null,"","",null,null,null,null,null,"","","","","","","","",{"$f":"IF(R34=\"\",\"\",COUNTIF(R12:R34,\"-\"))","v":""},"","","","","","","",{"$f":"IF(R34=\"\",\"\",IF(AD34=\"0\",\"0\",COUNTIF(AD12:AD33,AD34)))","v":""},"","","","","","","BYE",{"$f":"COUNTIF(AS12:AS34,\"W\")","v":0},{"$f":"IF(AR34=\"\",\"\",COUNTIF(AR12:AR34,\"-\"))","v":""},"","","BYE",""]
[24,{"$f":"IF(REG!B34<>\"\",REG!B34,\"\")","v":""},{"$f":"IF(REG!C34<>\"\",REG!G34,\"\")","v":""},null,null,null,null,"","",null,null,null,null,null,"","","","","","","","",{"$f":"IF(R35=\"\",\"\",COUNTIF(R12:R35,\"-\"))","v":""},"","","","","","","",{"$f":"IF(R35=\"\",\"\",IF(AD35=\"0\",\"0\",COUNTIF(AD12:AD34,AD35)))","v":""},"","","","","","","BYE",{"$f":"COUNTIF(AS12:AS35,\"W\")","v":0},{"$f":"IF(AR35=\"\",\"\",COUNTIF(AR12:AR35,\"-\"))","v":""},"","","BYE",""]
[25,{"$f":"IF(REG!B35<>\"\",REG!B35,\"\")","v":""},{"$f":"IF(REG!C35<>\"\",REG!G35,\"\")","v":""},null,null,null,null,"","",null,null,null,null,null,"","","","","","","","",{"$f":"IF(R36=\"\",\"\",COUNTIF(R12:R36,\"-\"))","v":""},"","","","","","","",{"$f":"IF(R36=\"\",\"\",IF(AD36=\"0\",\"0\",COUNTIF(AD12:AD35,AD36)))","v":""},"","","","","","","BYE",{"$f":"COUNTIF(AS12:AS36,\"W\")","v":0},{"$f":"IF(AR36=\"\",\"\",COUNTIF(AR12:AR36,\"-\"))","v":""},"","","BYE",""]
[26,{"$f":"IF(REG!B36<>\"\",REG!B36,\"\")","v":""},{"$f":"IF(REG!C36<>\"\",REG!G36,\"\")","v":""},null,null,null,null,"","",null,null,null,null,null,"","","","","","","","",{"$f":"IF(R37=\"\",\"\",COUNTIF(R12:R37,\"-\"))","v":""},"","","","","","","",{"$f":"IF(R37=\"\",\"\",IF(AD37=\"0\",\"0\",COUNTIF(AD12:AD36,AD37)))","v":""},"","","","","","","BYE",{"$f":"COUNTIF(AS12:AS37,\"W\")","v":0},{"$f":"IF(AR37=\"\",\"\",COUNTIF(AR12:AR37,\"-\"))","v":""},"","","BYE",""]
[27,{"$f":"IF(REG!B37<>\"\",REG!B37,\"\")","v":""},{"$f":"IF(REG!C37<>\"\",REG!G37,\"\")","v":""},null,null,null,null,"","",null,null,null,null,null,"","","","","","","","",{"$f":"IF(R38=\"\",\"\",COUNTIF(R12:R38,\"-\"))","v":""},"","","","","","","",{"$f":"IF(R38=\"\",\"\",IF(AD38=\"0\",\"0\",COUNTIF(AD12:AD37,AD38)))","v":""},"","","","","","","BYE",{"$f":"COUNTIF(AS12:AS38,\"W\")","v":0},{"$f":"IF(AR38=\"\",\"\",COUNTIF(AR12:AR38,\"-\"))","v":""},"","","BYE",""]
[28,{"$f":"IF(REG!B38<>\"\",REG!B38,\"\")","v":""},{"$f":"IF(REG!C38<>\"\",REG!G38,\"\")","v":""},null,null,null,null,"","",null,null,null,null,null,"","","","","","","","",{"$f":"IF(R39=\"\",\"\",COUNTIF(R12:R39,\"-\"))","v":""},"","","","","","","",{"$f":"IF(R39=\"\",\"\",IF(AD39=\"0\",\"0\",COUNTIF(AD12:AD38,AD39)))","v":""},"","","","","","","BYE",{"$f":"COUNTIF(AS12:AS39,\"W\")","v":0},{"$f":"IF(AR39=\"\",\"\",COUNTIF(AR12:AR39,\"-\"))","v":""},"","","BYE",""]
[29,{"$f":"IF(REG!B39<>\"\",REG!B39,\"\")","v":""},{"$f":"IF(REG!C39<>\"\",REG!G39,\"\")","v":""},null,null,null,null,"","",null,null,null,null,null,"","","","","","","","",{"$f":"IF(R40=\"\",\"\",COUNTIF(R12:R40,\"-\"))","v":""},"","","","","","","",{"$f":"IF(R40=\"\",\"\",IF(AD40=\"0\",\"0\",COUNTIF(AD12:AD39,AD40)))","v":""},"","","","","","","BYE",{"$f":"COUNTIF(AS12:AS40,\"W\")","v":0},{"$f":"IF(AR40=\"\",\"\",COUNTIF(AR12:AR40,\"-\"))","v":""},"","","BYE",""]
[30,{"$f":"IF(REG!B40<>\"\",REG!B40,\"\")","v":""},{"$f":"IF(REG!C40<>\"\",REG!G40,\"\")","v":""},null,null,null,null,"","",null,null,null,null,null,"","","","","","","","",{"$f":"IF(R41=\"\",\"\",COUNTIF(R12:R41,\"-\"))","v":""},"","","","","","","",{"$f":"IF(R41=\"\",\"\",IF(AD41=\"0\",\"0\",COUNTIF(AD12:AD40,AD41)))","v":""},"","","","","","","BYE",{"$f":"COUNTIF(AS12:AS41,\"W\")","v":0},{"$f":"IF(AR41=\"\",\"\",COUNTIF(AR12:AR41,\"-\"))","v":""},"","","BYE",""]
[31,{"$f":"IF(REG!B41<>\"\",REG!B41,\"\")","v":""},{"$f":"IF(REG!C41<>\"\",REG!G41,\"\")","v":""},null,null,null,null,"","",null,null,null,null,null,"","","","","","","","",{"$f":"IF(R42=\"\",\"\",COUNTIF(R12:R42,\"-\"))","v":""},"","","","","","","",{"$f":"IF(R42=\"\",\"\",IF(AD42=\"0\",\"0\",COUNTIF(AD12:AD41,AD42)))","v":""},"","","","","","","BYE",{"$f":"COUNTIF(AS12:AS42,\"W\")","v":0},{"$f":"IF(AR42=\"\",\"\",COUNTIF(AR12:AR42,\"-\"))","v":""},"","","BYE",""]
[32,{"$f":"IF(REG!B42<>\"\",REG!B42,\"\")","v":""},{"$f":"IF(REG!C42<>\"\",REG!G42,\"\")","v":""},null,null,null,null,"","",null,null,null,null,null,"","","","","","","","",{"$f":"IF(R43=\"\",\"\",COUNTIF(R12:R43,\"-\"))","v":""},"","","","","","","",{"$f":"IF(R43=\"\",\"\",IF(AD43=\"0\",\"0\",COUNTIF(AD12:AD42,AD43)))","v":""},"","","","","","","BYE",{"$f":"COUNTIF(AS12:AS43,\"W\")","v":0},{"$f":"IF(AR43=\"\",\"\",COUNTIF(AR12:AR43,\"-\"))","v":""},"","","BYE",""]
[33,{"$f":"IF(REG!B43<>\"\",REG!B43,\"\")","v":""},{"$f":"IF(REG!C43<>\"\",REG!G43,\"\")","v":""},null,null,null,null,"","",null,null,null,null,null,"","","","","","","","",{"$f":"IF(R44=\"\",\"\",COUNTIF(R12:R44,\"-\"))","v":""},"","","","","","","",{"$f":"IF(R44=\"\",\"\",IF(AD44=\"0\",\"0\",COUNTIF(AD12:AD43,AD44)))","v":""},"","","","","","","BYE",{"$f":"COUNTIF(AS12:AS44,\"W\")","v":0},{"$f":"IF(AR44=\"\",\"\",COUNTIF(AR12:AR44,\"-\"))","v":""},"","","BYE",""]
[34,{"$f":"IF(REG!B44<>\"\",REG!B44,\"\")","v":""},{"$f":"IF(REG!C44<>\"\",REG!G44,\"\")","v":""},null,null,null,null,"","",null,null,null,null,null,"","","","","","","","",{"$f":"IF(R45=\"\",\"\",COUNTIF(R12:R45,\"-\"))","v":""},"","","","","","","",{"$f":"IF(R45=\"\",\"\",IF(AD45=\"0\",\"0\",COUNTIF(AD12:AD44,AD45)))","v":""},"","","","","","","BYE",{"$f":"COUNTIF(AS12:AS45,\"W\")","v":0},{"$f":"IF(AR45=\"\",\"\",COUNTIF(AR12:AR45,\"-\"))","v":""},"","","BYE",""]
[35,{"$f":"IF(REG!B45<>\"\",REG!B45,\"\")","v":""},{"$f":"IF(REG!C45<>\"\",REG!G45,\"\")","v":""},null,null,null,null,"","",null,null,null,null,null,"","","","","","","","",{"$f":"IF(R46=\"\",\"\",COUNTIF(R12:R46,\"-\"))","v":""},"","","","","","","",{"$f":"IF(R46=\"\",\"\",IF(AD46=\"0\",\"0\",COUNTIF(AD12:AD45,AD46)))","v":""},"","","","","","","BYE",{"$f":"COUNTIF(AS12:AS46,\"W\")","v":0},{"$f":"IF(AR46=\"\",\"\",COUNTIF(AR12:AR46,\"-\"))","v":""},"","","BYE",""]
[36,{"$f":"IF(REG!B46<>\"\",REG!B46,\"\")","v":""},{"$f":"IF(REG!C46<>\"\",REG!G46,\"\")","v":""},null,null,null,null,"","",null,null,null,null,null,"","","","","","","","",{"$f":"IF(R47=\"\",\"\",COUNTIF(R12:R47,\"-\"))","v":""},"","","","","","","",{"$f":"IF(R47=\"\",\"\",IF(AD47=\"0\",\"0\",COUNTIF(AD12:AD46,AD47)))","v":""},"","","","","","","BYE",{"$f":"COUNTIF(AS12:AS47,\"W\")","v":0},{"$f":"IF(AR47=\"\",\"\",COUNTIF(AR12:AR47,\"-\"))","v":""},"","","BYE",""]
[37,{"$f":"IF(REG!B47<>\"\",REG!B47,\"\")","v":""},{"$f":"IF(REG!C47<>\"\",REG!G47,\"\")","v":""},null,null,null,null,"","",null,null,null,null,null,"","","","","","","","",{"$f":"IF(R48=\"\",\"\",COUNTIF(R12:R48,\"-\"))","v":""},"","","","","","","",{"$f":"IF(R48=\"\",\"\",IF(AD48=\"0\",\"0\",COUNTIF(AD12:AD47,AD48)))","v":""},"","","","","","","BYE",{"$f":"COUNTIF(AS12:AS48,\"W\")","v":0},{"$f":"IF(AR48=\"\",\"\",COUNTIF(AR12:AR48,\"-\"))","v":""},"","","BYE",""]
[38,{"$f":"IF(REG!B48<>\"\",REG!B48,\"\")","v":""},{"$f":"IF(REG!C48<>\"\",REG!G48,\"\")","v":""},null,null,null,null,"","",null,null,null,null,null,"","","","","","","","",{"$f":"IF(R49=\"\",\"\",COUNTIF(R12:R49,\"-\"))","v":""},"","","","","","","",{"$f":"IF(R49=\"\",\"\",IF(AD49=\"0\",\"0\",COUNTIF(AD12:AD48,AD49)))","v":""},"","","","","","","BYE",{"$f":"COUNTIF(AS12:AS49,\"W\")","v":0},{"$f":"IF(AR49=\"\",\"\",COUNTIF(AR12:AR49,\"-\"))","v":""},"","","BYE",""]
[39,{"$f":"IF(REG!B49<>\"\",REG!B49,\"\")","v":""},{"$f":"IF(REG!C49<>\"\",REG!G49,\"\")","v":""},null,null,null,null,"","",null,null,null,null,null,"","","","","","","","",{"$f":"IF(R50=\"\",\"\",COUNTIF(R12:R50,\"-\"))","v":""},"","","","","","","",{"$f":"IF(R50=\"\",\"\",IF(AD50=\"0\",\"0\",COUNTIF(AD12:AD49,AD50)))","v":""},"","","","","","","BYE",{"$f":"COUNTIF(AS12:AS50,\"W\")","v":0},{"$f":"IF(AR50=\"\",\"\",COUNTIF(AR12:AR50,\"-\"))","v":""},"","","BYE",""]
[40,{"$f":"IF(REG!B50<>\"\",REG!B50,\"\")","v":""},{"$f":"IF(REG!C50<>\"\",REG!G50,\"\")","v":""},null,null,null,null,"","",null,null,null,null,null,"","","","","","","","",{"$f":"IF(R51=\"\",\"\",COUNTIF(R12:R51,\"-\"))","v":""},"","","","","","","",{"$f":"IF(R51=\"\",\"\",IF(AD51=\"0\",\"0\",COUNTIF(AD12:AD50,AD51)))","v":""},"","","","","","","BYE",{"$f":"COUNTIF(AS12:AS51,\"W\")","v":0},{"$f":"IF(AR51=\"\",\"\",COUNTIF(AR12:AR51,\"-\"))","v":""},"","","BYE",""]
[41,{"$f":"IF(REG!B51<>\"\",REG!B51,\"\")","v":""},{"$f":"IF(REG!C51<>\"\",REG!G51,\"\")","v":""},null,null,null,null,"","",null,null,null,null,null,"","","","","","","","",{"$f":"IF(R52=\"\",\"\",COUNTIF(R12:R52,\"-\"))","v":""},"","","","","","","",{"$f":"IF(R52=\"\",\"\",IF(AD52=\"0\",\"0\",COUNTIF(AD12:AD51,AD52)))","v":""},"","","","","","","BYE",{"$f":"COUNTIF(AS12:AS52,\"W\")","v":0},{"$f":"IF(AR52=\"\",\"\",COUNTIF(AR12:AR52,\"-\"))","v":""},"","","BYE",""]
[42,{"$f":"IF(REG!B52<>\"\",REG!B52,\"\")","v":""},{"$f":"IF(REG!C52<>\"\",REG!G52,\"\")","v":""},null,null,null,null,"","",null,null,null,null,null,"","","","","","","","",{"$f":"IF(R53=\"\",\"\",COUNTIF(R12:R53,\"-\"))","v":""},"","","","","","","",{"$f":"IF(R53=\"\",\"\",IF(AD53=\"0\",\"0\",COUNTIF(AD12:AD52,AD53)))","v":""},"","","","","","","BYE",{"$f":"COUNTIF(AS12:AS53,\"W\")","v":0},{"$f":"IF(AR53=\"\",\"\",COUNTIF(AR12:AR53,\"-\"))","v":""},"","","BYE",""]
[43,{"$f":"IF(REG!B53<>\"\",REG!B53,\"\")","v":""},{"$f":"IF(REG!C53<>\"\",REG!G53,\"\")","v":""},null,null,null,null,"","",null,null,null,null,null,"","","","","","","","",{"$f":"IF(R54=\"\",\"\",COUNTIF(R12:R54,\"-\"))","v":""},"","","","","","","",{"$f":"IF(R54=\"\",\"\",IF(AD54=\"0\",\"0\",COUNTIF(AD12:AD53,AD54)))","v":""},"","","","","","","BYE",{"$f":"COUNTIF(AS12:AS54,\"W\")","v":0},{"$f":"IF(AR54=\"\",\"\",COUNTIF(AR12:AR54,\"-\"))","v":""},"","","BYE",""]
[44,{"$f":"IF(REG!B54<>\"\",REG!B54,\"\")","v":""},{"$f":"IF(REG!C54<>\"\",REG!G54,\"\")","v":""},null,null,null,null,"","",null,null,null,null,null,"","","","","","","","",{"$f":"IF(R55=\"\",\"\",COUNTIF(R12:R55,\"-\"))","v":""},"","","","","","","",{"$f":"IF(R55=\"\",\"\",IF(AD55=\"0\",\"0\",COUNTIF(AD12:AD54,AD55)))","v":""},"","","","","","","BYE",{"$f":"COUNTIF(AS12:AS55,\"W\")","v":0},{"$f":"IF(AR55=\"\",\"\",COUNTIF(AR12:AR55,\"-\"))","v":""},"","","BYE",""]
[45,{"$f":"IF(REG!B55<>\"\",REG!B55,\"\")","v":""},{"$f":"IF(REG!C55<>\"\",REG!G55,\"\")","v":""},null,null,null,null,"","",null,null,null,null,null,"","","","","","","","",{"$f":"IF(R56=\"\",\"\",COUNTIF(R12:R56,\"-\"))","v":""},"","","","","","","",{"$f":"IF(R56=\"\",\"\",IF(AD56=\"0\",\"0\",COUNTIF(AD12:AD55,AD56)))","v":""},"","","","","","","BYE",{"$f":"COUNTIF(AS12:AS56,\"W\")","v":0},{"$f":"IF(AR56=\"\",\"\",COUNTIF(AR12:AR56,\"-\"))","v":""},"","","BYE",""]
[46,{"$f":"IF(REG!B56<>\"\",REG!B56,\"\")","v":""},{"$f":"IF(REG!C56<>\"\",REG!G56,\"\")","v":""},null,null,null,null,"","",null,null,null,null,null,"","","","","","","","",{"$f":"IF(R57=\"\",\"\",COUNTIF(R12:R57,\"-\"))","v":""},"","","","","","","",{"$f":"IF(R57=\"\",\"\",IF(AD57=\"0\",\"0\",COUNTIF(AD12:AD56,AD57)))","v":""},"","","","","","","BYE",{"$f":"COUNTIF(AS12:AS57,\"W\")","v":0},{"$f":"IF(AR57=\"\",\"\",COUNTIF(AR12:AR57,\"-\"))","v":""},"","","BYE",""]
[47,{"$f":"IF(REG!B57<>\"\",REG!B57,\"\")","v":""},{"$f":"IF(REG!C57<>\"\",REG!G57,\"\")","v":""},null,null,null,null,"","",null,null,null,null,null,"","","","","","","","",{"$f":"IF(R58=\"\",\"\",COUNTIF(R12:R58,\"-\"))","v":""},"","","","","","","",{"$f":"IF(R58=\"\",\"\",IF(AD58=\"0\",\"0\",COUNTIF(AD12:AD57,AD58)))","v":""},"","","","","","","BYE",{"$f":"COUNTIF(AS12:AS58,\"W\")","v":0},{"$f":"IF(AR58=\"\",\"\",COUNTIF(AR12:AR58,\"-\"))","v":""},"","","BYE",""]
[48,{"$f":"IF(REG!B58<>\"\",REG!B58,\"\")","v":""},{"$f":"IF(REG!C58<>\"\",REG!G58,\"\")","v":""},null,null,null,null,"","",null,null,null,null,null,"","","","","","","","",{"$f":"IF(R59=\"\",\"\",COUNTIF(R12:R59,\"-\"))","v":""},"","","","","","","",{"$f":"IF(R59=\"\",\"\",IF(AD59=\"0\",\"0\",COUNTIF(AD12:AD58,AD59)))","v":""},"","","","","","","BYE",{"$f":"COUNTIF(AS12:AS59,\"W\")","v":0},{"$f":"IF(AR59=\"\",\"\",COUNTIF(AR12:AR59,\"-\"))","v":""},"","","BYE",""]
[49,{"$f":"IF(REG!B59<>\"\",REG!B59,\"\")","v":""},{"$f":"IF(REG!C59<>\"\",REG!G59,\"\")","v":""},null,null,null,null,"","",null,null,null,null,null,"","","","","","","","",{"$f":"IF(R60=\"\",\"\",COUNTIF(R12:R60,\"-\"))","v":""},"","","","","","","",{"$f":"IF(R60=\"\",\"\",IF(AD60=\"0\",\"0\",COUNTIF(AD12:AD59,AD60)))","v":""},"","","","","","","BYE",{"$f":"COUNTIF(AS12:AS60,\"W\")","v":0},{"$f":"IF(AR60=\"\",\"\",COUNTIF(AR12:AR60,\"-\"))","v":""},"","","BYE",""]
[50,{"$f":"IF(REG!B60<>\"\",REG!B60,\"\")","v":""},{"$f":"IF(REG!C60<>\"\",REG!G60,\"\")","v":""},null,null,null,null,"","",null,null,null,null,null,"","","","","","","","",{"$f":"IF(R61=\"\",\"\",COUNTIF(R12:R61,\"-\"))","v":""},"","","","","","","",{"$f":"IF(R61=\"\",\"\",IF(AD61=\"0\",\"0\",COUNTIF(AD12:AD60,AD61)))","v":""},"","","","","","","BYE",{"$f":"COUNTIF(AS12:AS61,\"W\")","v":0},{"$f":"IF(AR61=\"\",\"\",COUNTIF(AR12:AR61,\"-\"))","v":""},"","","BYE",""]
[51,{"$f":"IF(REG!B61<>\"\",REG!B61,\"\")","v":""},{"$f":"IF(REG!C61<>\"\",REG!G61,\"\")","v":""},null,null,null,null,"","",null,null,null,null,null,"","","","","","","","",{"$f":"IF(R62=\"\",\"\",COUNTIF(R12:R62,\"-\"))","v":""},"","","","","","","",{"$f":"IF(R62=\"\",\"\",IF(AD62=\"0\",\"0\",COUNTIF(AD12:AD61,AD62)))","v":""},"","","","","","","BYE",{"$f":"COUNTIF(AS12:AS62,\"W\")","v":0},{"$f":"IF(AR62=\"\",\"\",COUNTIF(AR12:AR62,\"-\"))","v":""},"","","BYE",""]
[52,{"$f":"IF(REG!B62<>\"\",REG!B62,\"\")","v":""},{"$f":"IF(REG!C62<>\"\",REG!G62,\"\")","v":""},null,null,null,null,"","",null,null,null,null,null,"","","","","","","","",{"$f":"IF(R63=\"\",\"\",COUNTIF(R12:R63,\"-\"))","v":""},"","","","","","","",{"$f":"IF(R63=\"\",\"\",IF(AD63=\"0\",\"0\",COUNTIF(AD12:AD62,AD63)))","v":""},"","","","","","","BYE",{"$f":"COUNTIF(AS12:AS63,\"W\")","v":0},{"$f":"IF(AR63=\"\",\"\",COUNTIF(AR12:AR63,\"-\"))","v":""},"","","BYE",""]
[53,{"$f":"IF(REG!B63<>\"\",REG!B63,\"\")","v":""},{"$f":"IF(REG!C63<>\"\",REG!G63,\"\")","v":""},null,null,null,null,"","",null,null,null,null,null,"","","","","","","","",{"$f":"IF(R64=\"\",\"\",COUNTIF(R12:R64,\"-\"))","v":""},"","","","","","","",{"$f":"IF(R64=\"\",\"\",IF(AD64=\"0\",\"0\",COUNTIF(AD12:AD63,AD64)))","v":""},"","","","","","","BYE",{"$f":"COUNTIF(AS12:AS64,\"W\")","v":0},{"$f":"IF(AR64=\"\",\"\",COUNTIF(AR12:AR64,\"-\"))","v":""},"","","BYE",""]
[54,{"$f":"IF(REG!B64<>\"\",REG!B64,\"\")","v":""},{"$f":"IF(REG!C64<>\"\",REG!G64,\"\")","v":""},null,null,null,null,"","",null,null,null,null,null,"","","","","","","","",{"$f":"IF(R65=\"\",\"\",COUNTIF(R12:R65,\"-\"))","v":""},"","","","","","","",{"$f":"IF(R65=\"\",\"\",IF(AD65=\"0\",\"0\",COUNTIF(AD12:AD64,AD65)))","v":""},"","","","","","","BYE",{"$f":"COUNTIF(AS12:AS65,\"W\")","v":0},{"$f":"IF(AR65=\"\",\"\",COUNTIF(AR12:AR65,\"-\"))","v":""},"","","BYE",""]
[55,{"$f":"IF(REG!B65<>\"\",REG!B65,\"\")","v":""},{"$f":"IF(REG!C65<>\"\",REG!G65,\"\")","v":""},null,null,null,null,"","",null,null,null,null,null,"","","","","","","","",{"$f":"IF(R66=\"\",\"\",COUNTIF(R12:R66,\"-\"))","v":""},"","","","","","","",{"$f":"IF(R66=\"\",\"\",IF(AD66=\"0\",\"0\",COUNTIF(AD12:AD65,AD66)))","v":""},"","","","","","","BYE",{"$f":"COUNTIF(AS12:AS66,\"W\")","v":0},{"$f":"IF(AR66=\"\",\"\",COUNTIF(AR12:AR66,\"-\"))","v":""},"","","BYE",""]
[56,{"$f":"IF(REG!B66<>\"\",REG!B66,\"\")","v":""},{"$f":"IF(REG!C66<>\"\",REG!G66,\"\")","v":""},null,null,null,null,"","",null,null,null,null,null,"","","","","","","","",{"$f":"IF(R67=\"\",\"\",COUNTIF(R12:R67,\"-\"))","v":""},"","","","","","","",{"$f":"IF(R67=\"\",\"\",IF(AD67=\"0\",\"0\",COUNTIF(AD12:AD66,AD67)))","v":""},"","","","","","","BYE",{"$f":"COUNTIF(AS12:AS67,\"W\")","v":0},{"$f":"IF(AR67=\"\",\"\",COUNTIF(AR12:AR67,\"-\"))","v":""},"","","BYE",""]
[57,{"$f":"IF(REG!B67<>\"\",REG!B67,\"\")","v":""},{"$f":"IF(REG!C67<>\"\",REG!G67,\"\")","v":""},null,null,null,null,"","",null,null,null,null,null,"","","","","","","","",{"$f":"IF(R68=\"\",\"\",COUNTIF(R12:R68,\"-\"))","v":""},"","","","","","","",{"$f":"IF(R68=\"\",\"\",IF(R68=\"\",\"\",IF(AD68=\"0\",\"0\",COUNTIF(AD12:AD67,AD68))))","v":""},"","","","","","","BYE",{"$f":"COUNTIF(AS12:AS68,\"W\")","v":0},{"$f":"IF(AR68=\"\",\"\",COUNTIF(AR12:AR68,\"-\"))","v":""},"","","BYE",""]
[58,{"$f":"IF(REG!B68<>\"\",REG!B68,\"\")","v":""},{"$f":"IF(REG!C68<>\"\",REG!G68,\"\")","v":""},null,null,null,null,"","",null,null,null,null,null,"","","","","","","","",{"$f":"IF(R69=\"\",\"\",COUNTIF(R12:R69,\"-\"))","v":""},"","","","","","","",{"$f":"IF(R69=\"\",\"\",IF(R69=\"\",\"\",IF(AD69=\"0\",\"0\",COUNTIF(AD12:AD68,AD69))))","v":""},"","","","","","","BYE",{"$f":"COUNTIF(AS12:AS69,\"W\")","v":0},{"$f":"IF(AR69=\"\",\"\",COUNTIF(AR12:AR69,\"-\"))","v":""},"","","BYE",""]
[59,{"$f":"IF(REG!B69<>\"\",REG!B69,\"\")","v":""},{"$f":"IF(REG!C69<>\"\",REG!G69,\"\")","v":""},null,null,null,null,"","",null,null,null,null,null,"","","","","","","","",{"$f":"IF(R70=\"\",\"\",COUNTIF(R12:R70,\"-\"))","v":""},"","","","","","","",{"$f":"IF(R70=\"\",\"\",IF(R70=\"\",\"\",IF(AD70=\"0\",\"0\",COUNTIF(AD12:AD69,AD70))))","v":""},"","","","","","","BYE",{"$f":"COUNTIF(AS12:AS70,\"W\")","v":0},{"$f":"IF(AR70=\"\",\"\",COUNTIF(AR12:AR70,\"-\"))","v":""},"","","BYE",""]
[60,{"$f":"IF(REG!B70<>\"\",REG!B70,\"\")","v":""},{"$f":"IF(REG!C70<>\"\",REG!G70,\"\")","v":""},null,null,null,null,"","",null,null,null,null,null,"","","","","","","","",{"$f":"IF(R71=\"\",\"\",COUNTIF(R12:R71,\"-\"))","v":""},"","","","","","","",{"$f":"IF(R71=\"\",\"\",IF(AD71=\"0\",\"0\",COUNTIF(AD12:AD70,AD71)))","v":""},"","","","","","","BYE",{"$f":"COUNTIF(AS12:AS71,\"W\")","v":0},{"$f":"IF(AR71=\"\",\"\",COUNTIF(AR12:AR71,\"-\"))","v":""},"","","BYE",""]
[61,{"$f":"IF(REG!B71<>\"\",REG!B71,\"\")","v":""},{"$f":"IF(REG!C71<>\"\",REG!G71,\"\")","v":""},null,null,null,null,"","",null,null,null,null,null,"","","","","","","","",{"$f":"IF(R72=\"\",\"\",COUNTIF(R12:R72,\"-\"))","v":""},"","","","","","","",{"$f":"IF(R72=\"\",\"\",IF(AD72=\"0\",\"0\",COUNTIF(AD52:AD71,AD72)))","v":""},"","","","","","","BYE",{"$f":"COUNTIF(AS12:AS72,\"W\")","v":0},{"$f":"IF(AR72=\"\",\"\",COUNTIF(AR12:AR72,\"-\"))","v":""},"","","BYE",""]
[62,{"$f":"IF(REG!B72<>\"\",REG!B72,\"\")","v":""},{"$f":"IF(REG!C72<>\"\",REG!G72,\"\")","v":""},null,null,null,null,"","",null,null,null,null,null,"","","","","","","","",{"$f":"IF(R73=\"\",\"\",COUNTIF(R12:R73,\"-\"))","v":""},"","","","","","","",{"$f":"IF(R73=\"\",\"\",IF(AD73=\"0\",\"0\",COUNTIF(AD12:AD72,AD73)))","v":""},"","","","","","","BYE",{"$f":"COUNTIF(AS12:AS73,\"W\")","v":0},{"$f":"IF(AR73=\"\",\"\",COUNTIF(AR12:AR73,\"-\"))","v":""},"","","BYE",""]
[63,{"$f":"IF(REG!B73<>\"\",REG!B73,\"\")","v":""},{"$f":"IF(REG!C73<>\"\",REG!G73,\"\")","v":""},null,null,null,null,"","",null,null,null,null,null,"","","","","","","","",{"$f":"IF(R74=\"\",\"\",COUNTIF(R12:R74,\"-\"))","v":""},"","","","","","","",{"$f":"IF(R74=\"\",\"\",IF(AD74=\"0\",\"0\",COUNTIF(AD12:AD73,AD74)))","v":""},"","","","","","","BYE",{"$f":"COUNTIF(AS12:AS74,\"W\")","v":0},{"$f":"IF(AR74=\"\",\"\",COUNTIF(AR12:AR74,\"-\"))","v":""},"","","BYE",""]
[64,{"$f":"IF(REG!B74<>\"\",REG!B74,\"\")","v":""},{"$f":"IF(REG!C74<>\"\",REG!G74,\"\")","v":""},null,null,null,null,"","",null,null,null,null,null,"","","","","","","","",{"$f":"IF(R75=\"\",\"\",COUNTIF(R12:R75,\"-\"))","v":""},"","","","","","","",{"$f":"IF(R75=\"\",\"\",IF(AD75=\"0\",\"0\",COUNTIF(AD12:AD74,AD75)))","v":""},"","","","","","","BYE",{"$f":"COUNTIF(AS12:AS75,\"W\")","v":0},{"$f":"IF(AR75=\"\",\"\",COUNTIF(AR12:AR75,\"-\"))","v":""},"","","BYE",""]
[65,{"$f":"IF(REG!B75<>\"\",REG!B75,\"\")","v":""},{"$f":"IF(REG!C75<>\"\",REG!G75,\"\")","v":""},null,null,null,null,"","",null,null,null,null,null,"","","",{"$f":"IF(AND(ISBLANK(D76),ISBLANK(K76)),\"\",IF(AND(H76=\"-\",O76=\"-\"),\"-\",IF(AND(H76=\"-\",ISBLANK(K76)),\"-\",MIN(H76,O76))))","v":""},"","","","",{"$f":"IF(R76=\"\",\"\",COUNTIF(R12:R76,\"-\"))","v":""},"","","","","","","",{"$f":"IF(R76=\"\",\"\",IF(AD76=\"0\",\"0\",COUNTIF(AD12:AD75,AD76)))","v":""},"","","","","","","BYE",{"$f":"COUNTIF(AS12:AS76,\"W\")","v":0},{"$f":"IF(AR76=\"\",\"\",COUNTIF(AR12:AR76,\"-\"))","v":""},"","","BYE",""]
[66,{"$f":"IF(REG!B76<>\"\",REG!B76,\"\")","v":""},{"$f":"IF(REG!C76<>\"\",REG!G76,\"\")","v":""},null,null,null,null,"","",null,null,null,null,null,"","","","","","","","",{"$f":"IF(R77=\"\",\"\",COUNTIF(R12:R77,\"-\"))","v":""},"","","","","","","",{"$f":"IF(R77=\"\",\"\",IF(AD77=\"0\",\"0\",COUNTIF(AD12:AD76,AD77)))","v":""},"","","","","","","BYE",{"$f":"COUNTIF(AS12:AS77,\"W\")","v":0},{"$f":"IF(AR77=\"\",\"\",COUNTIF(AR12:AR77,\"-\"))","v":""},"","","BYE",""]
[67,{"$f":"IF(REG!B77<>\"\",REG!B77,\"\")","v":""},{"$f":"IF(REG!C77<>\"\",REG!G77,\"\")","v":""},null,null,null,null,"","",null,null,null,null,null,"","","","","","","","",{"$f":"IF(R78=\"\",\"\",COUNTIF(R12:R78,\"-\"))","v":""},"","","","","","","",{"$f":"IF(R78=\"\",\"\",IF(AD78=\"0\",\"0\",COUNTIF(AD12:AD77,AD78)))","v":""},"","","","","","","BYE",{"$f":"COUNTIF(AS12:AS78,\"W\")","v":0},{"$f":"IF(AR78=\"\",\"\",COUNTIF(AR12:AR78,\"-\"))","v":""},"","","BYE",""]
[68,{"$f":"IF(REG!B78<>\"\",REG!B78,\"\")","v":""},{"$f":"IF(REG!C78<>\"\",REG!G78,\"\")","v":""},null,null,null,null,"","",null,null,null,null,null,"","","","","","","","",{"$f":"IF(R79=\"\",\"\",COUNTIF(R12:R79,\"-\"))","v":""},"","","","","","","",{"$f":"IF(R79=\"\",\"\",IF(AD79=\"0\",\"0\",COUNTIF(AD12:AD78,AD79)))","v":""},"","","","","","","BYE",{"$f":"COUNTIF(AS12:AS79,\"W\")","v":0},{"$f":"IF(AR79=\"\",\"\",COUNTIF(AR12:AR79,\"-\"))","v":""},"","","BYE",""]
[69,{"$f":"IF(REG!B79<>\"\",REG!B79,\"\")","v":""},{"$f":"IF(REG!C79<>\"\",REG!G79,\"\")","v":""},null,null,null,null,"","",null,null,null,null,null,"","","","","","","","",{"$f":"IF(R80=\"\",\"\",COUNTIF(R12:R80,\"-\"))","v":""},"","","","","","","",{"$f":"IF(R80=\"\",\"\",IF(AD80=\"0\",\"0\",COUNTIF(AD12:AD79,AD80)))","v":""},"","","","","","","BYE",{"$f":"COUNTIF(AS12:AS80,\"W\")","v":0},{"$f":"IF(AR80=\"\",\"\",COUNTIF(AR12:AR80,\"-\"))","v":""},"","","BYE",""]
[70,{"$f":"IF(REG!B80<>\"\",REG!B80,\"\")","v":""},{"$f":"IF(REG!C80<>\"\",REG!G80,\"\")","v":""},null,null,null,null,"","",null,null,null,null,null,"","","","","","","","",{"$f":"IF(R81=\"\",\"\",COUNTIF(R12:R81,\"-\"))","v":""},"","","","","","","",{"$f":"IF(R81=\"\",\"\",IF(AD81=\"0\",\"0\",COUNTIF(AD12:AD80,AD81)))","v":""},"","","","","","","BYE",{"$f":"COUNTIF(AS12:AS81,\"W\")","v":0},{"$f":"IF(AR81=\"\",\"\",COUNTIF(AR12:AR81,\"-\"))","v":""},"","","BYE",""]
[71,{"$f":"IF(REG!B81<>\"\",REG!B81,\"\")","v":""},{"$f":"IF(REG!C81<>\"\",REG!G81,\"\")","v":""},null,null,null,null,"","",null,null,null,null,null,"","","","","","","","",{"$f":"IF(R82=\"\",\"\",COUNTIF(R12:R82,\"-\"))","v":""},"","","","","","","",{"$f":"IF(R82=\"\",\"\",IF(AD82=\"0\",\"0\",COUNTIF(AD12:AD81,AD82)))","v":""},"","","","","","","BYE",{"$f":"COUNTIF(AS12:AS82,\"W\")","v":0},{"$f":"IF(AR82=\"\",\"\",COUNTIF(AR12:AR82,\"-\"))","v":""},"","","BYE",""]
[72,{"$f":"IF(REG!B82<>\"\",REG!B82,\"\")","v":""},{"$f":"IF(REG!C82<>\"\",REG!G82,\"\")","v":""},null,null,null,null,"","",null,null,null,null,null,"","","","","","","","",{"$f":"IF(R83=\"\",\"\",COUNTIF(R12:R83,\"-\"))","v":""},"","","","","","","",{"$f":"IF(R83=\"\",\"\",IF(AD83=\"0\",\"0\",COUNTIF(AD12:AD82,AD83)))","v":""},"","","","","","","BYE",{"$f":"COUNTIF(AS12:AS83,\"W\")","v":0},{"$f":"IF(AR83=\"\",\"\",COUNTIF(AR12:AR83,\"-\"))","v":""},"","","BYE",""]
[73,{"$f":"IF(REG!B83<>\"\",REG!B83,\"\")","v":""},{"$f":"IF(REG!C83<>\"\",REG!G83,\"\")","v":""},null,null,null,null,"","",null,null,null,null,null,"","","","","","","","",{"$f":"IF(R84=\"\",\"\",COUNTIF(R12:R84,\"-\"))","v":""},"","","","","","","",{"$f":"IF(R84=\"\",\"\",IF(AD84=\"0\",\"0\",COUNTIF(AD12:AD83,AD84)))","v":""},"","","","","","","BYE",{"$f":"COUNTIF(AS12:AS84,\"W\")","v":0},{"$f":"IF(AR84=\"\",\"\",COUNTIF(AR12:AR84,\"-\"))","v":""},"","","BYE",""]
[74,{"$f":"IF(REG!B84<>\"\",REG!B84,\"\")","v":""},{"$f":"IF(REG!C84<>\"\",REG!G84,\"\")","v":""},null,null,null,null,"","",null,null,null,null,null,"","","","","","","","",{"$f":"IF(R85=\"\",\"\",COUNTIF(R12:R85,\"-\"))","v":""},"","","","","","","",{"$f":"IF(R85=\"\",\"\",IF(AD85=\"0\",\"0\",COUNTIF(AD12:AD84,AD85)))","v":""},"","","","","","","BYE",{"$f":"COUNTIF(AS12:AS85,\"W\")","v":0},{"$f":"IF(AR85=\"\",\"\",COUNTIF(AR12:AR85,\"-\"))","v":""},"","","BYE",""]
[75,{"$f":"IF(REG!B85<>\"\",REG!B85,\"\")","v":""},{"$f":"IF(REG!C85<>\"\",REG!G85,\"\")","v":""},null,null,null,null,"","",null,null,null,null,null,"","","","","","","","",{"$f":"IF(R86=\"\",\"\",COUNTIF(R12:R86,\"-\"))","v":""},"","","","","","","",{"$f":"IF(R86=\"\",\"\",IF(AD86=\"0\",\"0\",COUNTIF(AD12:AD85,AD86)))","v":""},"","","","","","","BYE",{"$f":"COUNTIF(AS12:AS86,\"W\")","v":0},{"$f":"IF(AR86=\"\",\"\",COUNTIF(AR12:AR86,\"-\"))","v":""},"","","BYE",""]
[76,{"$f":"IF(REG!B86<>\"\",REG!B86,\"\")","v":""},{"$f":"IF(REG!C86<>\"\",REG!G86,\"\")","v":""},null,null,null,null,"","",null,null,null,null,null,"","","","","","","","",{"$f":"IF(R87=\"\",\"\",COUNTIF(R12:R87,\"-\"))","v":""},"","","","","","","",{"$f":"IF(R87=\"\",\"\",IF(AD87=\"0\",\"0\",COUNTIF(AD12:AD86,AD87)))","v":""},"","","","","","","BYE",{"$f":"COUNTIF(AS12:AS87,\"W\")","v":0},{"$f":"IF(AR87=\"\",\"\",COUNTIF(AR12:AR87,\"-\"))","v":""},"","","BYE",""]
[77,{"$f":"IF(REG!B87<>\"\",REG!B87,\"\")","v":""},{"$f":"IF(REG!C87<>\"\",REG!G87,\"\")","v":""},null,null,null,null,"","",null,null,null,null,null,"","","","","","","","",{"$f":"IF(R88=\"\",\"\",COUNTIF(R12:R88,\"-\"))","v":""},"","","","","","","",{"$f":"IF(R88=\"\",\"\",IF(AD88=\"0\",\"0\",COUNTIF(AD12:AD87,AD88)))","v":""},"","","","","","","BYE",{"$f":"COUNTIF(AS12:AS88,\"W\")","v":0},{"$f":"IF(AR88=\"\",\"\",COUNTIF(AR12:AR88,\"-\"))","v":""},"","","BYE",""]
[78,{"$f":"IF(REG!B88<>\"\",REG!B88,\"\")","v":""},{"$f":"IF(REG!C88<>\"\",REG!G88,\"\")","v":""},null,null,null,null,"","",null,null,null,null,null,"","","","","","","","",{"$f":"IF(R89=\"\",\"\",COUNTIF(R12:R89,\"-\"))","v":""},"","","","","","","",{"$f":"IF(R89=\"\",\"\",IF(AD89=\"0\",\"0\",COUNTIF(AD12:AD88,AD89)))","v":""},"","","","","","","BYE",{"$f":"COUNTIF(AS12:AS89,\"W\")","v":0},{"$f":"IF(AR89=\"\",\"\",COUNTIF(AR12:AR89,\"-\"))","v":""},"","","BYE",""]
[79,{"$f":"IF(REG!B89<>\"\",REG!B89,\"\")","v":""},{"$f":"IF(REG!C89<>\"\",REG!G89,\"\")","v":""},null,null,null,null,"","",null,null,null,null,null,"","","","","","","","",{"$f":"IF(R90=\"\",\"\",COUNTIF(R12:R90,\"-\"))","v":""},"","","","","","","",{"$f":"IF(R90=\"\",\"\",IF(AD90=\"0\",\"0\",COUNTIF(AD12:AD89,AD90)))","v":""},"","","","","","","BYE",{"$f":"COUNTIF(AS12:AS90,\"W\")","v":0},{"$f":"IF(AR90=\"\",\"\",COUNTIF(AR12:AR90,\"-\"))","v":""},"","","BYE",""]
[80,{"$f":"IF(REG!B90<>\"\",REG!B90,\"\")","v":""},{"$f":"IF(REG!C90<>\"\",REG!G90,\"\")","v":""},null,null,null,null,"","",null,null,null,null,null,"","","","","","","","",{"$f":"IF(R91=\"\",\"\",COUNTIF(R12:R91,\"-\"))","v":""},"","","","","","","",{"$f":"IF(R91=\"\",\"\",IF(AD91=\"0\",\"0\",COUNTIF(AD12:AD90,AD91)))","v":""},"","","","","","","BYE",{"$f":"COUNTIF(AS12:AS91,\"W\")","v":0},{"$f":"IF(AR91=\"\",\"\",COUNTIF(AR12:AR91,\"-\"))","v":""},"","","BYE",""]
[81,{"$f":"IF(REG!B91<>\"\",REG!B91,\"\")","v":""},{"$f":"IF(REG!C91<>\"\",REG!G91,\"\")","v":""},null,null,null,null,"","",null,null,null,null,null,"","","","","","","","",{"$f":"IF(R92=\"\",\"\",COUNTIF(R12:R92,\"-\"))","v":""},"","","","","","","",{"$f":"IF(R92=\"\",\"\",IF(AD92=\"0\",\"0\",COUNTIF(AD12:AD91,AD92)))","v":""},"","","","","","","BYE",{"$f":"COUNTIF(AS12:AS92,\"W\")","v":0},{"$f":"IF(AR92=\"\",\"\",COUNTIF(AR12:AR92,\"-\"))","v":""},"","","BYE",""]
[82,{"$f":"IF(REG!B92<>\"\",REG!B92,\"\")","v":""},{"$f":"IF(REG!C92<>\"\",REG!G92,\"\")","v":""},null,null,null,null,"","",null,null,null,null,null,"","","","","","","","",{"$f":"IF(R93=\"\",\"\",COUNTIF(R12:R93,\"-\"))","v":""},"","","","","","","",{"$f":"IF(R93=\"\",\"\",IF(AD93=\"0\",\"0\",COUNTIF(AD12:AD92,AD93)))","v":""},"","","","","","","BYE",{"$f":"COUNTIF(AS12:AS93,\"W\")","v":0},{"$f":"IF(AR93=\"\",\"\",COUNTIF(AR12:AR93,\"-\"))","v":""},"","","BYE",""]
[83,{"$f":"IF(REG!B93<>\"\",REG!B93,\"\")","v":""},{"$f":"IF(REG!C93<>\"\",REG!G93,\"\")","v":""},null,null,null,null,"","",null,null,null,null,null,"","","","","","","","",{"$f":"IF(R94=\"\",\"\",COUNTIF(R12:R94,\"-\"))","v":""},"","","","","","","",{"$f":"IF(R94=\"\",\"\",IF(AD94=\"0\",\"0\",COUNTIF(AD12:AD93,AD94)))","v":""},"","","","","","","BYE",{"$f":"COUNTIF(AS12:AS94,\"W\")","v":0},{"$f":"IF(AR94=\"\",\"\",COUNTIF(AR12:AR94,\"-\"))","v":""},"","","BYE",""]
[84,{"$f":"IF(REG!B94<>\"\",REG!B94,\"\")","v":""},{"$f":"IF(REG!C94<>\"\",REG!G94,\"\")","v":""},null,null,null,null,"","",null,null,null,null,null,"","","","","","","","",{"$f":"IF(R95=\"\",\"\",COUNTIF(R12:R95,\"-\"))","v":""},"","","","","","","",{"$f":"IF(R95=\"\",\"\",IF(AD95=\"0\",\"0\",COUNTIF(AD12:AD94,AD95)))","v":""},"","","","","","","BYE",{"$f":"COUNTIF(AS12:AS95,\"W\")","v":0},{"$f":"IF(AR95=\"\",\"\",COUNTIF(AR12:AR95,\"-\"))","v":""},"","","BYE",""]
[85,{"$f":"IF(REG!B95<>\"\",REG!B95,\"\")","v":""},{"$f":"IF(REG!C95<>\"\",REG!G95,\"\")","v":""},null,null,null,null,"","",null,null,null,null,null,"","","","","","","","",{"$f":"IF(R96=\"\",\"\",COUNTIF(R12:R96,\"-\"))","v":""},"","","","","","","",{"$f":"IF(R96=\"\",\"\",IF(AD96=\"0\",\"0\",COUNTIF(AD12:AD95,AD96)))","v":""},"","","","","","","BYE",{"$f":"COUNTIF(AS12:AS96,\"W\")","v":0},{"$f":"IF(AR96=\"\",\"\",COUNTIF(AR12:AR96,\"-\"))","v":""},"","","BYE",""]
[86,{"$f":"IF(REG!B96<>\"\",REG!B96,\"\")","v":""},{"$f":"IF(REG!C96<>\"\",REG!G96,\"\")","v":""},null,null,null,null,"","",null,null,null,null,null,"","","","","","","","",{"$f":"IF(R97=\"\",\"\",COUNTIF(R12:R97,\"-\"))","v":""},"","","","","","","",{"$f":"IF(R97=\"\",\"\",IF(AD97=\"0\",\"0\",COUNTIF(AD12:AD96,AD97)))","v":""},"","","","","","","BYE",{"$f":"COUNTIF(AS12:AS97,\"W\")","v":0},{"$f":"IF(AR97=\"\",\"\",COUNTIF(AR12:AR97,\"-\"))","v":""},"","","BYE",""]
[87,{"$f":"IF(REG!B97<>\"\",REG!B97,\"\")","v":""},{"$f":"IF(REG!C97<>\"\",REG!G97,\"\")","v":""},null,null,null,null,"","",null,null,null,null,null,"","","","","","","","",{"$f":"IF(R98=\"\",\"\",COUNTIF(R12:R98,\"-\"))","v":""},"","","","","","","",{"$f":"IF(R98=\"\",\"\",IF(AD98=\"0\",\"0\",COUNTIF(AD12:AD97,AD98)))","v":""},"","","","","","","BYE",{"$f":"COUNTIF(AS12:AS98,\"W\")","v":0},{"$f":"IF(AR98=\"\",\"\",COUNTIF(AR12:AR98,\"-\"))","v":""},"","","BYE",""]
[88,{"$f":"IF(REG!B98<>\"\",REG!B98,\"\")","v":""},{"$f":"IF(REG!C98<>\"\",REG!G98,\"\")","v":""},null,null,null,null,"","",null,null,null,null,null,"","","","","","","","",{"$f":"IF(R99=\"\",\"\",COUNTIF(R12:R99,\"-\"))","v":""},"","","","","","","",{"$f":"IF(R99=\"\",\"\",IF(AD99=\"0\",\"0\",COUNTIF(AD12:AD98,AD99)))","v":""},"","","","","","","BYE",{"$f":"COUNTIF(AS12:AS99,\"W\")","v":0},{"$f":"IF(AR99=\"\",\"\",COUNTIF(AR12:AR99,\"-\"))","v":""},"","","BYE",""]
[89,{"$f":"IF(REG!B99<>\"\",REG!B99,\"\")","v":""},{"$f":"IF(REG!C99<>\"\",REG!G99,\"\")","v":""},null,null,null,null,"","",null,null,null,null,null,"","","","","","","","",{"$f":"IF(R100=\"\",\"\",COUNTIF(R12:R100,\"-\"))","v":""},"","","","","","","",{"$f":"IF(R100=\"\",\"\",IF(AD100=\"0\",\"0\",COUNTIF(AD12:AD99,AD100)))","v":""},"","","","","","","BYE",{"$f":"COUNTIF(AS12:AS100,\"W\")","v":0},{"$f":"IF(AR100=\"\",\"\",COUNTIF(AR12:AR100,\"-\"))","v":""},"","","BYE",""]
[90,{"$f":"IF(REG!B100<>\"\",REG!B100,\"\")","v":""},{"$f":"IF(REG!C100<>\"\",REG!G100,\"\")","v":""},null,null,null,null,"","",null,null,null,null,null,"","","","","","","","",{"$f":"IF(R101=\"\",\"\",COUNTIF(R12:R101,\"-\"))","v":""},"","","","","","","",{"$f":"IF(R101=\"\",\"\",IF(AD101=\"0\",\"0\",COUNTIF(AD12:AD100,AD101)))","v":""},"","","","","","","BYE",{"$f":"COUNTIF(AS12:AS101,\"W\")","v":0},{"$f":"IF(AR101=\"\",\"\",COUNTIF(AR12:AR101,\"-\"))","v":""},"","","BYE",""]
[91,{"$f":"IF(REG!B101<>\"\",REG!B101,\"\")","v":""},{"$f":"IF(REG!C101<>\"\",REG!G101,\"\")","v":""},null,null,null,null,"","",null,null,null,null,null,"","","","","","","","",{"$f":"IF(R102=\"\",\"\",COUNTIF(R12:R102,\"-\"))","v":""},"","","","","","","",{"$f":"IF(R102=\"\",\"\",IF(AD102=\"0\",\"0\",COUNTIF(AD12:AD101,AD102)))","v":""},"","","","","","","BYE",{"$f":"COUNTIF(AS12:AS102,\"W\")","v":0},{"$f":"IF(AR102=\"\",\"\",COUNTIF(AR12:AR102,\"-\"))","v":""},"","","BYE",""]
[92,{"$f":"IF(REG!B102<>\"\",REG!B102,\"\")","v":""},{"$f":"IF(REG!C102<>\"\",REG!G102,\"\")","v":""},null,null,null,null,"","",null,null,null,null,null,"","","","","","","","",{"$f":"IF(R103=\"\",\"\",COUNTIF(R12:R103,\"-\"))","v":""},"","","","","","","",{"$f":"IF(R103=\"\",\"\",IF(AD103=\"0\",\"0\",COUNTIF(AD12:AD102,AD103)))","v":""},"","","","","","","BYE",{"$f":"COUNTIF(AS12:AS103,\"W\")","v":0},{"$f":"IF(AR103=\"\",\"\",COUNTIF(AR12:AR103,\"-\"))","v":""},"","","BYE",""]
[93,{"$f":"IF(REG!B103<>\"\",REG!B103,\"\")","v":""},{"$f":"IF(REG!C103<>\"\",REG!G103,\"\")","v":""},null,null,null,null,"","",null,null,null,null,null,"","","","","","","","",{"$f":"IF(R104=\"\",\"\",COUNTIF(R12:R104,\"-\"))","v":""},"","","","","","","",{"$f":"IF(R104=\"\",\"\",IF(AD104=\"0\",\"0\",COUNTIF(AD12:AD103,AD104)))","v":""},"","","","","","","BYE",{"$f":"COUNTIF(AS12:AS104,\"W\")","v":0},{"$f":"IF(AR104=\"\",\"\",COUNTIF(AR12:AR104,\"-\"))","v":""},"","","BYE",""]
[94,{"$f":"IF(REG!B104<>\"\",REG!B104,\"\")","v":""},{"$f":"IF(REG!C104<>\"\",REG!G104,\"\")","v":""},null,null,null,null,"","",null,null,null,null,null,"","","","","","","","",{"$f":"IF(R105=\"\",\"\",COUNTIF(R12:R105,\"-\"))","v":""},"","","","","","","",{"$f":"IF(R105=\"\",\"\",IF(AD105=\"0\",\"0\",COUNTIF(AD12:AD104,AD105)))","v":""},"","","","","","","BYE",{"$f":"COUNTIF(AS12:AS105,\"W\")","v":0},{"$f":"IF(AR105=\"\",\"\",COUNTIF(AR12:AR105,\"-\"))","v":""},"","","BYE",""]
[95,{"$f":"IF(REG!B105<>\"\",REG!B105,\"\")","v":""},{"$f":"IF(REG!C105<>\"\",REG!G105,\"\")","v":""},null,null,null,null,"","",null,null,null,null,null,"","","","","","","","",{"$f":"IF(R106=\"\",\"\",COUNTIF(R12:R106,\"-\"))","v":""},"","","","","","","",{"$f":"IF(R106=\"\",\"\",IF(AD106=\"0\",\"0\",COUNTIF(AD12:AD105,AD106)))","v":""},"","","","","","","BYE",{"$f":"COUNTIF(AS12:AS106,\"W\")","v":0},{"$f":"IF(AR106=\"\",\"\",COUNTIF(AR12:AR106,\"-\"))","v":""},"","","BYE",""]
[96,{"$f":"IF(REG!B106<>\"\",REG!B106,\"\")","v":""},{"$f":"IF(REG!C106<>\"\",REG!G106,\"\")","v":""},null,null,null,null,"","",null,null,null,null,null,"","","","","","","","",{"$f":"IF(R107=\"\",\"\",COUNTIF(R12:R107,\"-\"))","v":""},"","","","","","","",{"$f":"IF(R107=\"\",\"\",IF(AD107=\"0\",\"0\",COUNTIF(AD12:AD106,AD107)))","v":""},"","","","","","","BYE",{"$f":"COUNTIF(AS12:AS107,\"W\")","v":0},{"$f":"IF(AR107=\"\",\"\",COUNTIF(AR12:AR107,\"-\"))","v":""},"","","BYE",""]
[97,{"$f":"IF(REG!B107<>\"\",REG!B107,\"\")","v":""},{"$f":"IF(REG!C107<>\"\",REG!G107,\"\")","v":""},null,null,null,null,"","",null,null,null,null,null,"","","","","","","","",{"$f":"IF(R108=\"\",\"\",COUNTIF(R12:R108,\"-\"))","v":""},"","","","","","","",{"$f":"IF(R108=\"\",\"\",IF(AD108=\"0\",\"0\",COUNTIF(AD12:AD107,AD108)))","v":""},"","","","","","","BYE",{"$f":"COUNTIF(AS12:AS108,\"W\")","v":0},{"$f":"IF(AR108=\"\",\"\",COUNTIF(AR12:AR108,\"-\"))","v":""},"","","BYE",""]
[98,{"$f":"IF(REG!B108<>\"\",REG!B108,\"\")","v":""},{"$f":"IF(REG!C108<>\"\",REG!G108,\"\")","v":""},null,null,null,null,"","",null,null,null,null,null,"","","","","","","","",{"$f":"IF(R109=\"\",\"\",COUNTIF(R12:R109,\"-\"))","v":""},"","","","","","","",{"$f":"IF(R109=\"\",\"\",IF(AD109=\"0\",\"0\",COUNTIF(AD12:AD108,AD109)))","v":""},"","","","","","","BYE",{"$f":"COUNTIF(AS12:AS109,\"W\")","v":0},{"$f":"IF(AR109=\"\",\"\",COUNTIF(AR12:AR109,\"-\"))","v":""},"","","BYE",""]
[99,{"$f":"IF(REG!B109<>\"\",REG!B109,\"\")","v":""},{"$f":"IF(REG!C109<>\"\",REG!G109,\"\")","v":""},null,null,null,null,"","",null,null,null,null,null,"","","","","","","","",{"$f":"IF(R110=\"\",\"\",COUNTIF(R12:R110,\"-\"))","v":""},"","","","","","","",{"$f":"IF(R110=\"\",\"\",IF(AD110=\"0\",\"0\",COUNTIF(AD12:AD109,AD110)))","v":""},"","","","","","","BYE",{"$f":"COUNTIF(AS12:AS110,\"W\")","v":0},{"$f":"IF(AR110=\"\",\"\",COUNTIF(AR12:AR110,\"-\"))","v":""},"","","BYE",""]
[100,{"$f":"IF(REG!B110<>\"\",REG!B110,\"\")","v":""},{"$f":"IF(REG!C110<>\"\",REG!G110,\"\")","v":""},null,null,null,null,"","",null,null,null,null,null,"","","","","","","","",{"$f":"IF(R111=\"\",\"\",COUNTIF(R12:R111,\"-\"))","v":""},"","","","","","","",{"$f":"IF(R111=\"\",\"\",IF(AD111=\"0\",\"0\",COUNTIF(AD12:AD110,AD111)))","v":""},"","","","","","","BYE",{"$f":"COUNTIF(AS12:AS111,\"W\")","v":0},{"$f":"IF(AR111=\"\",\"\",COUNTIF(AR12:AR111,\"-\"))","v":""},"","","BYE",""]

{"sheet":"G Q 3","index":5,"n_rows":111,"n_cols":45,"rows_kept":111,"cut":false,"hidden":false,"merged":[[2,3,2,18],[4,1,4,2],[0,3,0,18],[0,41,0,42],[1,3,1,18],[1,41,1,42],[6,44,7,44],[7,1,7,2],[7,3,7,18],[7,41,7,43],[5,1,5,2],[6,1,6,2],[6,3,6,18],[6,41,6,43],[9,20,10,20],[9,21,10,21],[8,1,8,2],[9,0,10,0],[9,1,10,1],[9,2,10,2],[9,3,9,8],[9,10,9,15],[9,16,10,16],[9,17,10,17],[9,18,10,18],[9,19,10,19],[9,32,10,32],[9,33,10,33],[9,22,10,22],[9,23,10,23],[9,24,10,24],[9,25,10,25],[9,26,10,26],[9,27,10,27],[9,28,10,28],[9,29,10,29],[9,30,10,30],[9,31,10,31],[9,34,10,34],[9,35,10,35],[9,36,10,36],[9,37,10,37],[9,44,10,44],[9,38,10,38],[9,39,10,39],[9,40,10,40],[9,41,10,41],[9,42,10,42],[9,43,10,43]]}
[null,null,null,{"$f":"CONTEST!B4","v":"Skate n Roll Polička  2022"}]
[null,null,null,{"$f":"CONTEST!B6","v":"13.8. - 14.8.2022"}]
[null,null,null,{"$f":"CONCATENATE(CONTEST!B8,\" / \",CONTEST!B16,\" / \",CONTEST!B13)","v":"GIANT SLALOM / Qualifications / TEEN 12-14"}]
[]
[{"$f":"+'G Q 1-2'!A5","v":0.2},"secs penalty per hit cone"]
[{"$f":"+'G Q 1-2'!A6","v":7},"maximum hit cones before DQ"]
[{"$f":"+'G Q 1-2'!A8","v":3.72},"false start multiplication factor",null,"Under \"Raw Time,\" enter \"DQ\" or\"DNF\" for",null,null,null,null,null,null,null,null,null,null,null,null,null,null,null,null,null,null,null,null,null,null,null,null,null,null,null,null,null,null,null,null,null,null,null,null,null,"Advance Racers who DQ",null,null,"Y"]
[{"$f":"IF(ISERROR(0.1*AR12)=TRUE,\"\",ROUND(0.1*AR12,2))","v":3.72},"secs head-to-head DQ/DNR penalty",null,"\"Disqualified\" and \"DNR\" for \"Did Not Race.\"",null,null,null,null,null,null,null,null,null,null,null,null,null,null,null,null,null,null,null,null,null,null,null,null,null,null,null,null,null,null,null,null,null,null,null,null,null,"all Qualifying Runs? (Y/N)"]
[{"$f":"+'G Q 1-2'!A9","v":3.72},"secs max head-to-head victory margin"]
[null,"START Number","Racer Name","Run 1-2",null,null,null,null,null,null,"Run 3",null,null,null,null,null,"Qual Rank (w/out DQs)","Best Time","Qualifying Position","Qual Rank (w/DQs sequenced)","Racer No. & Name","Best Time","Double DQ Place Factor","No. of Ties per Best Time","Tied-at Time","Tied-at Time Rank","Run 1 Time w/DQ Adjust","Run 2 Time w/DQ Adjust","Total Time w/DQ Adjust","Total Time Rank","Total Tie Place Factor","Tie 1 Total Time Rank","Tie 1 Place Factor","Tie 2 Total Time Rank","Tie 2 Place Factor","Tie 3 Total Time Rank","Tie 3 Place Factor","Placed Racer No. & Name","Withdrawal Place Factor","Double DQ Place Factor 2","Final Spot - Withdrawals","Qualifying Position",{"$f":"CONCATENATE(+CONTEST!B4,\"                                \",+CONTEST!B8,\"                                   \",\"RUN 1-3\",\"                                     \",\"  Racer No. & Name\")","v":"Skate n Roll Polička  2022                                GIANT SLALOM                                   RUN 1-3                                       Racer No. & Name"},"Best Time","Withdraw (W)"]
[null,null,null,"BEST of 1-2","Cones","Reaction Time","False Start","Final Time","Run Rank",null,"Raw Time","Cones","Reaction Time","False Start","Final Time","Run Rank"]
[1,{"$f":"IF(REG!B11<>\"\",REG!B11,\"\")","v":""},{"$f":"IF(REG!C11<>\"\",REG!G11,\"\")","v":"Voves  Jindřich  [CZE] "},{"$f":"IF('G Q 1-2'!R12=\"\",\"DNR\",IF('G Q 1-2'!R12=\"-\",+'G Q 1-2'!D12,+'G Q 1-2'!R12))","v":37.204000000000001},null,null,null,{"$f":"IF(LEFT(D12:D111,1)=\"D\",\"-\",IF(E12:E111>A6,\"-\",IF(D12:D111>0,D12:D111+E12:E111*A5+G12:G111*A7,\"\")))","v":37.204000000000001},{"$f":"IF(H12:H111=\"\",\"\",IF(H12:H111=\"-\",\"\",RANK(H12:H111,H12:H111,1)))","v":1},null,null,null,null,null,{"$f":"IF(LEFT(K12:K111,1)=\"D\",\"-\",IF(L12:L111>A6,\"-\",IF(K12:K111>0,K12:K111+L12:L111*A5+N12:N111*A7,\"\")))","v":""},{"$f":"IF(O12:O111=\"\",\"\",IF(O12:O111=\"-\",\"\",RANK(O12:O111,O12:O111,1)))","v":""},{"$f":"IF(R12:R111=\"\",\"\",IF(R12:R111=\"-\",\"\",RANK(R12:R111,R12:R111,1)))","v":1},{"$f":"IF(AND(ISBLANK(D12),ISBLANK(K12)),\"\",IF(AND(H12=\"-\",O12=\"-\"),\"-\",IF(AND(H12=\"-\",ISBLANK(K12)),\"-\",MIN(H12,O12))))","v":37.204000000000001},{"$f":"IF(R12:R111=\"\",\"\",VLOOKUP(U12:U111,AL12:AP111,5,FALSE))","v":1},{"$f":"IF(R12:R111=\"\",\"\",IF(R12:R111=\"-\",COUNT(Q12:Q111)+W12:W111,Q12:Q111+AE12:AE111+AG12:AG111+AI12:AI111+AK12:AK111))","v":1},{"$f":"IF(B12:B111 =\"\",\"\",B12:B111 & \" \")&C12:C111","v":"Voves  Jindřich  [CZE] "},{"$f":"R12:R111","v":37.204000000000001},{"$f":"IF(R12=\"\",\"\",COUNTIF(R12:R12,\"-\"))","v":0},{"$f":"IF(Q12:Q111=\"\",\"\",COUNTIF(Q12:Q111,Q12:Q111)-1)","v":0},{"$f":"IF(R12:R111=\"-\",\"\",IF(X12:X111=0,\"\",R12:R111))","v":""},{"$f":"IF(Y12:Y111=\"\",\"\",RANK(Y12:Y111,Y12:Y111,1))","v":""},{"$f":"IF(X12:X111=\"\",\"\",IF(X12:X111=0,\"\",IF(LEFT(H12:H111,1)=\"-\",\"199\",H12:H111)))","v":""},{"$f":"IF(X12:X111=\"\",\"\",IF(X12:X111=0,\"\",IF(LEFT(O12:O111,1)=\"-\",\"199\",O12:O111)))","v":""},{"$f":"IF(ISERROR(AA12:AA111+AB12:AB111)=TRUE,AA12:AA111,AA12:AA111+AB12:AB111)","v":""},{"$f":"IF(R12:R111=\"\",\"\",IF(X12:X111=0,\"0\",IF(ISERROR(RANK(AC12:AC111,AC12:AC111,1))=TRUE,\"0\",RANK(AC12:AC111,AC12:AC111,1))))","v":"0"},0,{"$f":"IF(ISERROR(X12:X111)=TRUE,\"\",IF(Z12:Z111=1,AD12:AD111,\"\"))","v":""},{"$f":"IF(R12:R111=\"\",\"\",IF(AF12:AF111=\"\",\"0\",RANK(AF12:AF111,AF12:AF111,1)-1))","v":"0"},{"$f":"IF(ISERROR(X12:X111)=TRUE,\"\",IF(Z12:Z111=COUNT(AF12:AF111)+1,AD12:AD111,\"\"))","v":""},{"$f":"IF(R12:R111=\"\",\"\",IF(AH12:AH111=\"\",\"0\",RANK(AH12:AH111,AH12:AH111,1)-1))","v":"0"},{"$f":"IF(ISERROR(X12:X111)=TRUE,\"\",IF(Z12:Z111=COUNT(AF12:AF111)+COUNT(AH12:AH111)+1,AD12:AD111,\"\"))","v":""},{"$f":"IF(R12:R111=\"\",\"\",IF(AJ12:AJ111=\"\",\"0\",RANK(AJ12:AJ111,AJ12:AJ111,1)-1))","v":"0"},{"$f":"AQ12:AQ111","v":"Voves  Jindřich  [CZE] "},{"$f":"COUNTIF(AS12:AS12,\"W\")","v":0},{"$f":"IF(AR12=\"\",\"\",COUNTIF(AR12:AR12,\"-\"))","v":0},{"$f":"IF(AQ12:AQ111=\"BYE\",\"\",IF(AS12:AS111=\"W\",\"\",IF(AS7=\"N\",IF(AP12:AP111<=COUNT(Q12:Q111),AP12:AP111-AM12:AM111,\"\"),IF(AP12:AP111<=COUNT(Q12:Q111),AP12:AP111-AM12:AM111,AP12:AP111-AM12:AM111+AN12:AN111-1))))","v":1},{"$f":"IF(R12:R111=\"\",\"\",IF(AP11:AP110+1<=COUNT(Q12:Q111),AP11:AP110+1,COUNT(Q12:Q111)+1))","v":1},{"$f":"IF(R12:R111=\"\",\"BYE\",IF(ISERROR(VLOOKUP(A12:A111,T12:U111,2,FALSE))=TRUE,\"\",VLOOKUP(A12:A111,T12:U111,2,FALSE)))","v":"Voves  Jindřich  [CZE] "},{"$f":"IF(C12:C111=\"BYE\", \"\",IF(A12:A111=\"\",\"\",IF(ISERROR(VLOOKUP(A12:A111,T12:V111,3,FALSE))=TRUE,\"\",VLOOKUP(A12:A111,T12:V111,3,FALSE))))","v":37.204000000000001}]
[2,{"$f":"IF(REG!B12<>\"\",REG!B12,\"\")","v":""},{"$f":"IF(REG!C12<>\"\",REG!G12,\"\")","v":"Rezková  Anna  [CZE] "},{"$f":"IF('G Q 1-2'!R13=\"\",\"DNR\",IF('G Q 1-2'!R13=\"-\",+'G Q 1-2'!D13,+'G Q 1-2'!R13))","v":38.090000000000003},null,null,null,38.090000000000003,2,null,null,null,null,null,"","",2,38.090000000000003,2,2,"Rezková  Anna  [CZE] ",38.090000000000003,{"$f":"IF(R13=\"\",\"\",COUNTIF(R12:R13,\"-\"))","v":0},0,"","","","","","0",{"$f":"IF(R13=\"\",\"\",IF(AD13=\"0\",\"0\",COUNTIF(AD12:AD12,AD13)))","v":"0"},"","0","","0","","0","Rezková  Anna  [CZE] ",{"$f":"COUNTIF(AS12:AS13,\"W\")","v":0},{"$f":"IF(AR13=\"\",\"\",COUNTIF(AR12:AR13,\"-\"))","v":0},2,2,"Rezková  Anna  [CZE] ",38.090000000000003]
[3,{"$f":"IF(REG!B13<>\"\",REG!B13,\"\")","v":""},{"$f":"IF(REG!C13<>\"\",REG!G13,\"\")","v":""},{"$f":"IF('G Q 1-2'!R14=\"\",\"DNR\",IF('G Q 1-2'!R14=\"-\",+'G Q 1-2'!D14,+'G Q 1-2'!R14))","v":"DNR"},null,null,null,"-","",null,null,null,null,null,"","","","-",3,3,"","-",{"$f":"IF(R14=\"\",\"\",COUNTIF(R12:R14,\"-\"))","v":1},"","","","","","","0",{"$f":"IF(R14=\"\",\"\",IF(AD14=\"0\",\"0\",COUNTIF(AD12:AD13,AD14)))","v":"0"},"","0","","0","","0","",{"$f":"COUNTIF(AS12:AS14,\"W\")","v":0},{"$f":"IF(AR14=\"\",\"\",COUNTIF(AR12:AR14,\"-\"))","v":1},3,3,"","-"]
[4,{"$f":"IF(REG!B14<>\"\",REG!B14,\"\")","v":""},{"$f":"IF(REG!C14<>\"\",REG!G14,\"\")","v":""},{"$f":"IF('G Q 1-2'!R15=\"\",\"DNR\",IF('G Q 1-2'!R15=\"-\",+'G Q 1-2'!D15,+'G Q 1-2'!R15))","v":"DNR"},null,null,null,"-","",null,null,null,null,null,"","","","-",3,4,"","-",{"$f":"IF(R15=\"\",\"\",COUNTIF(R12:R15,\"-\"))","v":2},"","","","","","","0",{"$f":"IF(R15=\"\",\"\",IF(AD15=\"0\",\"0\",COUNTIF(AD12:AD14,AD15)))","v":"0"},"","0","","0","","0","",{"$f":"COUNTIF(AS12:AS15,\"W\")","v":0},{"$f":"IF(AR15=\"\",\"\",COUNTIF(AR12:AR15,\"-\"))","v":2},4,3,"","-"]
[5,{"$f":"IF(REG!B15<>\"\",REG!B15,\"\")","v":""},{"$f":"IF(REG!C15<>\"\",REG!G15,\"\")","v":""},{"$f":"IF('G Q 1-2'!R16=\"\",\"DNR\",IF('G Q 1-2'!R16=\"-\",+'G Q 1-2'!D16,+'G Q 1-2'!R16))","v":"DNR"},null,null,null,"-","",null,null,null,null,null,"","","","-",3,5,"","-",{"$f":"IF(R16=\"\",\"\",COUNTIF(R12:R16,\"-\"))","v":3},"","","","","","","0",{"$f":"IF(R16=\"\",\"\",IF(AD16=\"0\",\"0\",COUNTIF(AD12:AD15,AD16)))","v":"0"},"","0","","0","","0","",{"$f":"COUNTIF(AS12:AS16,\"W\")","v":0},{"$f":"IF(AR16=\"\",\"\",COUNTIF(AR12:AR16,\"-\"))","v":3},5,3,"","-"]
[6,{"$f":"IF(REG!B16<>\"\",REG!B16,\"\")","v":""},{"$f":"IF(REG!C16<>\"\",REG!G16,\"\")","v":""},{"$f":"IF('G Q 1-2'!R17=\"\",\"DNR\",IF('G Q 1-2'!R17=\"-\",+'G Q 1-2'!D17,+'G Q 1-2'!R17))","v":"DNR"},null,null,null,"-","",null,null,null,null,null,"","","","-",3,6,"","-",{"$f":"IF(R17=\"\",\"\",COUNTIF(R12:R17,\"-\"))","v":4},"","","","","","","0",{"$f":"IF(R17=\"\",\"\",IF(AD17=\"0\",\"0\",COUNTIF(AD12:AD16,AD17)))","v":"0"},"","0","","0","","0","",{"$f":"COUNTIF(AS12:AS17,\"W\")","v":0},{"$f":"IF(AR17=\"\",\"\",COUNTIF(AR12:AR17,\"-\"))","v":4},6,3,"","-"]
[7,{"$f":"IF(REG!B17<>\"\",REG!B17,\"\")","v":""},{"$f":"IF(REG!C17<>\"\",REG!G17,\"\")","v":""},{"$f":"IF('G Q 1-2'!R18=\"\",\"DNR\",IF('G Q 1-2'!R18=\"-\",+'G Q 1-2'!D18,+'G Q 1-2'!R18))","v":"DNR"},null,null,null,"-","",null,null,null,null,null,"","","","-",3,7,"","-",{"$f":"IF(R18=\"\",\"\",COUNTIF(R12:R18,\"-\"))","v":5},"","","","","","","0",{"$f":"IF(R18=\"\",\"\",IF(R18=\"\",\"\",IF(AD18=\"0\",\"0\",COUNTIF(AD12:AD17,AD18))))","v":"0"},"","0","","0","","0","",{"$f":"COUNTIF(AS12:AS18,\"W\")","v":0},{"$f":"IF(AR18=\"\",\"\",COUNTIF(AR12:AR18,\"-\"))","v":5},7,3,"","-"]
[8,{"$f":"IF(REG!B18<>\"\",REG!B18,\"\")","v":""},{"$f":"IF(REG!C18<>\"\",REG!G18,\"\")","v":""},{"$f":"IF('G Q 1-2'!R19=\"\",\"DNR\",IF('G Q 1-2'!R19=\"-\",+'G Q 1-2'!D19,+'G Q 1-2'!R19))","v":"DNR"},null,null,null,"-","",null,null,null,null,null,"","","","-",3,8,"","-",{"$f":"IF(R19=\"\",\"\",COUNTIF(R12:R19,\"-\"))","v":6},"","","","","","","0",{"$f":"IF(R19=\"\",\"\",IF(R19=\"\",\"\",IF(AD19=\"0\",\"0\",COUNTIF(AD12:AD18,AD19))))","v":"0"},"","0","","0","","0","",{"$f":"COUNTIF(AS12:AS19,\"W\")","v":0},{"$f":"IF(AR19=\"\",\"\",COUNTIF(AR12:AR19,\"-\"))","v":6},8,3,"","-"]
[9,{"$f":"IF(REG!B19<>\"\",REG!B19,\"\")","v":""},{"$f":"IF(REG!C19<>\"\",REG!G19,\"\")","v":""},{"$f":"IF('G Q 1-2'!R20=\"\",\"DNR\",IF('G Q 1-2'!R20=\"-\",+'G Q 1-2'!D20,+'G Q 1-2'!R20))","v":"DNR"},null,null,null,"-","",null,null,null,null,null,"","","","-",3,9,"","-",{"$f":"IF(R20=\"\",\"\",COUNTIF(R12:R20,\"-\"))","v":7},"","","","","","","0",{"$f":"IF(R20=\"\",\"\",IF(R20=\"\",\"\",IF(AD20=\"0\",\"0\",COUNTIF(AD12:AD19,AD20))))","v":"0"},"","0","","0","","0","",{"$f":"COUNTIF(AS12:AS20,\"W\")","v":0},{"$f":"IF(AR20=\"\",\"\",COUNTIF(AR12:AR20,\"-\"))","v":7},9,3,"","-"]
[10,{"$f":"IF(REG!B20<>\"\",REG!B20,\"\")","v":""},{"$f":"IF(REG!C20<>\"\",REG!G20,\"\")","v":""},{"$f":"IF('G Q 1-2'!R21=\"\",\"DNR\",IF('G Q 1-2'!R21=\"-\",+'G Q 1-2'!D21,+'G Q 1-2'!R21))","v":"DNR"},null,null,null,"-","",null,null,null,null,null,"","","","-",3,10,"","-",{"$f":"IF(R21=\"\",\"\",COUNTIF(R12:R21,\"-\"))","v":8},"","","","","","","0",{"$f":"IF(R21=\"\",\"\",IF(AD21=\"0\",\"0\",COUNTIF(AD12:AD20,AD21)))","v":"0"},"","0","","0","","0","",{"$f":"COUNTIF(AS12:AS21,\"W\")","v":0},{"$f":"IF(AR21=\"\",\"\",COUNTIF(AR12:AR21,\"-\"))","v":8},10,3,"","-"]
[11,{"$f":"IF(REG!B21<>\"\",REG!B21,\"\")","v":""},{"$f":"IF(REG!C21<>\"\",REG!G21,\"\")","v":""},{"$f":"IF('G Q 1-2'!R22=\"\",\"DNR\",IF('G Q 1-2'!R22=\"-\",+'G Q 1-2'!D22,+'G Q 1-2'!R22))","v":"DNR"},null,null,null,"-","",null,null,null,null,null,"","","","-",3,11,"","-",{"$f":"IF(R22=\"\",\"\",COUNTIF(R12:R22,\"-\"))","v":9},"","","","","","","0",{"$f":"IF(R22=\"\",\"\",IF(AD22=\"0\",\"0\",COUNTIF(AD1:AD21,AD22)))","v":"0"},"","0","","0","","0","",{"$f":"COUNTIF(AS12:AS22,\"W\")","v":0},{"$f":"IF(AR22=\"\",\"\",COUNTIF(AR12:AR22,\"-\"))","v":9},11,3,"","-"]
[12,{"$f":"IF(REG!B22<>\"\",REG!B22,\"\")","v":""},{"$f":"IF(REG!C22<>\"\",REG!G22,\"\")","v":""},{"$f":"IF('G Q 1-2'!R23=\"\",\"DNR\",IF('G Q 1-2'!R23=\"-\",+'G Q 1-2'!D23,+'G Q 1-2'!R23))","v":"DNR"},null,null,null,"-","",null,null,null,null,null,"","","","-",3,12,"","-",{"$f":"IF(R23=\"\",\"\",COUNTIF(R12:R23,\"-\"))","v":10},"","","","","","","0",{"$f":"IF(R23=\"\",\"\",IF(AD23=\"0\",\"0\",COUNTIF(AD12:AD22,AD23)))","v":"0"},"","0","","0","","0","",{"$f":"COUNTIF(AS12:AS23,\"W\")","v":0},{"$f":"IF(AR23=\"\",\"\",COUNTIF(AR12:AR23,\"-\"))","v":10},12,3,"","-"]
[13,{"$f":"IF(REG!B23<>\"\",REG!B23,\"\")","v":""},{"$f":"IF(REG!C23<>\"\",REG!G23,\"\")","v":""},{"$f":"IF('G Q 1-2'!R24=\"\",\"DNR\",IF('G Q 1-2'!R24=\"-\",+'G Q 1-2'!D24,+'G Q 1-2'!R24))","v":"DNR"},null,null,null,"-","",null,null,null,null,null,"","","","-",3,13,"","-",{"$f":"IF(R24=\"\",\"\",COUNTIF(R12:R24,\"-\"))","v":11},"","","","","","","0",{"$f":"IF(R24=\"\",\"\",IF(AD24=\"0\",\"0\",COUNTIF(AD12:AD23,AD24)))","v":"0"},"","0","","0","","0","",{"$f":"COUNTIF(AS12:AS24,\"W\")","v":0},{"$f":"IF(AR24=\"\",\"\",COUNTIF(AR12:AR24,\"-\"))","v":11},13,3,"","-"]
[14,{"$f":"IF(REG!B24<>\"\",REG!B24,\"\")","v":""},{"$f":"IF(REG!C24<>\"\",REG!G24,\"\")","v":""},{"$f":"IF('G Q 1-2'!R25=\"\",\"DNR\",IF('G Q 1-2'!R25=\"-\",+'G Q 1-2'!D25,+'G Q 1-2'!R25))","v":"DNR"},null,null,null,"-","",null,null,null,null,null,"","","","-",3,14,"","-",{"$f":"IF(R25=\"\",\"\",COUNTIF(R12:R25,\"-\"))","v":12},"","","","","","","0",{"$f":"IF(R25=\"\",\"\",IF(AD25=\"0\",\"0\",COUNTIF(AD12:AD24,AD25)))","v":"0"},"","0","","0","","0","",{"$f":"COUNTIF(AS12:AS25,\"W\")","v":0},{"$f":"IF(AR25=\"\",\"\",COUNTIF(AR12:AR25,\"-\"))","v":12},14,3,"","-"]
[15,{"$f":"IF(REG!B25<>\"\",REG!B25,\"\")","v":""},{"$f":"IF(REG!C25<>\"\",REG!G25,\"\")","v":""},{"$f":"IF('G Q 1-2'!R26=\"\",\"DNR\",IF('G Q 1-2'!R26=\"-\",+'G Q 1-2'!D26,+'G Q 1-2'!R26))","v":"DNR"},null,null,null,"-","",null,null,null,null,null,"","","","-",3,15,"","-",{"$f":"IF(R26=\"\",\"\",COUNTIF(R12:R26,\"-\"))","v":13},"","","","","","","0",{"$f":"IF(R26=\"\",\"\",IF(AD26=\"0\",\"0\",COUNTIF(AD12:AD25,AD26)))","v":"0"},"","0","","0","","0","",{"$f":"COUNTIF(AS12:AS26,\"W\")","v":0},{"$f":"IF(AR26=\"\",\"\",COUNTIF(AR12:AR26,\"-\"))","v":13},15,3,"","-"]
[16,{"$f":"IF(REG!B26<>\"\",REG!B26,\"\")","v":""},{"$f":"IF(REG!C26<>\"\",REG!G26,\"\")","v":""},{"$f":"IF('G Q 1-2'!R27=\"\",\"DNR\",IF('G Q 1-2'!R27=\"-\",+'G Q 1-2'!D27,+'G Q 1-2'!R27))","v":"DNR"},null,null,null,"-","",null,null,null,null,null,"","","","-",3,16,"","-",{"$f":"IF(R27=\"\",\"\",COUNTIF(R12:R27,\"-\"))","v":14},"","","","","","","0",{"$f":"IF(R27=\"\",\"\",IF(AD27=\"0\",\"0\",COUNTIF(AD12:AD26,AD27)))","v":"0"},"","0","","0","","0","",{"$f":"COUNTIF(AS12:AS27,\"W\")","v":0},{"$f":"IF(AR27=\"\",\"\",COUNTIF(AR12:AR27,\"-\"))","v":14},16,3,"","-"]
[17,{"$f":"IF(REG!B27<>\"\",REG!B27,\"\")","v":""},{"$f":"IF(REG!C27<>\"\",REG!G27,\"\")","v":""},{"$f":"IF('G Q 1-2'!R28=\"\",\"DNR\",IF('G Q 1-2'!R28=\"-\",+'G Q 1-2'!D28,+'G Q 1-2'!R28))","v":"DNR"},null,null,null,"-","",null,null,null,null,null,"","","","-",3,17,"","-",{"$f":"IF(R28=\"\",\"\",COUNTIF(R12:R28,\"-\"))","v":15},"","","","","","","0",{"$f":"IF(R28=\"\",\"\",IF(AD28=\"0\",\"0\",COUNTIF(AD12:AD27,AD28)))","v":"0"},"","0","","0","","0","",{"$f":"COUNTIF(AS12:AS28,\"W\")","v":0},{"$f":"IF(AR28=\"\",\"\",COUNTIF(AR12:AR28,\"-\"))","v":15},17,3,"","-"]
[18,{"$f":"IF(REG!B28<>\"\",REG!B28,\"\")","v":""},{"$f":"IF(REG!C28<>\"\",REG!G28,\"\")","v":""},{"$f":"IF('G Q 1-2'!R29=\"\",\"DNR\",IF('G Q 1-2'!R29=\"-\",+'G Q 1-2'!D29,+'G Q 1-2'!R29))","v":"DNR"},null,null,null,"-","",null,null,null,null,null,"","","","-",3,18,"","-",{"$f":"IF(R29=\"\",\"\",COUNTIF(R12:R29,\"-\"))","v":16},"","","","","","","0",{"$f":"IF(R29=\"\",\"\",IF(AD29=\"0\",\"0\",COUNTIF(AD12:AD28,AD29)))","v":"0"},"","0","","0","","0","",{"$f":"COUNTIF(AS12:AS29,\"W\")","v":0},{"$f":"IF(AR29=\"\",\"\",COUNTIF(AR12:AR29,\"-\"))","v":16},18,3,"","-"]
[19,{"$f":"IF(REG!B29<>\"\",REG!B29,\"\")","v":""},{"$f":"IF(REG!C29<>\"\",REG!G29,\"\")","v":""},{"$f":"IF('G Q 1-2'!R30=\"\",\"DNR\",IF('G Q 1-2'!R30=\"-\",+'G Q 1-2'!D30,+'G Q 1-2'!R30))","v":"DNR"},null,null,null,"-","",null,null,null,null,null,"","","","-",3,19,"","-",{"$f":"IF(R30=\"\",\"\",COUNTIF(R12:R30,\"-\"))","v":17},"","","","","","","0",{"$f":"IF(R30=\"\",\"\",IF(AD30=\"0\",\"0\",COUNTIF(AD12:AD29,AD30)))","v":"0"},"","0","","0","","0","",{"$f":"COUNTIF(AS12:AS30,\"W\")","v":0},{"$f":"IF(AR30=\"\",\"\",COUNTIF(AR12:AR30,\"-\"))","v":17},19,3,"","-"]
[20,{"$f":"IF(REG!B30<>\"\",REG!B30,\"\")","v":""},{"$f":"IF(REG!C30<>\"\",REG!G30,\"\")","v":""},{"$f":"IF('G Q 1-2'!R31=\"\",\"DNR\",IF('G Q 1-2'!R31=\"-\",+'G Q 1-2'!D31,+'G Q 1-2'!R31))","v":"DNR"},null,null,null,"-","",null,null,null,null,null,"","","","-",3,20,"","-",{"$f":"IF(R31=\"\",\"\",COUNTIF(R12:R31,\"-\"))","v":18},"","","","","","","0",{"$f":"IF(R31=\"\",\"\",IF(AD31=\"0\",\"0\",COUNTIF(AD12:AD30,AD31)))","v":"0"},"","0","","0","","0","",{"$f":"COUNTIF(AS12:AS31,\"W\")","v":0},{"$f":"IF(AR31=\"\",\"\",COUNTIF(AR12:AR31,\"-\"))","v":18},20,3,"","-"]
[21,{"$f":"IF(REG!B31<>\"\",REG!B31,\"\")","v":""},{"$f":"IF(REG!C31<>\"\",REG!G31,\"\")","v":""},{"$f":"IF('G Q 1-2'!R32=\"\",\"DNR\",IF('G Q 1-2'!R32=\"-\",+'G Q 1-2'!D32,+'G Q 1-2'!R32))","v":"DNR"},null,null,null,"-","",null,null,null,null,null,"","","","-",3,21,"","-",{"$f":"IF(R32=\"\",\"\",COUNTIF(R12:R32,\"-\"))","v":19},"","","","","","","0",{"$f":"IF(R32=\"\",\"\",IF(AD32=\"0\",\"0\",COUNTIF(AD12:AD31,AD32)))","v":"0"},"","0","","0","","0","",{"$f":"COUNTIF(AS12:AS32,\"W\")","v":0},{"$f":"IF(AR32=\"\",\"\",COUNTIF(AR12:AR32,\"-\"))","v":19},21,3,"","-"]
[22,{"$f":"IF(REG!B32<>\"\",REG!B32,\"\")","v":""},{"$f":"IF(REG!C32<>\"\",REG!G32,\"\")","v":""},{"$f":"IF('G Q 1-2'!R33=\"\",\"DNR\",IF('G Q 1-2'!R33=\"-\",+'G Q 1-2'!D33,+'G Q 1-2'!R33))","v":"DNR"},null,null,null,"-","",null,null,null,null,null,"","","","-",3,22,"","-",{"$f":"IF(R33=\"\",\"\",COUNTIF(R12:R33,\"-\"))","v":20},"","","","","","","0",{"$f":"IF(R33=\"\",\"\",IF(AD33=\"0\",\"0\",COUNTIF(AD12:AD32,AD33)))","v":"0"},"","0","","0","","0","",{"$f":"COUNTIF(AS12:AS33,\"W\")","v":0},{"$f":"IF(AR33=\"\",\"\",COUNTIF(AR12:AR33,\"-\"))","v":20},22,3,"","-"]
[23,{"$f":"IF(REG!B33<>\"\",REG!B33,\"\")","v":""},{"$f":"IF(REG!C33<>\"\",REG!G33,\"\")","v":""},{"$f":"IF('G Q 1-2'!R34=\"\",\"DNR\",IF('G Q 1-2'!R34=\"-\",+'G Q 1-2'!D34,+'G Q 1-2'!R34))","v":"DNR"},null,null,null,"-","",null,null,null,null,null,"","","","-",3,23,"","-",{"$f":"IF(R34=\"\",\"\",COUNTIF(R12:R34,\"-\"))","v":21},"","","","","","","0",{"$f":"IF(R34=\"\",\"\",IF(AD34=\"0\",\"0\",COUNTIF(AD12:AD33,AD34)))","v":"0"},"","0","","0","","0","",{"$f":"COUNTIF(AS12:AS34,\"W\")","v":0},{"$f":"IF(AR34=\"\",\"\",COUNTIF(AR12:AR34,\"-\"))","v":21},23,3,"","-"]
[24,{"$f":"IF(REG!B34<>\"\",REG!B34,\"\")","v":""},{"$f":"IF(REG!C34<>\"\",REG!G34,\"\")","v":""},{"$f":"IF('G Q 1-2'!R35=\"\",\"DNR\",IF('G Q 1-2'!R35=\"-\",+'G Q 1-2'!D35,+'G Q 1-2'!R35))","v":"DNR"},null,null,null,"-","",null,null,null,null,null,"","","","-",3,24,"","-",{"$f":"IF(R35=\"\",\"\",COUNTIF(R12:R35,\"-\"))","v":22},"","","","","","","0",{"$f":"IF(R35=\"\",\"\",IF(AD35=\"0\",\"0\",COUNTIF(AD12:AD34,AD35)))","v":"0"},"","0","","0","","0","",{"$f":"COUNTIF(AS12:AS35,\"W\")","v":0},{"$f":"IF(AR35=\"\",\"\",COUNTIF(AR12:AR35,\"-\"))","v":22},24,3,"","-"]
[25,{"$f":"IF(REG!B35<>\"\",REG!B35,\"\")","v":""},{"$f":"IF(REG!C35<>\"\",REG!G35,\"\")","v":""},{"$f":"IF('G Q 1-2'!R36=\"\",\"DNR\",IF('G Q 1-2'!R36=\"-\",+'G Q 1-2'!D36,+'G Q 1-2'!R36))","v":"DNR"},null,null,null,"-","",null,null,null,null,null,"","","","-",3,25,"","-",{"$f":"IF(R36=\"\",\"\",COUNTIF(R12:R36,\"-\"))","v":23},"","","","","","","0",{"$f":"IF(R36=\"\",\"\",IF(AD36=\"0\",\"0\",COUNTIF(AD12:AD35,AD36)))","v":"0"},"","0","","0","","0","",{"$f":"COUNTIF(AS12:AS36,\"W\")","v":0},{"$f":"IF(AR36=\"\",\"\",COUNTIF(AR12:AR36,\"-\"))","v":23},25,3,"","-"]
[26,{"$f":"IF(REG!B36<>\"\",REG!B36,\"\")","v":""},{"$f":"IF(REG!C36<>\"\",REG!G36,\"\")","v":""},{"$f":"IF('G Q 1-2'!R37=\"\",\"DNR\",IF('G Q 1-2'!R37=\"-\",+'G Q 1-2'!D37,+'G Q 1-2'!R37))","v":"DNR"},null,null,null,"-","",null,null,null,null,null,"","","","-",3,26,"","-",{"$f":"IF(R37=\"\",\"\",COUNTIF(R12:R37,\"-\"))","v":24},"","","","","","","0",{"$f":"IF(R37=\"\",\"\",IF(AD37=\"0\",\"0\",COUNTIF(AD12:AD36,AD37)))","v":"0"},"","0","","0","","0","",{"$f":"COUNTIF(AS12:AS37,\"W\")","v":0},{"$f":"IF(AR37=\"\",\"\",COUNTIF(AR12:AR37,\"-\"))","v":24},26,3,"","-"]
[27,{"$f":"IF(REG!B37<>\"\",REG!B37,\"\")","v":""},{"$f":"IF(REG!C37<>\"\",REG!G37,\"\")","v":""},{"$f":"IF('G Q 1-2'!R38=\"\",\"DNR\",IF('G Q 1-2'!R38=\"-\",+'G Q 1-2'!D38,+'G Q 1-2'!R38))","v":"DNR"},null,null,null,"-","",null,null,null,null,null,"","","","-",3,27,"","-",{"$f":"IF(R38=\"\",\"\",COUNTIF(R12:R38,\"-\"))","v":25},"","","","","","","0",{"$f":"IF(R38=\"\",\"\",IF(AD38=\"0\",\"0\",COUNTIF(AD12:AD37,AD38)))","v":"0"},"","0","","0","","0","",{"$f":"COUNTIF(AS12:AS38,\"W\")","v":0},{"$f":"IF(AR38=\"\",\"\",COUNTIF(AR12:AR38,\"-\"))","v":25},27,3,"","-"]
[28,{"$f":"IF(REG!B38<>\"\",REG!B38,\"\")","v":""},{"$f":"IF(REG!C38<>\"\",REG!G38,\"\")","v":""},{"$f":"IF('G Q 1-2'!R39=\"\",\"DNR\",IF('G Q 1-2'!R39=\"-\",+'G Q 1-2'!D39,+'G Q 1-2'!R39))","v":"DNR"},null,null,null,"-","",null,null,null,null,null,"","","","-",3,28,"","-",{"$f":"IF(R39=\"\",\"\",COUNTIF(R12:R39,\"-\"))","v":26},"","","","","","","0",{"$f":"IF(R39=\"\",\"\",IF(AD39=\"0\",\"0\",COUNTIF(AD12:AD38,AD39)))","v":"0"},"","0","","0","","0","",{"$f":"COUNTIF(AS12:AS39,\"W\")","v":0},{"$f":"IF(AR39=\"\",\"\",COUNTIF(AR12:AR39,\"-\"))","v":26},28,3,"","-"]
[29,{"$f":"IF(REG!B39<>\"\",REG!B39,\"\")","v":""},{"$f":"IF(REG!C39<>\"\",REG!G39,\"\")","v":""},{"$f":"IF('G Q 1-2'!R40=\"\",\"DNR\",IF('G Q 1-2'!R40=\"-\",+'G Q 1-2'!D40,+'G Q 1-2'!R40))","v":"DNR"},null,null,null,"-","",null,null,null,null,null,"","","","-",3,29,"","-",{"$f":"IF(R40=\"\",\"\",COUNTIF(R12:R40,\"-\"))","v":27},"","","","","","","0",{"$f":"IF(R40=\"\",\"\",IF(AD40=\"0\",\"0\",COUNTIF(AD12:AD39,AD40)))","v":"0"},"","0","","0","","0","",{"$f":"COUNTIF(AS12:AS40,\"W\")","v":0},{"$f":"IF(AR40=\"\",\"\",COUNTIF(AR12:AR40,\"-\"))","v":27},29,3,"","-"]
[30,{"$f":"IF(REG!B40<>\"\",REG!B40,\"\")","v":""},{"$f":"IF(REG!C40<>\"\",REG!G40,\"\")","v":""},{"$f":"IF('G Q 1-2'!R41=\"\",\"DNR\",IF('G Q 1-2'!R41=\"-\",+'G Q 1-2'!D41,+'G Q 1-2'!R41))","v":"DNR"},null,null,null,"-","",null,null,null,null,null,"","","","-",3,30,"","-",{"$f":"IF(R41=\"\",\"\",COUNTIF(R12:R41,\"-\"))","v":28},"","","","","","","0",{"$f":"IF(R41=\"\",\"\",IF(AD41=\"0\",\"0\",COUNTIF(AD12:AD40,AD41)))","v":"0"},"","0","","0","","0","",{"$f":"COUNTIF(AS12:AS41,\"W\")","v":0},{"$f":"IF(AR41=\"\",\"\",COUNTIF(AR12:AR41,\"-\"))","v":28},30,3,"","-"]
[31,{"$f":"IF(REG!B41<>\"\",REG!B41,\"\")","v":""},{"$f":"IF(REG!C41<>\"\",REG!G41,\"\")","v":""},{"$f":"IF('G Q 1-2'!R42=\"\",\"DNR\",IF('G Q 1-2'!R42=\"-\",+'G Q 1-2'!D42,+'G Q 1-2'!R42))","v":"DNR"},null,null,null,"-","",null,null,null,null,null,"","","","-",3,31,"","-",{"$f":"IF(R42=\"\",\"\",COUNTIF(R12:R42,\"-\"))","v":29},"","","","","","","0",{"$f":"IF(R42=\"\",\"\",IF(AD42=\"0\",\"0\",COUNTIF(AD12:AD41,AD42)))","v":"0"},"","0","","0","","0","",{"$f":"COUNTIF(AS12:AS42,\"W\")","v":0},{"$f":"IF(AR42=\"\",\"\",COUNTIF(AR12:AR42,\"-\"))","v":29},31,3,"","-"]
[32,{"$f":"IF(REG!B42<>\"\",REG!B42,\"\")","v":""},{"$f":"IF(REG!C42<>\"\",REG!G42,\"\")","v":""},{"$f":"IF('G Q 1-2'!R43=\"\",\"DNR\",IF('G Q 1-2'!R43=\"-\",+'G Q 1-2'!D43,+'G Q 1-2'!R43))","v":"DNR"},null,null,null,"-","",null,null,null,null,null,"","","","-",3,32,"","-",{"$f":"IF(R43=\"\",\"\",COUNTIF(R12:R43,\"-\"))","v":30},"","","","","","","0",{"$f":"IF(R43=\"\",\"\",IF(AD43=\"0\",\"0\",COUNTIF(AD12:AD42,AD43)))","v":"0"},"","0","","0","","0","",{"$f":"COUNTIF(AS12:AS43,\"W\")","v":0},{"$f":"IF(AR43=\"\",\"\",COUNTIF(AR12:AR43,\"-\"))","v":30},32,3,"","-"]
[33,{"$f":"IF(REG!B43<>\"\",REG!B43,\"\")","v":""},{"$f":"IF(REG!C43<>\"\",REG!G43,\"\")","v":""},{"$f":"IF('G Q 1-2'!R44=\"\",\"DNR\",IF('G Q 1-2'!R44=\"-\",+'G Q 1-2'!D44,+'G Q 1-2'!R44))","v":"DNR"},null,null,null,"-","",null,null,null,null,null,"","","",{"$f":"IF(AND(ISBLANK(D44),ISBLANK(K44)),\"\",IF(AND(H44=\"-\",O44=\"-\"),\"-\",IF(AND(H44=\"-\",ISBLANK(K44)),\"-\",MIN(H44,O44))))","v":"-"},3,33,"","-",{"$f":"IF(R44=\"\",\"\",COUNTIF(R12:R44,\"-\"))","v":31},"","","","","","","0",{"$f":"IF(R44=\"\",\"\",IF(AD44=\"0\",\"0\",COUNTIF(AD12:AD43,AD44)))","v":"0"},"","0","","0","","0","",{"$f":"COUNTIF(AS12:AS44,\"W\")","v":0},{"$f":"IF(AR44=\"\",\"\",COUNTIF(AR12:AR44,\"-\"))","v":31},33,3,"","-"]
[34,{"$f":"IF(REG!B44<>\"\",REG!B44,\"\")","v":""},{"$f":"IF(REG!C44<>\"\",REG!G44,\"\")","v":""},{"$f":"IF('G Q 1-2'!R45=\"\",\"DNR\",IF('G Q 1-2'!R45=\"-\",+'G Q 1-2'!D45,+'G Q 1-2'!R45))","v":"DNR"},null,null,null,"-","",null,null,null,null,null,"","","","-",3,34,"","-",{"$f":"IF(R45=\"\",\"\",COUNTIF(R12:R45,\"-\"))","v":32},"","","","","","","0",{"$f":"IF(R45=\"\",\"\",IF(AD45=\"0\",\"0\",COUNTIF(AD12:AD44,AD45)))","v":"0"},"","0","","0","","0","",{"$f":"COUNTIF(AS12:AS45,\"W\")","v":0},{"$f":"IF(AR45=\"\",\"\",COUNTIF(AR12:AR45,\"-\"))","v":32},34,3,"","-"]
[35,{"$f":"IF(REG!B45<>\"\",REG!B45,\"\")","v":""},{"$f":"IF(REG!C45<>\"\",REG!G45,\"\")","v":""},{"$f":"IF('G Q 1-2'!R46=\"\",\"DNR\",IF('G Q 1-2'!R46=\"-\",+'G Q 1-2'!D46,+'G Q 1-2'!R46))","v":"DNR"},null,null,null,"-","",null,null,null,null,null,"","","","-",3,35,"","-",{"$f":"IF(R46=\"\",\"\",COUNTIF(R12:R46,\"-\"))","v":33},"","","","","","","0",{"$f":"IF(R46=\"\",\"\",IF(AD46=\"0\",\"0\",COUNTIF(AD12:AD45,AD46)))","v":"0"},"","0","","0","","0","",{"$f":"COUNTIF(AS12:AS46,\"W\")","v":0},{"$f":"IF(AR46=\"\",\"\",COUNTIF(AR12:AR46,\"-\"))","v":33},35,3,"","-"]
[36,{"$f":"IF(REG!B46<>\"\",REG!B46,\"\")","v":""},{"$f":"IF(REG!C46<>\"\",REG!G46,\"\")","v":""},{"$f":"IF('G Q 1-2'!R47=\"\",\"DNR\",IF('G Q 1-2'!R47=\"-\",+'G Q 1-2'!D47,+'G Q 1-2'!R47))","v":"DNR"},null,null,null,"-","",null,null,null,null,null,"","","","-",3,36,"","-",{"$f":"IF(R47=\"\",\"\",COUNTIF(R12:R47,\"-\"))","v":34},"","","","","","","0",{"$f":"IF(R47=\"\",\"\",IF(AD47=\"0\",\"0\",COUNTIF(AD12:AD46,AD47)))","v":"0"},"","0","","0","","0","",{"$f":"COUNTIF(AS12:AS47,\"W\")","v":0},{"$f":"IF(AR47=\"\",\"\",COUNTIF(AR12:AR47,\"-\"))","v":34},36,3,"","-"]
[37,{"$f":"IF(REG!B47<>\"\",REG!B47,\"\")","v":""},{"$f":"IF(REG!C47<>\"\",REG!G47,\"\")","v":""},{"$f":"IF('G Q 1-2'!R48=\"\",\"DNR\",IF('G Q 1-2'!R48=\"-\",+'G Q 1-2'!D48,+'G Q 1-2'!R48))","v":"DNR"},null,null,null,"-","",null,null,null,null,null,"","","","-",3,37,"","-",{"$f":"IF(R48=\"\",\"\",COUNTIF(R12:R48,\"-\"))","v":35},"","","","","","","0",{"$f":"IF(R48=\"\",\"\",IF(AD48=\"0\",\"0\",COUNTIF(AD12:AD47,AD48)))","v":"0"},"","0","","0","","0","",{"$f":"COUNTIF(AS12:AS48,\"W\")","v":0},{"$f":"IF(AR48=\"\",\"\",COUNTIF(AR12:AR48,\"-\"))","v":35},37,3,"","-"]
[38,{"$f":"IF(REG!B48<>\"\",REG!B48,\"\")","v":""},{"$f":"IF(REG!C48<>\"\",REG!G48,\"\")","v":""},{"$f":"IF('G Q 1-2'!R49=\"\",\"DNR\",IF('G Q 1-2'!R49=\"-\",+'G Q 1-2'!D49,+'G Q 1-2'!R49))","v":"DNR"},null,null,null,"-","",null,null,null,null,null,"","","","-",3,38,"","-",{"$f":"IF(R49=\"\",\"\",COUNTIF(R12:R49,\"-\"))","v":36},"","","","","","","0",{"$f":"IF(R49=\"\",\"\",IF(AD49=\"0\",\"0\",COUNTIF(AD12:AD48,AD49)))","v":"0"},"","0","","0","","0","",{"$f":"COUNTIF(AS12:AS49,\"W\")","v":0},{"$f":"IF(AR49=\"\",\"\",COUNTIF(AR12:AR49,\"-\"))","v":36},38,3,"","-"]
[39,{"$f":"IF(REG!B49<>\"\",REG!B49,\"\")","v":""},{"$f":"IF(REG!C49<>\"\",REG!G49,\"\")","v":""},{"$f":"IF('G Q 1-2'!R50=\"\",\"DNR\",IF('G Q 1-2'!R50=\"-\",+'G Q 1-2'!D50,+'G Q 1-2'!R50))","v":"DNR"},null,null,null,"-","",null,null,null,null,null,"","","","-",3,39,"","-",{"$f":"IF(R50=\"\",\"\",COUNTIF(R12:R50,\"-\"))","v":37},"","","","","","","0",{"$f":"IF(R50=\"\",\"\",IF(AD50=\"0\",\"0\",COUNTIF(AD12:AD49,AD50)))","v":"0"},"","0","","0","","0","",{"$f":"COUNTIF(AS12:AS50,\"W\")","v":0},{"$f":"IF(AR50=\"\",\"\",COUNTIF(AR12:AR50,\"-\"))","v":37},39,3,"","-"]
[40,{"$f":"IF(REG!B50<>\"\",REG!B50,\"\")","v":""},{"$f":"IF(REG!C50<>\"\",REG!G50,\"\")","v":""},{"$f":"IF('G Q 1-2'!R51=\"\",\"DNR\",IF('G Q 1-2'!R51=\"-\",+'G Q 1-2'!D51,+'G Q 1-2'!R51))","v":"DNR"},null,null,null,"-","",null,null,null,null,null,"","","","-",3,40,"","-",{"$f":"IF(R51=\"\",\"\",COUNTIF(R12:R51,\"-\"))","v":38},"","","","","","","0",{"$f":"IF(R51=\"\",\"\",IF(AD51=\"0\",\"0\",COUNTIF(AD12:AD50,AD51)))","v":"0"},"","0","","0","","0","",{"$f":"COUNTIF(AS12:AS51,\"W\")","v":0},{"$f":"IF(AR51=\"\",\"\",COUNTIF(AR12:AR51,\"-\"))","v":38},40,3,"","-"]
[41,{"$f":"IF(REG!B51<>\"\",REG!B51,\"\")","v":""},{"$f":"IF(REG!C51<>\"\",REG!G51,\"\")","v":""},{"$f":"IF('G Q 1-2'!R52=\"\",\"DNR\",IF('G Q 1-2'!R52=\"-\",+'G Q 1-2'!D52,+'G Q 1-2'!R52))","v":"DNR"},null,null,null,"-","",null,null,null,null,null,"","","","-",3,41,"","-",{"$f":"IF(R52=\"\",\"\",COUNTIF(R12:R52,\"-\"))","v":39},"","","","","","","0",{"$f":"IF(R52=\"\",\"\",IF(AD52=\"0\",\"0\",COUNTIF(AD12:AD51,AD52)))","v":"0"},"","0","","0","","0","",{"$f":"COUNTIF(AS12:AS52,\"W\")","v":0},{"$f":"IF(AR52=\"\",\"\",COUNTIF(AR12:AR52,\"-\"))","v":39},41,3,"","-"]
[42,{"$f":"IF(REG!B52<>\"\",REG!B52,\"\")","v":""},{"$f":"IF(REG!C52<>\"\",REG!G52,\"\")","v":""},{"$f":"IF('G Q 1-2'!R53=\"\",\"DNR\",IF('G Q 1-2'!R53=\"-\",+'G Q 1-2'!D53,+'G Q 1-2'!R53))","v":"DNR"},null,null,null,"-","",null,null,null,null,null,"","","","-",3,42,"","-",{"$f":"IF(R53=\"\",\"\",COUNTIF(R12:R53,\"-\"))","v":40},"","","","","","","0",{"$f":"IF(R53=\"\",\"\",IF(AD53=\"0\",\"0\",COUNTIF(AD12:AD52,AD53)))","v":"0"},"","0","","0","","0","",{"$f":"COUNTIF(AS12:AS53,\"W\")","v":0},{"$f":"IF(AR53=\"\",\"\",COUNTIF(AR12:AR53,\"-\"))","v":40},42,3,"","-"]
[43,{"$f":"IF(REG!B53<>\"\",REG!B53,\"\")","v":""},{"$f":"IF(REG!C53<>\"\",REG!G53,\"\")","v":""},{"$f":"IF('G Q 1-2'!R54=\"\",\"DNR\",IF('G Q 1-2'!R54=\"-\",+'G Q 1-2'!D54,+'G Q 1-2'!R54))","v":"DNR"},null,null,null,"-","",null,null,null,null,null,"","","","-",3,43,"","-",{"$f":"IF(R54=\"\",\"\",COUNTIF(R12:R54,\"-\"))","v":41},"","","","","","","0",{"$f":"IF(R54=\"\",\"\",IF(AD54=\"0\",\"0\",COUNTIF(AD12:AD53,AD54)))","v":"0"},"","0","","0","","0","",{"$f":"COUNTIF(AS12:AS54,\"W\")","v":0},{"$f":"IF(AR54=\"\",\"\",COUNTIF(AR12:AR54,\"-\"))","v":41},43,3,"","-"]
[44,{"$f":"IF(REG!B54<>\"\",REG!B54,\"\")","v":""},{"$f":"IF(REG!C54<>\"\",REG!G54,\"\")","v":""},{"$f":"IF('G Q 1-2'!R55=\"\",\"DNR\",IF('G Q 1-2'!R55=\"-\",+'G Q 1-2'!D55,+'G Q 1-2'!R55))","v":"DNR"},null,null,null,"-","",null,null,null,null,null,"","","","-",3,44,"","-",{"$f":"IF(R55=\"\",\"\",COUNTIF(R12:R55,\"-\"))","v":42},"","","","","","","0",{"$f":"IF(R55=\"\",\"\",IF(AD55=\"0\",\"0\",COUNTIF(AD12:AD54,AD55)))","v":"0"},"","0","","0","","0","",{"$f":"COUNTIF(AS12:AS55,\"W\")","v":0},{"$f":"IF(AR55=\"\",\"\",COUNTIF(AR12:AR55,\"-\"))","v":42},44,3,"","-"]
[45,{"$f":"IF(REG!B55<>\"\",REG!B55,\"\")","v":""},{"$f":"IF(REG!C55<>\"\",REG!G55,\"\")","v":""},{"$f":"IF('G Q 1-2'!R56=\"\",\"DNR\",IF('G Q 1-2'!R56=\"-\",+'G Q 1-2'!D56,+'G Q 1-2'!R56))","v":"DNR"},null,null,null,"-","",null,null,null,null,null,"","","","-",3,45,"","-",{"$f":"IF(R56=\"\",\"\",COUNTIF(R12:R56,\"-\"))","v":43},"","","","","","","0",{"$f":"IF(R56=\"\",\"\",IF(AD56=\"0\",\"0\",COUNTIF(AD12:AD55,AD56)))","v":"0"},"","0","","0","","0","",{"$f":"COUNTIF(AS12:AS56,\"W\")","v":0},{"$f":"IF(AR56=\"\",\"\",COUNTIF(AR12:AR56,\"-\"))","v":43},45,3,"","-"]
[46,{"$f":"IF(REG!B56<>\"\",REG!B56,\"\")","v":""},{"$f":"IF(REG!C56<>\"\",REG!G56,\"\")","v":""},{"$f":"IF('G Q 1-2'!R57=\"\",\"DNR\",IF('G Q 1-2'!R57=\"-\",+'G Q 1-2'!D57,+'G Q 1-2'!R57))","v":"DNR"},null,null,null,"-","",null,null,null,null,null,"","","","-",3,46,"","-",{"$f":"IF(R57=\"\",\"\",COUNTIF(R12:R57,\"-\"))","v":44},"","","","","","","0",{"$f":"IF(R57=\"\",\"\",IF(AD57=\"0\",\"0\",COUNTIF(AD12:AD56,AD57)))","v":"0"},"","0","","0","","0","",{"$f":"COUNTIF(AS12:AS57,\"W\")","v":0},{"$f":"IF(AR57=\"\",\"\",COUNTIF(AR12:AR57,\"-\"))","v":44},46,3,"","-"]
[47,{"$f":"IF(REG!B57<>\"\",REG!B57,\"\")","v":""},{"$f":"IF(REG!C57<>\"\",REG!G57,\"\")","v":""},{"$f":"IF('G Q 1-2'!R58=\"\",\"DNR\",IF('G Q 1-2'!R58=\"-\",+'G Q 1-2'!D58,+'G Q 1-2'!R58))","v":"DNR"},null,null,null,"-","",null,null,null,null,null,"","","","-",3,47,"","-",{"$f":"IF(R58=\"\",\"\",COUNTIF(R12:R58,\"-\"))","v":45},"","","","","","","0",{"$f":"IF(R58=\"\",\"\",IF(AD58=\"0\",\"0\",COUNTIF(AD12:AD57,AD58)))","v":"0"},"","0","","0","","0","",{"$f":"COUNTIF(AS12:AS58,\"W\")","v":0},{"$f":"IF(AR58=\"\",\"\",COUNTIF(AR12:AR58,\"-\"))","v":45},47,3,"","-"]
[48,{"$f":"IF(REG!B58<>\"\",REG!B58,\"\")","v":""},{"$f":"IF(REG!C58<>\"\",REG!G58,\"\")","v":""},{"$f":"IF('G Q 1-2'!R59=\"\",\"DNR\",IF('G Q 1-2'!R59=\"-\",+'G Q 1-2'!D59,+'G Q 1-2'!R59))","v":"DNR"},null,null,null,"-","",null,null,null,null,null,"","","","-",3,48,"","-",{"$f":"IF(R59=\"\",\"\",COUNTIF(R12:R59,\"-\"))","v":46},"","","","","","","0",{"$f":"IF(R59=\"\",\"\",IF(AD59=\"0\",\"0\",COUNTIF(AD12:AD58,AD59)))","v":"0"},"","0","","0","","0","",{"$f":"COUNTIF(AS12:AS59,\"W\")","v":0},{"$f":"IF(AR59=\"\",\"\",COUNTIF(AR12:AR59,\"-\"))","v":46},48,3,"","-"]
[49,{"$f":"IF(REG!B59<>\"\",REG!B59,\"\")","v":""},{"$f":"IF(REG!C59<>\"\",REG!G59,\"\")","v":""},{"$f":"IF('G Q 1-2'!R60=\"\",\"DNR\",IF('G Q 1-2'!R60=\"-\",+'G Q 1-2'!D60,+'G Q 1-2'!R60))","v":"DNR"},null,null,null,"-","",null,null,null,null,null,"","","","-",3,49,"","-",{"$f":"IF(R60=\"\",\"\",COUNTIF(R12:R60,\"-\"))","v":47},"","","","","","","0",{"$f":"IF(R60=\"\",\"\",IF(AD60=\"0\",\"0\",COUNTIF(AD12:AD59,AD60)))","v":"0"},"","0","","0","","0","",{"$f":"COUNTIF(AS12:AS60,\"W\")","v":0},{"$f":"IF(AR60=\"\",\"\",COUNTIF(AR12:AR60,\"-\"))","v":47},49,3,"","-"]
[50,{"$f":"IF(REG!B60<>\"\",REG!B60,\"\")","v":""},{"$f":"IF(REG!C60<>\"\",REG!G60,\"\")","v":""},{"$f":"IF('G Q 1-2'!R61=\"\",\"DNR\",IF('G Q 1-2'!R61=\"-\",+'G Q 1-2'!D61,+'G Q 1-2'!R61))","v":"DNR"},null,null,null,"-","",null,null,null,null,null,"","","","-",3,50,"","-",{"$f":"IF(R61=\"\",\"\",COUNTIF(R12:R61,\"-\"))","v":48},"","","","","","","0",{"$f":"IF(R61=\"\",\"\",IF(AD61=\"0\",\"0\",COUNTIF(AD12:AD60,AD61)))","v":"0"},"","0","","0","","0","",{"$f":"COUNTIF(AS12:AS61,\"W\")","v":0},{"$f":"IF(AR61=\"\",\"\",COUNTIF(AR12:AR61,\"-\"))","v":48},50,3,"","-"]
[51,{"$f":"IF(REG!B61<>\"\",REG!B61,\"\")","v":""},{"$f":"IF(REG!C61<>\"\",REG!G61,\"\")","v":""},{"$f":"IF('G Q 1-2'!R62=\"\",\"DNR\",IF('G Q 1-2'!R62=\"-\",+'G Q 1-2'!D62,+'G Q 1-2'!R62))","v":"DNR"},null,null,null,"-","",null,null,null,null,null,"","","","-",3,51,"","-",{"$f":"IF(R62=\"\",\"\",COUNTIF(R12:R62,\"-\"))","v":49},"","","","","","","0",{"$f":"IF(R62=\"\",\"\",IF(AD62=\"0\",\"0\",COUNTIF(AD12:AD61,AD62)))","v":"0"},"","0","","0","","0","",{"$f":"COUNTIF(AS12:AS62,\"W\")","v":0},{"$f":"IF(AR62=\"\",\"\",COUNTIF(AR12:AR62,\"-\"))","v":49},51,3,"","-"]
[52,{"$f":"IF(REG!B62<>\"\",REG!B62,\"\")","v":""},{"$f":"IF(REG!C62<>\"\",REG!G62,\"\")","v":""},{"$f":"IF('G Q 1-2'!R63=\"\",\"DNR\",IF('G Q 1-2'!R63=\"-\",+'G Q 1-2'!D63,+'G Q 1-2'!R63))","v":"DNR"},null,null,null,"-","",null,null,null,null,null,"","","","-",3,52,"","-",{"$f":"IF(R63=\"\",\"\",COUNTIF(R12:R63,\"-\"))","v":50},"","","","","","","0",{"$f":"IF(R63=\"\",\"\",IF(AD63=\"0\",\"0\",COUNTIF(AD12:AD62,AD63)))","v":"0"},"","0","","0","","0","",{"$f":"COUNTIF(AS12:AS63,\"W\")","v":0},{"$f":"IF(AR63=\"\",\"\",COUNTIF(AR12:AR63,\"-\"))","v":50},52,3,"","-"]
[53,{"$f":"IF(REG!B63<>\"\",REG!B63,\"\")","v":""},{"$f":"IF(REG!C63<>\"\",REG!G63,\"\")","v":""},{"$f":"IF('G Q 1-2'!R64=\"\",\"DNR\",IF('G Q 1-2'!R64=\"-\",+'G Q 1-2'!D64,+'G Q 1-2'!R64))","v":"DNR"},null,null,null,"-","",null,null,null,null,null,"","","","-",3,53,"","-",{"$f":"IF(R64=\"\",\"\",COUNTIF(R12:R64,\"-\"))","v":51},"","","","","","","0",{"$f":"IF(R64=\"\",\"\",IF(AD64=\"0\",\"0\",COUNTIF(AD12:AD63,AD64)))","v":"0"},"","0","","0","","0","",{"$f":"COUNTIF(AS12:AS64,\"W\")","v":0},{"$f":"IF(AR64=\"\",\"\",COUNTIF(AR12:AR64,\"-\"))","v":51},53,3,"","-"]
[54,{"$f":"IF(REG!B64<>\"\",REG!B64,\"\")","v":""},{"$f":"IF(REG!C64<>\"\",REG!G64,\"\")","v":""},{"$f":"IF('G Q 1-2'!R65=\"\",\"DNR\",IF('G Q 1-2'!R65=\"-\",+'G Q 1-2'!D65,+'G Q 1-2'!R65))","v":"DNR"},null,null,null,"-","",null,null,null,null,null,"","","","-",3,54,"","-",{"$f":"IF(R65=\"\",\"\",COUNTIF(R12:R65,\"-\"))","v":52},"","","","","","","0",{"$f":"IF(R65=\"\",\"\",IF(AD65=\"0\",\"0\",COUNTIF(AD12:AD64,AD65)))","v":"0"},"","0","","0","","0","",{"$f":"COUNTIF(AS12:AS65,\"W\")","v":0},{"$f":"IF(AR65=\"\",\"\",COUNTIF(AR12:AR65,\"-\"))","v":52},54,3,"","-"]
[55,{"$f":"IF(REG!B65<>\"\",REG!B65,\"\")","v":""},{"$f":"IF(REG!C65<>\"\",REG!G65,\"\")","v":""},{"$f":"IF('G Q 1-2'!R66=\"\",\"DNR\",IF('G Q 1-2'!R66=\"-\",+'G Q 1-2'!D66,+'G Q 1-2'!R66))","v":"DNR"},null,null,null,"-","",null,null,null,null,null,"","","","-",3,55,"","-",{"$f":"IF(R66=\"\",\"\",COUNTIF(R12:R66,\"-\"))","v":53},"","","","","","","0",{"$f":"IF(R66=\"\",\"\",IF(AD66=\"0\",\"0\",COUNTIF(AD12:AD65,AD66)))","v":"0"},"","0","","0","","0","",{"$f":"COUNTIF(AS12:AS66,\"W\")","v":0},{"$f":"IF(AR66=\"\",\"\",COUNTIF(AR12:AR66,\"-\"))","v":53},55,3,"","-"]
[56,{"$f":"IF(REG!B66<>\"\",REG!B66,\"\")","v":""},{"$f":"IF(REG!C66<>\"\",REG!G66,\"\")","v":""},{"$f":"IF('G Q 1-2'!R67=\"\",\"DNR\",IF('G Q 1-2'!R67=\"-\",+'G Q 1-2'!D67,+'G Q 1-2'!R67))","v":"DNR"},null,null,null,"-","",null,null,null,null,null,"","","","-",3,56,"","-",{"$f":"IF(R67=\"\",\"\",COUNTIF(R12:R67,\"-\"))","v":54},"","","","","","","0",{"$f":"IF(R67=\"\",\"\",IF(AD67=\"0\",\"0\",COUNTIF(AD12:AD66,AD67)))","v":"0"},"","0","","0","","0","",{"$f":"COUNTIF(AS12:AS67,\"W\")","v":0},{"$f":"IF(AR67=\"\",\"\",COUNTIF(AR12:AR67,\"-\"))","v":54},56,3,"","-"]
[57,{"$f":"IF(REG!B67<>\"\",REG!B67,\"\")","v":""},{"$f":"IF(REG!C67<>\"\",REG!G67,\"\")","v":""},{"$f":"IF('G Q 1-2'!R68=\"\",\"DNR\",IF('G Q 1-2'!R68=\"-\",+'G Q 1-2'!D68,+'G Q 1-2'!R68))","v":"DNR"},null,null,null,"-","",null,null,null,null,null,"","","","-",3,57,"","-",{"$f":"IF(R68=\"\",\"\",COUNTIF(R12:R68,\"-\"))","v":55},"","","","","","","0",{"$f":"IF(R68=\"\",\"\",IF(R68=\"\",\"\",IF(AD68=\"0\",\"0\",COUNTIF(AD12:AD67,AD68))))","v":"0"},"","0","","0","","0","",{"$f":"COUNTIF(AS12:AS68,\"W\")","v":0},{"$f":"IF(AR68=\"\",\"\",COUNTIF(AR12:AR68,\"-\"))","v":55},57,3,"","-"]
[58,{"$f":"IF(REG!B68<>\"\",REG!B68,\"\")","v":""},{"$f":"IF(REG!C68<>\"\",REG!G68,\"\")","v":""},{"$f":"IF('G Q 1-2'!R69=\"\",\"DNR\",IF('G Q 1-2'!R69=\"-\",+'G Q 1-2'!D69,+'G Q 1-2'!R69))","v":"DNR"},null,null,null,"-","",null,null,null,null,null,"","","","-",3,58,"","-",{"$f":"IF(R69=\"\",\"\",COUNTIF(R12:R69,\"-\"))","v":56},"","","","","","","0",{"$f":"IF(R69=\"\",\"\",IF(R69=\"\",\"\",IF(AD69=\"0\",\"0\",COUNTIF(AD12:AD68,AD69))))","v":"0"},"","0","","0","","0","",{"$f":"COUNTIF(AS12:AS69,\"W\")","v":0},{"$f":"IF(AR69=\"\",\"\",COUNTIF(AR12:AR69,\"-\"))","v":56},58,3,"","-"]
[59,{"$f":"IF(REG!B69<>\"\",REG!B69,\"\")","v":""},{"$f":"IF(REG!C69<>\"\",REG!G69,\"\")","v":""},{"$f":"IF('G Q 1-2'!R70=\"\",\"DNR\",IF('G Q 1-2'!R70=\"-\",+'G Q 1-2'!D70,+'G Q 1-2'!R70))","v":"DNR"},null,null,null,"-","",null,null,null,null,null,"","","","-",3,59,"","-",{"$f":"IF(R70=\"\",\"\",COUNTIF(R12:R70,\"-\"))","v":57},"","","","","","","0",{"$f":"IF(R70=\"\",\"\",IF(R70=\"\",\"\",IF(AD70=\"0\",\"0\",COUNTIF(AD12:AD69,AD70))))","v":"0"},"","0","","0","","0","",{"$f":"COUNTIF(AS12:AS70,\"W\")","v":0},{"$f":"IF(AR70=\"\",\"\",COUNTIF(AR12:AR70,\"-\"))","v":57},59,3,"","-"]
[60,{"$f":"IF(REG!B70<>\"\",REG!B70,\"\")","v":""},{"$f":"IF(REG!C70<>\"\",REG!G70,\"\")","v":""},{"$f":"IF('G Q 1-2'!R71=\"\",\"DNR\",IF('G Q 1-2'!R71=\"-\",+'G Q 1-2'!D71,+'G Q 1-2'!R71))","v":"DNR"},null,null,null,"-","",null,null,null,null,null,"","","","-",3,60,"","-",{"$f":"IF(R71=\"\",\"\",COUNTIF(R12:R71,\"-\"))","v":58},"","","","","","","0",{"$f":"IF(R71=\"\",\"\",IF(AD71=\"0\",\"0\",COUNTIF(AD12:AD70,AD71)))","v":"0"},"","0","","0","","0","",{"$f":"COUNTIF(AS12:AS71,\"W\")","v":0},{"$f":"IF(AR71=\"\",\"\",COUNTIF(AR12:AR71,\"-\"))","v":58},60,3,"","-"]
[61,{"$f":"IF(REG!B71<>\"\",REG!B71,\"\")","v":""},{"$f":"IF(REG!C71<>\"\",REG!G71,\"\")","v":""},{"$f":"IF('G Q 1-2'!R72=\"\",\"DNR\",IF('G Q 1-2'!R72=\"-\",+'G Q 1-2'!D72,+'G Q 1-2'!R72))","v":"DNR"},null,null,null,"-","",null,null,null,null,null,"","","","-",3,61,"","-",{"$f":"IF(R72=\"\",\"\",COUNTIF(R12:R72,\"-\"))","v":59},"","","","","","","0",{"$f":"IF(R72=\"\",\"\",IF(AD72=\"0\",\"0\",COUNTIF(AD52:AD71,AD72)))","v":"0"},"","0","","0","","0","",{"$f":"COUNTIF(AS12:AS72,\"W\")","v":0},{"$f":"IF(AR72=\"\",\"\",COUNTIF(AR12:AR72,\"-\"))","v":59},61,3,"","-"]
[62,{"$f":"IF(REG!B72<>\"\",REG!B72,\"\")","v":""},{"$f":"IF(REG!C72<>\"\",REG!G72,\"\")","v":""},{"$f":"IF('G Q 1-2'!R73=\"\",\"DNR\",IF('G Q 1-2'!R73=\"-\",+'G Q 1-2'!D73,+'G Q 1-2'!R73))","v":"DNR"},null,null,null,"-","",null,null,null,null,null,"","","","-",3,62,"","-",{"$f":"IF(R73=\"\",\"\",COUNTIF(R12:R73,\"-\"))","v":60},"","","","","","","0",{"$f":"IF(R73=\"\",\"\",IF(AD73=\"0\",\"0\",COUNTIF(AD12:AD72,AD73)))","v":"0"},"","0","","0","","0","",{"$f":"COUNTIF(AS12:AS73,\"W\")","v":0},{"$f":"IF(AR73=\"\",\"\",COUNTIF(AR12:AR73,\"-\"))","v":60},62,3,"","-"]
[63,{"$f":"IF(REG!B73<>\"\",REG!B73,\"\")","v":""},{"$f":"IF(REG!C73<>\"\",REG!G73,\"\")","v":""},{"$f":"IF('G Q 1-2'!R74=\"\",\"DNR\",IF('G Q 1-2'!R74=\"-\",+'G Q 1-2'!D74,+'G Q 1-2'!R74))","v":"DNR"},null,null,null,"-","",null,null,null,null,null,"","","","-",3,63,"","-",{"$f":"IF(R74=\"\",\"\",COUNTIF(R12:R74,\"-\"))","v":61},"","","","","","","0",{"$f":"IF(R74=\"\",\"\",IF(AD74=\"0\",\"0\",COUNTIF(AD12:AD73,AD74)))","v":"0"},"","0","","0","","0","",{"$f":"COUNTIF(AS12:AS74,\"W\")","v":0},{"$f":"IF(AR74=\"\",\"\",COUNTIF(AR12:AR74,\"-\"))","v":61},63,3,"","-"]
[64,{"$f":"IF(REG!B74<>\"\",REG!B74,\"\")","v":""},{"$f":"IF(REG!C74<>\"\",REG!G74,\"\")","v":""},{"$f":"IF('G Q 1-2'!R75=\"\",\"DNR\",IF('G Q 1-2'!R75=\"-\",+'G Q 1-2'!D75,+'G Q 1-2'!R75))","v":"DNR"},null,null,null,"-","",null,null,null,null,null,"","","","-",3,64,"","-",{"$f":"IF(R75=\"\",\"\",COUNTIF(R12:R75,\"-\"))","v":62},"","","","","","","0",{"$f":"IF(R75=\"\",\"\",IF(AD75=\"0\",\"0\",COUNTIF(AD12:AD74,AD75)))","v":"0"},"","0","","0","","0","",{"$f":"COUNTIF(AS12:AS75,\"W\")","v":0},{"$f":"IF(AR75=\"\",\"\",COUNTIF(AR12:AR75,\"-\"))","v":62},64,3,"","-"]
[65,{"$f":"IF(REG!B75<>\"\",REG!B75,\"\")","v":""},{"$f":"IF(REG!C75<>\"\",REG!G75,\"\")","v":""},{"$f":"IF('G Q 1-2'!R76=\"\",\"DNR\",IF('G Q 1-2'!R76=\"-\",+'G Q 1-2'!D76,+'G Q 1-2'!R76))","v":"DNR"},null,null,null,"-","",null,null,null,null,null,"","","",{"$f":"IF(AND(ISBLANK(D76),ISBLANK(K76)),\"\",IF(AND(H76=\"-\",O76=\"-\"),\"-\",IF(AND(H76=\"-\",ISBLANK(K76)),\"-\",MIN(H76,O76))))","v":"-"},3,65,"","-",{"$f":"IF(R76=\"\",\"\",COUNTIF(R12:R76,\"-\"))","v":63},"","","","","","","0",{"$f":"IF(R76=\"\",\"\",IF(AD76=\"0\",\"0\",COUNTIF(AD12:AD75,AD76)))","v":"0"},"","0","","0","","0","",{"$f":"COUNTIF(AS12:AS76,\"W\")","v":0},{"$f":"IF(AR76=\"\",\"\",COUNTIF(AR12:AR76,\"-\"))","v":63},65,3,"","-"]
[66,{"$f":"IF(REG!B76<>\"\",REG!B76,\"\")","v":""},{"$f":"IF(REG!C76<>\"\",REG!G76,\"\")","v":""},{"$f":"IF('G Q 1-2'!R77=\"\",\"DNR\",IF('G Q 1-2'!R77=\"-\",+'G Q 1-2'!D77,+'G Q 1-2'!R77))","v":"DNR"},null,null,null,"-","",null,null,null,null,null,"","","","-",3,66,"","-",{"$f":"IF(R77=\"\",\"\",COUNTIF(R12:R77,\"-\"))","v":64},"","","","","","","0",{"$f":"IF(R77=\"\",\"\",IF(AD77=\"0\",\"0\",COUNTIF(AD12:AD76,AD77)))","v":"0"},"","0","","0","","0","",{"$f":"COUNTIF(AS12:AS77,\"W\")","v":0},{"$f":"IF(AR77=\"\",\"\",COUNTIF(AR12:AR77,\"-\"))","v":64},66,3,"","-"]
[67,{"$f":"IF(REG!B77<>\"\",REG!B77,\"\")","v":""},{"$f":"IF(REG!C77<>\"\",REG!G77,\"\")","v":""},{"$f":"IF('G Q 1-2'!R78=\"\",\"DNR\",IF('G Q 1-2'!R78=\"-\",+'G Q 1-2'!D78,+'G Q 1-2'!R78))","v":"DNR"},null,null,null,"-","",null,null,null,null,null,"","","","-",3,67,"","-",{"$f":"IF(R78=\"\",\"\",COUNTIF(R12:R78,\"-\"))","v":65},"","","","","","","0",{"$f":"IF(R78=\"\",\"\",IF(AD78=\"0\",\"0\",COUNTIF(AD12:AD77,AD78)))","v":"0"},"","0","","0","","0","",{"$f":"COUNTIF(AS12:AS78,\"W\")","v":0},{"$f":"IF(AR78=\"\",\"\",COUNTIF(AR12:AR78,\"-\"))","v":65},67,3,"","-"]
[68,{"$f":"IF(REG!B78<>\"\",REG!B78,\"\")","v":""},{"$f":"IF(REG!C78<>\"\",REG!G78,\"\")","v":""},{"$f":"IF('G Q 1-2'!R79=\"\",\"DNR\",IF('G Q 1-2'!R79=\"-\",+'G Q 1-2'!D79,+'G Q 1-2'!R79))","v":"DNR"},null,null,null,"-","",null,null,null,null,null,"","","","-",3,68,"","-",{"$f":"IF(R79=\"\",\"\",COUNTIF(R12:R79,\"-\"))","v":66},"","","","","","","0",{"$f":"IF(R79=\"\",\"\",IF(AD79=\"0\",\"0\",COUNTIF(AD12:AD78,AD79)))","v":"0"},"","0","","0","","0","",{"$f":"COUNTIF(AS12:AS79,\"W\")","v":0},{"$f":"IF(AR79=\"\",\"\",COUNTIF(AR12:AR79,\"-\"))","v":66},68,3,"","-"]
[69,{"$f":"IF(REG!B79<>\"\",REG!B79,\"\")","v":""},{"$f":"IF(REG!C79<>\"\",REG!G79,\"\")","v":""},{"$f":"IF('G Q 1-2'!R80=\"\",\"DNR\",IF('G Q 1-2'!R80=\"-\",+'G Q 1-2'!D80,+'G Q 1-2'!R80))","v":"DNR"},null,null,null,"-","",null,null,null,null,null,"","","","-",3,69,"","-",{"$f":"IF(R80=\"\",\"\",COUNTIF(R12:R80,\"-\"))","v":67},"","","","","","","0",{"$f":"IF(R80=\"\",\"\",IF(AD80=\"0\",\"0\",COUNTIF(AD12:AD79,AD80)))","v":"0"},"","0","","0","","0","",{"$f":"COUNTIF(AS12:AS80,\"W\")","v":0},{"$f":"IF(AR80=\"\",\"\",COUNTIF(AR12:AR80,\"-\"))","v":67},69,3,"","-"]
[70,{"$f":"IF(REG!B80<>\"\",REG!B80,\"\")","v":""},{"$f":"IF(REG!C80<>\"\",REG!G80,\"\")","v":""},{"$f":"IF('G Q 1-2'!R81=\"\",\"DNR\",IF('G Q 1-2'!R81=\"-\",+'G Q 1-2'!D81,+'G Q 1-2'!R81))","v":"DNR"},null,null,null,"-","",null,null,null,null,null,"","","","-",3,70,"","-",{"$f":"IF(R81=\"\",\"\",COUNTIF(R12:R81,\"-\"))","v":68},"","","","","","","0",{"$f":"IF(R81=\"\",\"\",IF(AD81=\"0\",\"0\",COUNTIF(AD12:AD80,AD81)))","v":"0"},"","0","","0","","0","",{"$f":"COUNTIF(AS12:AS81,\"W\")","v":0},{"$f":"IF(AR81=\"\",\"\",COUNTIF(AR12:AR81,\"-\"))","v":68},70,3,"","-"]
[71,{"$f":"IF(REG!B81<>\"\",REG!B81,\"\")","v":""},{"$f":"IF(REG!C81<>\"\",REG!G81,\"\")","v":""},{"$f":"IF('G Q 1-2'!R82=\"\",\"DNR\",IF('G Q 1-2'!R82=\"-\",+'G Q 1-2'!D82,+'G Q 1-2'!R82))","v":"DNR"},null,null,null,"-","",null,null,null,null,null,"","","","-",3,71,"","-",{"$f":"IF(R82=\"\",\"\",COUNTIF(R12:R82,\"-\"))","v":69},"","","","","","","0",{"$f":"IF(R82=\"\",\"\",IF(AD82=\"0\",\"0\",COUNTIF(AD12:AD81,AD82)))","v":"0"},"","0","","0","","0","",{"$f":"COUNTIF(AS12:AS82,\"W\")","v":0},{"$f":"IF(AR82=\"\",\"\",COUNTIF(AR12:AR82,\"-\"))","v":69},71,3,"","-"]
[72,{"$f":"IF(REG!B82<>\"\",REG!B82,\"\")","v":""},{"$f":"IF(REG!C82<>\"\",REG!G82,\"\")","v":""},{"$f":"IF('G Q 1-2'!R83=\"\",\"DNR\",IF('G Q 1-2'!R83=\"-\",+'G Q 1-2'!D83,+'G Q 1-2'!R83))","v":"DNR"},null,null,null,"-","",null,null,null,null,null,"","","","-",3,72,"","-",{"$f":"IF(R83=\"\",\"\",COUNTIF(R12:R83,\"-\"))","v":70},"","","","","","","0",{"$f":"IF(R83=\"\",\"\",IF(AD83=\"0\",\"0\",COUNTIF(AD12:AD82,AD83)))","v":"0"},"","0","","0","","0","",{"$f":"COUNTIF(AS12:AS83,\"W\")","v":0},{"$f":"IF(AR83=\"\",\"\",COUNTIF(AR12:AR83,\"-\"))","v":70},72,3,"","-"]
[73,{"$f":"IF(REG!B83<>\"\",REG!B83,\"\")","v":""},{"$f":"IF(REG!C83<>\"\",REG!G83,\"\")","v":""},{"$f":"IF('G Q 1-2'!R84=\"\",\"DNR\",IF('G Q 1-2'!R84=\"-\",+'G Q 1-2'!D84,+'G Q 1-2'!R84))","v":"DNR"},null,null,null,"-","",null,null,null,null,null,"","","","-",3,73,"","-",{"$f":"IF(R84=\"\",\"\",COUNTIF(R12:R84,\"-\"))","v":71},"","","","","","","0",{"$f":"IF(R84=\"\",\"\",IF(AD84=\"0\",\"0\",COUNTIF(AD12:AD83,AD84)))","v":"0"},"","0","","0","","0","",{"$f":"COUNTIF(AS12:AS84,\"W\")","v":0},{"$f":"IF(AR84=\"\",\"\",COUNTIF(AR12:AR84,\"-\"))","v":71},73,3,"","-"]
[74,{"$f":"IF(REG!B84<>\"\",REG!B84,\"\")","v":""},{"$f":"IF(REG!C84<>\"\",REG!G84,\"\")","v":""},{"$f":"IF('G Q 1-2'!R85=\"\",\"DNR\",IF('G Q 1-2'!R85=\"-\",+'G Q 1-2'!D85,+'G Q 1-2'!R85))","v":"DNR"},null,null,null,"-","",null,null,null,null,null,"","","","-",3,74,"","-",{"$f":"IF(R85=\"\",\"\",COUNTIF(R12:R85,\"-\"))","v":72},"","","","","","","0",{"$f":"IF(R85=\"\",\"\",IF(AD85=\"0\",\"0\",COUNTIF(AD12:AD84,AD85)))","v":"0"},"","0","","0","","0","",{"$f":"COUNTIF(AS12:AS85,\"W\")","v":0},{"$f":"IF(AR85=\"\",\"\",COUNTIF(AR12:AR85,\"-\"))","v":72},74,3,"","-"]
[75,{"$f":"IF(REG!B85<>\"\",REG!B85,\"\")","v":""},{"$f":"IF(REG!C85<>\"\",REG!G85,\"\")","v":""},{"$f":"IF('G Q 1-2'!R86=\"\",\"DNR\",IF('G Q 1-2'!R86=\"-\",+'G Q 1-2'!D86,+'G Q 1-2'!R86))","v":"DNR"},null,null,null,"-","",null,null,null,null,null,"","","","-",3,75,"","-",{"$f":"IF(R86=\"\",\"\",COUNTIF(R12:R86,\"-\"))","v":73},"","","","","","","0",{"$f":"IF(R86=\"\",\"\",IF(AD86=\"0\",\"0\",COUNTIF(AD12:AD85,AD86)))","v":"0"},"","0","","0","","0","",{"$f":"COUNTIF(AS12:AS86,\"W\")","v":0},{"$f":"IF(AR86=\"\",\"\",COUNTIF(AR12:AR86,\"-\"))","v":73},75,3,"","-"]
[76,{"$f":"IF(REG!B86<>\"\",REG!B86,\"\")","v":""},{"$f":"IF(REG!C86<>\"\",REG!G86,\"\")","v":""},{"$f":"IF('G Q 1-2'!R87=\"\",\"DNR\",IF('G Q 1-2'!R87=\"-\",+'G Q 1-2'!D87,+'G Q 1-2'!R87))","v":"DNR"},null,null,null,"-","",null,null,null,null,null,"","","","-",3,76,"","-",{"$f":"IF(R87=\"\",\"\",COUNTIF(R12:R87,\"-\"))","v":74},"","","","","","","0",{"$f":"IF(R87=\"\",\"\",IF(AD87=\"0\",\"0\",COUNTIF(AD12:AD86,AD87)))","v":"0"},"","0","","0","","0","",{"$f":"COUNTIF(AS12:AS87,\"W\")","v":0},{"$f":"IF(AR87=\"\",\"\",COUNTIF(AR12:AR87,\"-\"))","v":74},76,3,"","-"]
[77,{"$f":"IF(REG!B87<>\"\",REG!B87,\"\")","v":""},{"$f":"IF(REG!C87<>\"\",REG!G87,\"\")","v":""},{"$f":"IF('G Q 1-2'!R88=\"\",\"DNR\",IF('G Q 1-2'!R88=\"-\",+'G Q 1-2'!D88,+'G Q 1-2'!R88))","v":"DNR"},null,null,null,"-","",null,null,null,null,null,"","","","-",3,77,"","-",{"$f":"IF(R88=\"\",\"\",COUNTIF(R12:R88,\"-\"))","v":75},"","","","","","","0",{"$f":"IF(R88=\"\",\"\",IF(AD88=\"0\",\"0\",COUNTIF(AD12:AD87,AD88)))","v":"0"},"","0","","0","","0","",{"$f":"COUNTIF(AS12:AS88,\"W\")","v":0},{"$f":"IF(AR88=\"\",\"\",COUNTIF(AR12:AR88,\"-\"))","v":75},77,3,"","-"]
[78,{"$f":"IF(REG!B88<>\"\",REG!B88,\"\")","v":""},{"$f":"IF(REG!C88<>\"\",REG!G88,\"\")","v":""},{"$f":"IF('G Q 1-2'!R89=\"\",\"DNR\",IF('G Q 1-2'!R89=\"-\",+'G Q 1-2'!D89,+'G Q 1-2'!R89))","v":"DNR"},null,null,null,"-","",null,null,null,null,null,"","","","-",3,78,"","-",{"$f":"IF(R89=\"\",\"\",COUNTIF(R12:R89,\"-\"))","v":76},"","","","","","","0",{"$f":"IF(R89=\"\",\"\",IF(AD89=\"0\",\"0\",COUNTIF(AD12:AD88,AD89)))","v":"0"},"","0","","0","","0","",{"$f":"COUNTIF(AS12:AS89,\"W\")","v":0},{"$f":"IF(AR89=\"\",\"\",COUNTIF(AR12:AR89,\"-\"))","v":76},78,3,"","-"]
[79,{"$f":"IF(REG!B89<>\"\",REG!B89,\"\")","v":""},{"$f":"IF(REG!C89<>\"\",REG!G89,\"\")","v":""},{"$f":"IF('G Q 1-2'!R90=\"\",\"DNR\",IF('G Q 1-2'!R90=\"-\",+'G Q 1-2'!D90,+'G Q 1-2'!R90))","v":"DNR"},null,null,null,"-","",null,null,null,null,null,"","","","-",3,79,"","-",{"$f":"IF(R90=\"\",\"\",COUNTIF(R12:R90,\"-\"))","v":77},"","","","","","","0",{"$f":"IF(R90=\"\",\"\",IF(AD90=\"0\",\"0\",COUNTIF(AD12:AD89,AD90)))","v":"0"},"","0","","0","","0","",{"$f":"COUNTIF(AS12:AS90,\"W\")","v":0},{"$f":"IF(AR90=\"\",\"\",COUNTIF(AR12:AR90,\"-\"))","v":77},79,3,"","-"]
[80,{"$f":"IF(REG!B90<>\"\",REG!B90,\"\")","v":""},{"$f":"IF(REG!C90<>\"\",REG!G90,\"\")","v":""},{"$f":"IF('G Q 1-2'!R91=\"\",\"DNR\",IF('G Q 1-2'!R91=\"-\",+'G Q 1-2'!D91,+'G Q 1-2'!R91))","v":"DNR"},null,null,null,"-","",null,null,null,null,null,"","","","-",3,80,"","-",{"$f":"IF(R91=\"\",\"\",COUNTIF(R12:R91,\"-\"))","v":78},"","","","","","","0",{"$f":"IF(R91=\"\",\"\",IF(AD91=\"0\",\"0\",COUNTIF(AD12:AD90,AD91)))","v":"0"},"","0","","0","","0","",{"$f":"COUNTIF(AS12:AS91,\"W\")","v":0},{"$f":"IF(AR91=\"\",\"\",COUNTIF(AR12:AR91,\"-\"))","v":78},80,3,"","-"]
[81,{"$f":"IF(REG!B91<>\"\",REG!B91,\"\")","v":""},{"$f":"IF(REG!C91<>\"\",REG!G91,\"\")","v":""},{"$f":"IF('G Q 1-2'!R92=\"\",\"DNR\",IF('G Q 1-2'!R92=\"-\",+'G Q 1-2'!D92,+'G Q 1-2'!R92))","v":"DNR"},null,null,null,"-","",null,null,null,null,null,"","","","-",3,81,"","-",{"$f":"IF(R92=\"\",\"\",COUNTIF(R12:R92,\"-\"))","v":79},"","","","","","","0",{"$f":"IF(R92=\"\",\"\",IF(AD92=\"0\",\"0\",COUNTIF(AD12:AD91,AD92)))","v":"0"},"","0","","0","","0","",{"$f":"COUNTIF(AS12:AS92,\"W\")","v":0},{"$f":"IF(AR92=\"\",\"\",COUNTIF(AR12:AR92,\"-\"))","v":79},81,3,"","-"]
[82,{"$f":"IF(REG!B92<>\"\",REG!B92,\"\")","v":""},{"$f":"IF(REG!C92<>\"\",REG!G92,\"\")","v":""},{"$f":"IF('G Q 1-2'!R93=\"\",\"DNR\",IF('G Q 1-2'!R93=\"-\",+'G Q 1-2'!D93,+'G Q 1-2'!R93))","v":"DNR"},null,null,null,"-","",null,null,null,null,null,"","","","-",3,82,"","-",{"$f":"IF(R93=\"\",\"\",COUNTIF(R12:R93,\"-\"))","v":80},"","","","","","","0",{"$f":"IF(R93=\"\",\"\",IF(AD93=\"0\",\"0\",COUNTIF(AD12:AD92,AD93)))","v":"0"},"","0","","0","","0","",{"$f":"COUNTIF(AS12:AS93,\"W\")","v":0},{"$f":"IF(AR93=\"\",\"\",COUNTIF(AR12:AR93,\"-\"))","v":80},82,3,"","-"]
[83,{"$f":"IF(REG!B93<>\"\",REG!B93,\"\")","v":""},{"$f":"IF(REG!C93<>\"\",REG!G93,\"\")","v":""},{"$f":"IF('G Q 1-2'!R94=\"\",\"DNR\",IF('G Q 1-2'!R94=\"-\",+'G Q 1-2'!D94,+'G Q 1-2'!R94))","v":"DNR"},null,null,null,"-","",null,null,null,null,null,"","","","-",3,83,"","-",{"$f":"IF(R94=\"\",\"\",COUNTIF(R12:R94,\"-\"))","v":81},"","","","","","","0",{"$f":"IF(R94=\"\",\"\",IF(AD94=\"0\",\"0\",COUNTIF(AD12:AD93,AD94)))","v":"0"},"","0","","0","","0","",{"$f":"COUNTIF(AS12:AS94,\"W\")","v":0},{"$f":"IF(AR94=\"\",\"\",COUNTIF(AR12:AR94,\"-\"))","v":81},83,3,"","-"]
[84,{"$f":"IF(REG!B94<>\"\",REG!B94,\"\")","v":""},{"$f":"IF(REG!C94<>\"\",REG!G94,\"\")","v":""},{"$f":"IF('G Q 1-2'!R95=\"\",\"DNR\",IF('G Q 1-2'!R95=\"-\",+'G Q 1-2'!D95,+'G Q 1-2'!R95))","v":"DNR"},null,null,null,"-","",null,null,null,null,null,"","","","-",3,84,"","-",{"$f":"IF(R95=\"\",\"\",COUNTIF(R12:R95,\"-\"))","v":82},"","","","","","","0",{"$f":"IF(R95=\"\",\"\",IF(AD95=\"0\",\"0\",COUNTIF(AD12:AD94,AD95)))","v":"0"},"","0","","0","","0","",{"$f":"COUNTIF(AS12:AS95,\"W\")","v":0},{"$f":"IF(AR95=\"\",\"\",COUNTIF(AR12:AR95,\"-\"))","v":82},84,3,"","-"]
[85,{"$f":"IF(REG!B95<>\"\",REG!B95,\"\")","v":""},{"$f":"IF(REG!C95<>\"\",REG!G95,\"\")","v":""},{"$f":"IF('G Q 1-2'!R96=\"\",\"DNR\",IF('G Q 1-2'!R96=\"-\",+'G Q 1-2'!D96,+'G Q 1-2'!R96))","v":"DNR"},null,null,null,"-","",null,null,null,null,null,"","","","-",3,85,"","-",{"$f":"IF(R96=\"\",\"\",COUNTIF(R12:R96,\"-\"))","v":83},"","","","","","","0",{"$f":"IF(R96=\"\",\"\",IF(AD96=\"0\",\"0\",COUNTIF(AD12:AD95,AD96)))","v":"0"},"","0","","0","","0","",{"$f":"COUNTIF(AS12:AS96,\"W\")","v":0},{"$f":"IF(AR96=\"\",\"\",COUNTIF(AR12:AR96,\"-\"))","v":83},85,3,"","-"]
[86,{"$f":"IF(REG!B96<>\"\",REG!B96,\"\")","v":""},{"$f":"IF(REG!C96<>\"\",REG!G96,\"\")","v":""},{"$f":"IF('G Q 1-2'!R97=\"\",\"DNR\",IF('G Q 1-2'!R97=\"-\",+'G Q 1-2'!D97,+'G Q 1-2'!R97))","v":"DNR"},null,null,null,"-","",null,null,null,null,null,"","","","-",3,86,"","-",{"$f":"IF(R97=\"\",\"\",COUNTIF(R12:R97,\"-\"))","v":84},"","","","","","","0",{"$f":"IF(R97=\"\",\"\",IF(AD97=\"0\",\"0\",COUNTIF(AD12:AD96,AD97)))","v":"0"},"","0","","0","","0","",{"$f":"COUNTIF(AS12:AS97,\"W\")","v":0},{"$f":"IF(AR97=\"\",\"\",COUNTIF(AR12:AR97,\"-\"))","v":84},86,3,"","-"]
[87,{"$f":"IF(REG!B97<>\"\",REG!B97,\"\")","v":""},{"$f":"IF(REG!C97<>\"\",REG!G97,\"\")","v":""},{"$f":"IF('G Q 1-2'!R98=\"\",\"DNR\",IF('G Q 1-2'!R98=\"-\",+'G Q 1-2'!D98,+'G Q 1-2'!R98))","v":"DNR"},null,null,null,"-","",null,null,null,null,null,"","","","-",3,87,"","-",{"$f":"IF(R98=\"\",\"\",COUNTIF(R12:R98,\"-\"))","v":85},"","","","","","","0",{"$f":"IF(R98=\"\",\"\",IF(AD98=\"0\",\"0\",COUNTIF(AD12:AD97,AD98)))","v":"0"},"","0","","0","","0","",{"$f":"COUNTIF(AS12:AS98,\"W\")","v":0},{"$f":"IF(AR98=\"\",\"\",COUNTIF(AR12:AR98,\"-\"))","v":85},87,3,"","-"]
[88,{"$f":"IF(REG!B98<>\"\",REG!B98,\"\")","v":""},{"$f":"IF(REG!C98<>\"\",REG!G98,\"\")","v":""},{"$f":"IF('G Q 1-2'!R99=\"\",\"DNR\",IF('G Q 1-2'!R99=\"-\",+'G Q 1-2'!D99,+'G Q 1-2'!R99))","v":"DNR"},null,null,null,"-","",null,null,null,null,null,"","","","-",3,88,"","-",{"$f":"IF(R99=\"\",\"\",COUNTIF(R12:R99,\"-\"))","v":86},"","","","","","","0",{"$f":"IF(R99=\"\",\"\",IF(AD99=\"0\",\"0\",COUNTIF(AD12:AD98,AD99)))","v":"0"},"","0","","0","","0","",{"$f":"COUNTIF(AS12:AS99,\"W\")","v":0},{"$f":"IF(AR99=\"\",\"\",COUNTIF(AR12:AR99,\"-\"))","v":86},88,3,"","-"]
[89,{"$f":"IF(REG!B99<>\"\",REG!B99,\"\")","v":""},{"$f":"IF(REG!C99<>\"\",REG!G99,\"\")","v":""},{"$f":"IF('G Q 1-2'!R100=\"\",\"DNR\",IF('G Q 1-2'!R100=\"-\",+'G Q 1-2'!D100,+'G Q 1-2'!R100))","v":"DNR"},null,null,null,"-","",null,null,null,null,null,"","","","-",3,89,"","-",{"$f":"IF(R100=\"\",\"\",COUNTIF(R12:R100,\"-\"))","v":87},"","","","","","","0",{"$f":"IF(R100=\"\",\"\",IF(AD100=\"0\",\"0\",COUNTIF(AD12:AD99,AD100)))","v":"0"},"","0","","0","","0","",{"$f":"COUNTIF(AS12:AS100,\"W\")","v":0},{"$f":"IF(AR100=\"\",\"\",COUNTIF(AR12:AR100,\"-\"))","v":87},89,3,"","-"]
[90,{"$f":"IF(REG!B100<>\"\",REG!B100,\"\")","v":""},{"$f":"IF(REG!C100<>\"\",REG!G100,\"\")","v":""},{"$f":"IF('G Q 1-2'!R101=\"\",\"DNR\",IF('G Q 1-2'!R101=\"-\",+'G Q 1-2'!D101,+'G Q 1-2'!R101))","v":"DNR"},null,null,null,"-","",null,null,null,null,null,"","","","-",3,90,"","-",{"$f":"IF(R101=\"\",\"\",COUNTIF(R12:R101,\"-\"))","v":88},"","","","","","","0",{"$f":"IF(R101=\"\",\"\",IF(AD101=\"0\",\"0\",COUNTIF(AD12:AD100,AD101)))","v":"0"},"","0","","0","","0","",{"$f":"COUNTIF(AS12:AS101,\"W\")","v":0},{"$f":"IF(AR101=\"\",\"\",COUNTIF(AR12:AR101,\"-\"))","v":88},90,3,"","-"]
[91,{"$f":"IF(REG!B101<>\"\",REG!B101,\"\")","v":""},{"$f":"IF(REG!C101<>\"\",REG!G101,\"\")","v":""},{"$f":"IF('G Q 1-2'!R102=\"\",\"DNR\",IF('G Q 1-2'!R102=\"-\",+'G Q 1-2'!D102,+'G Q 1-2'!R102))","v":"DNR"},null,null,null,"-","",null,null,null,null,null,"","","","-",3,91,"","-",{"$f":"IF(R102=\"\",\"\",COUNTIF(R12:R102,\"-\"))","v":89},"","","","","","","0",{"$f":"IF(R102=\"\",\"\",IF(AD102=\"0\",\"0\",COUNTIF(AD12:AD101,AD102)))","v":"0"},"","0","","0","","0","",{"$f":"COUNTIF(AS12:AS102,\"W\")","v":0},{"$f":"IF(AR102=\"\",\"\",COUNTIF(AR12:AR102,\"-\"))","v":89},91,3,"","-"]
[92,{"$f":"IF(REG!B102<>\"\",REG!B102,\"\")","v":""},{"$f":"IF(REG!C102<>\"\",REG!G102,\"\")","v":""},{"$f":"IF('G Q 1-2'!R103=\"\",\"DNR\",IF('G Q 1-2'!R103=\"-\",+'G Q 1-2'!D103,+'G Q 1-2'!R103))","v":"DNR"},null,null,null,"-","",null,null,null,null,null,"","","","-",3,92,"","-",{"$f":"IF(R103=\"\",\"\",COUNTIF(R12:R103,\"-\"))","v":90},"","","","","","","0",{"$f":"IF(R103=\"\",\"\",IF(AD103=\"0\",\"0\",COUNTIF(AD12:AD102,AD103)))","v":"0"},"","0","","0","","0","",{"$f":"COUNTIF(AS12:AS103,\"W\")","v":0},{"$f":"IF(AR103=\"\",\"\",COUNTIF(AR12:AR103,\"-\"))","v":90},92,3,"","-"]
[93,{"$f":"IF(REG!B103<>\"\",REG!B103,\"\")","v":""},{"$f":"IF(REG!C103<>\"\",REG!G103,\"\")","v":""},{"$f":"IF('G Q 1-2'!R104=\"\",\"DNR\",IF('G Q 1-2'!R104=\"-\",+'G Q 1-2'!D104,+'G Q 1-2'!R104))","v":"DNR"},null,null,null,"-","",null,null,null,null,null,"","","","-",3,93,"","-",{"$f":"IF(R104=\"\",\"\",COUNTIF(R12:R104,\"-\"))","v":91},"","","","","","","0",{"$f":"IF(R104=\"\",\"\",IF(AD104=\"0\",\"0\",COUNTIF(AD12:AD103,AD104)))","v":"0"},"","0","","0","","0","",{"$f":"COUNTIF(AS12:AS104,\"W\")","v":0},{"$f":"IF(AR104=\"\",\"\",COUNTIF(AR12:AR104,\"-\"))","v":91},93,3,"","-"]
[94,{"$f":"IF(REG!B104<>\"\",REG!B104,\"\")","v":""},{"$f":"IF(REG!C104<>\"\",REG!G104,\"\")","v":""},{"$f":"IF('G Q 1-2'!R105=\"\",\"DNR\",IF('G Q 1-2'!R105=\"-\",+'G Q 1-2'!D105,+'G Q 1-2'!R105))","v":"DNR"},null,null,null,"-","",null,null,null,null,null,"","","","-",3,94,"","-",{"$f":"IF(R105=\"\",\"\",COUNTIF(R12:R105,\"-\"))","v":92},"","","","","","","0",{"$f":"IF(R105=\"\",\"\",IF(AD105=\"0\",\"0\",COUNTIF(AD12:AD104,AD105)))","v":"0"},"","0","","0","","0","",{"$f":"COUNTIF(AS12:AS105,\"W\")","v":0},{"$f":"IF(AR105=\"\",\"\",COUNTIF(AR12:AR105,\"-\"))","v":92},94,3,"","-"]
[95,{"$f":"IF(REG!B105<>\"\",REG!B105,\"\")","v":""},{"$f":"IF(REG!C105<>\"\",REG!G105,\"\")","v":""},{"$f":"IF('G Q 1-2'!R106=\"\",\"DNR\",IF('G Q 1-2'!R106=\"-\",+'G Q 1-2'!D106,+'G Q 1-2'!R106))","v":"DNR"},null,null,null,"-","",null,null,null,null,null,"","","","-",3,95,"","-",{"$f":"IF(R106=\"\",\"\",COUNTIF(R12:R106,\"-\"))","v":93},"","","","","","","0",{"$f":"IF(R106=\"\",\"\",IF(AD106=\"0\",\"0\",COUNTIF(AD12:AD105,AD106)))","v":"0"},"","0","","0","","0","",{"$f":"COUNTIF(AS12:AS106,\"W\")","v":0},{"$f":"IF(AR106=\"\",\"\",COUNTIF(AR12:AR106,\"-\"))","v":93},95,3,"","-"]
[96,{"$f":"IF(REG!B106<>\"\",REG!B106,\"\")","v":""},{"$f":"IF(REG!C106<>\"\",REG!G106,\"\")","v":""},{"$f":"IF('G Q 1-2'!R107=\"\",\"DNR\",IF('G Q 1-2'!R107=\"-\",+'G Q 1-2'!D107,+'G Q 1-2'!R107))","v":"DNR"},null,null,null,"-","",null,null,null,null,null,"","","","-",3,96,"","-",{"$f":"IF(R107=\"\",\"\",COUNTIF(R12:R107,\"-\"))","v":94},"","","","","","","0",{"$f":"IF(R107=\"\",\"\",IF(AD107=\"0\",\"0\",COUNTIF(AD12:AD106,AD107)))","v":"0"},"","0","","0","","0","",{"$f":"COUNTIF(AS12:AS107,\"W\")","v":0},{"$f":"IF(AR107=\"\",\"\",COUNTIF(AR12:AR107,\"-\"))","v":94},96,3,"","-"]
[97,{"$f":"IF(REG!B107<>\"\",REG!B107,\"\")","v":""},{"$f":"IF(REG!C107<>\"\",REG!G107,\"\")","v":""},{"$f":"IF('G Q 1-2'!R108=\"\",\"DNR\",IF('G Q 1-2'!R108=\"-\",+'G Q 1-2'!D108,+'G Q 1-2'!R108))","v":"DNR"},null,null,null,"-","",null,null,null,null,null,"","","","-",3,97,"","-",{"$f":"IF(R108=\"\",\"\",COUNTIF(R12:R108,\"-\"))","v":95},"","","","","","","0",{"$f":"IF(R108=\"\",\"\",IF(AD108=\"0\",\"0\",COUNTIF(AD12:AD107,AD108)))","v":"0"},"","0","","0","","0","",{"$f":"COUNTIF(AS12:AS108,\"W\")","v":0},{"$f":"IF(AR108=\"\",\"\",COUNTIF(AR12:AR108,\"-\"))","v":95},97,3,"","-"]
[98,{"$f":"IF(REG!B108<>\"\",REG!B108,\"\")","v":""},{"$f":"IF(REG!C108<>\"\",REG!G108,\"\")","v":""},{"$f":"IF('G Q 1-2'!R109=\"\",\"DNR\",IF('G Q 1-2'!R109=\"-\",+'G Q 1-2'!D109,+'G Q 1-2'!R109))","v":"DNR"},null,null,null,"-","",null,null,null,null,null,"","","","-",3,98,"","-",{"$f":"IF(R109=\"\",\"\",COUNTIF(R12:R109,\"-\"))","v":96},"","","","","","","0",{"$f":"IF(R109=\"\",\"\",IF(AD109=\"0\",\"0\",COUNTIF(AD12:AD108,AD109)))","v":"0"},"","0","","0","","0","",{"$f":"COUNTIF(AS12:AS109,\"W\")","v":0},{"$f":"IF(AR109=\"\",\"\",COUNTIF(AR12:AR109,\"-\"))","v":96},98,3,"","-"]
[99,{"$f":"IF(REG!B109<>\"\",REG!B109,\"\")","v":""},{"$f":"IF(REG!C109<>\"\",REG!G109,\"\")","v":""},{"$f":"IF('G Q 1-2'!R110=\"\",\"DNR\",IF('G Q 1-2'!R110=\"-\",+'G Q 1-2'!D110,+'G Q 1-2'!R110))","v":"DNR"},null,null,null,"-","",null,null,null,null,null,"","","","-",3,99,"","-",{"$f":"IF(R110=\"\",\"\",COUNTIF(R12:R110,\"-\"))","v":97},"","","","","","","0",{"$f":"IF(R110=\"\",\"\",IF(AD110=\"0\",\"0\",COUNTIF(AD12:AD109,AD110)))","v":"0"},"","0","","0","","0","",{"$f":"COUNTIF(AS12:AS110,\"W\")","v":0},{"$f":"IF(AR110=\"\",\"\",COUNTIF(AR12:AR110,\"-\"))","v":97},99,3,"","-"]
[100,{"$f":"IF(REG!B110<>\"\",REG!B110,\"\")","v":""},{"$f":"IF(REG!C110<>\"\",REG!G110,\"\")","v":""},{"$f":"IF('G Q 1-2'!R111=\"\",\"DNR\",IF('G Q 1-2'!R111=\"-\",+'G Q 1-2'!D111,+'G Q 1-2'!R111))","v":"DNR"},null,null,null,"-","",null,null,null,null,null,"","","","-",3,100,"","-",{"$f":"IF(R111=\"\",\"\",COUNTIF(R12:R111,\"-\"))","v":98},"","","","","","","0",{"$f":"IF(R111=\"\",\"\",IF(AD111=\"0\",\"0\",COUNTIF(AD12:AD110,AD111)))","v":"0"},"","0","","0","","0","",{"$f":"COUNTIF(AS12:AS111,\"W\")","v":0},{"$f":"IF(AR111=\"\",\"\",COUNTIF(AR12:AR111,\"-\"))","v":98},100,3,"","-"]

{"sheet":"G Q 4","index":6,"n_rows":111,"n_cols":45,"rows_kept":111,"cut":false,"hidden":false,"merged":[[2,3,2,18],[4,1,4,2],[0,3,0,18],[0,41,0,42],[1,3,1,18],[1,41,1,42],[6,44,7,44],[7,1,7,2],[7,3,7,18],[7,41,7,43],[5,1,5,2],[6,1,6,2],[6,3,6,18],[6,41,6,43],[9,20,10,20],[9,21,10,21],[8,1,8,2],[9,0,10,0],[9,1,10,1],[9,2,10,2],[9,3,9,8],[9,10,9,15],[9,16,10,16],[9,17,10,17],[9,18,10,18],[9,19,10,19],[9,32,10,32],[9,33,10,33],[9,22,10,22],[9,23,10,23],[9,24,10,24],[9,25,10,25],[9,26,10,26],[9,27,10,27],[9,28,10,28],[9,29,10,29],[9,30,10,30],[9,31,10,31],[9,34,10,34],[9,35,10,35],[9,36,10,36],[9,37,10,37],[9,44,10,44],[9,38,10,38],[9,39,10,39],[9,40,10,40],[9,41,10,41],[9,42,10,42],[9,43,10,43]]}
[null,null,null,{"$f":"CONTEST!B4","v":"Skate n Roll Polička  2022"}]
[null,null,null,{"$f":"CONTEST!B6","v":"13.8. - 14.8.2022"}]
[null,null,null,{"$f":"CONCATENATE(CONTEST!B8,\" / \",CONTEST!B16,\" / \",CONTEST!B13)","v":"GIANT SLALOM / Qualifications / TEEN 12-14"}]
[]
[{"$f":"+'G Q 1-2'!A5","v":0.2},"secs penalty per hit cone"]
[{"$f":"+'G Q 1-2'!A6","v":7},"maximum hit cones before DQ"]
[{"$f":"+'G Q 1-2'!A8","v":3.72},"false start multiplication factor",null,"Under \"Raw Time,\" enter \"DQ\" or\"DNF\" for",null,null,null,null,null,null,null,null,null,null,null,null,null,null,null,null,null,null,null,null,null,null,null,null,null,null,null,null,null,null,null,null,null,null,null,null,null,"Advance Racers who DQ",null,null,"Y"]
[{"$f":"IF(ISERROR(0.1*AR12)=TRUE,\"\",ROUND(0.1*AR12,2))","v":3.72},"secs head-to-head DQ/DNR penalty",null,"\"Disqualified\" and \"DNR\" for \"Did Not Race.\"",null,null,null,null,null,null,null,null,null,null,null,null,null,null,null,null,null,null,null,null,null,null,null,null,null,null,null,null,null,null,null,null,null,null,null,null,null,"all Qualifying Runs? (Y/N)"]
[{"$f":"+'G Q 1-2'!A9","v":3.72},"secs max head-to-head victory margin"]
[null,"START Number","Racer Name","Run 1-3",null,null,null,null,null,null,"Run 4",null,null,null,null,null,"Qual Rank (w/out DQs)","Best Time","Qualifying Position","Qual Rank (w/DQs sequenced)","Racer No. & Name","Best Time","Double DQ Place Factor","No. of Ties per Best Time","Tied-at Time","Tied-at Time Rank","Run 1 Time w/DQ Adjust","Run 2 Time w/DQ Adjust","Total Time w/DQ Adjust","Total Time Rank","Total Tie Place Factor","Tie 1 Total Time Rank","Tie 1 Place Factor","Tie 2 Total Time Rank","Tie 2 Place Factor","Tie 3 Total Time Rank","Tie 3 Place Factor","Placed Racer No. & Name","Withdrawal Place Factor","Double DQ Place Factor 2","Final Spot - Withdrawals","Qualifying Position",{"$f":"CONCATENATE(+CONTEST!B4,\"                                \",+CONTEST!B8,\"                                   \",\"RUN 1-4\",\"                                     \",\"  Racer No. & Name\")","v":"Skate n Roll Polička  2022                                GIANT SLALOM                                   RUN 1-4                                       Racer No. & Name"},"Best Time","Withdraw (W)"]
[null,null,null,"BEST of 1-3","Cones","Reaction Time","False Start","Final Time","Run Rank",null,"Raw Time","Cones","Reaction Time","False Start","Final Time","Run Rank"]
[1,{"$f":"IF(REG!B11<>\"\",REG!B11,\"\")","v":""},{"$f":"IF(REG!C11<>\"\",REG!G11,\"\")","v":"Voves  Jindřich  [CZE] "},{"$f":"IF('G Q 3'!R12=\"\",\"DNR\",IF('G Q 3'!R12=\"-\",+'G Q 3'!D12,+'G Q 3'!R12))","v":37.204000000000001},null,null,null,{"$f":"IF(LEFT(D12:D111,1)=\"D\",\"-\",IF(E12:E111>A6,\"-\",IF(D12:D111>0,D12:D111+E12:E111*A5+G12:G111*A7,\"\")))","v":37.204000000000001},{"$f":"IF(H12:H111=\"\",\"\",IF(H12:H111=\"-\",\"\",RANK(H12:H111,H12:H111,1)))","v":1},null,null,null,null,null,{"$f":"IF(LEFT(K12:K111,1)=\"D\",\"-\",IF(L12:L111>A6,\"-\",IF(K12:K111>0,K12:K111+L12:L111*A5+N12:N111*A7,\"\")))","v":""},{"$f":"IF(O12:O111=\"\",\"\",IF(O12:O111=\"-\",\"\",RANK(O12:O111,O12:O111,1)))","v":""},{"$f":"IF(R12:R111=\"\",\"\",IF(R12:R111=\"-\",\"\",RANK(R12:R111,R12:R111,1)))","v":1},{"$f":"IF(AND(ISBLANK(D12),ISBLANK(K12)),\"\",IF(AND(H12=\"-\",O12=\"-\"),\"-\",IF(AND(H12=\"-\",ISBLANK(K12)),\"-\",MIN(H12,O12))))","v":37.204000000000001},{"$f":"IF(R12:R111=\"\",\"\",VLOOKUP(U12:U111,AL12:AP111,5,FALSE))","v":1},{"$f":"IF(R12:R111=\"\",\"\",IF(R12:R111=\"-\",COUNT(Q12:Q111)+W12:W111,Q12:Q111+AE12:AE111+AG12:AG111+AI12:AI111+AK12:AK111))","v":1},{"$f":"IF(B12:B111 =\"\",\"\",B12:B111 & \" \")&C12:C111","v":"Voves  Jindřich  [CZE] "},{"$f":"R12:R111","v":37.204000000000001},{"$f":"IF(R12=\"\",\"\",COUNTIF(R12:R12,\"-\"))","v":0},{"$f":"IF(Q12:Q111=\"\",\"\",COUNTIF(Q12:Q111,Q12:Q111)-1)","v":0},{"$f":"IF(R12:R111=\"-\",\"\",IF(X12:X111=0,\"\",R12:R111))","v":""},{"$f":"IF(Y12:Y111=\"\",\"\",RANK(Y12:Y111,Y12:Y111,1))","v":""},{"$f":"IF(X12:X111=\"\",\"\",IF(X12:X111=0,\"\",IF(LEFT(H12:H111,1)=\"-\",\"199\",H12:H111)))","v":""},{"$f":"IF(X12:X111=\"\",\"\",IF(X12:X111=0,\"\",IF(LEFT(O12:O111,1)=\"-\",\"199\",O12:O111)))","v":""},{"$f":"IF(ISERROR(AA12:AA111+AB12:AB111)=TRUE,AA12:AA111,AA12:AA111+AB12:AB111)","v":""},{"$f":"IF(R12:R111=\"\",\"\",IF(X12:X111=0,\"0\",IF(ISERROR(RANK(AC12:AC111,AC12:AC111,1))=TRUE,\"0\",RANK(AC12:AC111,AC12:AC111,1))))","v":"0"},0,{"$f":"IF(ISERROR(X12:X111)=TRUE,\"\",IF(Z12:Z111=1,AD12:AD111,\"\"))","v":""},{"$f":"IF(R12:R111=\"\",\"\",IF(AF12:AF111=\"\",\"0\",RANK(AF12:AF111,AF12:AF111,1)-1))","v":"0"},{"$f":"IF(ISERROR(X12:X111)=TRUE,\"\",IF(Z12:Z111=COUNT(AF12:AF111)+1,AD12:AD111,\"\"))","v":""},{"$f":"IF(R12:R111=\"\",\"\",IF(AH12:AH111=\"\",\"0\",RANK(AH12:AH111,AH12:AH111,1)-1))","v":"0"},{"$f":"IF(ISERROR(X12:X111)=TRUE,\"\",IF(Z12:Z111=COUNT(AF12:AF111)+COUNT(AH12:AH111)+1,AD12:AD111,\"\"))","v":""},{"$f":"IF(R12:R111=\"\",\"\",IF(AJ12:AJ111=\"\",\"0\",RANK(AJ12:AJ111,AJ12:AJ111,1)-1))","v":"0"},{"$f":"AQ12:AQ111","v":"Voves  Jindřich  [CZE] "},{"$f":"COUNTIF(AS12:AS12,\"W\")","v":0},{"$f":"IF(AR12=\"\",\"\",COUNTIF(AR12:AR12,\"-\"))","v":0},{"$f":"IF(AQ12:AQ111=\"BYE\",\"\",IF(AS12:AS111=\"W\",\"\",IF(AS7=\"N\",IF(AP12:AP111<=COUNT(Q12:Q111),AP12:AP111-AM12:AM111,\"\"),IF(AP12:AP111<=COUNT(Q12:Q111),AP12:AP111-AM12:AM111,AP12:AP111-AM12:AM111+AN12:AN111-1))))","v":1},{"$f":"IF(R12:R111=\"\",\"\",IF(AP11:AP110+1<=COUNT(Q12:Q111),AP11:AP110+1,COUNT(Q12:Q111)+1))","v":1},{"$f":"IF(R12:R111=\"\",\"BYE\",IF(ISERROR(VLOOKUP(A12:A111,T12:U111,2,FALSE))=TRUE,\"\",VLOOKUP(A12:A111,T12:U111,2,FALSE)))","v":"Voves  Jindřich  [CZE] "},{"$f":"IF(C12:C111=\"BYE\", \"\",IF(A12:A111=\"\",\"\",IF(ISERROR(VLOOKUP(A12:A111,T12:V111,3,FALSE))=TRUE,\"\",VLOOKUP(A12:A111,T12:V111,3,FALSE))))","v":37.204000000000001}]
[2,{"$f":"IF(REG!B12<>\"\",REG!B12,\"\")","v":""},{"$f":"IF(REG!C12<>\"\",REG!G12,\"\")","v":"Rezková  Anna  [CZE] "},{"$f":"IF('G Q 3'!R13=\"\",\"DNR\",IF('G Q 3'!R13=\"-\",+'G Q 3'!D13,+'G Q 3'!R13))","v":38.090000000000003},null,null,null,38.090000000000003,2,null,null,null,null,null,"","",2,38.090000000000003,2,2,"Rezková  Anna  [CZE] ",38.090000000000003,{"$f":"IF(R13=\"\",\"\",COUNTIF(R12:R13,\"-\"))","v":0},0,"","","","","","0",{"$f":"IF(R13=\"\",\"\",IF(AD13=\"0\",\"0\",COUNTIF(AD12:AD12,AD13)))","v":"0"},"","0","","0","","0","Rezková  Anna  [CZE] ",{"$f":"COUNTIF(AS12:AS13,\"W\")","v":0},{"$f":"IF(AR13=\"\",\"\",COUNTIF(AR12:AR13,\"-\"))","v":0},2,2,"Rezková  Anna  [CZE] ",38.090000000000003]
[3,{"$f":"IF(REG!B13<>\"\",REG!B13,\"\")","v":""},{"$f":"IF(REG!C13<>\"\",REG!G13,\"\")","v":""},{"$f":"IF('G Q 3'!R14=\"\",\"DNR\",IF('G Q 3'!R14=\"-\",+'G Q 3'!D14,+'G Q 3'!R14))","v":"DNR"},null,null,null,"-","",null,null,null,null,null,"","","","-",3,3,"","-",{"$f":"IF(R14=\"\",\"\",COUNTIF(R12:R14,\"-\"))","v":1},"","","","","","","0",{"$f":"IF(R14=\"\",\"\",IF(AD14=\"0\",\"0\",COUNTIF(AD12:AD13,AD14)))","v":"0"},"","0","","0","","0","",{"$f":"COUNTIF(AS12:AS14,\"W\")","v":0},{"$f":"IF(AR14=\"\",\"\",COUNTIF(AR12:AR14,\"-\"))","v":1},3,3,"","-"]
[4,{"$f":"IF(REG!B14<>\"\",REG!B14,\"\")","v":""},{"$f":"IF(REG!C14<>\"\",REG!G14,\"\")","v":""},{"$f":"IF('G Q 3'!R15=\"\",\"DNR\",IF('G Q 3'!R15=\"-\",+'G Q 3'!D15,+'G Q 3'!R15))","v":"DNR"},null,null,null,"-","",null,null,null,null,null,"","","","-",3,4,"","-",{"$f":"IF(R15=\"\",\"\",COUNTIF(R12:R15,\"-\"))","v":2},"","","","","","","0",{"$f":"IF(R15=\"\",\"\",IF(AD15=\"0\",\"0\",COUNTIF(AD12:AD14,AD15)))","v":"0"},"","0","","0","","0","",{"$f":"COUNTIF(AS12:AS15,\"W\")","v":0},{"$f":"IF(AR15=\"\",\"\",COUNTIF(AR12:AR15,\"-\"))","v":2},4,3,"","-"]
[5,{"$f":"IF(REG!B15<>\"\",REG!B15,\"\")","v":""},{"$f":"IF(REG!C15<>\"\",REG!G15,\"\")","v":""},{"$f":"IF('G Q 3'!R16=\"\",\"DNR\",IF('G Q 3'!R16=\"-\",+'G Q 3'!D16,+'G Q 3'!R16))","v":"DNR"},null,null,null,"-","",null,null,null,null,null,"","","","-",3,5,"","-",{"$f":"IF(R16=\"\",\"\",COUNTIF(R12:R16,\"-\"))","v":3},"","","","","","","0",{"$f":"IF(R16=\"\",\"\",IF(AD16=\"0\",\"0\",COUNTIF(AD12:AD15,AD16)))","v":"0"},"","0","","0","","0","",{"$f":"COUNTIF(AS12:AS16,\"W\")","v":0},{"$f":"IF(AR16=\"\",\"\",COUNTIF(AR12:AR16,\"-\"))","v":3},5,3,"","-"]
[6,{"$f":"IF(REG!B16<>\"\",REG!B16,\"\")","v":""},{"$f":"IF(REG!C16<>\"\",REG!G16,\"\")","v":""},{"$f":"IF('G Q 3'!R17=\"\",\"DNR\",IF('G Q 3'!R17=\"-\",+'G Q 3'!D17,+'G Q 3'!R17))","v":"DNR"},null,null,null,"-","",null,null,null,null,null,"","","","-",3,6,"","-",{"$f":"IF(R17=\"\",\"\",COUNTIF(R12:R17,\"-\"))","v":4},"","","","","","","0",{"$f":"IF(R17=\"\",\"\",IF(AD17=\"0\",\"0\",COUNTIF(AD12:AD16,AD17)))","v":"0"},"","0","","0","","0","",{"$f":"COUNTIF(AS12:AS17,\"W\")","v":0},{"$f":"IF(AR17=\"\",\"\",COUNTIF(AR12:AR17,\"-\"))","v":4},6,3,"","-"]
[7,{"$f":"IF(REG!B17<>\"\",REG!B17,\"\")","v":""},{"$f":"IF(REG!C17<>\"\",REG!G17,\"\")","v":""},{"$f":"IF('G Q 3'!R18=\"\",\"DNR\",IF('G Q 3'!R18=\"-\",+'G Q 3'!D18,+'G Q 3'!R18))","v":"DNR"},null,null,null,"-","",null,null,null,null,null,"","","","-",3,7,"","-",{"$f":"IF(R18=\"\",\"\",COUNTIF(R12:R18,\"-\"))","v":5},"","","","","","","0",{"$f":"IF(R18=\"\",\"\",IF(R18=\"\",\"\",IF(AD18=\"0\",\"0\",COUNTIF(AD12:AD17,AD18))))","v":"0"},"","0","","0","","0","",{"$f":"COUNTIF(AS12:AS18,\"W\")","v":0},{"$f":"IF(AR18=\"\",\"\",COUNTIF(AR12:AR18,\"-\"))","v":5},7,3,"","-"]
[8,{"$f":"IF(REG!B18<>\"\",REG!B18,\"\")","v":""},{"$f":"IF(REG!C18<>\"\",REG!G18,\"\")","v":""},{"$f":"IF('G Q 3'!R19=\"\",\"DNR\",IF('G Q 3'!R19=\"-\",+'G Q 3'!D19,+'G Q 3'!R19))","v":"DNR"},null,null,null,"-","",null,null,null,null,null,"","","","-",3,8,"","-",{"$f":"IF(R19=\"\",\"\",COUNTIF(R12:R19,\"-\"))","v":6},"","","","","","","0",{"$f":"IF(R19=\"\",\"\",IF(R19=\"\",\"\",IF(AD19=\"0\",\"0\",COUNTIF(AD12:AD18,AD19))))","v":"0"},"","0","","0","","0","",{"$f":"COUNTIF(AS12:AS19,\"W\")","v":0},{"$f":"IF(AR19=\"\",\"\",COUNTIF(AR12:AR19,\"-\"))","v":6},8,3,"","-"]
[9,{"$f":"IF(REG!B19<>\"\",REG!B19,\"\")","v":""},{"$f":"IF(REG!C19<>\"\",REG!G19,\"\")","v":""},{"$f":"IF('G Q 3'!R20=\"\",\"DNR\",IF('G Q 3'!R20=\"-\",+'G Q 3'!D20,+'G Q 3'!R20))","v":"DNR"},null,null,null,"-","",null,null,null,null,null,"","","","-",3,9,"","-",{"$f":"IF(R20=\"\",\"\",COUNTIF(R12:R20,\"-\"))","v":7},"","","","","","","0",{"$f":"IF(R20=\"\",\"\",IF(R20=\"\",\"\",IF(AD20=\"0\",\"0\",COUNTIF(AD12:AD19,AD20))))","v":"0"},"","0","","0","","0","",{"$f":"COUNTIF(AS12:AS20,\"W\")","v":0},{"$f":"IF(AR20=\"\",\"\",COUNTIF(AR12:AR20,\"-\"))","v":7},9,3,"","-"]
[10,{"$f":"IF(REG!B20<>\"\",REG!B20,\"\")","v":""},{"$f":"IF(REG!C20<>\"\",REG!G20,\"\")","v":""},{"$f":"IF('G Q 3'!R21=\"\",\"DNR\",IF('G Q 3'!R21=\"-\",+'G Q 3'!D21,+'G Q 3'!R21))","v":"DNR"},null,null,null,"-","",null,null,null,null,null,"","","","-",3,10,"","-",{"$f":"IF(R21=\"\",\"\",COUNTIF(R12:R21,\"-\"))","v":8},"","","","","","","0",{"$f":"IF(R21=\"\",\"\",IF(AD21=\"0\",\"0\",COUNTIF(AD12:AD20,AD21)))","v":"0"},"","0","","0","","0","",{"$f":"COUNTIF(AS12:AS21,\"W\")","v":0},{"$f":"IF(AR21=\"\",\"\",COUNTIF(AR12:AR21,\"-\"))","v":8},10,3,"","-"]
[11,{"$f":"IF(REG!B21<>\"\",REG!B21,\"\")","v":""},{"$f":"IF(REG!C21<>\"\",REG!G21,\"\")","v":""},{"$f":"IF('G Q 3'!R22=\"\",\"DNR\",IF('G Q 3'!R22=\"-\",+'G Q 3'!D22,+'G Q 3'!R22))","v":"DNR"},null,null,null,"-","",null,null,null,null,null,"","","","-",3,11,"","-",{"$f":"IF(R22=\"\",\"\",COUNTIF(R12:R22,\"-\"))","v":9},"","","","","","","0",{"$f":"IF(R22=\"\",\"\",IF(AD22=\"0\",\"0\",COUNTIF(AD1:AD21,AD22)))","v":"0"},"","0","","0","","0","",{"$f":"COUNTIF(AS12:AS22,\"W\")","v":0},{"$f":"IF(AR22=\"\",\"\",COUNTIF(AR12:AR22,\"-\"))","v":9},11,3,"","-"]
[12,{"$f":"IF(REG!B22<>\"\",REG!B22,\"\")","v":""},{"$f":"IF(REG!C22<>\"\",REG!G22,\"\")","v":""},{"$f":"IF('G Q 3'!R23=\"\",\"DNR\",IF('G Q 3'!R23=\"-\",+'G Q 3'!D23,+'G Q 3'!R23))","v":"DNR"},null,null,null,"-","",null,null,null,null,null,"","","","-",3,12,"","-",{"$f":"IF(R23=\"\",\"\",COUNTIF(R12:R23,\"-\"))","v":10},"","","","","","","0",{"$f":"IF(R23=\"\",\"\",IF(AD23=\"0\",\"0\",COUNTIF(AD12:AD22,AD23)))","v":"0"},"","0","","0","","0","",{"$f":"COUNTIF(AS12:AS23,\"W\")","v":0},{"$f":"IF(AR23=\"\",\"\",COUNTIF(AR12:AR23,\"-\"))","v":10},12,3,"","-"]
[13,{"$f":"IF(REG!B23<>\"\",REG!B23,\"\")","v":""},{"$f":"IF(REG!C23<>\"\",REG!G23,\"\")","v":""},{"$f":"IF('G Q 3'!R24=\"\",\"DNR\",IF('G Q 3'!R24=\"-\",+'G Q 3'!D24,+'G Q 3'!R24))","v":"DNR"},null,null,null,"-","",null,null,null,null,null,"","","","-",3,13,"","-",{"$f":"IF(R24=\"\",\"\",COUNTIF(R12:R24,\"-\"))","v":11},"","","","","","","0",{"$f":"IF(R24=\"\",\"\",IF(AD24=\"0\",\"0\",COUNTIF(AD12:AD23,AD24)))","v":"0"},"","0","","0","","0","",{"$f":"COUNTIF(AS12:AS24,\"W\")","v":0},{"$f":"IF(AR24=\"\",\"\",COUNTIF(AR12:AR24,\"-\"))","v":11},13,3,"","-"]
[14,{"$f":"IF(REG!B24<>\"\",REG!B24,\"\")","v":""},{"$f":"IF(REG!C24<>\"\",REG!G24,\"\")","v":""},{"$f":"IF('G Q 3'!R25=\"\",\"DNR\",IF('G Q 3'!R25=\"-\",+'G Q 3'!D25,+'G Q 3'!R25))","v":"DNR"},null,null,null,"-","",null,null,null,null,null,"","","","-",3,14,"","-",{"$f":"IF(R25=\"\",\"\",COUNTIF(R12:R25,\"-\"))","v":12},"","","","","","","0",{"$f":"IF(R25=\"\",\"\",IF(AD25=\"0\",\"0\",COUNTIF(AD12:AD24,AD25)))","v":"0"},"","0","","0","","0","",{"$f":"COUNTIF(AS12:AS25,\"W\")","v":0},{"$f":"IF(AR25=\"\",\"\",COUNTIF(AR12:AR25,\"-\"))","v":12},14,3,"","-"]
[15,{"$f":"IF(REG!B25<>\"\",REG!B25,\"\")","v":""},{"$f":"IF(REG!C25<>\"\",REG!G25,\"\")","v":""},{"$f":"IF('G Q 3'!R26=\"\",\"DNR\",IF('G Q 3'!R26=\"-\",+'G Q 3'!D26,+'G Q 3'!R26))","v":"DNR"},null,null,null,"-","",null,null,null,null,null,"","","","-",3,15,"","-",{"$f":"IF(R26=\"\",\"\",COUNTIF(R12:R26,\"-\"))","v":13},"","","","","","","0",{"$f":"IF(R26=\"\",\"\",IF(AD26=\"0\",\"0\",COUNTIF(AD12:AD25,AD26)))","v":"0"},"","0","","0","","0","",{"$f":"COUNTIF(AS12:AS26,\"W\")","v":0},{"$f":"IF(AR26=\"\",\"\",COUNTIF(AR12:AR26,\"-\"))","v":13},15,3,"","-"]
[16,{"$f":"IF(REG!B26<>\"\",REG!B26,\"\")","v":""},{"$f":"IF(REG!C26<>\"\",REG!G26,\"\")","v":""},{"$f":"IF('G Q 3'!R27=\"\",\"DNR\",IF('G Q 3'!R27=\"-\",+'G Q 3'!D27,+'G Q 3'!R27))","v":"DNR"},null,null,null,"-","",null,null,null,null,null,"","","","-",3,16,"","-",{"$f":"IF(R27=\"\",\"\",COUNTIF(R12:R27,\"-\"))","v":14},"","","","","","","0",{"$f":"IF(R27=\"\",\"\",IF(AD27=\"0\",\"0\",COUNTIF(AD12:AD26,AD27)))","v":"0"},"","0","","0","","0","",{"$f":"COUNTIF(AS12:AS27,\"W\")","v":0},{"$f":"IF(AR27=\"\",\"\",COUNTIF(AR12:AR27,\"-\"))","v":14},16,3,"","-"]
[17,{"$f":"IF(REG!B27<>\"\",REG!B27,\"\")","v":""},{"$f":"IF(REG!C27<>\"\",REG!G27,\"\")","v":""},{"$f":"IF('G Q 3'!R28=\"\",\"DNR\",IF('G Q 3'!R28=\"-\",+'G Q 3'!D28,+'G Q 3'!R28))","v":"DNR"},null,null,null,"-","",null,null,null,null,null,"","","","-",3,17,"","-",{"$f":"IF(R28=\"\",\"\",COUNTIF(R12:R28,\"-\"))","v":15},"","","","","","","0",{"$f":"IF(R28=\"\",\"\",IF(AD28=\"0\",\"0\",COUNTIF(AD12:AD27,AD28)))","v":"0"},"","0","","0","","0","",{"$f":"COUNTIF(AS12:AS28,\"W\")","v":0},{"$f":"IF(AR28=\"\",\"\",COUNTIF(AR12:AR28,\"-\"))","v":15},17,3,"","-"]
[18,{"$f":"IF(REG!B28<>\"\",REG!B28,\"\")","v":""},{"$f":"IF(REG!C28<>\"\",REG!G28,\"\")","v":""},{"$f":"IF('G Q 3'!R29=\"\",\"DNR\",IF('G Q 3'!R29=\"-\",+'G Q 3'!D29,+'G Q 3'!R29))","v":"DNR"},null,null,null,"-","",null,null,null,null,null,"","","","-",3,18,"","-",{"$f":"IF(R29=\"\",\"\",COUNTIF(R12:R29,\"-\"))","v":16},"","","","","","","0",{"$f":"IF(R29=\"\",\"\",IF(AD29=\"0\",\"0\",COUNTIF(AD12:AD28,AD29)))","v":"0"},"","0","","0","","0","",{"$f":"COUNTIF(AS12:AS29,\"W\")","v":0},{"$f":"IF(AR29=\"\",\"\",COUNTIF(AR12:AR29,\"-\"))","v":16},18,3,"","-"]
[19,{"$f":"IF(REG!B29<>\"\",REG!B29,\"\")","v":""},{"$f":"IF(REG!C29<>\"\",REG!G29,\"\")","v":""},{"$f":"IF('G Q 3'!R30=\"\",\"DNR\",IF('G Q 3'!R30=\"-\",+'G Q 3'!D30,+'G Q 3'!R30))","v":"DNR"},null,null,null,"-","",null,null,null,null,null,"","","","-",3,19,"","-",{"$f":"IF(R30=\"\",\"\",COUNTIF(R12:R30,\"-\"))","v":17},"","","","","","","0",{"$f":"IF(R30=\"\",\"\",IF(AD30=\"0\",\"0\",COUNTIF(AD12:AD29,AD30)))","v":"0"},"","0","","0","","0","",{"$f":"COUNTIF(AS12:AS30,\"W\")","v":0},{"$f":"IF(AR30=\"\",\"\",COUNTIF(AR12:AR30,\"-\"))","v":17},19,3,"","-"]
[20,{"$f":"IF(REG!B30<>\"\",REG!B30,\"\")","v":""},{"$f":"IF(REG!C30<>\"\",REG!G30,\"\")","v":""},{"$f":"IF('G Q 3'!R31=\"\",\"DNR\",IF('G Q 3'!R31=\"-\",+'G Q 3'!D31,+'G Q 3'!R31))","v":"DNR"},null,null,null,"-","",null,null,null,null,null,"","","","-",3,20,"","-",{"$f":"IF(R31=\"\",\"\",COUNTIF(R12:R31,\"-\"))","v":18},"","","","","","","0",{"$f":"IF(R31=\"\",\"\",IF(AD31=\"0\",\"0\",COUNTIF(AD12:AD30,AD31)))","v":"0"},"","0","","0","","0","",{"$f":"COUNTIF(AS12:AS31,\"W\")","v":0},{"$f":"IF(AR31=\"\",\"\",COUNTIF(AR12:AR31,\"-\"))","v":18},20,3,"","-"]
[21,{"$f":"IF(REG!B31<>\"\",REG!B31,\"\")","v":""},{"$f":"IF(REG!C31<>\"\",REG!G31,\"\")","v":""},{"$f":"IF('G Q 3'!R32=\"\",\"DNR\",IF('G Q 3'!R32=\"-\",+'G Q 3'!D32,+'G Q 3'!R32))","v":"DNR"},null,null,null,"-","",null,null,null,null,null,"","","","-",3,21,"","-",{"$f":"IF(R32=\"\",\"\",COUNTIF(R12:R32,\"-\"))","v":19},"","","","","","","0",{"$f":"IF(R32=\"\",\"\",IF(AD32=\"0\",\"0\",COUNTIF(AD12:AD31,AD32)))","v":"0"},"","0","","0","","0","",{"$f":"COUNTIF(AS12:AS32,\"W\")","v":0},{"$f":"IF(AR32=\"\",\"\",COUNTIF(AR12:AR32,\"-\"))","v":19},21,3,"","-"]
[22,{"$f":"IF(REG!B32<>\"\",REG!B32,\"\")","v":""},{"$f":"IF(REG!C32<>\"\",REG!G32,\"\")","v":""},{"$f":"IF('G Q 3'!R33=\"\",\"DNR\",IF('G Q 3'!R33=\"-\",+'G Q 3'!D33,+'G Q 3'!R33))","v":"DNR"},null,null,null,"-","",null,null,null,null,null,"","","","-",3,22,"","-",{"$f":"IF(R33=\"\",\"\",COUNTIF(R12:R33,\"-\"))","v":20},"","","","","","","0",{"$f":"IF(R33=\"\",\"\",IF(AD33=\"0\",\"0\",COUNTIF(AD12:AD32,AD33)))","v":"0"},"","0","","0","","0","",{"$f":"COUNTIF(AS12:AS33,\"W\")","v":0},{"$f":"IF(AR33=\"\",\"\",COUNTIF(AR12:AR33,\"-\"))","v":20},22,3,"","-"]
[23,{"$f":"IF(REG!B33<>\"\",REG!B33,\"\")","v":""},{"$f":"IF(REG!C33<>\"\",REG!G33,\"\")","v":""},{"$f":"IF('G Q 3'!R34=\"\",\"DNR\",IF('G Q 3'!R34=\"-\",+'G Q 3'!D34,+'G Q 3'!R34))","v":"DNR"},null,null,null,"-","",null,null,null,null,null,"","","","-",3,23,"","-",{"$f":"IF(R34=\"\",\"\",COUNTIF(R12:R34,\"-\"))","v":21},"","","","","","","0",{"$f":"IF(R34=\"\",\"\",IF(AD34=\"0\",\"0\",COUNTIF(AD12:AD33,AD34)))","v":"0"},"","0","","0","","0","",{"$f":"COUNTIF(AS12:AS34,\"W\")","v":0},{"$f":"IF(AR34=\"\",\"\",COUNTIF(AR12:AR34,\"-\"))","v":21},23,3,"","-"]
[24,{"$f":"IF(REG!B34<>\"\",REG!B34,\"\")","v":""},{"$f":"IF(REG!C34<>\"\",REG!G34,\"\")","v":""},{"$f":"IF('G Q 3'!R35=\"\",\"DNR\",IF('G Q 3'!R35=\"-\",+'G Q 3'!D35,+'G Q 3'!R35))","v":"DNR"},null,null,null,"-","",null,null,null,null,null,"","","","-",3,24,"","-",{"$f":"IF(R35=\"\",\"\",COUNTIF(R12:R35,\"-\"))","v":22},"","","","","","","0",{"$f":"IF(R35=\"\",\"\",IF(AD35=\"0\",\"0\",COUNTIF(AD12:AD34,AD35)))","v":"0"},"","0","","0","","0","",{"$f":"COUNTIF(AS12:AS35,\"W\")","v":0},{"$f":"IF(AR35=\"\",\"\",COUNTIF(AR12:AR35,\"-\"))","v":22},24,3,"","-"]
[25,{"$f":"IF(REG!B35<>\"\",REG!B35,\"\")","v":""},{"$f":"IF(REG!C35<>\"\",REG!G35,\"\")","v":""},{"$f":"IF('G Q 3'!R36=\"\",\"DNR\",IF('G Q 3'!R36=\"-\",+'G Q 3'!D36,+'G Q 3'!R36))","v":"DNR"},null,null,null,"-","",null,null,null,null,null,"","","","-",3,25,"","-",{"$f":"IF(R36=\"\",\"\",COUNTIF(R12:R36,\"-\"))","v":23},"","","","","","","0",{"$f":"IF(R36=\"\",\"\",IF(AD36=\"0\",\"0\",COUNTIF(AD12:AD35,AD36)))","v":"0"},"","0","","0","","0","",{"$f":"COUNTIF(AS12:AS36,\"W\")","v":0},{"$f":"IF(AR36=\"\",\"\",COUNTIF(AR12:AR36,\"-\"))","v":23},25,3,"","-"]
[26,{"$f":"IF(REG!B36<>\"\",REG!B36,\"\")","v":""},{"$f":"IF(REG!C36<>\"\",REG!G36,\"\")","v":""},{"$f":"IF('G Q 3'!R37=\"\",\"DNR\",IF('G Q 3'!R37=\"-\",+'G Q 3'!D37,+'G Q 3'!R37))","v":"DNR"},null,null,null,"-","",null,null,null,null,null,"","","","-",3,26,"","-",{"$f":"IF(R37=\"\",\"\",COUNTIF(R12:R37,\"-\"))","v":24},"","","","","","","0",{"$f":"IF(R37=\"\",\"\",IF(AD37=\"0\",\"0\",COUNTIF(AD12:AD36,AD37)))","v":"0"},"","0","","0","","0","",{"$f":"COUNTIF(AS12:AS37,\"W\")","v":0},{"$f":"IF(AR37=\"\",\"\",COUNTIF(AR12:AR37,\"-\"))","v":24},26,3,"","-"]
[27,{"$f":"IF(REG!B37<>\"\",REG!B37,\"\")","v":""},{"$f":"IF(REG!C37<>\"\",REG!G37,\"\")","v":""},{"$f":"IF('G Q 3'!R38=\"\",\"DNR\",IF('G Q 3'!R38=\"-\",+'G Q 3'!D38,+'G Q 3'!R38))","v":"DNR"},null,null,null,"-","",null,null,null,null,null,"","","","-",3,27,"","-",{"$f":"IF(R38=\"\",\"\",COUNTIF(R12:R38,\"-\"))","v":25},"","","","","","","0",{"$f":"IF(R38=\"\",\"\",IF(AD38=\"0\",\"0\",COUNTIF(AD12:AD37,AD38)))","v":"0"},"","0","","0","","0","",{"$f":"COUNTIF(AS12:AS38,\"W\")","v":0},{"$f":"IF(AR38=\"\",\"\",COUNTIF(AR12:AR38,\"-\"))","v":25},27,3,"","-"]
[28,{"$f":"IF(REG!B38<>\"\",REG!B38,\"\")","v":""},{"$f":"IF(REG!C38<>\"\",REG!G38,\"\")","v":""},{"$f":"IF('G Q 3'!R39=\"\",\"DNR\",IF('G Q 3'!R39=\"-\",+'G Q 3'!D39,+'G Q 3'!R39))","v":"DNR"},null,null,null,"-","",null,null,null,null,null,"","","","-",3,28,"","-",{"$f":"IF(R39=\"\",\"\",COUNTIF(R12:R39,\"-\"))","v":26},"","","","","","","0",{"$f":"IF(R39=\"\",\"\",IF(AD39=\"0\",\"0\",COUNTIF(AD12:AD38,AD39)))","v":"0"},"","0","","0","","0","",{"$f":"COUNTIF(AS12:AS39,\"W\")","v":0},{"$f":"IF(AR39=\"\",\"\",COUNTIF(AR12:AR39,\"-\"))","v":26},28,3,"","-"]
[29,{"$f":"IF(REG!B39<>\"\",REG!B39,\"\")","v":""},{"$f":"IF(REG!C39<>\"\",REG!G39,\"\")","v":""},{"$f":"IF('G Q 3'!R40=\"\",\"DNR\",IF('G Q 3'!R40=\"-\",+'G Q 3'!D40,+'G Q 3'!R40))","v":"DNR"},null,null,null,"-","",null,null,null,null,null,"","","","-",3,29,"","-",{"$f":"IF(R40=\"\",\"\",COUNTIF(R12:R40,\"-\"))","v":27},"","","","","","","0",{"$f":"IF(R40=\"\",\"\",IF(AD40=\"0\",\"0\",COUNTIF(AD12:AD39,AD40)))","v":"0"},"","0","","0","","0","",{"$f":"COUNTIF(AS12:AS40,\"W\")","v":0},{"$f":"IF(AR40=\"\",\"\",COUNTIF(AR12:AR40,\"-\"))","v":27},29,3,"","-"]
[30,{"$f":"IF(REG!B40<>\"\",REG!B40,\"\")","v":""},{"$f":"IF(REG!C40<>\"\",REG!G40,\"\")","v":""},{"$f":"IF('G Q 3'!R41=\"\",\"DNR\",IF('G Q 3'!R41=\"-\",+'G Q 3'!D41,+'G Q 3'!R41))","v":"DNR"},null,null,null,"-","",null,null,null,null,null,"","","","-",3,30,"","-",{"$f":"IF(R41=\"\",\"\",COUNTIF(R12:R41,\"-\"))","v":28},"","","","","","","0",{"$f":"IF(R41=\"\",\"\",IF(AD41=\"0\",\"0\",COUNTIF(AD12:AD40,AD41)))","v":"0"},"","0","","0","","0","",{"$f":"COUNTIF(AS12:AS41,\"W\")","v":0},{"$f":"IF(AR41=\"\",\"\",COUNTIF(AR12:AR41,\"-\"))","v":28},30,3,"","-"]
[31,{"$f":"IF(REG!B41<>\"\",REG!B41,\"\")","v":""},{"$f":"IF(REG!C41<>\"\",REG!G41,\"\")","v":""},{"$f":"IF('G Q 3'!R42=\"\",\"DNR\",IF('G Q 3'!R42=\"-\",+'G Q 3'!D42,+'G Q 3'!R42))","v":"DNR"},null,null,null,"-","",null,null,null,null,null,"","","","-",3,31,"","-",{"$f":"IF(R42=\"\",\"\",COUNTIF(R12:R42,\"-\"))","v":29},"","","","","","","0",{"$f":"IF(R42=\"\",\"\",IF(AD42=\"0\",\"0\",COUNTIF(AD12:AD41,AD42)))","v":"0"},"","0","","0","","0","",{"$f":"COUNTIF(AS12:AS42,\"W\")","v":0},{"$f":"IF(AR42=\"\",\"\",COUNTIF(AR12:AR42,\"-\"))","v":29},31,3,"","-"]
[32,{"$f":"IF(REG!B42<>\"\",REG!B42,\"\")","v":""},{"$f":"IF(REG!C42<>\"\",REG!G42,\"\")","v":""},{"$f":"IF('G Q 3'!R43=\"\",\"DNR\",IF('G Q 3'!R43=\"-\",+'G Q 3'!D43,+'G Q 3'!R43))","v":"DNR"},null,null,null,"-","",null,null,null,null,null,"","","","-",3,32,"","-",{"$f":"IF(R43=\"\",\"\",COUNTIF(R12:R43,\"-\"))","v":30},"","","","","","","0",{"$f":"IF(R43=\"\",\"\",IF(AD43=\"0\",\"0\",COUNTIF(AD12:AD42,AD43)))","v":"0"},"","0","","0","","0","",{"$f":"COUNTIF(AS12:AS43,\"W\")","v":0},{"$f":"IF(AR43=\"\",\"\",COUNTIF(AR12:AR43,\"-\"))","v":30},32,3,"","-"]
[33,{"$f":"IF(REG!B43<>\"\",REG!B43,\"\")","v":""},{"$f":"IF(REG!C43<>\"\",REG!G43,\"\")","v":""},{"$f":"IF('G Q 3'!R44=\"\",\"DNR\",IF('G Q 3'!R44=\"-\",+'G Q 3'!D44,+'G Q 3'!R44))","v":"DNR"},null,null,null,"-","",null,null,null,null,null,"","","",{"$f":"IF(AND(ISBLANK(D44),ISBLANK(K44)),\"\",IF(AND(H44=\"-\",O44=\"-\"),\"-\",IF(AND(H44=\"-\",ISBLANK(K44)),\"-\",MIN(H44,O44))))","v":"-"},3,33,"","-",{"$f":"IF(R44=\"\",\"\",COUNTIF(R12:R44,\"-\"))","v":31},"","","","","","","0",{"$f":"IF(R44=\"\",\"\",IF(AD44=\"0\",\"0\",COUNTIF(AD12:AD43,AD44)))","v":"0"},"","0","","0","","0","",{"$f":"COUNTIF(AS12:AS44,\"W\")","v":0},{"$f":"IF(AR44=\"\",\"\",COUNTIF(AR12:AR44,\"-\"))","v":31},33,3,"","-"]
[34,{"$f":"IF(REG!B44<>\"\",REG!B44,\"\")","v":""},{"$f":"IF(REG!C44<>\"\",REG!G44,\"\")","v":""},{"$f":"IF('G Q 3'!R45=\"\",\"DNR\",IF('G Q 3'!R45=\"-\",+'G Q 3'!D45,+'G Q 3'!R45))","v":"DNR"},null,null,null,"-","",null,null,null,null,null,"","","","-",3,34,"","-",{"$f":"IF(R45=\"\",\"\",COUNTIF(R12:R45,\"-\"))","v":32},"","","","","","","0",{"$f":"IF(R45=\"\",\"\",IF(AD45=\"0\",\"0\",COUNTIF(AD12:AD44,AD45)))","v":"0"},"","0","","0","","0","",{"$f":"COUNTIF(AS12:AS45,\"W\")","v":0},{"$f":"IF(AR45=\"\",\"\",COUNTIF(AR12:AR45,\"-\"))","v":32},34,3,"","-"]
[35,{"$f":"IF(REG!B45<>\"\",REG!B45,\"\")","v":""},{"$f":"IF(REG!C45<>\"\",REG!G45,\"\")","v":""},{"$f":"IF('G Q 3'!R46=\"\",\"DNR\",IF('G Q 3'!R46=\"-\",+'G Q 3'!D46,+'G Q 3'!R46))","v":"DNR"},null,null,null,"-","",null,null,null,null,null,"","","","-",3,35,"","-",{"$f":"IF(R46=\"\",\"\",COUNTIF(R12:R46,\"-\"))","v":33},"","","","","","","0",{"$f":"IF(R46=\"\",\"\",IF(AD46=\"0\",\"0\",COUNTIF(AD12:AD45,AD46)))","v":"0"},"","0","","0","","0","",{"$f":"COUNTIF(AS12:AS46,\"W\")","v":0},{"$f":"IF(AR46=\"\",\"\",COUNTIF(AR12:AR46,\"-\"))","v":33},35,3,"","-"]
[36,{"$f":"IF(REG!B46<>\"\",REG!B46,\"\")","v":""},{"$f":"IF(REG!C46<>\"\",REG!G46,\"\")","v":""},{"$f":"IF('G Q 3'!R47=\"\",\"DNR\",IF('G Q 3'!R47=\"-\",+'G Q 3'!D47,+'G Q 3'!R47))","v":"DNR"},null,null,null,"-","",null,null,null,null,null,"","","","-",3,36,"","-",{"$f":"IF(R47=\"\",\"\",COUNTIF(R12:R47,\"-\"))","v":34},"","","","","","","0",{"$f":"IF(R47=\"\",\"\",IF(AD47=\"0\",\"0\",COUNTIF(AD12:AD46,AD47)))","v":"0"},"","0","","0","","0","",{"$f":"COUNTIF(AS12:AS47,\"W\")","v":0},{"$f":"IF(AR47=\"\",\"\",COUNTIF(AR12:AR47,\"-\"))","v":34},36,3,"","-"]
[37,{"$f":"IF(REG!B47<>\"\",REG!B47,\"\")","v":""},{"$f":"IF(REG!C47<>\"\",REG!G47,\"\")","v":""},{"$f":"IF('G Q 3'!R48=\"\",\"DNR\",IF('G Q 3'!R48=\"-\",+'G Q 3'!D48,+'G Q 3'!R48))","v":"DNR"},null,null,null,"-","",null,null,null,null,null,"","","","-",3,37,"","-",{"$f":"IF(R48=\"\",\"\",COUNTIF(R12:R48,\"-\"))","v":35},"","","","","","","0",{"$f":"IF(R48=\"\",\"\",IF(AD48=\"0\",\"0\",COUNTIF(AD12:AD47,AD48)))","v":"0"},"","0","","0","","0","",{"$f":"COUNTIF(AS12:AS48,\"W\")","v":0},{"$f":"IF(AR48=\"\",\"\",COUNTIF(AR12:AR48,\"-\"))","v":35},37,3,"","-"]
[38,{"$f":"IF(REG!B48<>\"\",REG!B48,\"\")","v":""},{"$f":"IF(REG!C48<>\"\",REG!G48,\"\")","v":""},{"$f":"IF('G Q 3'!R49=\"\",\"DNR\",IF('G Q 3'!R49=\"-\",+'G Q 3'!D49,+'G Q 3'!R49))","v":"DNR"},null,null,null,"-","",null,null,null,null,null,"","","","-",3,38,"","-",{"$f":"IF(R49=\"\",\"\",COUNTIF(R12:R49,\"-\"))","v":36},"","","","","","","0",{"$f":"IF(R49=\"\",\"\",IF(AD49=\"0\",\"0\",COUNTIF(AD12:AD48,AD49)))","v":"0"},"","0","","0","","0","",{"$f":"COUNTIF(AS12:AS49,\"W\")","v":0},{"$f":"IF(AR49=\"\",\"\",COUNTIF(AR12:AR49,\"-\"))","v":36},38,3,"","-"]
[39,{"$f":"IF(REG!B49<>\"\",REG!B49,\"\")","v":""},{"$f":"IF(REG!C49<>\"\",REG!G49,\"\")","v":""},{"$f":"IF('G Q 3'!R50=\"\",\"DNR\",IF('G Q 3'!R50=\"-\",+'G Q 3'!D50,+'G Q 3'!R50))","v":"DNR"},null,null,null,"-","",null,null,null,null,null,"","","","-",3,39,"","-",{"$f":"IF(R50=\"\",\"\",COUNTIF(R12:R50,\"-\"))","v":37},"","","","","","","0",{"$f":"IF(R50=\"\",\"\",IF(AD50=\"0\",\"0\",COUNTIF(AD12:AD49,AD50)))","v":"0"},"","0","","0","","0","",{"$f":"COUNTIF(AS12:AS50,\"W\")","v":0},{"$f":"IF(AR50=\"\",\"\",COUNTIF(AR12:AR50,\"-\"))","v":37},39,3,"","-"]
[40,{"$f":"IF(REG!B50<>\"\",REG!B50,\"\")","v":""},{"$f":"IF(REG!C50<>\"\",REG!G50,\"\")","v":""},{"$f":"IF('G Q 3'!R51=\"\",\"DNR\",IF('G Q 3'!R51=\"-\",+'G Q 3'!D51,+'G Q 3'!R51))","v":"DNR"},null,null,null,"-","",null,null,null,null,null,"","","","-",3,40,"","-",{"$f":"IF(R51=\"\",\"\",COUNTIF(R12:R51,\"-\"))","v":38},"","","","","","","0",{"$f":"IF(R51=\"\",\"\",IF(AD51=\"0\",\"0\",COUNTIF(AD12:AD50,AD51)))","v":"0"},"","0","","0","","0","",{"$f":"COUNTIF(AS12:AS51,\"W\")","v":0},{"$f":"IF(AR51=\"\",\"\",COUNTIF(AR12:AR51,\"-\"))","v":38},40,3,"","-"]
[41,{"$f":"IF(REG!B51<>\"\",REG!B51,\"\")","v":""},{"$f":"IF(REG!C51<>\"\",REG!G51,\"\")","v":""},{"$f":"IF('G Q 3'!R52=\"\",\"DNR\",IF('G Q 3'!R52=\"-\",+'G Q 3'!D52,+'G Q 3'!R52))","v":"DNR"},null,null,null,"-","",null,null,null,null,null,"","","","-",3,41,"","-",{"$f":"IF(R52=\"\",\"\",COUNTIF(R12:R52,\"-\"))","v":39},"","","","","","","0",{"$f":"IF(R52=\"\",\"\",IF(AD52=\"0\",\"0\",COUNTIF(AD12:AD51,AD52)))","v":"0"},"","0","","0","","0","",{"$f":"COUNTIF(AS12:AS52,\"W\")","v":0},{"$f":"IF(AR52=\"\",\"\",COUNTIF(AR12:AR52,\"-\"))","v":39},41,3,"","-"]
[42,{"$f":"IF(REG!B52<>\"\",REG!B52,\"\")","v":""},{"$f":"IF(REG!C52<>\"\",REG!G52,\"\")","v":""},{"$f":"IF('G Q 3'!R53=\"\",\"DNR\",IF('G Q 3'!R53=\"-\",+'G Q 3'!D53,+'G Q 3'!R53))","v":"DNR"},null,null,null,"-","",null,null,null,null,null,"","","","-",3,42,"","-",{"$f":"IF(R53=\"\",\"\",COUNTIF(R12:R53,\"-\"))","v":40},"","","","","","","0",{"$f":"IF(R53=\"\",\"\",IF(AD53=\"0\",\"0\",COUNTIF(AD12:AD52,AD53)))","v":"0"},"","0","","0","","0","",{"$f":"COUNTIF(AS12:AS53,\"W\")","v":0},{"$f":"IF(AR53=\"\",\"\",COUNTIF(AR12:AR53,\"-\"))","v":40},42,3,"","-"]
[43,{"$f":"IF(REG!B53<>\"\",REG!B53,\"\")","v":""},{"$f":"IF(REG!C53<>\"\",REG!G53,\"\")","v":""},{"$f":"IF('G Q 3'!R54=\"\",\"DNR\",IF('G Q 3'!R54=\"-\",+'G Q 3'!D54,+'G Q 3'!R54))","v":"DNR"},null,null,null,"-","",null,null,null,null,null,"","","","-",3,43,"","-",{"$f":"IF(R54=\"\",\"\",COUNTIF(R12:R54,\"-\"))","v":41},"","","","","","","0",{"$f":"IF(R54=\"\",\"\",IF(AD54=\"0\",\"0\",COUNTIF(AD12:AD53,AD54)))","v":"0"},"","0","","0","","0","",{"$f":"COUNTIF(AS12:AS54,\"W\")","v":0},{"$f":"IF(AR54=\"\",\"\",COUNTIF(AR12:AR54,\"-\"))","v":41},43,3,"","-"]
[44,{"$f":"IF(REG!B54<>\"\",REG!B54,\"\")","v":""},{"$f":"IF(REG!C54<>\"\",REG!G54,\"\")","v":""},{"$f":"IF('G Q 3'!R55=\"\",\"DNR\",IF('G Q 3'!R55=\"-\",+'G Q 3'!D55,+'G Q 3'!R55))","v":"DNR"},null,null,null,"-","",null,null,null,null,null,"","","","-",3,44,"","-",{"$f":"IF(R55=\"\",\"\",COUNTIF(R12:R55,\"-\"))","v":42},"","","","","","","0",{"$f":"IF(R55=\"\",\"\",IF(AD55=\"0\",\"0\",COUNTIF(AD12:AD54,AD55)))","v":"0"},"","0","","0","","0","",{"$f":"COUNTIF(AS12:AS55,\"W\")","v":0},{"$f":"IF(AR55=\"\",\"\",COUNTIF(AR12:AR55,\"-\"))","v":42},44,3,"","-"]
[45,{"$f":"IF(REG!B55<>\"\",REG!B55,\"\")","v":""},{"$f":"IF(REG!C55<>\"\",REG!G55,\"\")","v":""},{"$f":"IF('G Q 3'!R56=\"\",\"DNR\",IF('G Q 3'!R56=\"-\",+'G Q 3'!D56,+'G Q 3'!R56))","v":"DNR"},null,null,null,"-","",null,null,null,null,null,"","","","-",3,45,"","-",{"$f":"IF(R56=\"\",\"\",COUNTIF(R12:R56,\"-\"))","v":43},"","","","","","","0",{"$f":"IF(R56=\"\",\"\",IF(AD56=\"0\",\"0\",COUNTIF(AD12:AD55,AD56)))","v":"0"},"","0","","0","","0","",{"$f":"COUNTIF(AS12:AS56,\"W\")","v":0},{"$f":"IF(AR56=\"\",\"\",COUNTIF(AR12:AR56,\"-\"))","v":43},45,3,"","-"]
[46,{"$f":"IF(REG!B56<>\"\",REG!B56,\"\")","v":""},{"$f":"IF(REG!C56<>\"\",REG!G56,\"\")","v":""},{"$f":"IF('G Q 3'!R57=\"\",\"DNR\",IF('G Q 3'!R57=\"-\",+'G Q 3'!D57,+'G Q 3'!R57))","v":"DNR"},null,null,null,"-","",null,null,null,null,null,"","","","-",3,46,"","-",{"$f":"IF(R57=\"\",\"\",COUNTIF(R12:R57,\"-\"))","v":44},"","","","","","","0",{"$f":"IF(R57=\"\",\"\",IF(AD57=\"0\",\"0\",COUNTIF(AD12:AD56,AD57)))","v":"0"},"","0","","0","","0","",{"$f":"COUNTIF(AS12:AS57,\"W\")","v":0},{"$f":"IF(AR57=\"\",\"\",COUNTIF(AR12:AR57,\"-\"))","v":44},46,3,"","-"]
[47,{"$f":"IF(REG!B57<>\"\",REG!B57,\"\")","v":""},{"$f":"IF(REG!C57<>\"\",REG!G57,\"\")","v":""},{"$f":"IF('G Q 3'!R58=\"\",\"DNR\",IF('G Q 3'!R58=\"-\",+'G Q 3'!D58,+'G Q 3'!R58))","v":"DNR"},null,null,null,"-","",null,null,null,null,null,"","","","-",3,47,"","-",{"$f":"IF(R58=\"\",\"\",COUNTIF(R12:R58,\"-\"))","v":45},"","","","","","","0",{"$f":"IF(R58=\"\",\"\",IF(AD58=\"0\",\"0\",COUNTIF(AD12:AD57,AD58)))","v":"0"},"","0","","0","","0","",{"$f":"COUNTIF(AS12:AS58,\"W\")","v":0},{"$f":"IF(AR58=\"\",\"\",COUNTIF(AR12:AR58,\"-\"))","v":45},47,3,"","-"]
[48,{"$f":"IF(REG!B58<>\"\",REG!B58,\"\")","v":""},{"$f":"IF(REG!C58<>\"\",REG!G58,\"\")","v":""},{"$f":"IF('G Q 3'!R59=\"\",\"DNR\",IF('G Q 3'!R59=\"-\",+'G Q 3'!D59,+'G Q 3'!R59))","v":"DNR"},null,null,null,"-","",null,null,null,null,null,"","","","-",3,48,"","-",{"$f":"IF(R59=\"\",\"\",COUNTIF(R12:R59,\"-\"))","v":46},"","","","","","","0",{"$f":"IF(R59=\"\",\"\",IF(AD59=\"0\",\"0\",COUNTIF(AD12:AD58,AD59)))","v":"0"},"","0","","0","","0","",{"$f":"COUNTIF(AS12:AS59,\"W\")","v":0},{"$f":"IF(AR59=\"\",\"\",COUNTIF(AR12:AR59,\"-\"))","v":46},48,3,"","-"]
[49,{"$f":"IF(REG!B59<>\"\",REG!B59,\"\")","v":""},{"$f":"IF(REG!C59<>\"\",REG!G59,\"\")","v":""},{"$f":"IF('G Q 3'!R60=\"\",\"DNR\",IF('G Q 3'!R60=\"-\",+'G Q 3'!D60,+'G Q 3'!R60))","v":"DNR"},null,null,null,"-","",null,null,null,null,null,"","","","-",3,49,"","-",{"$f":"IF(R60=\"\",\"\",COUNTIF(R12:R60,\"-\"))","v":47},"","","","","","","0",{"$f":"IF(R60=\"\",\"\",IF(AD60=\"0\",\"0\",COUNTIF(AD12:AD59,AD60)))","v":"0"},"","0","","0","","0","",{"$f":"COUNTIF(AS12:AS60,\"W\")","v":0},{"$f":"IF(AR60=\"\",\"\",COUNTIF(AR12:AR60,\"-\"))","v":47},49,3,"","-"]
[50,{"$f":"IF(REG!B60<>\"\",REG!B60,\"\")","v":""},{"$f":"IF(REG!C60<>\"\",REG!G60,\"\")","v":""},{"$f":"IF('G Q 3'!R61=\"\",\"DNR\",IF('G Q 3'!R61=\"-\",+'G Q 3'!D61,+'G Q 3'!R61))","v":"DNR"},null,null,null,"-","",null,null,null,null,null,"","","","-",3,50,"","-",{"$f":"IF(R61=\"\",\"\",COUNTIF(R12:R61,\"-\"))","v":48},"","","","","","","0",{"$f":"IF(R61=\"\",\"\",IF(AD61=\"0\",\"0\",COUNTIF(AD12:AD60,AD61)))","v":"0"},"","0","","0","","0","",{"$f":"COUNTIF(AS12:AS61,\"W\")","v":0},{"$f":"IF(AR61=\"\",\"\",COUNTIF(AR12:AR61,\"-\"))","v":48},50,3,"","-"]
[51,{"$f":"IF(REG!B61<>\"\",REG!B61,\"\")","v":""},{"$f":"IF(REG!C61<>\"\",REG!G61,\"\")","v":""},{"$f":"IF('G Q 3'!R62=\"\",\"DNR\",IF('G Q 3'!R62=\"-\",+'G Q 3'!D62,+'G Q 3'!R62))","v":"DNR"},null,null,null,"-","",null,null,null,null,null,"","","","-",3,51,"","-",{"$f":"IF(R62=\"\",\"\",COUNTIF(R12:R62,\"-\"))","v":49},"","","","","","","0",{"$f":"IF(R62=\"\",\"\",IF(AD62=\"0\",\"0\",COUNTIF(AD12:AD61,AD62)))","v":"0"},"","0","","0","","0","",{"$f":"COUNTIF(AS12:AS62,\"W\")","v":0},{"$f":"IF(AR62=\"\",\"\",COUNTIF(AR12:AR62,\"-\"))","v":49},51,3,"","-"]
[52,{"$f":"IF(REG!B62<>\"\",REG!B62,\"\")","v":""},{"$f":"IF(REG!C62<>\"\",REG!G62,\"\")","v":""},{"$f":"IF('G Q 3'!R63=\"\",\"DNR\",IF('G Q 3'!R63=\"-\",+'G Q 3'!D63,+'G Q 3'!R63))","v":"DNR"},null,null,null,"-","",null,null,null,null,null,"","","","-",3,52,"","-",{"$f":"IF(R63=\"\",\"\",COUNTIF(R12:R63,\"-\"))","v":50},"","","","","","","0",{"$f":"IF(R63=\"\",\"\",IF(AD63=\"0\",\"0\",COUNTIF(AD12:AD62,AD63)))","v":"0"},"","0","","0","","0","",{"$f":"COUNTIF(AS12:AS63,\"W\")","v":0},{"$f":"IF(AR63=\"\",\"\",COUNTIF(AR12:AR63,\"-\"))","v":50},52,3,"","-"]
[53,{"$f":"IF(REG!B63<>\"\",REG!B63,\"\")","v":""},{"$f":"IF(REG!C63<>\"\",REG!G63,\"\")","v":""},{"$f":"IF('G Q 3'!R64=\"\",\"DNR\",IF('G Q 3'!R64=\"-\",+'G Q 3'!D64,+'G Q 3'!R64))","v":"DNR"},null,null,null,"-","",null,null,null,null,null,"","","","-",3,53,"","-",{"$f":"IF(R64=\"\",\"\",COUNTIF(R12:R64,\"-\"))","v":51},"","","","","","","0",{"$f":"IF(R64=\"\",\"\",IF(AD64=\"0\",\"0\",COUNTIF(AD12:AD63,AD64)))","v":"0"},"","0","","0","","0","",{"$f":"COUNTIF(AS12:AS64,\"W\")","v":0},{"$f":"IF(AR64=\"\",\"\",COUNTIF(AR12:AR64,\"-\"))","v":51},53,3,"","-"]
[54,{"$f":"IF(REG!B64<>\"\",REG!B64,\"\")","v":""},{"$f":"IF(REG!C64<>\"\",REG!G64,\"\")","v":""},{"$f":"IF('G Q 3'!R65=\"\",\"DNR\",IF('G Q 3'!R65=\"-\",+'G Q 3'!D65,+'G Q 3'!R65))","v":"DNR"},null,null,null,"-","",null,null,null,null,null,"","","","-",3,54,"","-",{"$f":"IF(R65=\"\",\"\",COUNTIF(R12:R65,\"-\"))","v":52},"","","","","","","0",{"$f":"IF(R65=\"\",\"\",IF(AD65=\"0\",\"0\",COUNTIF(AD12:AD64,AD65)))","v":"0"},"","0","","0","","0","",{"$f":"COUNTIF(AS12:AS65,\"W\")","v":0},{"$f":"IF(AR65=\"\",\"\",COUNTIF(AR12:AR65,\"-\"))","v":52},54,3,"","-"]
[55,{"$f":"IF(REG!B65<>\"\",REG!B65,\"\")","v":""},{"$f":"IF(REG!C65<>\"\",REG!G65,\"\")","v":""},{"$f":"IF('G Q 3'!R66=\"\",\"DNR\",IF('G Q 3'!R66=\"-\",+'G Q 3'!D66,+'G Q 3'!R66))","v":"DNR"},null,null,null,"-","",null,null,null,null,null,"","","","-",3,55,"","-",{"$f":"IF(R66=\"\",\"\",COUNTIF(R12:R66,\"-\"))","v":53},"","","","","","","0",{"$f":"IF(R66=\"\",\"\",IF(AD66=\"0\",\"0\",COUNTIF(AD12:AD65,AD66)))","v":"0"},"","0","","0","","0","",{"$f":"COUNTIF(AS12:AS66,\"W\")","v":0},{"$f":"IF(AR66=\"\",\"\",COUNTIF(AR12:AR66,\"-\"))","v":53},55,3,"","-"]
[56,{"$f":"IF(REG!B66<>\"\",REG!B66,\"\")","v":""},{"$f":"IF(REG!C66<>\"\",REG!G66,\"\")","v":""},{"$f":"IF('G Q 3'!R67=\"\",\"DNR\",IF('G Q 3'!R67=\"-\",+'G Q 3'!D67,+'G Q 3'!R67))","v":"DNR"},null,null,null,"-","",null,null,null,null,null,"","","","-",3,56,"","-",{"$f":"IF(R67=\"\",\"\",COUNTIF(R12:R67,\"-\"))","v":54},"","","","","","","0",{"$f":"IF(R67=\"\",\"\",IF(AD67=\"0\",\"0\",COUNTIF(AD12:AD66,AD67)))","v":"0"},"","0","","0","","0","",{"$f":"COUNTIF(AS12:AS67,\"W\")","v":0},{"$f":"IF(AR67=\"\",\"\",COUNTIF(AR12:AR67,\"-\"))","v":54},56,3,"","-"]
[57,{"$f":"IF(REG!B67<>\"\",REG!B67,\"\")","v":""},{"$f":"IF(REG!C67<>\"\",REG!G67,\"\")","v":""},{"$f":"IF('G Q 3'!R68=\"\",\"DNR\",IF('G Q 3'!R68=\"-\",+'G Q 3'!D68,+'G Q 3'!R68))","v":"DNR"},null,null,null,"-","",null,null,null,null,null,"","","","-",3,57,"","-",{"$f":"IF(R68=\"\",\"\",COUNTIF(R12:R68,\"-\"))","v":55},"","","","","","","0",{"$f":"IF(R68=\"\",\"\",IF(R68=\"\",\"\",IF(AD68=\"0\",\"0\",COUNTIF(AD12:AD67,AD68))))","v":"0"},"","0","","0","","0","",{"$f":"COUNTIF(AS12:AS68,\"W\")","v":0},{"$f":"IF(AR68=\"\",\"\",COUNTIF(AR12:AR68,\"-\"))","v":55},57,3,"","-"]
[58,{"$f":"IF(REG!B68<>\"\",REG!B68,\"\")","v":""},{"$f":"IF(REG!C68<>\"\",REG!G68,\"\")","v":""},{"$f":"IF('G Q 3'!R69=\"\",\"DNR\",IF('G Q 3'!R69=\"-\",+'G Q 3'!D69,+'G Q 3'!R69))","v":"DNR"},null,null,null,"-","",null,null,null,null,null,"","","","-",3,58,"","-",{"$f":"IF(R69=\"\",\"\",COUNTIF(R12:R69,\"-\"))","v":56},"","","","","","","0",{"$f":"IF(R69=\"\",\"\",IF(R69=\"\",\"\",IF(AD69=\"0\",\"0\",COUNTIF(AD12:AD68,AD69))))","v":"0"},"","0","","0","","0","",{"$f":"COUNTIF(AS12:AS69,\"W\")","v":0},{"$f":"IF(AR69=\"\",\"\",COUNTIF(AR12:AR69,\"-\"))","v":56},58,3,"","-"]
[59,{"$f":"IF(REG!B69<>\"\",REG!B69,\"\")","v":""},{"$f":"IF(REG!C69<>\"\",REG!G69,\"\")","v":""},{"$f":"IF('G Q 3'!R70=\"\",\"DNR\",IF('G Q 3'!R70=\"-\",+'G Q 3'!D70,+'G Q 3'!R70))","v":"DNR"},null,null,null,"-","",null,null,null,null,null,"","","","-",3,59,"","-",{"$f":"IF(R70=\"\",\"\",COUNTIF(R12:R70,\"-\"))","v":57},"","","","","","","0",{"$f":"IF(R70=\"\",\"\",IF(R70=\"\",\"\",IF(AD70=\"0\",\"0\",COUNTIF(AD12:AD69,AD70))))","v":"0"},"","0","","0","","0","",{"$f":"COUNTIF(AS12:AS70,\"W\")","v":0},{"$f":"IF(AR70=\"\",\"\",COUNTIF(AR12:AR70,\"-\"))","v":57},59,3,"","-"]
[60,{"$f":"IF(REG!B70<>\"\",REG!B70,\"\")","v":""},{"$f":"IF(REG!C70<>\"\",REG!G70,\"\")","v":""},{"$f":"IF('G Q 3'!R71=\"\",\"DNR\",IF('G Q 3'!R71=\"-\",+'G Q 3'!D71,+'G Q 3'!R71))","v":"DNR"},null,null,null,"-","",null,null,null,null,null,"","","","-",3,60,"","-",{"$f":"IF(R71=\"\",\"\",COUNTIF(R12:R71,\"-\"))","v":58},"","","","","","","0",{"$f":"IF(R71=\"\",\"\",IF(AD71=\"0\",\"0\",COUNTIF(AD12:AD70,AD71)))","v":"0"},"","0","","0","","0","",{"$f":"COUNTIF(AS12:AS71,\"W\")","v":0},{"$f":"IF(AR71=\"\",\"\",COUNTIF(AR12:AR71,\"-\"))","v":58},60,3,"","-"]
[61,{"$f":"IF(REG!B71<>\"\",REG!B71,\"\")","v":""},{"$f":"IF(REG!C71<>\"\",REG!G71,\"\")","v":""},{"$f":"IF('G Q 3'!R72=\"\",\"DNR\",IF('G Q 3'!R72=\"-\",+'G Q 3'!D72,+'G Q 3'!R72))","v":"DNR"},null,null,null,"-","",null,null,null,null,null,"","","","-",3,61,"","-",{"$f":"IF(R72=\"\",\"\",COUNTIF(R12:R72,\"-\"))","v":59},"","","","","","","0",{"$f":"IF(R72=\"\",\"\",IF(AD72=\"0\",\"0\",COUNTIF(AD52:AD71,AD72)))","v":"0"},"","0","","0","","0","",{"$f":"COUNTIF(AS12:AS72,\"W\")","v":0},{"$f":"IF(AR72=\"\",\"\",COUNTIF(AR12:AR72,\"-\"))","v":59},61,3,"","-"]
[62,{"$f":"IF(REG!B72<>\"\",REG!B72,\"\")","v":""},{"$f":"IF(REG!C72<>\"\",REG!G72,\"\")","v":""},{"$f":"IF('G Q 3'!R73=\"\",\"DNR\",IF('G Q 3'!R73=\"-\",+'G Q 3'!D73,+'G Q 3'!R73))","v":"DNR"},null,null,null,"-","",null,null,null,null,null,"","","","-",3,62,"","-",{"$f":"IF(R73=\"\",\"\",COUNTIF(R12:R73,\"-\"))","v":60},"","","","","","","0",{"$f":"IF(R73=\"\",\"\",IF(AD73=\"0\",\"0\",COUNTIF(AD12:AD72,AD73)))","v":"0"},"","0","","0","","0","",{"$f":"COUNTIF(AS12:AS73,\"W\")","v":0},{"$f":"IF(AR73=\"\",\"\",COUNTIF(AR12:AR73,\"-\"))","v":60},62,3,"","-"]
[63,{"$f":"IF(REG!B73<>\"\",REG!B73,\"\")","v":""},{"$f":"IF(REG!C73<>\"\",REG!G73,\"\")","v":""},{"$f":"IF('G Q 3'!R74=\"\",\"DNR\",IF('G Q 3'!R74=\"-\",+'G Q 3'!D74,+'G Q 3'!R74))","v":"DNR"},null,null,null,"-","",null,null,null,null,null,"","","","-",3,63,"","-",{"$f":"IF(R74=\"\",\"\",COUNTIF(R12:R74,\"-\"))","v":61},"","","","","","","0",{"$f":"IF(R74=\"\",\"\",IF(AD74=\"0\",\"0\",COUNTIF(AD12:AD73,AD74)))","v":"0"},"","0","","0","","0","",{"$f":"COUNTIF(AS12:AS74,\"W\")","v":0},{"$f":"IF(AR74=\"\",\"\",COUNTIF(AR12:AR74,\"-\"))","v":61},63,3,"","-"]
[64,{"$f":"IF(REG!B74<>\"\",REG!B74,\"\")","v":""},{"$f":"IF(REG!C74<>\"\",REG!G74,\"\")","v":""},{"$f":"IF('G Q 3'!R75=\"\",\"DNR\",IF('G Q 3'!R75=\"-\",+'G Q 3'!D75,+'G Q 3'!R75))","v":"DNR"},null,null,null,"-","",null,null,null,null,null,"","","","-",3,64,"","-",{"$f":"IF(R75=\"\",\"\",COUNTIF(R12:R75,\"-\"))","v":62},"","","","","","","0",{"$f":"IF(R75=\"\",\"\",IF(AD75=\"0\",\"0\",COUNTIF(AD12:AD74,AD75)))","v":"0"},"","0","","0","","0","",{"$f":"COUNTIF(AS12:AS75,\"W\")","v":0},{"$f":"IF(AR75=\"\",\"\",COUNTIF(AR12:AR75,\"-\"))","v":62},64,3,"","-"]
[65,{"$f":"IF(REG!B75<>\"\",REG!B75,\"\")","v":""},{"$f":"IF(REG!C75<>\"\",REG!G75,\"\")","v":""},{"$f":"IF('G Q 3'!R76=\"\",\"DNR\",IF('G Q 3'!R76=\"-\",+'G Q 3'!D76,+'G Q 3'!R76))","v":"DNR"},null,null,null,"-","",null,null,null,null,null,"","","",{"$f":"IF(AND(ISBLANK(D76),ISBLANK(K76)),\"\",IF(AND(H76=\"-\",O76=\"-\"),\"-\",IF(AND(H76=\"-\",ISBLANK(K76)),\"-\",MIN(H76,O76))))","v":"-"},3,65,"","-",{"$f":"IF(R76=\"\",\"\",COUNTIF(R12:R76,\"-\"))","v":63},"","","","","","","0",{"$f":"IF(R76=\"\",\"\",IF(AD76=\"0\",\"0\",COUNTIF(AD12:AD75,AD76)))","v":"0"},"","0","","0","","0","",{"$f":"COUNTIF(AS12:AS76,\"W\")","v":0},{"$f":"IF(AR76=\"\",\"\",COUNTIF(AR12:AR76,\"-\"))","v":63},65,3,"","-"]
[66,{"$f":"IF(REG!B76<>\"\",REG!B76,\"\")","v":""},{"$f":"IF(REG!C76<>\"\",REG!G76,\"\")","v":""},{"$f":"IF('G Q 3'!R77=\"\",\"DNR\",IF('G Q 3'!R77=\"-\",+'G Q 3'!D77,+'G Q 3'!R77))","v":"DNR"},null,null,null,"-","",null,null,null,null,null,"","","","-",3,66,"","-",{"$f":"IF(R77=\"\",\"\",COUNTIF(R12:R77,\"-\"))","v":64},"","","","","","","0",{"$f":"IF(R77=\"\",\"\",IF(AD77=\"0\",\"0\",COUNTIF(AD12:AD76,AD77)))","v":"0"},"","0","","0","","0","",{"$f":"COUNTIF(AS12:AS77,\"W\")","v":0},{"$f":"IF(AR77=\"\",\"\",COUNTIF(AR12:AR77,\"-\"))","v":64},66,3,"","-"]
[67,{"$f":"IF(REG!B77<>\"\",REG!B77,\"\")","v":""},{"$f":"IF(REG!C77<>\"\",REG!G77,\"\")","v":""},{"$f":"IF('G Q 3'!R78=\"\",\"DNR\",IF('G Q 3'!R78=\"-\",+'G Q 3'!D78,+'G Q 3'!R78))","v":"DNR"},null,null,null,"-","",null,null,null,null,null,"","","","-",3,67,"","-",{"$f":"IF(R78=\"\",\"\",COUNTIF(R12:R78,\"-\"))","v":65},"","","","","","","0",{"$f":"IF(R78=\"\",\"\",IF(AD78=\"0\",\"0\",COUNTIF(AD12:AD77,AD78)))","v":"0"},"","0","","0","","0","",{"$f":"COUNTIF(AS12:AS78,\"W\")","v":0},{"$f":"IF(AR78=\"\",\"\",COUNTIF(AR12:AR78,\"-\"))","v":65},67,3,"","-"]
[68,{"$f":"IF(REG!B78<>\"\",REG!B78,\"\")","v":""},{"$f":"IF(REG!C78<>\"\",REG!G78,\"\")","v":""},{"$f":"IF('G Q 3'!R79=\"\",\"DNR\",IF('G Q 3'!R79=\"-\",+'G Q 3'!D79,+'G Q 3'!R79))","v":"DNR"},null,null,null,"-","",null,null,null,null,null,"","","","-",3,68,"","-",{"$f":"IF(R79=\"\",\"\",COUNTIF(R12:R79,\"-\"))","v":66},"","","","","","","0",{"$f":"IF(R79=\"\",\"\",IF(AD79=\"0\",\"0\",COUNTIF(AD12:AD78,AD79)))","v":"0"},"","0","","0","","0","",{"$f":"COUNTIF(AS12:AS79,\"W\")","v":0},{"$f":"IF(AR79=\"\",\"\",COUNTIF(AR12:AR79,\"-\"))","v":66},68,3,"","-"]
[69,{"$f":"IF(REG!B79<>\"\",REG!B79,\"\")","v":""},{"$f":"IF(REG!C79<>\"\",REG!G79,\"\")","v":""},{"$f":"IF('G Q 3'!R80=\"\",\"DNR\",IF('G Q 3'!R80=\"-\",+'G Q 3'!D80,+'G Q 3'!R80))","v":"DNR"},null,null,null,"-","",null,null,null,null,null,"","","","-",3,69,"","-",{"$f":"IF(R80=\"\",\"\",COUNTIF(R12:R80,\"-\"))","v":67},"","","","","","","0",{"$f":"IF(R80=\"\",\"\",IF(AD80=\"0\",\"0\",COUNTIF(AD12:AD79,AD80)))","v":"0"},"","0","","0","","0","",{"$f":"COUNTIF(AS12:AS80,\"W\")","v":0},{"$f":"IF(AR80=\"\",\"\",COUNTIF(AR12:AR80,\"-\"))","v":67},69,3,"","-"]
[70,{"$f":"IF(REG!B80<>\"\",REG!B80,\"\")","v":""},{"$f":"IF(REG!C80<>\"\",REG!G80,\"\")","v":""},{"$f":"IF('G Q 3'!R81=\"\",\"DNR\",IF('G Q 3'!R81=\"-\",+'G Q 3'!D81,+'G Q 3'!R81))","v":"DNR"},null,null,null,"-","",null,null,null,null,null,"","","","-",3,70,"","-",{"$f":"IF(R81=\"\",\"\",COUNTIF(R12:R81,\"-\"))","v":68},"","","","","","","0",{"$f":"IF(R81=\"\",\"\",IF(AD81=\"0\",\"0\",COUNTIF(AD12:AD80,AD81)))","v":"0"},"","0","","0","","0","",{"$f":"COUNTIF(AS12:AS81,\"W\")","v":0},{"$f":"IF(AR81=\"\",\"\",COUNTIF(AR12:AR81,\"-\"))","v":68},70,3,"","-"]
[71,{"$f":"IF(REG!B81<>\"\",REG!B81,\"\")","v":""},{"$f":"IF(REG!C81<>\"\",REG!G81,\"\")","v":""},{"$f":"IF('G Q 3'!R82=\"\",\"DNR\",IF('G Q 3'!R82=\"-\",+'G Q 3'!D82,+'G Q 3'!R82))","v":"DNR"},null,null,null,"-","",null,null,null,null,null,"","","","-",3,71,"","-",{"$f":"IF(R82=\"\",\"\",COUNTIF(R12:R82,\"-\"))","v":69},"","","","","","","0",{"$f":"IF(R82=\"\",\"\",IF(AD82=\"0\",\"0\",COUNTIF(AD12:AD81,AD82)))","v":"0"},"","0","","0","","0","",{"$f":"COUNTIF(AS12:AS82,\"W\")","v":0},{"$f":"IF(AR82=\"\",\"\",COUNTIF(AR12:AR82,\"-\"))","v":69},71,3,"","-"]
[72,{"$f":"IF(REG!B82<>\"\",REG!B82,\"\")","v":""},{"$f":"IF(REG!C82<>\"\",REG!G82,\"\")","v":""},{"$f":"IF('G Q 3'!R83=\"\",\"DNR\",IF('G Q 3'!R83=\"-\",+'G Q 3'!D83,+'G Q 3'!R83))","v":"DNR"},null,null,null,"-","",null,null,null,null,null,"","","","-",3,72,"","-",{"$f":"IF(R83=\"\",\"\",COUNTIF(R12:R83,\"-\"))","v":70},"","","","","","","0",{"$f":"IF(R83=\"\",\"\",IF(AD83=\"0\",\"0\",COUNTIF(AD12:AD82,AD83)))","v":"0"},"","0","","0","","0","",{"$f":"COUNTIF(AS12:AS83,\"W\")","v":0},{"$f":"IF(AR83=\"\",\"\",COUNTIF(AR12:AR83,\"-\"))","v":70},72,3,"","-"]
[73,{"$f":"IF(REG!B83<>\"\",REG!B83,\"\")","v":""},{"$f":"IF(REG!C83<>\"\",REG!G83,\"\")","v":""},{"$f":"IF('G Q 3'!R84=\"\",\"DNR\",IF('G Q 3'!R84=\"-\",+'G Q 3'!D84,+'G Q 3'!R84))","v":"DNR"},null,null,null,"-","",null,null,null,null,null,"","","","-",3,73,"","-",{"$f":"IF(R84=\"\",\"\",COUNTIF(R12:R84,\"-\"))","v":71},"","","","","","","0",{"$f":"IF(R84=\"\",\"\",IF(AD84=\"0\",\"0\",COUNTIF(AD12:AD83,AD84)))","v":"0"},"","0","","0","","0","",{"$f":"COUNTIF(AS12:AS84,\"W\")","v":0},{"$f":"IF(AR84=\"\",\"\",COUNTIF(AR12:AR84,\"-\"))","v":71},73,3,"","-"]
[74,{"$f":"IF(REG!B84<>\"\",REG!B84,\"\")","v":""},{"$f":"IF(REG!C84<>\"\",REG!G84,\"\")","v":""},{"$f":"IF('G Q 3'!R85=\"\",\"DNR\",IF('G Q 3'!R85=\"-\",+'G Q 3'!D85,+'G Q 3'!R85))","v":"DNR"},null,null,null,"-","",null,null,null,null,null,"","","","-",3,74,"","-",{"$f":"IF(R85=\"\",\"\",COUNTIF(R12:R85,\"-\"))","v":72},"","","","","","","0",{"$f":"IF(R85=\"\",\"\",IF(AD85=\"0\",\"0\",COUNTIF(AD12:AD84,AD85)))","v":"0"},"","0","","0","","0","",{"$f":"COUNTIF(AS12:AS85,\"W\")","v":0},{"$f":"IF(AR85=\"\",\"\",COUNTIF(AR12:AR85,\"-\"))","v":72},74,3,"","-"]
[75,{"$f":"IF(REG!B85<>\"\",REG!B85,\"\")","v":""},{"$f":"IF(REG!C85<>\"\",REG!G85,\"\")","v":""},{"$f":"IF('G Q 3'!R86=\"\",\"DNR\",IF('G Q 3'!R86=\"-\",+'G Q 3'!D86,+'G Q 3'!R86))","v":"DNR"},null,null,null,"-","",null,null,null,null,null,"","","","-",3,75,"","-",{"$f":"IF(R86=\"\",\"\",COUNTIF(R12:R86,\"-\"))","v":73},"","","","","","","0",{"$f":"IF(R86=\"\",\"\",IF(AD86=\"0\",\"0\",COUNTIF(AD12:AD85,AD86)))","v":"0"},"","0","","0","","0","",{"$f":"COUNTIF(AS12:AS86,\"W\")","v":0},{"$f":"IF(AR86=\"\",\"\",COUNTIF(AR12:AR86,\"-\"))","v":73},75,3,"","-"]
[76,{"$f":"IF(REG!B86<>\"\",REG!B86,\"\")","v":""},{"$f":"IF(REG!C86<>\"\",REG!G86,\"\")","v":""},{"$f":"IF('G Q 3'!R87=\"\",\"DNR\",IF('G Q 3'!R87=\"-\",+'G Q 3'!D87,+'G Q 3'!R87))","v":"DNR"},null,null,null,"-","",null,null,null,null,null,"","","","-",3,76,"","-",{"$f":"IF(R87=\"\",\"\",COUNTIF(R12:R87,\"-\"))","v":74},"","","","","","","0",{"$f":"IF(R87=\"\",\"\",IF(AD87=\"0\",\"0\",COUNTIF(AD12:AD86,AD87)))","v":"0"},"","0","","0","","0","",{"$f":"COUNTIF(AS12:AS87,\"W\")","v":0},{"$f":"IF(AR87=\"\",\"\",COUNTIF(AR12:AR87,\"-\"))","v":74},76,3,"","-"]
[77,{"$f":"IF(REG!B87<>\"\",REG!B87,\"\")","v":""},{"$f":"IF(REG!C87<>\"\",REG!G87,\"\")","v":""},{"$f":"IF('G Q 3'!R88=\"\",\"DNR\",IF('G Q 3'!R88=\"-\",+'G Q 3'!D88,+'G Q 3'!R88))","v":"DNR"},null,null,null,"-","",null,null,null,null,null,"","","","-",3,77,"","-",{"$f":"IF(R88=\"\",\"\",COUNTIF(R12:R88,\"-\"))","v":75},"","","","","","","0",{"$f":"IF(R88=\"\",\"\",IF(AD88=\"0\",\"0\",COUNTIF(AD12:AD87,AD88)))","v":"0"},"","0","","0","","0","",{"$f":"COUNTIF(AS12:AS88,\"W\")","v":0},{"$f":"IF(AR88=\"\",\"\",COUNTIF(AR12:AR88,\"-\"))","v":75},77,3,"","-"]
[78,{"$f":"IF(REG!B88<>\"\",REG!B88,\"\")","v":""},{"$f":"IF(REG!C88<>\"\",REG!G88,\"\")","v":""},{"$f":"IF('G Q 3'!R89=\"\",\"DNR\",IF('G Q 3'!R89=\"-\",+'G Q 3'!D89,+'G Q 3'!R89))","v":"DNR"},null,null,null,"-","",null,null,null,null,null,"","","","-",3,78,"","-",{"$f":"IF(R89=\"\",\"\",COUNTIF(R12:R89,\"-\"))","v":76},"","","","","","","0",{"$f":"IF(R89=\"\",\"\",IF(AD89=\"0\",\"0\",COUNTIF(AD12:AD88,AD89)))","v":"0"},"","0","","0","","0","",{"$f":"COUNTIF(AS12:AS89,\"W\")","v":0},{"$f":"IF(AR89=\"\",\"\",COUNTIF(AR12:AR89,\"-\"))","v":76},78,3,"","-"]
[79,{"$f":"IF(REG!B89<>\"\",REG!B89,\"\")","v":""},{"$f":"IF(REG!C89<>\"\",REG!G89,\"\")","v":""},{"$f":"IF('G Q 3'!R90=\"\",\"DNR\",IF('G Q 3'!R90=\"-\",+'G Q 3'!D90,+'G Q 3'!R90))","v":"DNR"},null,null,null,"-","",null,null,null,null,null,"","","","-",3,79,"","-",{"$f":"IF(R90=\"\",\"\",COUNTIF(R12:R90,\"-\"))","v":77},"","","","","","","0",{"$f":"IF(R90=\"\",\"\",IF(AD90=\"0\",\"0\",COUNTIF(AD12:AD89,AD90)))","v":"0"},"","0","","0","","0","",{"$f":"COUNTIF(AS12:AS90,\"W\")","v":0},{"$f":"IF(AR90=\"\",\"\",COUNTIF(AR12:AR90,\"-\"))","v":77},79,3,"","-"]
[80,{"$f":"IF(REG!B90<>\"\",REG!B90,\"\")","v":""},{"$f":"IF(REG!C90<>\"\",REG!G90,\"\")","v":""},{"$f":"IF('G Q 3'!R91=\"\",\"DNR\",IF('G Q 3'!R91=\"-\",+'G Q 3'!D91,+'G Q 3'!R91))","v":"DNR"},null,null,null,"-","",null,null,null,null,null,"","","","-",3,80,"","-",{"$f":"IF(R91=\"\",\"\",COUNTIF(R12:R91,\"-\"))","v":78},"","","","","","","0",{"$f":"IF(R91=\"\",\"\",IF(AD91=\"0\",\"0\",COUNTIF(AD12:AD90,AD91)))","v":"0"},"","0","","0","","0","",{"$f":"COUNTIF(AS12:AS91,\"W\")","v":0},{"$f":"IF(AR91=\"\",\"\",COUNTIF(AR12:AR91,\"-\"))","v":78},80,3,"","-"]
[81,{"$f":"IF(REG!B91<>\"\",REG!B91,\"\")","v":""},{"$f":"IF(REG!C91<>\"\",REG!G91,\"\")","v":""},{"$f":"IF('G Q 3'!R92=\"\",\"DNR\",IF('G Q 3'!R92=\"-\",+'G Q 3'!D92,+'G Q 3'!R92))","v":"DNR"},null,null,null,"-","",null,null,null,null,null,"","","","-",3,81,"","-",{"$f":"IF(R92=\"\",\"\",COUNTIF(R12:R92,\"-\"))","v":79},"","","","","","","0",{"$f":"IF(R92=\"\",\"\",IF(AD92=\"0\",\"0\",COUNTIF(AD12:AD91,AD92)))","v":"0"},"","0","","0","","0","",{"$f":"COUNTIF(AS12:AS92,\"W\")","v":0},{"$f":"IF(AR92=\"\",\"\",COUNTIF(AR12:AR92,\"-\"))","v":79},81,3,"","-"]
[82,{"$f":"IF(REG!B92<>\"\",REG!B92,\"\")","v":""},{"$f":"IF(REG!C92<>\"\",REG!G92,\"\")","v":""},{"$f":"IF('G Q 3'!R93=\"\",\"DNR\",IF('G Q 3'!R93=\"-\",+'G Q 3'!D93,+'G Q 3'!R93))","v":"DNR"},null,null,null,"-","",null,null,null,null,null,"","","","-",3,82,"","-",{"$f":"IF(R93=\"\",\"\",COUNTIF(R12:R93,\"-\"))","v":80},"","","","","","","0",{"$f":"IF(R93=\"\",\"\",IF(AD93=\"0\",\"0\",COUNTIF(AD12:AD92,AD93)))","v":"0"},"","0","","0","","0","",{"$f":"COUNTIF(AS12:AS93,\"W\")","v":0},{"$f":"IF(AR93=\"\",\"\",COUNTIF(AR12:AR93,\"-\"))","v":80},82,3,"","-"]
[83,{"$f":"IF(REG!B93<>\"\",REG!B93,\"\")","v":""},{"$f":"IF(REG!C93<>\"\",REG!G93,\"\")","v":""},{"$f":"IF('G Q 3'!R94=\"\",\"DNR\",IF('G Q 3'!R94=\"-\",+'G Q 3'!D94,+'G Q 3'!R94))","v":"DNR"},null,null,null,"-","",null,null,null,null,null,"","","","-",3,83,"","-",{"$f":"IF(R94=\"\",\"\",COUNTIF(R12:R94,\"-\"))","v":81},"","","","","","","0",{"$f":"IF(R94=\"\",\"\",IF(AD94=\"0\",\"0\",COUNTIF(AD12:AD93,AD94)))","v":"0"},"","0","","0","","0","",{"$f":"COUNTIF(AS12:AS94,\"W\")","v":0},{"$f":"IF(AR94=\"\",\"\",COUNTIF(AR12:AR94,\"-\"))","v":81},83,3,"","-"]
[84,{"$f":"IF(REG!B94<>\"\",REG!B94,\"\")","v":""},{"$f":"IF(REG!C94<>\"\",REG!G94,\"\")","v":""},{"$f":"IF('G Q 3'!R95=\"\",\"DNR\",IF('G Q 3'!R95=\"-\",+'G Q 3'!D95,+'G Q 3'!R95))","v":"DNR"},null,null,null,"-","",null,null,null,null,null,"","","","-",3,84,"","-",{"$f":"IF(R95=\"\",\"\",COUNTIF(R12:R95,\"-\"))","v":82},"","","","","","","0",{"$f":"IF(R95=\"\",\"\",IF(AD95=\"0\",\"0\",COUNTIF(AD12:AD94,AD95)))","v":"0"},"","0","","0","","0","",{"$f":"COUNTIF(AS12:AS95,\"W\")","v":0},{"$f":"IF(AR95=\"\",\"\",COUNTIF(AR12:AR95,\"-\"))","v":82},84,3,"","-"]
[85,{"$f":"IF(REG!B95<>\"\",REG!B95,\"\")","v":""},{"$f":"IF(REG!C95<>\"\",REG!G95,\"\")","v":""},{"$f":"IF('G Q 3'!R96=\"\",\"DNR\",IF('G Q 3'!R96=\"-\",+'G Q 3'!D96,+'G Q 3'!R96))","v":"DNR"},null,null,null,"-","",null,null,null,null,null,"","","","-",3,85,"","-",{"$f":"IF(R96=\"\",\"\",COUNTIF(R12:R96,\"-\"))","v":83},"","","","","","","0",{"$f":"IF(R96=\"\",\"\",IF(AD96=\"0\",\"0\",COUNTIF(AD12:AD95,AD96)))","v":"0"},"","0","","0","","0","",{"$f":"COUNTIF(AS12:AS96,\"W\")","v":0},{"$f":"IF(AR96=\"\",\"\",COUNTIF(AR12:AR96,\"-\"))","v":83},85,3,"","-"]
[86,{"$f":"IF(REG!B96<>\"\",REG!B96,\"\")","v":""},{"$f":"IF(REG!C96<>\"\",REG!G96,\"\")","v":""},{"$f":"IF('G Q 3'!R97=\"\",\"DNR\",IF('G Q 3'!R97=\"-\",+'G Q 3'!D97,+'G Q 3'!R97))","v":"DNR"},null,null,null,"-","",null,null,null,null,null,"","","","-",3,86,"","-",{"$f":"IF(R97=\"\",\"\",COUNTIF(R12:R97,\"-\"))","v":84},"","","","","","","0",{"$f":"IF(R97=\"\",\"\",IF(AD97=\"0\",\"0\",COUNTIF(AD12:AD96,AD97)))","v":"0"},"","0","","0","","0","",{"$f":"COUNTIF(AS12:AS97,\"W\")","v":0},{"$f":"IF(AR97=\"\",\"\",COUNTIF(AR12:AR97,\"-\"))","v":84},86,3,"","-"]
[87,{"$f":"IF(REG!B97<>\"\",REG!B97,\"\")","v":""},{"$f":"IF(REG!C97<>\"\",REG!G97,\"\")","v":""},{"$f":"IF('G Q 3'!R98=\"\",\"DNR\",IF('G Q 3'!R98=\"-\",+'G Q 3'!D98,+'G Q 3'!R98))","v":"DNR"},null,null,null,"-","",null,null,null,null,null,"","","","-",3,87,"","-",{"$f":"IF(R98=\"\",\"\",COUNTIF(R12:R98,\"-\"))","v":85},"","","","","","","0",{"$f":"IF(R98=\"\",\"\",IF(AD98=\"0\",\"0\",COUNTIF(AD12:AD97,AD98)))","v":"0"},"","0","","0","","0","",{"$f":"COUNTIF(AS12:AS98,\"W\")","v":0},{"$f":"IF(AR98=\"\",\"\",COUNTIF(AR12:AR98,\"-\"))","v":85},87,3,"","-"]
[88,{"$f":"IF(REG!B98<>\"\",REG!B98,\"\")","v":""},{"$f":"IF(REG!C98<>\"\",REG!G98,\"\")","v":""},{"$f":"IF('G Q 3'!R99=\"\",\"DNR\",IF('G Q 3'!R99=\"-\",+'G Q 3'!D99,+'G Q 3'!R99))","v":"DNR"},null,null,null,"-","",null,null,null,null,null,"","","","-",3,88,"","-",{"$f":"IF(R99=\"\",\"\",COUNTIF(R12:R99,\"-\"))","v":86},"","","","","","","0",{"$f":"IF(R99=\"\",\"\",IF(AD99=\"0\",\"0\",COUNTIF(AD12:AD98,AD99)))","v":"0"},"","0","","0","","0","",{"$f":"COUNTIF(AS12:AS99,\"W\")","v":0},{"$f":"IF(AR99=\"\",\"\",COUNTIF(AR12:AR99,\"-\"))","v":86},88,3,"","-"]
[89,{"$f":"IF(REG!B99<>\"\",REG!B99,\"\")","v":""},{"$f":"IF(REG!C99<>\"\",REG!G99,\"\")","v":""},{"$f":"IF('G Q 3'!R100=\"\",\"DNR\",IF('G Q 3'!R100=\"-\",+'G Q 3'!D100,+'G Q 3'!R100))","v":"DNR"},null,null,null,"-","",null,null,null,null,null,"","","","-",3,89,"","-",{"$f":"IF(R100=\"\",\"\",COUNTIF(R12:R100,\"-\"))","v":87},"","","","","","","0",{"$f":"IF(R100=\"\",\"\",IF(AD100=\"0\",\"0\",COUNTIF(AD12:AD99,AD100)))","v":"0"},"","0","","0","","0","",{"$f":"COUNTIF(AS12:AS100,\"W\")","v":0},{"$f":"IF(AR100=\"\",\"\",COUNTIF(AR12:AR100,\"-\"))","v":87},89,3,"","-"]
[90,{"$f":"IF(REG!B100<>\"\",REG!B100,\"\")","v":""},{"$f":"IF(REG!C100<>\"\",REG!G100,\"\")","v":""},{"$f":"IF('G Q 3'!R101=\"\",\"DNR\",IF('G Q 3'!R101=\"-\",+'G Q 3'!D101,+'G Q 3'!R101))","v":"DNR"},null,null,null,"-","",null,null,null,null,null,"","","","-",3,90,"","-",{"$f":"IF(R101=\"\",\"\",COUNTIF(R12:R101,\"-\"))","v":88},"","","","","","","0",{"$f":"IF(R101=\"\",\"\",IF(AD101=\"0\",\"0\",COUNTIF(AD12:AD100,AD101)))","v":"0"},"","0","","0","","0","",{"$f":"COUNTIF(AS12:AS101,\"W\")","v":0},{"$f":"IF(AR101=\"\",\"\",COUNTIF(AR12:AR101,\"-\"))","v":88},90,3,"","-"]
[91,{"$f":"IF(REG!B101<>\"\",REG!B101,\"\")","v":""},{"$f":"IF(REG!C101<>\"\",REG!G101,\"\")","v":""},{"$f":"IF('G Q 3'!R102=\"\",\"DNR\",IF('G Q 3'!R102=\"-\",+'G Q 3'!D102,+'G Q 3'!R102))","v":"DNR"},null,null,null,"-","",null,null,null,null,null,"","","","-",3,91,"","-",{"$f":"IF(R102=\"\",\"\",COUNTIF(R12:R102,\"-\"))","v":89},"","","","","","","0",{"$f":"IF(R102=\"\",\"\",IF(AD102=\"0\",\"0\",COUNTIF(AD12:AD101,AD102)))","v":"0"},"","0","","0","","0","",{"$f":"COUNTIF(AS12:AS102,\"W\")","v":0},{"$f":"IF(AR102=\"\",\"\",COUNTIF(AR12:AR102,\"-\"))","v":89},91,3,"","-"]
[92,{"$f":"IF(REG!B102<>\"\",REG!B102,\"\")","v":""},{"$f":"IF(REG!C102<>\"\",REG!G102,\"\")","v":""},{"$f":"IF('G Q 3'!R103=\"\",\"DNR\",IF('G Q 3'!R103=\"-\",+'G Q 3'!D103,+'G Q 3'!R103))","v":"DNR"},null,null,null,"-","",null,null,null,null,null,"","","","-",3,92,"","-",{"$f":"IF(R103=\"\",\"\",COUNTIF(R12:R103,\"-\"))","v":90},"","","","","","","0",{"$f":"IF(R103=\"\",\"\",IF(AD103=\"0\",\"0\",COUNTIF(AD12:AD102,AD103)))","v":"0"},"","0","","0","","0","",{"$f":"COUNTIF(AS12:AS103,\"W\")","v":0},{"$f":"IF(AR103=\"\",\"\",COUNTIF(AR12:AR103,\"-\"))","v":90},92,3,"","-"]
[93,{"$f":"IF(REG!B103<>\"\",REG!B103,\"\")","v":""},{"$f":"IF(REG!C103<>\"\",REG!G103,\"\")","v":""},{"$f":"IF('G Q 3'!R104=\"\",\"DNR\",IF('G Q 3'!R104=\"-\",+'G Q 3'!D104,+'G Q 3'!R104))","v":"DNR"},null,null,null,"-","",null,null,null,null,null,"","","","-",3,93,"","-",{"$f":"IF(R104=\"\",\"\",COUNTIF(R12:R104,\"-\"))","v":91},"","","","","","","0",{"$f":"IF(R104=\"\",\"\",IF(AD104=\"0\",\"0\",COUNTIF(AD12:AD103,AD104)))","v":"0"},"","0","","0","","0","",{"$f":"COUNTIF(AS12:AS104,\"W\")","v":0},{"$f":"IF(AR104=\"\",\"\",COUNTIF(AR12:AR104,\"-\"))","v":91},93,3,"","-"]
[94,{"$f":"IF(REG!B104<>\"\",REG!B104,\"\")","v":""},{"$f":"IF(REG!C104<>\"\",REG!G104,\"\")","v":""},{"$f":"IF('G Q 3'!R105=\"\",\"DNR\",IF('G Q 3'!R105=\"-\",+'G Q 3'!D105,+'G Q 3'!R105))","v":"DNR"},null,null,null,"-","",null,null,null,null,null,"","","","-",3,94,"","-",{"$f":"IF(R105=\"\",\"\",COUNTIF(R12:R105,\"-\"))","v":92},"","","","","","","0",{"$f":"IF(R105=\"\",\"\",IF(AD105=\"0\",\"0\",COUNTIF(AD12:AD104,AD105)))","v":"0"},"","0","","0","","0","",{"$f":"COUNTIF(AS12:AS105,\"W\")","v":0},{"$f":"IF(AR105=\"\",\"\",COUNTIF(AR12:AR105,\"-\"))","v":92},94,3,"","-"]
[95,{"$f":"IF(REG!B105<>\"\",REG!B105,\"\")","v":""},{"$f":"IF(REG!C105<>\"\",REG!G105,\"\")","v":""},{"$f":"IF('G Q 3'!R106=\"\",\"DNR\",IF('G Q 3'!R106=\"-\",+'G Q 3'!D106,+'G Q 3'!R106))","v":"DNR"},null,null,null,"-","",null,null,null,null,null,"","","","-",3,95,"","-",{"$f":"IF(R106=\"\",\"\",COUNTIF(R12:R106,\"-\"))","v":93},"","","","","","","0",{"$f":"IF(R106=\"\",\"\",IF(AD106=\"0\",\"0\",COUNTIF(AD12:AD105,AD106)))","v":"0"},"","0","","0","","0","",{"$f":"COUNTIF(AS12:AS106,\"W\")","v":0},{"$f":"IF(AR106=\"\",\"\",COUNTIF(AR12:AR106,\"-\"))","v":93},95,3,"","-"]
[96,{"$f":"IF(REG!B106<>\"\",REG!B106,\"\")","v":""},{"$f":"IF(REG!C106<>\"\",REG!G106,\"\")","v":""},{"$f":"IF('G Q 3'!R107=\"\",\"DNR\",IF('G Q 3'!R107=\"-\",+'G Q 3'!D107,+'G Q 3'!R107))","v":"DNR"},null,null,null,"-","",null,null,null,null,null,"","","","-",3,96,"","-",{"$f":"IF(R107=\"\",\"\",COUNTIF(R12:R107,\"-\"))","v":94},"","","","","","","0",{"$f":"IF(R107=\"\",\"\",IF(AD107=\"0\",\"0\",COUNTIF(AD12:AD106,AD107)))","v":"0"},"","0","","0","","0","",{"$f":"COUNTIF(AS12:AS107,\"W\")","v":0},{"$f":"IF(AR107=\"\",\"\",COUNTIF(AR12:AR107,\"-\"))","v":94},96,3,"","-"]
[97,{"$f":"IF(REG!B107<>\"\",REG!B107,\"\")","v":""},{"$f":"IF(REG!C107<>\"\",REG!G107,\"\")","v":""},{"$f":"IF('G Q 3'!R108=\"\",\"DNR\",IF('G Q 3'!R108=\"-\",+'G Q 3'!D108,+'G Q 3'!R108))","v":"DNR"},null,null,null,"-","",null,null,null,null,null,"","","","-",3,97,"","-",{"$f":"IF(R108=\"\",\"\",COUNTIF(R12:R108,\"-\"))","v":95},"","","","","","","0",{"$f":"IF(R108=\"\",\"\",IF(AD108=\"0\",\"0\",COUNTIF(AD12:AD107,AD108)))","v":"0"},"","0","","0","","0","",{"$f":"COUNTIF(AS12:AS108,\"W\")","v":0},{"$f":"IF(AR108=\"\",\"\",COUNTIF(AR12:AR108,\"-\"))","v":95},97,3,"","-"]
[98,{"$f":"IF(REG!B108<>\"\",REG!B108,\"\")","v":""},{"$f":"IF(REG!C108<>\"\",REG!G108,\"\")","v":""},{"$f":"IF('G Q 3'!R109=\"\",\"DNR\",IF('G Q 3'!R109=\"-\",+'G Q 3'!D109,+'G Q 3'!R109))","v":"DNR"},null,null,null,"-","",null,null,null,null,null,"","","","-",3,98,"","-",{"$f":"IF(R109=\"\",\"\",COUNTIF(R12:R109,\"-\"))","v":96},"","","","","","","0",{"$f":"IF(R109=\"\",\"\",IF(AD109=\"0\",\"0\",COUNTIF(AD12:AD108,AD109)))","v":"0"},"","0","","0","","0","",{"$f":"COUNTIF(AS12:AS109,\"W\")","v":0},{"$f":"IF(AR109=\"\",\"\",COUNTIF(AR12:AR109,\"-\"))","v":96},98,3,"","-"]
[99,{"$f":"IF(REG!B109<>\"\",REG!B109,\"\")","v":""},{"$f":"IF(REG!C109<>\"\",REG!G109,\"\")","v":""},{"$f":"IF('G Q 3'!R110=\"\",\"DNR\",IF('G Q 3'!R110=\"-\",+'G Q 3'!D110,+'G Q 3'!R110))","v":"DNR"},null,null,null,"-","",null,null,null,null,null,"","","","-",3,99,"","-",{"$f":"IF(R110=\"\",\"\",COUNTIF(R12:R110,\"-\"))","v":97},"","","","","","","0",{"$f":"IF(R110=\"\",\"\",IF(AD110=\"0\",\"0\",COUNTIF(AD12:AD109,AD110)))","v":"0"},"","0","","0","","0","",{"$f":"COUNTIF(AS12:AS110,\"W\")","v":0},{"$f":"IF(AR110=\"\",\"\",COUNTIF(AR12:AR110,\"-\"))","v":97},99,3,"","-"]
[100,{"$f":"IF(REG!B110<>\"\",REG!B110,\"\")","v":""},{"$f":"IF(REG!C110<>\"\",REG!G110,\"\")","v":""},{"$f":"IF('G Q 3'!R111=\"\",\"DNR\",IF('G Q 3'!R111=\"-\",+'G Q 3'!D111,+'G Q 3'!R111))","v":"DNR"},null,null,null,"-","",null,null,null,null,null,"","","","-",3,100,"","-",{"$f":"IF(R111=\"\",\"\",COUNTIF(R12:R111,\"-\"))","v":98},"","","","","","","0",{"$f":"IF(R111=\"\",\"\",IF(AD111=\"0\",\"0\",COUNTIF(AD12:AD110,AD111)))","v":"0"},"","0","","0","","0","",{"$f":"COUNTIF(AS12:AS111,\"W\")","v":0},{"$f":"IF(AR111=\"\",\"\",COUNTIF(AR12:AR111,\"-\"))","v":98},100,3,"","-"]

{"sheet":"G H2H","index":7,"n_rows":190,"n_cols":23,"rows_kept":190,"cut":false,"hidden":false,"merged":[[4,21,5,21],[4,22,5,22],[4,19,5,19],[4,18,5,18],[4,20,5,20],[0,2,0,18],[88,0,88,1],[4,2,4,8],[4,10,4,16],[4,0,5,0],[4,1,5,1],[4,9,5,9],[1,2,1,15],[2,2,2,15],[1,16,1,18],[4,17,5,17]]}
[null,null,{"$f":"CONTEST!B4","v":"Skate n Roll Polička  2022"}]
[null,{"$f":"_xll.iPush(\"TEEN_Giant_H2H\", \"WCH_SK8_2018\", 'G H2H'!$A$5:$S$86, 'G H2H'!$A$5:$S$86, 'G H2H'!$A$5:$S$86, 1, TRUE)","v":{"$error":"#NAME?"}},{"$f":"CONTEST!B6","v":"13.8. - 14.8.2022"}]
[8,"Top Bracket (32-16-8-4-2)",{"$f":"CONCATENATE(CONTEST!B8,\" / \",CONTEST!B17,\" / \",CONTEST!B13)","v":"GIANT SLALOM /  Eliminations / TEEN 12-14"}]
[]
["Qualifying Position","Racer No. & Name","Run 1",null,null,null,null,null,null,"R1 Margin","Run 2",null,null,null,null,null,null,"R2 Margin","Round Winner & Combined Margin","Loser’s Final Placement","Round Loser","Qualifying Time","Qualifying Position"]
[null,null,"Raw Time","Cones","Reaction Time","False Start","Final Time","Run Rank","Winner & Margin",null,"Raw Time","Cones","Reaction Time","False Start","Final Time","Run Rank","Winner & Margin"]
[null,"Round of 32"]
[1,{"$f":"IF(A3<A8,\"BYE\",IF(ISERROR(VLOOKUP(A8,'G Q 4'!AO12:'G Q 4'!AQ111,3,FALSE))=TRUE,\"BYE\",VLOOKUP(A8,'G Q 4'!AO12:'G Q 4'!AQ111,3,FALSE)))","v":"Voves  Jindřich  [CZE] "},null,null,null,null,{"$f":"IF(LEFT(C8:C39,1)=\"D\",\"-\",IF(D8:D39>'G Q 4'!A6,\"-\",IF(C8:C39>0,C8:C39+D8:D39*'G Q 4'!A5+F8:F39*'G Q 4'!A7,\"\")))","v":""},{"$f":"IF(G8:G39=\"\",\"\", IF(G8:G39=\"-\",\"\", RANK(G8:G39,G8:G39,1)))","v":""},{"$f":"IF(AND(LEFT(C8,1)=\"D\",LEFT(C9,1)=\"D\"),\"\",IF(OR(C8=\"DNR\",C9=\"DNR\"),IF(C8=\"DNR\",B9,B8),IF(OR(ISBLANK(C8),ISBLANK(C9)),\"\",IF(G8=G9,\"TIE\",IF(G8>G9,B9,B8)))))","v":""},null,null,null,null,null,{"$f":"IF(LEFT(K8:K39,1)=\"D\",\"-\",IF(L8:L39>'G Q 4'!A6,\"-\",IF(K8:K39>0,K8:K39+L8:L39*'G Q 4'!A5+N8:N39*'G Q 4'!A7,\"\")))","v":""},{"$f":"IF(O8:O39=\"\",\"\",IF(O8:O39=\"-\",\"\", RANK(O8:O39,O8:O39,1)))","v":""},{"$f":"IF(AND(LEFT(K8,1)=\"D\",LEFT(K9,1)=\"D\"),\"\",IF(OR(K8=\"DNR\",K9=\"DNR\"),IF(K8=\"DNR\",B9,B8),IF(OR(ISBLANK(K8),ISBLANK(K9)),\"\",IF(O8=O9,\"TIE\",IF(O8>O9,B9,B8)))))","v":""},null,{"$f":"IF(B9=\"BYE\", B8, IF(ISERROR(J9+R9)=TRUE,\"\",IF(J9+R9=0,\"TIE - HOLD RUNOFF\",IF(J9+R9>0,B9,B8))))","v":"Voves  Jindřich  [CZE] "}]
[32,{"$f":"IF(A3<A9,\"BYE\",IF(ISERROR(VLOOKUP(A9,'G Q 4'!AO12:'G Q 4'!AQ111,3,FALSE))=TRUE,\"BYE\",VLOOKUP(A9,'G Q 4'!AO12:'G Q 4'!AQ111,3,FALSE)))","v":"BYE"},null,null,null,null,"","",{"$f":"IF(AND(LEFT(C8,1)=\"D\",LEFT(C9,1)=\"D\"),\"\",IF(OR(C8=\"DNR\",C9=\"DNR\"),\"by \"&ABS(J9)&\" seconds\",IF(OR(ISBLANK(C8),ISBLANK(C9),G8=G9),\"\",\"by \"&ABS(J9)&\" seconds\")))","v":""},{"$f":"IF(AND(LEFT(C8,1)=\"D\",LEFT(C9,1)=\"D\"),\"0\",IF(OR(C8=\"DNR\",C9=\"DNR\"),IF(C8=\"DNR\",1,-1)*'G Q 4'!A8,IF(OR(ISBLANK(C8),ISBLANK(C9)),\"\",IF(OR(G8=\"-\",G9=\"-\"),IF(G8=\"-\",1,-1)*'G Q 4'!A8,IF(ABS(G8-G9)>'G Q 4'!A9,IF(G8-G9>'G Q 4'!A9,1,-1)*'G Q 4'!A9,ROUND(G8-G9,3))))))","v":""},null,null,null,null,"","",{"$f":"IF(AND(LEFT(K8,1)=\"D\",LEFT(K9,1)=\"D\"),\"\",IF(OR(K8=\"DNR\",K9=\"DNR\"),\"by \"&ABS(R9)&\" seconds\",IF(OR(ISBLANK(K8),ISBLANK(K9),O8=O9),\"\",\"by \"&ABS(R9)&\" seconds\")))","v":""},{"$f":"IF(AND(LEFT(K8,1)=\"D\",LEFT(K9,1)=\"D\"),\"0\",IF(OR(K8=\"DNR\",K9=\"DNR\"),IF(K8=\"DNR\",1,-1)*'G Q 4'!A8,IF(OR(ISBLANK(K8),ISBLANK(K9)),\"\",IF(OR(O8=\"-\",O9=\"-\"),IF(O8=\"-\",1,-1)*'G Q 4'!A8,IF(ABS(O8-O9)>'G Q 4'!A9,IF(O8-O9>'G Q 4'!A9,1,-1)*'G Q 4'!A9,ROUND(O8-O9,3))))))","v":""},{"$f":"IF(B9=\"BYE\",\"(BYE)\",IF(ISERROR(J9+R9)=TRUE,\"\",IF(J9+R9=0,\"\",\"by \"&ABS(J9+R9)&\" seconds\")))","v":"(BYE)"},{"$f":"IF(W9:W39=\"\",\"\",IF(ISERROR(W9:W39)=TRUE,\"\",16+RANK(W9:W39,W9:W39,1)))","v":""},{"$f":"IF(B9=\"BYE\", B9, IF(ISERROR(J9+R9)=TRUE,\"\",IF(J9+R9>0,B8,B9)))","v":"BYE"},{"$f":"IF(ISERROR(VLOOKUP(U9,'G Q 4'!U12:V111,2,FALSE))=TRUE,\"\",VLOOKUP(U9,'G Q 4'!U12:V111,2,FALSE))","v":""},{"$f":"IF(ISERROR(VLOOKUP(U9,'G Q 4'!AL12:AO111,4,FALSE))=TRUE,\"\",VLOOKUP(U9,'G Q 4'!AL12:AO111,4,FALSE))","v":""}]
[16,{"$f":"IF(A3<A10,\"BYE\",IF(ISERROR(VLOOKUP(A10,'G Q 4'!AO12:'G Q 4'!AQ111,3,FALSE))=TRUE,\"BYE\",VLOOKUP(A10,'G Q 4'!AO12:'G Q 4'!AQ111,3,FALSE)))","v":"BYE"},null,null,null,null,"","",{"$f":"IF(AND(LEFT(C10,1)=\"D\",LEFT(C11,1)=\"D\"),\"\",IF(OR(C10=\"DNR\",C11=\"DNR\"),IF(C10=\"DNR\",B11,B10),IF(OR(ISBLANK(C10),ISBLANK(C11)),\"\",IF(G10=G11,\"TIE\",IF(G10>G11,B11,B10)))))","v":""},null,null,null,null,null,"","",{"$f":"IF(AND(LEFT(K10,1)=\"D\",LEFT(K11,1)=\"D\"),\"\",IF(OR(K10=\"DNR\",K11=\"DNR\"),IF(K10=\"DNR\",B11,B10),IF(OR(ISBLANK(K10),ISBLANK(K11)),\"\",IF(O10=O11,\"TIE\",IF(O10>O11,B11,B10)))))","v":""},null,{"$f":"IF(B11=\"BYE\", B10, IF(ISERROR(J11+R11)=TRUE,\"\",IF(J11+R11=0,\"TIE - HOLD RUNOFF\",IF(J11+R11>0,B11,B10))))","v":"BYE"},""]
[17,{"$f":"IF(A3<A11,\"BYE\",IF(ISERROR(VLOOKUP(A11,'G Q 4'!AO12:'G Q 4'!AQ111,3,FALSE))=TRUE,\"BYE\",VLOOKUP(A11,'G Q 4'!AO12:'G Q 4'!AQ111,3,FALSE)))","v":"BYE"},null,null,null,null,"","",{"$f":"IF(AND(LEFT(C10,1)=\"D\",LEFT(C11,1)=\"D\"),\"\",IF(OR(C10=\"DNR\",C11=\"DNR\"),\"by \"&ABS(J11)&\" seconds\",IF(OR(ISBLANK(C10),ISBLANK(C11),G10=G11),\"\",\"by \"&ABS(J11)&\" seconds\")))","v":""},{"$f":"IF(AND(LEFT(C10,1)=\"D\",LEFT(C11,1)=\"D\"),\"0\",IF(OR(C10=\"DNR\",C11=\"DNR\"),IF(C10=\"DNR\",1,-1)*'G Q 4'!A8,IF(OR(ISBLANK(C10),ISBLANK(C11)),\"\",IF(OR(G10=\"-\",G11=\"-\"),IF(G10=\"-\",1,-1)*'G Q 4'!A8,IF(ABS(G10-G11)>'G Q 4'!A9,IF(G10-G11>'G Q 4'!A9,1,-1)*'G Q 4'!A9,ROUND(G10-G11,3))))))","v":""},null,null,null,null,"","",{"$f":"IF(AND(LEFT(K10,1)=\"D\",LEFT(K11,1)=\"D\"),\"\",IF(OR(K10=\"DNR\",K11=\"DNR\"),\"by \"&ABS(R11)&\" seconds\",IF(OR(ISBLANK(K10),ISBLANK(K11),O10=O11),\"\",\"by \"&ABS(R11)&\" seconds\")))","v":""},{"$f":"IF(AND(LEFT(K10,1)=\"D\",LEFT(K11,1)=\"D\"),\"0\",IF(OR(K10=\"DNR\",K11=\"DNR\"),IF(K10=\"DNR\",1,-1)*'G Q 4'!A8,IF(OR(ISBLANK(K10),ISBLANK(K11)),\"\",IF(OR(O10=\"-\",O11=\"-\"),IF(O10=\"-\",1,-1)*'G Q 4'!A8,IF(ABS(O10-O11)>'G Q 4'!A9,IF(O10-O11>'G Q 4'!A9,1,-1)*'G Q 4'!A9,ROUND(O10-O11,3))))))","v":""},{"$f":"IF(B11=\"BYE\",\"(BYE)\",IF(ISERROR(J11+R11)=TRUE,\"\",IF(J11+R11=0,\"\",\"by \"&ABS(J11+R11)&\" seconds\")))","v":"(BYE)"},"",{"$f":"IF(B11=\"BYE\", B11, IF(ISERROR(J11+R11)=TRUE,\"\",IF(J11+R11>0,B10,B11)))","v":"BYE"},{"$f":"IF(ISERROR(VLOOKUP(U11,'G Q 4'!U12:V111,2,FALSE))=TRUE,\"\",VLOOKUP(U11,'G Q 4'!U12:V111,2,FALSE))","v":""},{"$f":"IF(ISERROR(VLOOKUP(U11,'G Q 4'!AL12:AO111,4,FALSE))=TRUE,\"\",VLOOKUP(U11,'G Q 4'!AL12:AO111,4,FALSE))","v":""}]
[8,{"$f":"IF(A3<A12,\"BYE\",IF(ISERROR(VLOOKUP(A12,'G Q 4'!AO12:'G Q 4'!AQ111,3,FALSE))=TRUE,\"BYE\",VLOOKUP(A12,'G Q 4'!AO12:'G Q 4'!AQ111,3,FALSE)))","v":""},null,null,null,null,"","",{"$f":"IF(AND(LEFT(C12,1)=\"D\",LEFT(C13,1)=\"D\"),\"\",IF(OR(C12=\"DNR\",C13=\"DNR\"),IF(C12=\"DNR\",B13,B12),IF(OR(ISBLANK(C12),ISBLANK(C13)),\"\",IF(G12=G13,\"TIE\",IF(G12>G13,B13,B12)))))","v":""},null,null,null,null,null,"","",{"$f":"IF(AND(LEFT(K12,1)=\"D\",LEFT(K13,1)=\"D\"),\"\",IF(OR(K12=\"DNR\",K13=\"DNR\"),IF(K12=\"DNR\",B13,B12),IF(OR(ISBLANK(K12),ISBLANK(K13)),\"\",IF(O12=O13,\"TIE\",IF(O12>O13,B13,B12)))))","v":""},null,{"$f":"IF(B13=\"BYE\", B12, IF(ISERROR(J13+R13)=TRUE,\"\",IF(J13+R13=0,\"TIE - HOLD RUNOFF\",IF(J13+R13>0,B13,B12))))","v":""},""]
[25,{"$f":"IF(A3<A13,\"BYE\",IF(ISERROR(VLOOKUP(A13,'G Q 4'!AO12:'G Q 4'!AQ111,3,FALSE))=TRUE,\"BYE\",VLOOKUP(A13,'G Q 4'!AO12:'G Q 4'!AQ111,3,FALSE)))","v":"BYE"},null,null,null,null,"","",{"$f":"IF(AND(LEFT(C12,1)=\"D\",LEFT(C13,1)=\"D\"),\"\",IF(OR(C12=\"DNR\",C13=\"DNR\"),\"by \"&ABS(J13)&\" seconds\",IF(OR(ISBLANK(C12),ISBLANK(C13),G12=G13),\"\",\"by \"&ABS(J13)&\" seconds\")))","v":""},{"$f":"IF(AND(LEFT(C12,1)=\"D\",LEFT(C13,1)=\"D\"),\"0\",IF(OR(C12=\"DNR\",C13=\"DNR\"),IF(C12=\"DNR\",1,-1)*'G Q 4'!A8,IF(OR(ISBLANK(C12),ISBLANK(C13)),\"\",IF(OR(G12=\"-\",G13=\"-\"),IF(G12=\"-\",1,-1)*'G Q 4'!A8,IF(ABS(G12-G13)>'G Q 4'!A9,IF(G12-G13>'G Q 4'!A9,1,-1)*'G Q 4'!A9,ROUND(G12-G13,3))))))","v":""},null,null,null,null,"","",{"$f":"IF(AND(LEFT(K12,1)=\"D\",LEFT(K13,1)=\"D\"),\"\",IF(OR(K12=\"DNR\",K13=\"DNR\"),\"by \"&ABS(R13)&\" seconds\",IF(OR(ISBLANK(K12),ISBLANK(K13),O12=O13),\"\",\"by \"&ABS(R13)&\" seconds\")))","v":""},{"$f":"IF(AND(LEFT(K12,1)=\"D\",LEFT(K13,1)=\"D\"),\"0\",IF(OR(K12=\"DNR\",K13=\"DNR\"),IF(K12=\"DNR\",1,-1)*'G Q 4'!A8,IF(OR(ISBLANK(K12),ISBLANK(K13)),\"\",IF(OR(O12=\"-\",O13=\"-\"),IF(O12=\"-\",1,-1)*'G Q 4'!A8,IF(ABS(O12-O13)>'G Q 4'!A9,IF(O12-O13>'G Q 4'!A9,1,-1)*'G Q 4'!A9,ROUND(O12-O13,3))))))","v":""},{"$f":"IF(B13=\"BYE\",\"(BYE)\",IF(ISERROR(J13+R13)=TRUE,\"\",IF(J13+R13=0,\"\",\"by \"&ABS(J13+R13)&\" seconds\")))","v":"(BYE)"},"",{"$f":"IF(B13=\"BYE\", B13, IF(ISERROR(J13+R13)=TRUE,\"\",IF(J13+R13>0,B12,B13)))","v":"BYE"},{"$f":"IF(ISERROR(VLOOKUP(U13,'G Q 4'!U12:V111,2,FALSE))=TRUE,\"\",VLOOKUP(U13,'G Q 4'!U12:V111,2,FALSE))","v":""},{"$f":"IF(ISERROR(VLOOKUP(U13,'G Q 4'!AL12:AO111,4,FALSE))=TRUE,\"\",VLOOKUP(U13,'G Q 4'!AL12:AO111,4,FALSE))","v":""}]
[9,{"$f":"IF(A3<A14,\"BYE\",IF(ISERROR(VLOOKUP(A14,'G Q 4'!AO12:'G Q 4'!AQ111,3,FALSE))=TRUE,\"BYE\",VLOOKUP(A14,'G Q 4'!AO12:'G Q 4'!AQ111,3,FALSE)))","v":"BYE"},null,null,null,null,"","",{"$f":"IF(AND(LEFT(C14,1)=\"D\",LEFT(C15,1)=\"D\"),\"\",IF(OR(C14=\"DNR\",C15=\"DNR\"),IF(C14=\"DNR\",B15,B14),IF(OR(ISBLANK(C14),ISBLANK(C15)),\"\",IF(G14=G15,\"TIE\",IF(G14>G15,B15,B14)))))","v":""},null,null,null,null,null,"","",{"$f":"IF(AND(LEFT(K14,1)=\"D\",LEFT(K15,1)=\"D\"),\"\",IF(OR(K14=\"DNR\",K15=\"DNR\"),IF(K14=\"DNR\",B15,B14),IF(OR(ISBLANK(K14),ISBLANK(K15)),\"\",IF(O14=O15,\"TIE\",IF(O14>O15,B15,B14)))))","v":""},null,{"$f":"IF(B15=\"BYE\", B14, IF(ISERROR(J15+R15)=TRUE,\"\",IF(J15+R15=0,\"TIE - HOLD RUNOFF\",IF(J15+R15>0,B15,B14))))","v":"BYE"},""]
[24,{"$f":"IF(A3<A15,\"BYE\",IF(ISERROR(VLOOKUP(A15,'G Q 4'!AO12:'G Q 4'!AQ111,3,FALSE))=TRUE,\"BYE\",VLOOKUP(A15,'G Q 4'!AO12:'G Q 4'!AQ111,3,FALSE)))","v":"BYE"},null,null,null,null,"","",{"$f":"IF(AND(LEFT(C14,1)=\"D\",LEFT(C15,1)=\"D\"),\"\",IF(OR(C14=\"DNR\",C15=\"DNR\"),\"by \"&ABS(J15)&\" seconds\",IF(OR(ISBLANK(C14),ISBLANK(C15),G14=G15),\"\",\"by \"&ABS(J15)&\" seconds\")))","v":""},{"$f":"IF(AND(LEFT(C14,1)=\"D\",LEFT(C15,1)=\"D\"),\"0\",IF(OR(C14=\"DNR\",C15=\"DNR\"),IF(C14=\"DNR\",1,-1)*'G Q 4'!A8,IF(OR(ISBLANK(C14),ISBLANK(C15)),\"\",IF(OR(G14=\"-\",G15=\"-\",),IF(G14=\"-\",1,-1)*'G Q 4'!A8,IF(ABS(G14-G15)>'G Q 4'!A9,IF(G14-G15>'G Q 4'!A9,1,-1)*'G Q 4'!A9,ROUND(G14-G15,3))))))","v":""},null,null,null,null,"","",{"$f":"IF(AND(LEFT(K14,1)=\"D\",LEFT(K15,1)=\"D\"),\"\",IF(OR(K14=\"DNR\",K15=\"DNR\"),\"by \"&ABS(R15)&\" seconds\",IF(OR(ISBLANK(K14),ISBLANK(K15),O14=O15),\"\",\"by \"&ABS(R15)&\" seconds\")))","v":""},{"$f":"IF(AND(LEFT(K14,1)=\"D\",LEFT(K15,1)=\"D\"),\"0\",IF(OR(K14=\"DNR\",K15=\"DNR\"),IF(K14=\"DNR\",1,-1)*'G Q 4'!A8,IF(OR(ISBLANK(K14),ISBLANK(K15)),\"\",IF(OR(O14=\"-\",O15=\"-\"),IF(O14=\"-\",1,-1)*'G Q 4'!A8,IF(ABS(O14-O15)>'G Q 4'!A9,IF(O14-O15>'G Q 4'!A9,1,-1)*'G Q 4'!A9,ROUND(O14-O15,3))))))","v":""},{"$f":"IF(B15=\"BYE\",\"(BYE)\",IF(ISERROR(J15+R15)=TRUE,\"\",IF(J15+R15=0,\"\",\"by \"&ABS(J15+R15)&\" seconds\")))","v":"(BYE)"},"",{"$f":"IF(B15=\"BYE\", B15, IF(ISERROR(J15+R15)=TRUE,\"\",IF(J15+R15>0,B14,B15)))","v":"BYE"},{"$f":"IF(ISERROR(VLOOKUP(U15,'G Q 4'!U12:V111,2,FALSE))=TRUE,\"\",VLOOKUP(U15,'G Q 4'!U12:V111,2,FALSE))","v":""},{"$f":"IF(ISERROR(VLOOKUP(U15,'G Q 4'!AL12:AO111,4,FALSE))=TRUE,\"\",VLOOKUP(U15,'G Q 4'!AL12:AO111,4,FALSE))","v":""}]
[4,{"$f":"IF(A3<A16,\"BYE\",IF(ISERROR(VLOOKUP(A16,'G Q 4'!AO12:'G Q 4'!AQ111,3,FALSE))=TRUE,\"BYE\",VLOOKUP(A16,'G Q 4'!AO12:'G Q 4'!AQ111,3,FALSE)))","v":""},null,null,null,null,"","",{"$f":"IF(AND(LEFT(C16,1)=\"D\",LEFT(C17,1)=\"D\"),\"\",IF(OR(C16=\"DNR\",C17=\"DNR\"),IF(C16=\"DNR\",B17,B16),IF(OR(ISBLANK(C16),ISBLANK(C17)),\"\",IF(G16=G17,\"TIE\",IF(G16>G17,B17,B16)))))","v":""},null,null,null,null,null,"","",{"$f":"IF(AND(LEFT(K16,1)=\"D\",LEFT(K17,1)=\"D\"),\"\",IF(OR(K16=\"DNR\",K17=\"DNR\"),IF(K16=\"DNR\",B17,B16),IF(OR(ISBLANK(K16),ISBLANK(K17)),\"\",IF(O16=O17,\"TIE\",IF(O16>O17,B17,B16)))))","v":""},null,{"$f":"IF(B17=\"BYE\", B16, IF(ISERROR(J17+R17)=TRUE,\"\",IF(J17+R17=0,\"TIE - HOLD RUNOFF\",IF(J17+R17>0,B17,B16))))","v":""},""]
[29,{"$f":"IF(A3<A17,\"BYE\",IF(ISERROR(VLOOKUP(A17,'G Q 4'!AO12:'G Q 4'!AQ111,3,FALSE))=TRUE,\"BYE\",VLOOKUP(A17,'G Q 4'!AO12:'G Q 4'!AQ111,3,FALSE)))","v":"BYE"},null,null,null,null,"","",{"$f":"IF(AND(LEFT(C16,1)=\"D\",LEFT(C17,1)=\"D\"),\"\",IF(OR(C16=\"DNR\",C17=\"DNR\"),\"by \"&ABS(J17)&\" seconds\",IF(OR(ISBLANK(C16),ISBLANK(C17),G16=G17),\"\",\"by \"&ABS(J17)&\" seconds\")))","v":""},{"$f":"IF(AND(LEFT(C16,1)=\"D\",LEFT(C17,1)=\"D\"),\"0\",IF(OR(C16=\"DNR\",C17=\"DNR\"),IF(C16=\"DNR\",1,-1)*'G Q 4'!A8,IF(OR(ISBLANK(C16),ISBLANK(C17)),\"\",IF(OR(G16=\"-\",G17=\"-\"),IF(G16=\"-\",1,-1)*'G Q 4'!A8,IF(ABS(G16-G17)>'G Q 4'!A9,IF(G16-G17>'G Q 4'!A9,1,-1)*'G Q 4'!A9,ROUND(G16-G17,3))))))","v":""},null,null,null,null,"","",{"$f":"IF(AND(LEFT(K16,1)=\"D\",LEFT(K17,1)=\"D\"),\"\",IF(OR(K16=\"DNR\",K17=\"DNR\"),\"by \"&ABS(R17)&\" seconds\",IF(OR(ISBLANK(K16),ISBLANK(K17),O16=O17),\"\",\"by \"&ABS(R17)&\" seconds\")))","v":""},{"$f":"IF(AND(LEFT(K16,1)=\"D\",LEFT(K17,1)=\"D\"),\"0\",IF(OR(K16=\"DNR\",K17=\"DNR\"),IF(K16=\"DNR\",1,-1)*'G Q 4'!A8,IF(OR(ISBLANK(K16),ISBLANK(K17)),\"\",IF(OR(O16=\"-\",O17=\"-\"),IF(O16=\"-\",1,-1)*'G Q 4'!A8,IF(ABS(O16-O17)>'G Q 4'!A9,IF(O16-O17>'G Q 4'!A9,1,-1)*'G Q 4'!A9,ROUND(O16-O17,3))))))","v":""},{"$f":"IF(B17=\"BYE\",\"(BYE)\",IF(ISERROR(J17+R17)=TRUE,\"\",IF(J17+R17=0,\"\",\"by \"&ABS(J17+R17)&\" seconds\")))","v":"(BYE)"},"",{"$f":"IF(B17=\"BYE\", B17, IF(ISERROR(J17+R17)=TRUE,\"\",IF(J17+R17>0,B16,B17)))","v":"BYE"},{"$f":"IF(ISERROR(VLOOKUP(U17,'G Q 4'!U12:V111,2,FALSE))=TRUE,\"\",VLOOKUP(U17,'G Q 4'!U12:V111,2,FALSE))","v":""},{"$f":"IF(ISERROR(VLOOKUP(U17,'G Q 4'!AL12:AO111,4,FALSE))=TRUE,\"\",VLOOKUP(U17,'G Q 4'!AL12:AO111,4,FALSE))","v":""}]
[13,{"$f":"IF(A3<A18,\"BYE\",IF(ISERROR(VLOOKUP(A18,'G Q 4'!AO12:'G Q 4'!AQ111,3,FALSE))=TRUE,\"BYE\",VLOOKUP(A18,'G Q 4'!AO12:'G Q 4'!AQ111,3,FALSE)))","v":"BYE"},null,null,null,null,"","",{"$f":"IF(AND(LEFT(C18,1)=\"D\",LEFT(C19,1)=\"D\"),\"\",IF(OR(C18=\"DNR\",C19=\"DNR\"),IF(C18=\"DNR\",B19,B18),IF(OR(ISBLANK(C18),ISBLANK(C19)),\"\",IF(G18=G19,\"TIE\",IF(G18>G19,B19,B18)))))","v":""},null,null,null,null,null,"","",{"$f":"IF(AND(LEFT(K18,1)=\"D\",LEFT(K19,1)=\"D\"),\"\",IF(OR(K18=\"DNR\",K19=\"DNR\"),IF(K18=\"DNR\",B19,B18),IF(OR(ISBLANK(K18),ISBLANK(K19)),\"\",IF(O18=O19,\"TIE\",IF(O18>O19,B19,B18)))))","v":""},null,{"$f":"IF(B19=\"BYE\", B18, IF(ISERROR(J19+R19)=TRUE,\"\",IF(J19+R19=0,\"TIE - HOLD RUNOFF\",IF(J19+R19>0,B19,B18))))","v":"BYE"},""]
[20,{"$f":"IF(A3<A19,\"BYE\",IF(ISERROR(VLOOKUP(A19,'G Q 4'!AO12:'G Q 4'!AQ111,3,FALSE))=TRUE,\"BYE\",VLOOKUP(A19,'G Q 4'!AO12:'G Q 4'!AQ111,3,FALSE)))","v":"BYE"},null,null,null,null,"","",{"$f":"IF(AND(LEFT(C18,1)=\"D\",LEFT(C19,1)=\"D\"),\"\",IF(OR(C18=\"DNR\",C19=\"DNR\"),\"by \"&ABS(J19)&\" seconds\",IF(OR(ISBLANK(C18),ISBLANK(C19),G18=G19),\"\",\"by \"&ABS(J19)&\" seconds\")))","v":""},{"$f":"IF(AND(LEFT(C18,1)=\"D\",LEFT(C19,1)=\"D\"),\"0\",IF(OR(C18=\"DNR\",C19=\"DNR\"),IF(C18=\"DNR\",1,-1)*'G Q 4'!A8,IF(OR(ISBLANK(C18),ISBLANK(C19)),\"\",IF(OR(G18=\"-\",G19=\"-\"),IF(G18=\"-\",1,-1)*'G Q 4'!A8,IF(ABS(G18-G19)>'G Q 4'!A9,IF(G18-G19>'G Q 4'!A9,1,-1)*'G Q 4'!A9,ROUND(G18-G19,3))))))","v":""},null,null,null,null,"","",{"$f":"IF(AND(LEFT(K18,1)=\"D\",LEFT(K19,1)=\"D\"),\"\",IF(OR(K18=\"DNR\",K19=\"DNR\"),\"by \"&ABS(R19)&\" seconds\",IF(OR(ISBLANK(K18),ISBLANK(K19),O18=O19),\"\",\"by \"&ABS(R19)&\" seconds\")))","v":""},{"$f":"IF(AND(LEFT(K18,1)=\"D\",LEFT(K19,1)=\"D\"),\"0\",IF(OR(K18=\"DNR\",K19=\"DNR\"),IF(K18=\"DNR\",1,-1)*'G Q 4'!A8,IF(OR(ISBLANK(K18),ISBLANK(K19)),\"\",IF(OR(O18=\"-\",O19=\"-\"),IF(O18=\"-\",1,-1)*'G Q 4'!A8,IF(ABS(O18-O19)>'G Q 4'!A9,IF(O18-O19>'G Q 4'!A9,1,-1)*'G Q 4'!A9,ROUND(O18-O19,3))))))","v":""},{"$f":"IF(B19=\"BYE\",\"(BYE)\",IF(ISERROR(J19+R19)=TRUE,\"\",IF(J19+R19=0,\"\",\"by \"&ABS(J19+R19)&\" seconds\")))","v":"(BYE)"},"",{"$f":"IF(B19=\"BYE\", B19, IF(ISERROR(J19+R19)=TRUE,\"\",IF(J19+R19>0,B18,B19)))","v":"BYE"},{"$f":"IF(ISERROR(VLOOKUP(U19,'G Q 4'!U12:V111,2,FALSE))=TRUE,\"\",VLOOKUP(U19,'G Q 4'!U12:V111,2,FALSE))","v":""},{"$f":"IF(ISERROR(VLOOKUP(U19,'G Q 4'!AL12:AO111,4,FALSE))=TRUE,\"\",VLOOKUP(U19,'G Q 4'!AL12:AO111,4,FALSE))","v":""}]
[5,{"$f":"IF(A3<A20,\"BYE\",IF(ISERROR(VLOOKUP(A20,'G Q 4'!AO12:'G Q 4'!AQ111,3,FALSE))=TRUE,\"BYE\",VLOOKUP(A20,'G Q 4'!AO12:'G Q 4'!AQ111,3,FALSE)))","v":""},null,null,null,null,"","",{"$f":"IF(AND(LEFT(C20,1)=\"D\",LEFT(C21,1)=\"D\"),\"\",IF(OR(C20=\"DNR\",C21=\"DNR\"),IF(C20=\"DNR\",B21,B20),IF(OR(ISBLANK(C20),ISBLANK(C21)),\"\",IF(G20=G21,\"TIE\",IF(G20>G21,B21,B20)))))","v":""},null,null,null,null,null,"","",{"$f":"IF(AND(LEFT(K20,1)=\"D\",LEFT(K21,1)=\"D\"),\"\",IF(OR(K20=\"DNR\",K21=\"DNR\"),IF(K20=\"DNR\",B21,B20),IF(OR(ISBLANK(K20),ISBLANK(K21)),\"\",IF(O20=O21,\"TIE\",IF(O20>O21,B21,B20)))))","v":""},null,{"$f":"IF(B21=\"BYE\", B20, IF(ISERROR(J21+R21)=TRUE,\"\",IF(J21+R21=0,\"TIE - HOLD RUNOFF\",IF(J21+R21>0,B21,B20))))","v":""},""]
[28,{"$f":"IF(A3<A21,\"BYE\",IF(ISERROR(VLOOKUP(A21,'G Q 4'!AO12:'G Q 4'!AQ111,3,FALSE))=TRUE,\"BYE\",VLOOKUP(A21,'G Q 4'!AO12:'G Q 4'!AQ111,3,FALSE)))","v":"BYE"},null,null,null,null,"","",{"$f":"IF(AND(LEFT(C20,1)=\"D\",LEFT(C21,1)=\"D\"),\"\",IF(OR(C20=\"DNR\",C21=\"DNR\"),\"by \"&ABS(J21)&\" seconds\",IF(OR(ISBLANK(C20),ISBLANK(C21),G20=G21),\"\",\"by \"&ABS(J21)&\" seconds\")))","v":""},{"$f":"IF(AND(LEFT(C20,1)=\"D\",LEFT(C21,1)=\"D\"),\"0\",IF(OR(C20=\"DNR\",C21=\"DNR\"),IF(C20=\"DNR\",1,-1)*'G Q 4'!A8,IF(OR(ISBLANK(C20),ISBLANK(C21)),\"\",IF(OR(G20=\"-\",G21=\"-\"),IF(G20=\"-\",1,-1)*'G Q 4'!A8,IF(ABS(G20-G21)>'G Q 4'!A9,IF(G20-G21>'G Q 4'!A9,1,-1)*'G Q 4'!A9,ROUND(G20-G21,3))))))","v":""},null,null,null,null,"","",{"$f":"IF(AND(LEFT(K20,1)=\"D\",LEFT(K21,1)=\"D\"),\"\",IF(OR(K20=\"DNR\",K21=\"DNR\"),\"by \"&ABS(R21)&\" seconds\",IF(OR(ISBLANK(K20),ISBLANK(K21),O20=O21),\"\",\"by \"&ABS(R21)&\" seconds\")))","v":""},{"$f":"IF(AND(LEFT(K20,1)=\"D\",LEFT(K21,1)=\"D\"),\"0\",IF(OR(K20=\"DNR\",K21=\"DNR\"),IF(K20=\"DNR\",1,-1)*'G Q 4'!A8,IF(OR(ISBLANK(K20),ISBLANK(K21)),\"\",IF(OR(O20=\"-\",O21=\"-\"),IF(O20=\"-\",1,-1)*'G Q 4'!A8,IF(ABS(O20-O21)>'G Q 4'!A9,IF(O20-O21>'G Q 4'!A9,1,-1)*'G Q 4'!A9,ROUND(O20-O21,3))))))","v":""},{"$f":"IF(B21=\"BYE\",\"(BYE)\",IF(ISERROR(J21+R21)=TRUE,\"\",IF(J21+R21=0,\"\",\"by \"&ABS(J21+R21)&\" seconds\")))","v":"(BYE)"},"",{"$f":"IF(B21=\"BYE\", B21, IF(ISERROR(J21+R21)=TRUE,\"\",IF(J21+R21>0,B20,B21)))","v":"BYE"},{"$f":"IF(ISERROR(VLOOKUP(U21,'G Q 4'!U12:V111,2,FALSE))=TRUE,\"\",VLOOKUP(U21,'G Q 4'!U12:V111,2,FALSE))","v":""},{"$f":"IF(ISERROR(VLOOKUP(U21,'G Q 4'!AL12:AO111,4,FALSE))=TRUE,\"\",VLOOKUP(U21,'G Q 4'!AL12:AO111,4,FALSE))","v":""}]
[12,{"$f":"IF(A3<A22,\"BYE\",IF(ISERROR(VLOOKUP(A22,'G Q 4'!AO12:'G Q 4'!AQ111,3,FALSE))=TRUE,\"BYE\",VLOOKUP(A22,'G Q 4'!AO12:'G Q 4'!AQ111,3,FALSE)))","v":"BYE"},null,null,null,null,"","",{"$f":"IF(AND(LEFT(C22,1)=\"D\",LEFT(C23,1)=\"D\"),\"\",IF(OR(C22=\"DNR\",C23=\"DNR\"),IF(C22=\"DNR\",B23,B22),IF(OR(ISBLANK(C22),ISBLANK(C23)),\"\",IF(G22=G23,\"TIE\",IF(G22>G23,B23,B22)))))","v":""},null,null,null,null,null,"","",{"$f":"IF(AND(LEFT(K22,1)=\"D\",LEFT(K23,1)=\"D\"),\"\",IF(OR(K22=\"DNR\",K23=\"DNR\"),IF(K22=\"DNR\",B23,B22),IF(OR(ISBLANK(K22),ISBLANK(K23)),\"\",IF(O22=O23,\"TIE\",IF(O22>O23,B23,B22)))))","v":""},null,{"$f":"IF(B23=\"BYE\", B22, IF(ISERROR(J23+R23)=TRUE,\"\",IF(J23+R23=0,\"TIE - HOLD RUNOFF\",IF(J23+R23>0,B23,B22))))","v":"BYE"},""]
[21,{"$f":"IF(A3<A23,\"BYE\",IF(ISERROR(VLOOKUP(A23,'G Q 4'!AO12:'G Q 4'!AQ111,3,FALSE))=TRUE,\"BYE\",VLOOKUP(A23,'G Q 4'!AO12:'G Q 4'!AQ111,3,FALSE)))","v":"BYE"},null,null,null,null,"","",{"$f":"IF(AND(LEFT(C22,1)=\"D\",LEFT(C23,1)=\"D\"),\"\",IF(OR(C22=\"DNR\",C23=\"DNR\"),\"by \"&ABS(J23)&\" seconds\",IF(OR(ISBLANK(C22),ISBLANK(C23),G22=G23),\"\",\"by \"&ABS(J23)&\" seconds\")))","v":""},{"$f":"IF(AND(LEFT(C22,1)=\"D\",LEFT(C23,1)=\"D\"),\"0\",IF(OR(C22=\"DNR\",C23=\"DNR\"),IF(C22=\"DNR\",1,-1)*'G Q 4'!A8,IF(OR(ISBLANK(C22),ISBLANK(C23)),\"\",IF(OR(G22=\"-\",G23=\"-\"),IF(G22=\"-\",1,-1)*'G Q 4'!A8,IF(ABS(G22-G23)>'G Q 4'!A9,IF(G22-G23>'G Q 4'!A9,1,-1)*'G Q 4'!A9,ROUND(G22-G23,3))))))","v":""},null,null,null,null,"","",{"$f":"IF(AND(LEFT(K22,1)=\"D\",LEFT(K23,1)=\"D\"),\"\",IF(OR(K22=\"DNR\",K23=\"DNR\"),\"by \"&ABS(R23)&\" seconds\",IF(OR(ISBLANK(K22),ISBLANK(K23),O22=O23),\"\",\"by \"&ABS(R23)&\" seconds\")))","v":""},{"$f":"IF(AND(LEFT(K22,1)=\"D\",LEFT(K23,1)=\"D\"),\"0\",IF(OR(K22=\"DNR\",K23=\"DNR\"),IF(K22=\"DNR\",1,-1)*'G Q 4'!A8,IF(OR(ISBLANK(K22),ISBLANK(K23)),\"\",IF(OR(O22=\"-\",O23=\"-\"),IF(O22=\"-\",1,-1)*'G Q 4'!A8,IF(ABS(O22-O23)>'G Q 4'!A9,IF(O22-O23>'G Q 4'!A9,1,-1)*'G Q 4'!A9,ROUND(O22-O23,3))))))","v":""},{"$f":"IF(B23=\"BYE\",\"(BYE)\",IF(ISERROR(J23+R23)=TRUE,\"\",IF(J23+R23=0,\"\",\"by \"&ABS(J23+R23)&\" seconds\")))","v":"(BYE)"},"",{"$f":"IF(B23=\"BYE\", B23, IF(ISERROR(J23+R23)=TRUE,\"\",IF(J23+R23>0,B22,B23)))","v":"BYE"},{"$f":"IF(ISERROR(VLOOKUP(U23,'G Q 4'!U12:V111,2,FALSE))=TRUE,\"\",VLOOKUP(U23,'G Q 4'!U12:V111,2,FALSE))","v":""},{"$f":"IF(ISERROR(VLOOKUP(U23,'G Q 4'!AL12:AO111,4,FALSE))=TRUE,\"\",VLOOKUP(U23,'G Q 4'!AL12:AO111,4,FALSE))","v":""}]
[2,{"$f":"IF(A3<A24,\"BYE\",IF(ISERROR(VLOOKUP(A24,'G Q 4'!AO12:'G Q 4'!AQ111,3,FALSE))=TRUE,\"BYE\",VLOOKUP(A24,'G Q 4'!AO12:'G Q 4'!AQ111,3,FALSE)))","v":"Rezková  Anna  [CZE] "},null,null,null,null,"","",{"$f":"IF(AND(LEFT(C24,1)=\"D\",LEFT(C25,1)=\"D\"),\"\",IF(OR(C24=\"DNR\",C25=\"DNR\"),IF(C24=\"DNR\",B25,B24),IF(OR(ISBLANK(C24),ISBLANK(C25)),\"\",IF(G24=G25,\"TIE\",IF(G24>G25,B25,B24)))))","v":""},null,null,null,null,null,"","",{"$f":"IF(AND(LEFT(K24,1)=\"D\",LEFT(K25,1)=\"D\"),\"\",IF(OR(K24=\"DNR\",K25=\"DNR\"),IF(K24=\"DNR\",B25,B24),IF(OR(ISBLANK(K24),ISBLANK(K25)),\"\",IF(O24=O25,\"TIE\",IF(O24>O25,B25,B24)))))","v":""},null,{"$f":"IF(B25=\"BYE\", B24, IF(ISERROR(J25+R25)=TRUE,\"\",IF(J25+R25=0,\"TIE - HOLD RUNOFF\",IF(J25+R25>0,B25,B24))))","v":"Rezková  Anna  [CZE] "},""]
[31,{"$f":"IF(A3<A25,\"BYE\",IF(ISERROR(VLOOKUP(A25,'G Q 4'!AO12:'G Q 4'!AQ111,3,FALSE))=TRUE,\"BYE\",VLOOKUP(A25,'G Q 4'!AO12:'G Q 4'!AQ111,3,FALSE)))","v":"BYE"},null,null,null,null,"","",{"$f":"IF(AND(LEFT(C24,1)=\"D\",LEFT(C25,1)=\"D\"),\"\",IF(OR(C24=\"DNR\",C25=\"DNR\"),\"by \"&ABS(J25)&\" seconds\",IF(OR(ISBLANK(C24),ISBLANK(C25),G24=G25),\"\",\"by \"&ABS(J25)&\" seconds\")))","v":""},{"$f":"IF(AND(LEFT(C24,1)=\"D\",LEFT(C25,1)=\"D\"),\"0\",IF(OR(C24=\"DNR\",C25=\"DNR\"),IF(C24=\"DNR\",1,-1)*'G Q 4'!A8,IF(OR(ISBLANK(C24),ISBLANK(C25)),\"\",IF(OR(G24=\"-\",G25=\"-\"),IF(G24=\"-\",1,-1)*'G Q 4'!A8,IF(ABS(G24-G25)>'G Q 4'!A9,IF(G24-G25>'G Q 4'!A9,1,-1)*'G Q 4'!A9,ROUND(G24-G25,3))))))","v":""},null,null,null,null,"","",{"$f":"IF(AND(LEFT(K24,1)=\"D\",LEFT(K25,1)=\"D\"),\"\",IF(OR(K24=\"DNR\",K25=\"DNR\"),\"by \"&ABS(R25)&\" seconds\",IF(OR(ISBLANK(K24),ISBLANK(K25),O24=O25),\"\",\"by \"&ABS(R25)&\" seconds\")))","v":""},{"$f":"IF(AND(LEFT(K24,1)=\"D\",LEFT(K25,1)=\"D\"),\"0\",IF(OR(K24=\"DNR\",K25=\"DNR\"),IF(K24=\"DNR\",1,-1)*'G Q 4'!A8,IF(OR(ISBLANK(K24),ISBLANK(K25)),\"\",IF(OR(O24=\"-\",O25=\"-\"),IF(O24=\"-\",1,-1)*'G Q 4'!A8,IF(ABS(O24-O25)>'G Q 4'!A9,IF(O24-O25>'G Q 4'!A9,1,-1)*'G Q 4'!A9,ROUND(O24-O25,3))))))","v":""},{"$f":"IF(B25=\"BYE\",\"(BYE)\",IF(ISERROR(J25+R25)=TRUE,\"\",IF(J25+R25=0,\"\",\"by \"&ABS(J25+R25)&\" seconds\")))","v":"(BYE)"},"",{"$f":"IF(B25=\"BYE\", B25, IF(ISERROR(J25+R25)=TRUE,\"\",IF(J25+R25>0,B24,B25)))","v":"BYE"},{"$f":"IF(ISERROR(VLOOKUP(U25,'G Q 4'!U12:V111,2,FALSE))=TRUE,\"\",VLOOKUP(U25,'G Q 4'!U12:V111,2,FALSE))","v":""},{"$f":"IF(ISERROR(VLOOKUP(U25,'G Q 4'!AL12:AO111,4,FALSE))=TRUE,\"\",VLOOKUP(U25,'G Q 4'!AL12:AO111,4,FALSE))","v":""}]
[15,{"$f":"IF(A3<A26,\"BYE\",IF(ISERROR(VLOOKUP(A26,'G Q 4'!AO12:'G Q 4'!AQ111,3,FALSE))=TRUE,\"BYE\",VLOOKUP(A26,'G Q 4'!AO12:'G Q 4'!AQ111,3,FALSE)))","v":"BYE"},null,null,null,null,"","",{"$f":"IF(AND(LEFT(C26,1)=\"D\",LEFT(C27,1)=\"D\"),\"\",IF(OR(C26=\"DNR\",C27=\"DNR\"),IF(C26=\"DNR\",B27,B26),IF(OR(ISBLANK(C26),ISBLANK(C27)),\"\",IF(G26=G27,\"TIE\",IF(G26>G27,B27,B26)))))","v":""},null,null,null,null,null,"","",{"$f":"IF(AND(LEFT(K26,1)=\"D\",LEFT(K27,1)=\"D\"),\"\",IF(OR(K26=\"DNR\",K27=\"DNR\"),IF(K26=\"DNR\",B27,B26),IF(OR(ISBLANK(K26),ISBLANK(K27)),\"\",IF(O26=O27,\"TIE\",IF(O26>O27,B27,B26)))))","v":""},null,{"$f":"IF(B27=\"BYE\", B26, IF(ISERROR(J27+R27)=TRUE,\"\",IF(J27+R27=0,\"TIE - HOLD RUNOFF\",IF(J27+R27>0,B27,B26))))","v":"BYE"},""]
[18,{"$f":"IF(A3<A27,\"BYE\",IF(ISERROR(VLOOKUP(A27,'G Q 4'!AO12:'G Q 4'!AQ111,3,FALSE))=TRUE,\"BYE\",VLOOKUP(A27,'G Q 4'!AO12:'G Q 4'!AQ111,3,FALSE)))","v":"BYE"},null,null,null,null,"","",{"$f":"IF(AND(LEFT(C26,1)=\"D\",LEFT(C27,1)=\"D\"),\"\",IF(OR(C26=\"DNR\",C27=\"DNR\"),\"by \"&ABS(J27)&\" seconds\",IF(OR(ISBLANK(C26),ISBLANK(C27),G26=G27),\"\",\"by \"&ABS(J27)&\" seconds\")))","v":""},{"$f":"IF(AND(LEFT(C26,1)=\"D\",LEFT(C27,1)=\"D\"),\"0\",IF(OR(C26=\"DNR\",C27=\"DNR\"),IF(C26=\"DNR\",1,-1)*'G Q 4'!A8,IF(OR(ISBLANK(C26),ISBLANK(C27)),\"\",IF(OR(G26=\"-\",G27=\"-\"),IF(G26=\"-\",1,-1)*'G Q 4'!A8,IF(ABS(G26-G27)>'G Q 4'!A9,IF(G26-G27>'G Q 4'!A9,1,-1)*'G Q 4'!A9,ROUND(G26-G27,3))))))","v":""},null,null,null,null,"","",{"$f":"IF(AND(LEFT(K26,1)=\"D\",LEFT(K27,1)=\"D\"),\"\",IF(OR(K26=\"DNR\",K27=\"DNR\"),\"by \"&ABS(R27)&\" seconds\",IF(OR(ISBLANK(K26),ISBLANK(K27),O26=O27),\"\",\"by \"&ABS(R27)&\" seconds\")))","v":""},{"$f":"IF(AND(LEFT(K26,1)=\"D\",LEFT(K27,1)=\"D\"),\"0\",IF(OR(K26=\"DNR\",K27=\"DNR\"),IF(K26=\"DNR\",1,-1)*'G Q 4'!A8,IF(OR(ISBLANK(K26),ISBLANK(K27)),\"\",IF(OR(O26=\"-\",O27=\"-\"),IF(O26=\"-\",1,-1)*'G Q 4'!A8,IF(ABS(O26-O27)>'G Q 4'!A9,IF(O26-O27>'G Q 4'!A9,1,-1)*'G Q 4'!A9,ROUND(O26-O27,3))))))","v":""},{"$f":"IF(B27=\"BYE\",\"(BYE)\",IF(ISERROR(J27+R27)=TRUE,\"\",IF(J27+R27=0,\"\",\"by \"&ABS(J27+R27)&\" seconds\")))","v":"(BYE)"},"",{"$f":"IF(B27=\"BYE\", B27, IF(ISERROR(J27+R27)=TRUE,\"\",IF(J27+R27>0,B26,B27)))","v":"BYE"},{"$f":"IF(ISERROR(VLOOKUP(U27,'G Q 4'!U12:V111,2,FALSE))=TRUE,\"\",VLOOKUP(U27,'G Q 4'!U12:V111,2,FALSE))","v":""},{"$f":"IF(ISERROR(VLOOKUP(U27,'G Q 4'!AL12:AO111,4,FALSE))=TRUE,\"\",VLOOKUP(U27,'G Q 4'!AL12:AO111,4,FALSE))","v":""}]
[7,{"$f":"IF(A3<A28,\"BYE\",IF(ISERROR(VLOOKUP(A28,'G Q 4'!AO12:'G Q 4'!AQ111,3,FALSE))=TRUE,\"BYE\",VLOOKUP(A28,'G Q 4'!AO12:'G Q 4'!AQ111,3,FALSE)))","v":""},null,null,null,null,"","",{"$f":"IF(AND(LEFT(C28,1)=\"D\",LEFT(C29,1)=\"D\"),\"\",IF(OR(C28=\"DNR\",C29=\"DNR\"),IF(C28=\"DNR\",B29,B28),IF(OR(ISBLANK(C28),ISBLANK(C29)),\"\",IF(G28=G29,\"TIE\",IF(G28>G29,B29,B28)))))","v":""},null,null,null,null,null,"","",{"$f":"IF(AND(LEFT(K28,1)=\"D\",LEFT(K29,1)=\"D\"),\"\",IF(OR(K28=\"DNR\",K29=\"DNR\"),IF(K28=\"DNR\",B29,B28),IF(OR(ISBLANK(K28),ISBLANK(K29)),\"\",IF(O28=O29,\"TIE\",IF(O28>O29,B29,B28)))))","v":""},null,{"$f":"IF(B29=\"BYE\", B28, IF(ISERROR(J29+R29)=TRUE,\"\",IF(J29+R29=0,\"TIE - HOLD RUNOFF\",IF(J29+R29>0,B29,B28))))","v":""},""]
[26,{"$f":"IF(A3<A29,\"BYE\",IF(ISERROR(VLOOKUP(A29,'G Q 4'!AO12:'G Q 4'!AQ111,3,FALSE))=TRUE,\"BYE\",VLOOKUP(A29,'G Q 4'!AO12:'G Q 4'!AQ111,3,FALSE)))","v":"BYE"},null,null,null,null,"","",{"$f":"IF(AND(LEFT(C28,1)=\"D\",LEFT(C29,1)=\"D\"),\"\",IF(OR(C28=\"DNR\",C29=\"DNR\"),\"by \"&ABS(J29)&\" seconds\",IF(OR(ISBLANK(C28),ISBLANK(C29),G28=G29),\"\",\"by \"&ABS(J29)&\" seconds\")))","v":""},{"$f":"IF(AND(LEFT(C28,1)=\"D\",LEFT(C29,1)=\"D\"),\"0\",IF(OR(C28=\"DNR\",C29=\"DNR\"),IF(C28=\"DNR\",1,-1)*'G Q 4'!A8,IF(OR(ISBLANK(C28),ISBLANK(C29)),\"\",IF(OR(G28=\"-\",G29=\"-\"),IF(G28=\"-\",1,-1)*'G Q 4'!A8,IF(ABS(G28-G29)>'G Q 4'!A9,IF(G28-G29>'G Q 4'!A9,1,-1)*'G Q 4'!A9,ROUND(G28-G29,3))))))","v":""},null,null,null,null,"","",{"$f":"IF(AND(LEFT(K28,1)=\"D\",LEFT(K29,1)=\"D\"),\"\",IF(OR(K28=\"DNR\",K29=\"DNR\"),\"by \"&ABS(R29)&\" seconds\",IF(OR(ISBLANK(K28),ISBLANK(K29),O28=O29),\"\",\"by \"&ABS(R29)&\" seconds\")))","v":""},{"$f":"IF(AND(LEFT(K28,1)=\"D\",LEFT(K29,1)=\"D\"),\"0\",IF(OR(K28=\"DNR\",K29=\"DNR\"),IF(K28=\"DNR\",1,-1)*'G Q 4'!A8,IF(OR(ISBLANK(K28),ISBLANK(K29)),\"\",IF(OR(O28=\"-\",O29=\"-\"),IF(O28=\"-\",1,-1)*'G Q 4'!A8,IF(ABS(O28-O29)>'G Q 4'!A9,IF(O28-O29>'G Q 4'!A9,1,-1)*'G Q 4'!A9,ROUND(O28-O29,3))))))","v":""},{"$f":"IF(B29=\"BYE\",\"(BYE)\",IF(ISERROR(J29+R29)=TRUE,\"\",IF(J29+R29=0,\"\",\"by \"&ABS(J29+R29)&\" seconds\")))","v":"(BYE)"},"",{"$f":"IF(B29=\"BYE\", B29, IF(ISERROR(J29+R29)=TRUE,\"\",IF(J29+R29>0,B28,B29)))","v":"BYE"},{"$f":"IF(ISERROR(VLOOKUP(U29,'G Q 4'!U12:V111,2,FALSE))=TRUE,\"\",VLOOKUP(U29,'G Q 4'!U12:V111,2,FALSE))","v":""},{"$f":"IF(ISERROR(VLOOKUP(U29,'G Q 4'!AL12:AO111,4,FALSE))=TRUE,\"\",VLOOKUP(U29,'G Q 4'!AL12:AO111,4,FALSE))","v":""}]
[10,{"$f":"IF(A3<A30,\"BYE\",IF(ISERROR(VLOOKUP(A30,'G Q 4'!AO12:'G Q 4'!AQ111,3,FALSE))=TRUE,\"BYE\",VLOOKUP(A30,'G Q 4'!AO12:'G Q 4'!AQ111,3,FALSE)))","v":"BYE"},null,null,null,null,"","",{"$f":"IF(AND(LEFT(C30,1)=\"D\",LEFT(C31,1)=\"D\"),\"\",IF(OR(C30=\"DNR\",C31=\"DNR\"),IF(C30=\"DNR\",B31,B30),IF(OR(ISBLANK(C30),ISBLANK(C31)),\"\",IF(G30=G31,\"TIE\",IF(G30>G31,B31,B30)))))","v":""},null,null,null,null,null,"","",{"$f":"IF(AND(LEFT(K30,1)=\"D\",LEFT(K31,1)=\"D\"),\"\",IF(OR(K30=\"DNR\",K31=\"DNR\"),IF(K30=\"DNR\",B31,B30),IF(OR(ISBLANK(K30),ISBLANK(K31)),\"\",IF(O30=O31,\"TIE\",IF(O30>O31,B31,B30)))))","v":""},null,{"$f":"IF(B31=\"BYE\", B30, IF(ISERROR(J31+R31)=TRUE,\"\",IF(J31+R31=0,\"TIE - HOLD RUNOFF\",IF(J31+R31>0,B31,B30))))","v":"BYE"},""]
[23,{"$f":"IF(A3<A31,\"BYE\",IF(ISERROR(VLOOKUP(A31,'G Q 4'!AO12:'G Q 4'!AQ111,3,FALSE))=TRUE,\"BYE\",VLOOKUP(A31,'G Q 4'!AO12:'G Q 4'!AQ111,3,FALSE)))","v":"BYE"},null,null,null,null,"","",{"$f":"IF(AND(LEFT(C30,1)=\"D\",LEFT(C31,1)=\"D\"),\"\",IF(OR(C30=\"DNR\",C31=\"DNR\"),\"by \"&ABS(J31)&\" seconds\",IF(OR(ISBLANK(C30),ISBLANK(C31),G30=G31),\"\",\"by \"&ABS(J31)&\" seconds\")))","v":""},{"$f":"IF(AND(LEFT(C30,1)=\"D\",LEFT(C31,1)=\"D\"),\"0\",IF(OR(C30=\"DNR\",C31=\"DNR\"),IF(C30=\"DNR\",1,-1)*'G Q 4'!A8,IF(OR(ISBLANK(C30),ISBLANK(C31)),\"\",IF(OR(G30=\"-\",G31=\"-\"),IF(G30=\"-\",1,-1)*'G Q 4'!A8,IF(ABS(G30-G31)>'G Q 4'!A9,IF(G30-G31>'G Q 4'!A9,1,-1)*'G Q 4'!A9,ROUND(G30-G31,3))))))","v":""},null,null,null,null,"","",{"$f":"IF(AND(LEFT(K30,1)=\"D\",LEFT(K31,1)=\"D\"),\"\",IF(OR(K30=\"DNR\",K31=\"DNR\"),\"by \"&ABS(R31)&\" seconds\",IF(OR(ISBLANK(K30),ISBLANK(K31),O30=O31),\"\",\"by \"&ABS(R31)&\" seconds\")))","v":""},{"$f":"IF(AND(LEFT(K30,1)=\"D\",LEFT(K31,1)=\"D\"),\"0\",IF(OR(K30=\"DNR\",K31=\"DNR\"),IF(K30=\"DNR\",1,-1)*'G Q 4'!A8,IF(OR(ISBLANK(K30),ISBLANK(K31)),\"\",IF(OR(O30=\"-\",O31=\"-\"),IF(O30=\"-\",1,-1)*'G Q 4'!A8,IF(ABS(O30-O31)>'G Q 4'!A9,IF(O30-O31>'G Q 4'!A9,1,-1)*'G Q 4'!A9,ROUND(O30-O31,3))))))","v":""},{"$f":"IF(B31=\"BYE\",\"(BYE)\",IF(ISERROR(J31+R31)=TRUE,\"\",IF(J31+R31=0,\"\",\"by \"&ABS(J31+R31)&\" seconds\")))","v":"(BYE)"},"",{"$f":"IF(B31=\"BYE\", B31, IF(ISERROR(J31+R31)=TRUE,\"\",IF(J31+R31>0,B30,B31)))","v":"BYE"},{"$f":"IF(ISERROR(VLOOKUP(U31,'G Q 4'!U12:V111,2,FALSE))=TRUE,\"\",VLOOKUP(U31,'G Q 4'!U12:V111,2,FALSE))","v":""},{"$f":"IF(ISERROR(VLOOKUP(U31,'G Q 4'!AL12:AO111,4,FALSE))=TRUE,\"\",VLOOKUP(U31,'G Q 4'!AL12:AO111,4,FALSE))","v":""}]
[3,{"$f":"IF(A3<A32,\"BYE\",IF(ISERROR(VLOOKUP(A32,'G Q 4'!AO12:'G Q 4'!AQ111,3,FALSE))=TRUE,\"BYE\",VLOOKUP(A32,'G Q 4'!AO12:'G Q 4'!AQ111,3,FALSE)))","v":""},null,null,null,null,"","",{"$f":"IF(AND(LEFT(C32,1)=\"D\",LEFT(C33,1)=\"D\"),\"\",IF(OR(C32=\"DNR\",C33=\"DNR\"),IF(C32=\"DNR\",B33,B32),IF(OR(ISBLANK(C32),ISBLANK(C33)),\"\",IF(G32=G33,\"TIE\",IF(G32>G33,B33,B32)))))","v":""},null,null,null,null,null,"","",{"$f":"IF(AND(LEFT(K32,1)=\"D\",LEFT(K33,1)=\"D\"),\"\",IF(OR(K32=\"DNR\",K33=\"DNR\"),IF(K32=\"DNR\",B33,B32),IF(OR(ISBLANK(K32),ISBLANK(K33)),\"\",IF(O32=O33,\"TIE\",IF(O32>O33,B33,B32)))))","v":""},null,{"$f":"IF(B33=\"BYE\", B32, IF(ISERROR(J33+R33)=TRUE,\"\",IF(J33+R33=0,\"TIE - HOLD RUNOFF\",IF(J33+R33>0,B33,B32))))","v":""},""]
[30,{"$f":"IF(A3<A33,\"BYE\",IF(ISERROR(VLOOKUP(A33,'G Q 4'!AO12:'G Q 4'!AQ111,3,FALSE))=TRUE,\"BYE\",VLOOKUP(A33,'G Q 4'!AO12:'G Q 4'!AQ111,3,FALSE)))","v":"BYE"},null,null,null,null,"","",{"$f":"IF(AND(LEFT(C32,1)=\"D\",LEFT(C33,1)=\"D\"),\"\",IF(OR(C32=\"DNR\",C33=\"DNR\"),\"by \"&ABS(J33)&\" seconds\",IF(OR(ISBLANK(C32),ISBLANK(C33),G32=G33),\"\",\"by \"&ABS(J33)&\" seconds\")))","v":""},{"$f":"IF(AND(LEFT(C32,1)=\"D\",LEFT(C33,1)=\"D\"),\"0\",IF(OR(C32=\"DNR\",C33=\"DNR\"),IF(C32=\"DNR\",1,-1)*'G Q 4'!A8,IF(OR(ISBLANK(C32),ISBLANK(C33)),\"\",IF(OR(G32=\"-\",G33=\"-\"),IF(G32=\"-\",1,-1)*'G Q 4'!A8,IF(ABS(G32-G33)>'G Q 4'!A9,IF(G32-G33>'G Q 4'!A9,1,-1)*'G Q 4'!A9,ROUND(G32-G33,3))))))","v":""},null,null,null,null,"","",{"$f":"IF(AND(LEFT(K32,1)=\"D\",LEFT(K33,1)=\"D\"),\"\",IF(OR(K32=\"DNR\",K33=\"DNR\"),\"by \"&ABS(R33)&\" seconds\",IF(OR(ISBLANK(K32),ISBLANK(K33),O32=O33),\"\",\"by \"&ABS(R33)&\" seconds\")))","v":""},{"$f":"IF(AND(LEFT(K32,1)=\"D\",LEFT(K33,1)=\"D\"),\"0\",IF(OR(K32=\"DNR\",K33=\"DNR\"),IF(K32=\"DNR\",1,-1)*'G Q 4'!A8,IF(OR(ISBLANK(K32),ISBLANK(K33)),\"\",IF(OR(O32=\"-\",O33=\"-\"),IF(O32=\"-\",1,-1)*'G Q 4'!A8,IF(ABS(O32-O33)>'G Q 4'!A9,IF(O32-O33>'G Q 4'!A9,1,-1)*'G Q 4'!A9,ROUND(O32-O33,3))))))","v":""},{"$f":"IF(B33=\"BYE\",\"(BYE)\",IF(ISERROR(J33+R33)=TRUE,\"\",IF(J33+R33=0,\"\",\"by \"&ABS(J33+R33)&\" seconds\")))","v":"(BYE)"},"",{"$f":"IF(B33=\"BYE\", B33, IF(ISERROR(J33+R33)=TRUE,\"\",IF(J33+R33>0,B32,B33)))","v":"BYE"},{"$f":"IF(ISERROR(VLOOKUP(U33,'G Q 4'!U12:V111,2,FALSE))=TRUE,\"\",VLOOKUP(U33,'G Q 4'!U12:V111,2,FALSE))","v":""},{"$f":"IF(ISERROR(VLOOKUP(U33,'G Q 4'!AL12:AO111,4,FALSE))=TRUE,\"\",VLOOKUP(U33,'G Q 4'!AL12:AO111,4,FALSE))","v":""}]
[14,{"$f":"IF(A3<A34,\"BYE\",IF(ISERROR(VLOOKUP(A34,'G Q 4'!AO12:'G Q 4'!AQ111,3,FALSE))=TRUE,\"BYE\",VLOOKUP(A34,'G Q 4'!AO12:'G Q 4'!AQ111,3,FALSE)))","v":"BYE"},null,null,null,null,"","",{"$f":"IF(AND(LEFT(C34,1)=\"D\",LEFT(C35,1)=\"D\"),\"\",IF(OR(C34=\"DNR\",C35=\"DNR\"),IF(C34=\"DNR\",B35,B34),IF(OR(ISBLANK(C34),ISBLANK(C35)),\"\",IF(G34=G35,\"TIE\",IF(G34>G35,B35,B34)))))","v":""},null,null,null,null,null,"","",{"$f":"IF(AND(LEFT(K34,1)=\"D\",LEFT(K35,1)=\"D\"),\"\",IF(OR(K34=\"DNR\",K35=\"DNR\"),IF(K34=\"DNR\",B35,B34),IF(OR(ISBLANK(K34),ISBLANK(K35)),\"\",IF(O34=O35,\"TIE\",IF(O34>O35,B35,B34)))))","v":""},null,{"$f":"IF(B35=\"BYE\", B34, IF(ISERROR(J35+R35)=TRUE,\"\",IF(J35+R35=0,\"TIE - HOLD RUNOFF\",IF(J35+R35>0,B35,B34))))","v":"BYE"},""]
[19,{"$f":"IF(A3<A35,\"BYE\",IF(ISERROR(VLOOKUP(A35,'G Q 4'!AO12:'G Q 4'!AQ111,3,FALSE))=TRUE,\"BYE\",VLOOKUP(A35,'G Q 4'!AO12:'G Q 4'!AQ111,3,FALSE)))","v":"BYE"},null,null,null,null,"","",{"$f":"IF(AND(LEFT(C34,1)=\"D\",LEFT(C35,1)=\"D\"),\"\",IF(OR(C34=\"DNR\",C35=\"DNR\"),\"by \"&ABS(J35)&\" seconds\",IF(OR(ISBLANK(C34),ISBLANK(C35),G34=G35),\"\",\"by \"&ABS(J35)&\" seconds\")))","v":""},{"$f":"IF(AND(LEFT(C34,1)=\"D\",LEFT(C35,1)=\"D\"),\"0\",IF(OR(C34=\"DNR\",C35=\"DNR\"),IF(C34=\"DNR\",1,-1)*'G Q 4'!A8,IF(OR(ISBLANK(C34),ISBLANK(C35)),\"\",IF(OR(G34=\"-\",G35=\"-\"),IF(G34=\"-\",1,-1)*'G Q 4'!A8,IF(ABS(G34-G35)>'G Q 4'!A9,IF(G34-G35>'G Q 4'!A9,1,-1)*'G Q 4'!A9,ROUND(G34-G35,3))))))","v":""},null,null,null,null,"","",{"$f":"IF(AND(LEFT(K34,1)=\"D\",LEFT(K35,1)=\"D\"),\"\",IF(OR(K34=\"DNR\",K35=\"DNR\"),\"by \"&ABS(R35)&\" seconds\",IF(OR(ISBLANK(K34),ISBLANK(K35),O34=O35),\"\",\"by \"&ABS(R35)&\" seconds\")))","v":""},{"$f":"IF(AND(LEFT(K34,1)=\"D\",LEFT(K35,1)=\"D\"),\"0\",IF(OR(K34=\"DNR\",K35=\"DNR\"),IF(K34=\"DNR\",1,-1)*'G Q 4'!A8,IF(OR(ISBLANK(K34),ISBLANK(K35)),\"\",IF(OR(O34=\"-\",O35=\"-\"),IF(O34=\"-\",1,-1)*'G Q 4'!A8,IF(ABS(O34-O35)>'G Q 4'!A9,IF(O34-O35>'G Q 4'!A9,1,-1)*'G Q 4'!A9,ROUND(O34-O35,3))))))","v":""},{"$f":"IF(B35=\"BYE\",\"(BYE)\",IF(ISERROR(J35+R35)=TRUE,\"\",IF(J35+R35=0,\"\",\"by \"&ABS(J35+R35)&\" seconds\")))","v":"(BYE)"},"",{"$f":"IF(B35=\"BYE\", B35, IF(ISERROR(J35+R35)=TRUE,\"\",IF(J35+R35>0,B34,B35)))","v":"BYE"},{"$f":"IF(ISERROR(VLOOKUP(U35,'G Q 4'!U12:V111,2,FALSE))=TRUE,\"\",VLOOKUP(U35,'G Q 4'!U12:V111,2,FALSE))","v":""},{"$f":"IF(ISERROR(VLOOKUP(U35,'G Q 4'!AL12:AO111,4,FALSE))=TRUE,\"\",VLOOKUP(U35,'G Q 4'!AL12:AO111,4,FALSE))","v":""}]
[6,{"$f":"IF(A3<A36,\"BYE\",IF(ISERROR(VLOOKUP(A36,'G Q 4'!AO12:'G Q 4'!AQ111,3,FALSE))=TRUE,\"BYE\",VLOOKUP(A36,'G Q 4'!AO12:'G Q 4'!AQ111,3,FALSE)))","v":""},null,null,null,null,"","",{"$f":"IF(AND(LEFT(C36,1)=\"D\",LEFT(C37,1)=\"D\"),\"\",IF(OR(C36=\"DNR\",C37=\"DNR\"),IF(C36=\"DNR\",B37,B36),IF(OR(ISBLANK(C36),ISBLANK(C37)),\"\",IF(G36=G37,\"TIE\",IF(G36>G37,B37,B36)))))","v":""},null,null,null,null,null,"","",{"$f":"IF(AND(LEFT(K36,1)=\"D\",LEFT(K37,1)=\"D\"),\"\",IF(OR(K36=\"DNR\",K37=\"DNR\"),IF(K36=\"DNR\",B37,B36),IF(OR(ISBLANK(K36),ISBLANK(K37)),\"\",IF(O36=O37,\"TIE\",IF(O36>O37,B37,B36)))))","v":""},null,{"$f":"IF(B37=\"BYE\", B36, IF(ISERROR(J37+R37)=TRUE,\"\",IF(J37+R37=0,\"TIE - HOLD RUNOFF\",IF(J37+R37>0,B37,B36))))","v":""},""]
[27,{"$f":"IF(A3<A37,\"BYE\",IF(ISERROR(VLOOKUP(A37,'G Q 4'!AO12:'G Q 4'!AQ111,3,FALSE))=TRUE,\"BYE\",VLOOKUP(A37,'G Q 4'!AO12:'G Q 4'!AQ111,3,FALSE)))","v":"BYE"},null,null,null,null,"","",{"$f":"IF(AND(LEFT(C36,1)=\"D\",LEFT(C37,1)=\"D\"),\"\",IF(OR(C36=\"DNR\",C37=\"DNR\"),\"by \"&ABS(J37)&\" seconds\",IF(OR(ISBLANK(C36),ISBLANK(C37),G36=G37),\"\",\"by \"&ABS(J37)&\" seconds\")))","v":""},{"$f":"IF(AND(LEFT(C36,1)=\"D\",LEFT(C37,1)=\"D\"),\"0\",IF(OR(C36=\"DNR\",C37=\"DNR\"),IF(C36=\"DNR\",1,-1)*'G Q 4'!A8,IF(OR(ISBLANK(C36),ISBLANK(C37)),\"\",IF(OR(G36=\"-\",G37=\"-\"),IF(G36=\"-\",1,-1)*'G Q 4'!A8,IF(ABS(G36-G37)>'G Q 4'!A9,IF(G36-G37>'G Q 4'!A9,1,-1)*'G Q 4'!A9,ROUND(G36-G37,3))))))","v":""},null,null,null,null,"","",{"$f":"IF(AND(LEFT(K36,1)=\"D\",LEFT(K37,1)=\"D\"),\"\",IF(OR(K36=\"DNR\",K37=\"DNR\"),\"by \"&ABS(R37)&\" seconds\",IF(OR(ISBLANK(K36),ISBLANK(K37),O36=O37),\"\",\"by \"&ABS(R37)&\" seconds\")))","v":""},{"$f":"IF(AND(LEFT(K36,1)=\"D\",LEFT(K37,1)=\"D\"),\"0\",IF(OR(K36=\"DNR\",K37=\"DNR\"),IF(K36=\"DNR\",1,-1)*'G Q 4'!A8,IF(OR(ISBLANK(K36),ISBLANK(K37)),\"\",IF(OR(O36=\"-\",O37=\"-\"),IF(O36=\"-\",1,-1)*'G Q 4'!A8,IF(ABS(O36-O37)>'G Q 4'!A9,IF(O36-O37>'G Q 4'!A9,1,-1)*'G Q 4'!A9,ROUND(O36-O37,3))))))","v":""},{"$f":"IF(B37=\"BYE\",\"(BYE)\",IF(ISERROR(J37+R37)=TRUE,\"\",IF(J37+R37=0,\"\",\"by \"&ABS(J37+R37)&\" seconds\")))","v":"(BYE)"},"",{"$f":"IF(B37=\"BYE\", B37, IF(ISERROR(J37+R37)=TRUE,\"\",IF(J37+R37>0,B36,B37)))","v":"BYE"},{"$f":"IF(ISERROR(VLOOKUP(U37,'G Q 4'!U12:V111,2,FALSE))=TRUE,\"\",VLOOKUP(U37,'G Q 4'!U12:V111,2,FALSE))","v":""},{"$f":"IF(ISERROR(VLOOKUP(U37,'G Q 4'!AL12:AO111,4,FALSE))=TRUE,\"\",VLOOKUP(U37,'G Q 4'!AL12:AO111,4,FALSE))","v":""}]
[11,{"$f":"IF(A3<A38,\"BYE\",IF(ISERROR(VLOOKUP(A38,'G Q 4'!AO12:'G Q 4'!AQ111,3,FALSE))=TRUE,\"BYE\",VLOOKUP(A38,'G Q 4'!AO12:'G Q 4'!AQ111,3,FALSE)))","v":"BYE"},null,null,null,null,"","",{"$f":"IF(AND(LEFT(C38,1)=\"D\",LEFT(C39,1)=\"D\"),\"\",IF(OR(C38=\"DNR\",C39=\"DNR\"),IF(C38=\"DNR\",B39,B38),IF(OR(ISBLANK(C38),ISBLANK(C39)),\"\",IF(G38=G39,\"TIE\",IF(G38>G39,B39,B38)))))","v":""},null,null,null,null,null,"","",{"$f":"IF(AND(LEFT(K38,1)=\"D\",LEFT(K39,1)=\"D\"),\"\",IF(OR(K38=\"DNR\",K39=\"DNR\"),IF(K38=\"DNR\",B39,B38),IF(OR(ISBLANK(K38),ISBLANK(K39)),\"\",IF(O38=O39,\"TIE\",IF(O38>O39,B39,B38)))))","v":""},null,{"$f":"IF(B39=\"BYE\", B38, IF(ISERROR(J39+R39)=TRUE,\"\",IF(J39+R39=0,\"TIE - HOLD RUNOFF\",IF(J39+R39>0,B39,B38))))","v":"BYE"},""]
[22,{"$f":"IF(A3<A39,\"BYE\",IF(ISERROR(VLOOKUP(A39,'G Q 4'!AO12:'G Q 4'!AQ111,3,FALSE))=TRUE,\"BYE\",VLOOKUP(A39,'G Q 4'!AO12:'G Q 4'!AQ111,3,FALSE)))","v":"BYE"},null,null,null,null,"","",{"$f":"IF(AND(LEFT(C38,1)=\"D\",LEFT(C39,1)=\"D\"),\"\",IF(OR(C38=\"DNR\",C39=\"DNR\"),\"by \"&ABS(J39)&\" seconds\",IF(OR(ISBLANK(C38),ISBLANK(C39),G38=G39),\"\",\"by \"&ABS(J39)&\" seconds\")))","v":""},{"$f":"IF(AND(LEFT(C38,1)=\"D\",LEFT(C39,1)=\"D\"),\"0\",IF(OR(C38=\"DNR\",C39=\"DNR\"),IF(C38=\"DNR\",1,-1)*'G Q 4'!A8,IF(OR(ISBLANK(C38),ISBLANK(C39)),\"\",IF(OR(G38=\"-\",G39=\"-\"),IF(G38=\"-\",1,-1)*'G Q 4'!A8,IF(ABS(G38-G39)>'G Q 4'!A9,IF(G38-G39>'G Q 4'!A9,1,-1)*'G Q 4'!A9,ROUND(G38-G39,3))))))","v":""},null,null,null,null,"","",{"$f":"IF(AND(LEFT(K38,1)=\"D\",LEFT(K39,1)=\"D\"),\"\",IF(OR(K38=\"DNR\",K39=\"DNR\"),\"by \"&ABS(R39)&\" seconds\",IF(OR(ISBLANK(K38),ISBLANK(K39),O38=O39),\"\",\"by \"&ABS(R39)&\" seconds\")))","v":""},{"$f":"IF(AND(LEFT(K38,1)=\"D\",LEFT(K39,1)=\"D\"),\"0\",IF(OR(K38=\"DNR\",K39=\"DNR\"),IF(K38=\"DNR\",1,-1)*'G Q 4'!A8,IF(OR(ISBLANK(K38),ISBLANK(K39)),\"\",IF(OR(O38=\"-\",O39=\"-\"),IF(O38=\"-\",1,-1)*'G Q 4'!A8,IF(ABS(O38-O39)>'G Q 4'!A9,IF(O38-O39>'G Q 4'!A9,1,-1)*'G Q 4'!A9,ROUND(O38-O39,3))))))","v":""},{"$f":"IF(B39=\"BYE\",\"(BYE)\",IF(ISERROR(J39+R39)=TRUE,\"\",IF(J39+R39=0,\"\",\"by \"&ABS(J39+R39)&\" seconds\")))","v":"(BYE)"},"",{"$f":"IF(B39=\"BYE\", B39, IF(ISERROR(J39+R39)=TRUE,\"\",IF(J39+R39>0,B38,B39)))","v":"BYE"},{"$f":"IF(ISERROR(VLOOKUP(U39,'G Q 4'!U12:V111,2,FALSE))=TRUE,\"\",VLOOKUP(U39,'G Q 4'!U12:V111,2,FALSE))","v":""},{"$f":"IF(ISERROR(VLOOKUP(U39,'G Q 4'!AL12:AO111,4,FALSE))=TRUE,\"\",VLOOKUP(U39,'G Q 4'!AL12:AO111,4,FALSE))","v":""}]
[]
[]
[null,"Round of 16"]
[{"$f":"IF(S8=B8, A8, A9)","v":1},{"$f":"IF(A3>16,IF(S8=\"TIE - HOLD RUNOFF\",\"\",S8),IF(A3<16,\"BYE\",IF(ISERROR(VLOOKUP(A43,'G Q 1-2'!AO12:'G Q 1-2'!AQ111,3,FALSE))=TRUE,\"BYE\",VLOOKUP(A43,'G Q 1-2'!AO12:'G Q 1-2'!AQ111,3,FALSE))))","v":"BYE"},null,null,null,null,{"$f":"IF(LEFT(C43:C58,1)=\"D\",\"-\",IF(D43:D58>'G Q 1-2'!A6,\"-\",IF(C43:C58>0,C43:C58+D43:D58*'G Q 1-2'!A5+F43:F58*'G Q 1-2'!A7,\"\")))","v":""},{"$f":"IF(G43:G58=\"\",\"\",IF(G43:G58=\"-\",\"\",RANK(G43:G58,G43:G58,1)))","v":""},{"$f":"IF(AND(LEFT(C43,1)=\"D\",LEFT(C44,1)=\"D\"),\"\",IF(OR(C43=\"DNR\",C44=\"DNR\"),IF(C43=\"DNR\",B44,B43),IF(OR(ISBLANK(C43),ISBLANK(C44)),\"\",IF(G43=G44,\"TIE\",IF(G43>G44,B44,B43)))))","v":""},null,null,null,null,null,null,null,{"$f":"IF(AND(LEFT(K43,1)=\"D\",LEFT(K44,1)=\"D\"),\"\",IF(OR(K43=\"DNR\",K44=\"DNR\"),IF(K43=\"DNR\",B44,B43),IF(OR(ISBLANK(K43),ISBLANK(K44)),\"\",IF(O43=O44,\"TIE\",IF(O43>O44,B44,B43)))))","v":""},null,{"$f":"IF(B44=\"BYE\", B43, IF(ISERROR(J44+R44)=TRUE,\"\",IF(J44+R44=0,\"TIE - HOLD RUNOFF\",IF(J44+R44>0,B44,B43))))","v":"BYE"}]
[{"$f":"IF(S10=B10, A10, A11)","v":16},{"$f":"IF(A3>16,IF(S10=\"TIE - HOLD RUNOFF\",\"\",S10),IF(A3<16,\"BYE\",IF(ISERROR(VLOOKUP(A44,'G Q 1-2'!AO12:'G Q 1-2'!AQ111,3,FALSE))=TRUE,\"BYE\",VLOOKUP(A44,'G Q 1-2'!AO12:'G Q 1-2'!AQ111,3,FALSE))))","v":"BYE"},null,null,null,null,"","",{"$f":"IF(AND(LEFT(C43,1)=\"D\",LEFT(C44,1)=\"D\"),\"\",IF(OR(C43=\"DNR\",C44=\"DNR\"),\"by \"&ABS(J44)&\" seconds\",IF(OR(ISBLANK(C43),ISBLANK(C44),G43=G44),\"\",\"by \"&ABS(J44)&\" seconds\")))","v":""},{"$f":"IF(AND(LEFT(C43,1)=\"D\",LEFT(C44,1)=\"D\"),\"0\",IF(OR(C43=\"DNR\",C44=\"DNR\"),IF(C43=\"DNR\",1,-1)*'G Q 1-2'!A8,IF(OR(ISBLANK(C43),ISBLANK(C44)),\"\",IF(OR(G43=\"-\",G44=\"-\"),IF(G43=\"-\",1,-1)*'G Q 1-2'!A8,IF(ABS(G43-G44)>'G Q 1-2'!A9,IF(G43-G44>'G Q 1-2'!A9,1,-1)*'G Q 1-2'!A9,ROUND(G43-G44,3))))))","v":""},null,null,null,null,null,null,{"$f":"IF(AND(LEFT(K43,1)=\"D\",LEFT(K44,1)=\"D\"),\"\",IF(OR(K43=\"DNR\",K44=\"DNR\"),\"by \"&ABS(R44)&\" seconds\",IF(OR(ISBLANK(K43),ISBLANK(K44),O43=O44),\"\",\"by \"&ABS(R44)&\" seconds\")))","v":""},{"$f":"IF(AND(LEFT(K43,1)=\"D\",LEFT(K44,1)=\"D\"),\"0\",IF(OR(K43=\"DNR\",K44=\"DNR\"),IF(K43=\"DNR\",1,-1)*'G Q 1-2'!A8,IF(OR(ISBLANK(K43),ISBLANK(K44)),\"\",IF(OR(O43=\"-\",O44=\"-\"),IF(O43=\"-\",1,-1)*'G Q 1-2'!A8,IF(ABS(O43-O44)>'G Q 1-2'!A9,IF(O43-O44>'G Q 1-2'!A9,1,-1)*'G Q 1-2'!A9,ROUND(O43-O44,3))))))","v":""},{"$f":"IF(B44=\"BYE\",\"(BYE)\",IF(ISERROR(J44+R44)=TRUE,\"\",IF(J44+R44=0,\"\",\"by \"&ABS(J44+R44)&\" seconds\")))","v":"(BYE)"},{"$f":"IF(W44:W58=\"\",\"\",IF(ISERROR(W44:W58)=TRUE,\"\",8+RANK(W44:W58,W44:W58,1)))","v":""},{"$f":"IF(B44=\"BYE\", B44, IF(ISERROR(J44+R44)=TRUE,\"\",IF(J44+R44>0,B43,B44)))","v":"BYE"},{"$f":"IF(ISERROR(VLOOKUP(U44,'G Q 1-2'!U12:V111,2,FALSE))=TRUE,\"\",VLOOKUP(U44,'G Q 1-2'!U12:V111,2,FALSE))","v":""},{"$f":"IF(ISERROR(VLOOKUP(U44,'G Q 1-2'!AL12:AO111,4,FALSE))=TRUE,\"\",VLOOKUP(U44,'G Q 1-2'!AL12:AO111,4,FALSE))","v":""}]
[{"$f":"IF(S12=B12, A12, A13)","v":8},{"$f":"IF(A3>16,IF(S12=\"TIE - HOLD RUNOFF\",\"\",S12),IF(A3<16,\"BYE\",IF(ISERROR(VLOOKUP(A45,'G Q 1-2'!AO12:'G Q 1-2'!AQ111,3,FALSE))=TRUE,\"BYE\",VLOOKUP(A45,'G Q 1-2'!AO12:'G Q 1-2'!AQ111,3,FALSE))))","v":"BYE"},null,null,null,null,"","",{"$f":"IF(AND(LEFT(C45,1)=\"D\",LEFT(C46,1)=\"D\"),\"\",IF(OR(C45=\"DNR\",C46=\"DNR\"),IF(C45=\"DNR\",B46,B45),IF(OR(ISBLANK(C45),ISBLANK(C46)),\"\",IF(G45=G46,\"TIE\",IF(G45>G46,B46,B45)))))","v":""},null,null,null,null,null,null,null,{"$f":"IF(AND(LEFT(K45,1)=\"D\",LEFT(K46,1)=\"D\"),\"\",IF(OR(K45=\"DNR\",K46=\"DNR\"),IF(K45=\"DNR\",B46,B45),IF(OR(ISBLANK(K45),ISBLANK(K46)),\"\",IF(O45=O46,\"TIE\",IF(O45>O46,B46,B45)))))","v":""},null,{"$f":"IF(B46=\"BYE\", B45, IF(ISERROR(J46+R46)=TRUE,\"\",IF(J46+R46=0,\"TIE - HOLD RUNOFF\",IF(J46+R46>0,B46,B45))))","v":"BYE"},""]
[{"$f":"IF(S14=B14, A14, A15)","v":9},{"$f":"IF(A3>16,IF(S14=\"TIE - HOLD RUNOFF\",\"\",S14),IF(A3<16,\"BYE\",IF(ISERROR(VLOOKUP(A46,'G Q 1-2'!AO12:'G Q 1-2'!AQ111,3,FALSE))=TRUE,\"BYE\",VLOOKUP(A46,'G Q 1-2'!AO12:'G Q 1-2'!AQ111,3,FALSE))))","v":"BYE"},null,null,null,null,"","",{"$f":"IF(AND(LEFT(C45,1)=\"D\",LEFT(C46,1)=\"D\"),\"\",IF(OR(C45=\"DNR\",C46=\"DNR\"),\"by \"&ABS(J46)&\" seconds\",IF(OR(ISBLANK(C45),ISBLANK(C46),G45=G46),\"\",\"by \"&ABS(J46)&\" seconds\")))","v":""},{"$f":"IF(AND(LEFT(C45,1)=\"D\",LEFT(C46,1)=\"D\"),\"0\",IF(OR(C45=\"DNR\",C46=\"DNR\"),IF(C45=\"DNR\",1,-1)*'G Q 1-2'!A8,IF(OR(ISBLANK(C45),ISBLANK(C46)),\"\",IF(OR(G45=\"-\",G46=\"-\"),IF(G45=\"-\",1,-1)*'G Q 1-2'!A8,IF(ABS(G45-G46)>'G Q 1-2'!A9,IF(G45-G46>'G Q 1-2'!A9,1,-1)*'G Q 1-2'!A9,ROUND(G45-G46,3))))))","v":""},null,null,null,null,null,null,{"$f":"IF(AND(LEFT(K45,1)=\"D\",LEFT(K46,1)=\"D\"),\"\",IF(OR(K45=\"DNR\",K46=\"DNR\"),\"by \"&ABS(R46)&\" seconds\",IF(OR(ISBLANK(K45),ISBLANK(K46),O45=O46),\"\",\"by \"&ABS(R46)&\" seconds\")))","v":""},{"$f":"IF(AND(LEFT(K45,1)=\"D\",LEFT(K46,1)=\"D\"),\"0\",IF(OR(K45=\"DNR\",K46=\"DNR\"),IF(K45=\"DNR\",1,-1)*'G Q 1-2'!A8,IF(OR(ISBLANK(K45),ISBLANK(K46)),\"\",IF(OR(O45=\"-\",O46=\"-\"),IF(O45=\"-\",1,-1)*'G Q 1-2'!A8,IF(ABS(O45-O46)>'G Q 1-2'!A9,IF(O45-O46>'G Q 1-2'!A9,1,-1)*'G Q 1-2'!A9,ROUND(O45-O46,3))))))","v":""},{"$f":"IF(B46=\"BYE\",\"(BYE)\",IF(ISERROR(J46+R46)=TRUE,\"\",IF(J46+R46=0,\"\",\"by \"&ABS(J46+R46)&\" seconds\")))","v":"(BYE)"},"",{"$f":"IF(B46=\"BYE\", B46, IF(ISERROR(J46+R46)=TRUE,\"\",IF(J46+R46>0,B45,B46)))","v":"BYE"},{"$f":"IF(ISERROR(VLOOKUP(U46,'G Q 1-2'!U12:V111,2,FALSE))=TRUE,\"\",VLOOKUP(U46,'G Q 1-2'!U12:V111,2,FALSE))","v":""},{"$f":"IF(ISERROR(VLOOKUP(U46,'G Q 1-2'!AL12:AO111,4,FALSE))=TRUE,\"\",VLOOKUP(U46,'G Q 1-2'!AL12:AO111,4,FALSE))","v":""}]
[{"$f":"IF(S16=B16, A16, A17)","v":4},{"$f":"IF(A3>16,IF(S16=\"TIE - HOLD RUNOFF\",\"\",S16),IF(A3<16,\"BYE\",IF(ISERROR(VLOOKUP(A47,'G Q 1-2'!AO12:'G Q 1-2'!AQ111,3,FALSE))=TRUE,\"BYE\",VLOOKUP(A47,'G Q 1-2'!AO12:'G Q 1-2'!AQ111,3,FALSE))))","v":"BYE"},null,null,null,null,"","",{"$f":"IF(AND(LEFT(C47,1)=\"D\",LEFT(C48,1)=\"D\"),\"\",IF(OR(C47=\"DNR\",C48=\"DNR\"),IF(C47=\"DNR\",B48,B47),IF(OR(ISBLANK(C47),ISBLANK(C48)),\"\",IF(G47=G48,\"TIE\",IF(G47>G48,B48,B47)))))","v":""},null,null,null,null,null,null,null,{"$f":"IF(AND(LEFT(K47,1)=\"D\",LEFT(K48,1)=\"D\"),\"\",IF(OR(K47=\"DNR\",K48=\"DNR\"),IF(K47=\"DNR\",B48,B47),IF(OR(ISBLANK(K47),ISBLANK(K48)),\"\",IF(O47=O48,\"TIE\",IF(O47>O48,B48,B47)))))","v":""},null,{"$f":"IF(B48=\"BYE\", B47, IF(ISERROR(J48+R48)=TRUE,\"\",IF(J48+R48=0,\"TIE - HOLD RUNOFF\",IF(J48+R48>0,B48,B47))))","v":"BYE"},""]
[{"$f":"IF(S18=B18, A18, A19)","v":13},{"$f":"IF(A3>16,IF(S18=\"TIE - HOLD RUNOFF\",\"\",S18),IF(A3<16,\"BYE\",IF(ISERROR(VLOOKUP(A48,'G Q 1-2'!AO12:'G Q 1-2'!AQ111,3,FALSE))=TRUE,\"BYE\",VLOOKUP(A48,'G Q 1-2'!AO12:'G Q 1-2'!AQ111,3,FALSE))))","v":"BYE"},null,null,null,null,"","",{"$f":"IF(AND(LEFT(C47,1)=\"D\",LEFT(C48,1)=\"D\"),\"\",IF(OR(C47=\"DNR\",C48=\"DNR\"),\"by \"&ABS(J48)&\" seconds\",IF(OR(ISBLANK(C47),ISBLANK(C48),G47=G48),\"\",\"by \"&ABS(J48)&\" seconds\")))","v":""},{"$f":"IF(AND(LEFT(C47,1)=\"D\",LEFT(C48,1)=\"D\"),\"0\",IF(OR(C47=\"DNR\",C48=\"DNR\"),IF(C47=\"DNR\",1,-1)*'G Q 1-2'!A8,IF(OR(ISBLANK(C47),ISBLANK(C48)),\"\",IF(OR(G47=\"-\",G48=\"-\"),IF(G47=\"-\",1,-1)*'G Q 1-2'!A8,IF(ABS(G47-G48)>'G Q 1-2'!A9,IF(G47-G48>'G Q 1-2'!A9,1,-1)*'G Q 1-2'!A9,ROUND(G47-G48,3))))))","v":""},null,null,null,null,null,null,{"$f":"IF(AND(LEFT(K47,1)=\"D\",LEFT(K48,1)=\"D\"),\"\",IF(OR(K47=\"DNR\",K48=\"DNR\"),\"by \"&ABS(R48)&\" seconds\",IF(OR(ISBLANK(K47),ISBLANK(K48),O47=O48),\"\",\"by \"&ABS(R48)&\" seconds\")))","v":""},{"$f":"IF(AND(LEFT(K47,1)=\"D\",LEFT(K48,1)=\"D\"),\"0\",IF(OR(K47=\"DNR\",K48=\"DNR\"),IF(K47=\"DNR\",1,-1)*'G Q 1-2'!A8,IF(OR(ISBLANK(K47),ISBLANK(K48)),\"\",IF(OR(O47=\"-\",O48=\"-\"),IF(O47=\"-\",1,-1)*'G Q 1-2'!A8,IF(ABS(O47-O48)>'G Q 1-2'!A9,IF(O47-O48>'G Q 1-2'!A9,1,-1)*'G Q 1-2'!A9,ROUND(O47-O48,3))))))","v":""},{"$f":"IF(B48=\"BYE\",\"(BYE)\",IF(ISERROR(J48+R48)=TRUE,\"\",IF(J48+R48=0,\"\",\"by \"&ABS(J48+R48)&\" seconds\")))","v":"(BYE)"},"",{"$f":"IF(B48=\"BYE\", B48, IF(ISERROR(J48+R48)=TRUE,\"\",IF(J48+R48>0,B47,B48)))","v":"BYE"},{"$f":"IF(ISERROR(VLOOKUP(U48,'G Q 1-2'!U12:V111,2,FALSE))=TRUE,\"\",VLOOKUP(U48,'G Q 1-2'!U12:V111,2,FALSE))","v":""},{"$f":"IF(ISERROR(VLOOKUP(U48,'G Q 1-2'!AL12:AO111,4,FALSE))=TRUE,\"\",VLOOKUP(U48,'G Q 1-2'!AL12:AO111,4,FALSE))","v":""}]
[{"$f":"IF(S20=B20, A20, A21)","v":5},{"$f":"IF(A3>16,IF(S20=\"TIE - HOLD RUNOFF\",\"\",S20),IF(A3<16,\"BYE\",IF(ISERROR(VLOOKUP(A49,'G Q 1-2'!AO12:'G Q 1-2'!AQ111,3,FALSE))=TRUE,\"BYE\",VLOOKUP(A49,'G Q 1-2'!AO12:'G Q 1-2'!AQ111,3,FALSE))))","v":"BYE"},null,null,null,null,"","",{"$f":"IF(AND(LEFT(C49,1)=\"D\",LEFT(C50,1)=\"D\"),\"\",IF(OR(C49=\"DNR\",C50=\"DNR\"),IF(C49=\"DNR\",B50,B49),IF(OR(ISBLANK(C49),ISBLANK(C50)),\"\",IF(G49=G50,\"TIE\",IF(G49>G50,B50,B49)))))","v":""},null,null,null,null,null,null,null,{"$f":"IF(AND(LEFT(K49,1)=\"D\",LEFT(K50,1)=\"D\"),\"\",IF(OR(K49=\"DNR\",K50=\"DNR\"),IF(K49=\"DNR\",B50,B49),IF(OR(ISBLANK(K49),ISBLANK(K50)),\"\",IF(O49=O50,\"TIE\",IF(O49>O50,B50,B49)))))","v":""},null,{"$f":"IF(B50=\"BYE\", B49, IF(ISERROR(J50+R50)=TRUE,\"\",IF(J50+R50=0,\"TIE - HOLD RUNOFF\",IF(J50+R50>0,B50,B49))))","v":"BYE"},""]
[{"$f":"IF(S22=B22, A22, A23)","v":12},{"$f":"IF(A3>16,IF(S22=\"TIE - HOLD RUNOFF\",\"\",S22),IF(A3<16,\"BYE\",IF(ISERROR(VLOOKUP(A50,'G Q 1-2'!AO12:'G Q 1-2'!AQ111,3,FALSE))=TRUE,\"BYE\",VLOOKUP(A50,'G Q 1-2'!AO12:'G Q 1-2'!AQ111,3,FALSE))))","v":"BYE"},null,null,null,null,"","",{"$f":"IF(AND(LEFT(C49,1)=\"D\",LEFT(C50,1)=\"D\"),\"\",IF(OR(C49=\"DNR\",C50=\"DNR\"),\"by \"&ABS(J50)&\" seconds\",IF(OR(ISBLANK(C49),ISBLANK(C50),G49=G50),\"\",\"by \"&ABS(J50)&\" seconds\")))","v":""},{"$f":"IF(AND(LEFT(C49,1)=\"D\",LEFT(C50,1)=\"D\"),\"0\",IF(OR(C49=\"DNR\",C50=\"DNR\"),IF(C49=\"DNR\",1,-1)*'G Q 1-2'!A8,IF(OR(ISBLANK(C49),ISBLANK(C50)),\"\",IF(OR(G49=\"-\",G50=\"-\"),IF(G49=\"-\",1,-1)*'G Q 1-2'!A8,IF(ABS(G49-G50)>'G Q 1-2'!A9,IF(G49-G50>'G Q 1-2'!A9,1,-1)*'G Q 1-2'!A9,ROUND(G49-G50,3))))))","v":""},null,null,null,null,null,null,{"$f":"IF(AND(LEFT(K49,1)=\"D\",LEFT(K50,1)=\"D\"),\"\",IF(OR(K49=\"DNR\",K50=\"DNR\"),\"by \"&ABS(R50)&\" seconds\",IF(OR(ISBLANK(K49),ISBLANK(K50),O49=O50),\"\",\"by \"&ABS(R50)&\" seconds\")))","v":""},{"$f":"IF(AND(LEFT(K49,1)=\"D\",LEFT(K50,1)=\"D\"),\"0\",IF(OR(K49=\"DNR\",K50=\"DNR\"),IF(K49=\"DNR\",1,-1)*'G Q 1-2'!A8,IF(OR(ISBLANK(K49),ISBLANK(K50)),\"\",IF(OR(O49=\"-\",O50=\"-\"),IF(O49=\"-\",1,-1)*'G Q 1-2'!A8,IF(ABS(O49-O50)>'G Q 1-2'!A9,IF(O49-O50>'G Q 1-2'!A9,1,-1)*'G Q 1-2'!A9,ROUND(O49-O50,3))))))","v":""},{"$f":"IF(B50=\"BYE\",\"(BYE)\",IF(ISERROR(J50+R50)=TRUE,\"\",IF(J50+R50=0,\"\",\"by \"&ABS(J50+R50)&\" seconds\")))","v":"(BYE)"},"",{"$f":"IF(B50=\"BYE\", B50, IF(ISERROR(J50+R50)=TRUE,\"\",IF(J50+R50>0,B49,B50)))","v":"BYE"},{"$f":"IF(ISERROR(VLOOKUP(U50,'G Q 1-2'!U12:V111,2,FALSE))=TRUE,\"\",VLOOKUP(U50,'G Q 1-2'!U12:V111,2,FALSE))","v":""},{"$f":"IF(ISERROR(VLOOKUP(U50,'G Q 1-2'!AL12:AO111,4,FALSE))=TRUE,\"\",VLOOKUP(U50,'G Q 1-2'!AL12:AO111,4,FALSE))","v":""}]
[{"$f":"IF(S24=B24, A24, A25)","v":2},{"$f":"IF(A3>16,IF(S24=\"TIE - HOLD RUNOFF\",\"\",S24),IF(A3<16,\"BYE\",IF(ISERROR(VLOOKUP(A51,'G Q 1-2'!AO12:'G Q 1-2'!AQ111,3,FALSE))=TRUE,\"BYE\",VLOOKUP(A51,'G Q 1-2'!AO12:'G Q 1-2'!AQ111,3,FALSE))))","v":"BYE"},null,null,null,null,"","",{"$f":"IF(AND(LEFT(C51,1)=\"D\",LEFT(C52,1)=\"D\"),\"\",IF(OR(C51=\"DNR\",C52=\"DNR\"),IF(C51=\"DNR\",B52,B51),IF(OR(ISBLANK(C51),ISBLANK(C52)),\"\",IF(G51=G52,\"TIE\",IF(G51>G52,B52,B51)))))","v":""},null,null,null,null,null,null,null,{"$f":"IF(AND(LEFT(K51,1)=\"D\",LEFT(K52,1)=\"D\"),\"\",IF(OR(K51=\"DNR\",K52=\"DNR\"),IF(K51=\"DNR\",B52,B51),IF(OR(ISBLANK(K51),ISBLANK(K52)),\"\",IF(O51=O52,\"TIE\",IF(O51>O52,B52,B51)))))","v":""},null,{"$f":"IF(B52=\"BYE\", B51, IF(ISERROR(J52+R52)=TRUE,\"\",IF(J52+R52=0,\"TIE - HOLD RUNOFF\",IF(J52+R52>0,B52,B51))))","v":"BYE"},""]
[{"$f":"IF(S26=B26, A26, A27)","v":15},{"$f":"IF(A3>16,IF(S26=\"TIE - HOLD RUNOFF\",\"\",S26),IF(A3<16,\"BYE\",IF(ISERROR(VLOOKUP(A52,'G Q 1-2'!AO12:'G Q 1-2'!AQ111,3,FALSE))=TRUE,\"BYE\",VLOOKUP(A52,'G Q 1-2'!AO12:'G Q 1-2'!AQ111,3,FALSE))))","v":"BYE"},null,null,null,null,"","",{"$f":"IF(AND(LEFT(C51,1)=\"D\",LEFT(C52,1)=\"D\"),\"\",IF(OR(C51=\"DNR\",C52=\"DNR\"),\"by \"&ABS(J52)&\" seconds\",IF(OR(ISBLANK(C51),ISBLANK(C52),G51=G52),\"\",\"by \"&ABS(J52)&\" seconds\")))","v":""},{"$f":"IF(AND(LEFT(C51,1)=\"D\",LEFT(C52,1)=\"D\"),\"0\",IF(OR(C51=\"DNR\",C52=\"DNR\"),IF(C51=\"DNR\",1,-1)*'G Q 1-2'!A8,IF(OR(ISBLANK(C51),ISBLANK(C52)),\"\",IF(OR(G51=\"-\",G52=\"-\"),IF(G51=\"-\",1,-1)*'G Q 1-2'!A8,IF(ABS(G51-G52)>'G Q 1-2'!A9,IF(G51-G52>'G Q 1-2'!A9,1,-1)*'G Q 1-2'!A9,ROUND(G51-G52,3))))))","v":""},null,null,null,null,null,null,{"$f":"IF(AND(LEFT(K51,1)=\"D\",LEFT(K52,1)=\"D\"),\"\",IF(OR(K51=\"DNR\",K52=\"DNR\"),\"by \"&ABS(R52)&\" seconds\",IF(OR(ISBLANK(K51),ISBLANK(K52),O51=O52),\"\",\"by \"&ABS(R52)&\" seconds\")))","v":""},{"$f":"IF(AND(LEFT(K51,1)=\"D\",LEFT(K52,1)=\"D\"),\"0\",IF(OR(K51=\"DNR\",K52=\"DNR\"),IF(K51=\"DNR\",1,-1)*'G Q 1-2'!A8,IF(OR(ISBLANK(K51),ISBLANK(K52)),\"\",IF(OR(O51=\"-\",O52=\"-\"),IF(O51=\"-\",1,-1)*'G Q 1-2'!A8,IF(ABS(O51-O52)>'G Q 1-2'!A9,IF(O51-O52>'G Q 1-2'!A9,1,-1)*'G Q 1-2'!A9,ROUND(O51-O52,3))))))","v":""},{"$f":"IF(B52=\"BYE\",\"(BYE)\",IF(ISERROR(J52+R52)=TRUE,\"\",IF(J52+R52=0,\"\",\"by \"&ABS(J52+R52)&\" seconds\")))","v":"(BYE)"},"",{"$f":"IF(B52=\"BYE\", B52, IF(ISERROR(J52+R52)=TRUE,\"\",IF(J52+R52>0,B51,B52)))","v":"BYE"},{"$f":"IF(ISERROR(VLOOKUP(U52,'G Q 1-2'!U12:V111,2,FALSE))=TRUE,\"\",VLOOKUP(U52,'G Q 1-2'!U12:V111,2,FALSE))","v":""},{"$f":"IF(ISERROR(VLOOKUP(U52,'G Q 1-2'!AL12:AO111,4,FALSE))=TRUE,\"\",VLOOKUP(U52,'G Q 1-2'!AL12:AO111,4,FALSE))","v":""}]
[{"$f":"IF(S28=B28, A28, A29)","v":7},{"$f":"IF(A3>16,IF(S28=\"TIE - HOLD RUNOFF\",\"\",S28),IF(A3<16,\"BYE\",IF(ISERROR(VLOOKUP(A53,'G Q 1-2'!AO12:'G Q 1-2'!AQ111,3,FALSE))=TRUE,\"BYE\",VLOOKUP(A53,'G Q 1-2'!AO12:'G Q 1-2'!AQ111,3,FALSE))))","v":"BYE"},null,null,null,null,"","",{"$f":"IF(AND(LEFT(C53,1)=\"D\",LEFT(C54,1)=\"D\"),\"\",IF(OR(C53=\"DNR\",C54=\"DNR\"),IF(C53=\"DNR\",B54,B53),IF(OR(ISBLANK(C53),ISBLANK(C54)),\"\",IF(G53=G54,\"TIE\",IF(G53>G54,B54,B53)))))","v":""},null,null,null,null,null,null,null,{"$f":"IF(AND(LEFT(K53,1)=\"D\",LEFT(K54,1)=\"D\"),\"\",IF(OR(K53=\"DNR\",K54=\"DNR\"),IF(K53=\"DNR\",B54,B53),IF(OR(ISBLANK(K53),ISBLANK(K54)),\"\",IF(O53=O54,\"TIE\",IF(O53>O54,B54,B53)))))","v":""},null,{"$f":"IF(B54=\"BYE\", B53, IF(ISERROR(J54+R54)=TRUE,\"\",IF(J54+R54=0,\"TIE - HOLD RUNOFF\",IF(J54+R54>0,B54,B53))))","v":"BYE"},""]
[{"$f":"IF(S30=B30, A30, A31)","v":10},{"$f":"IF(A3>16,IF(S30=\"TIE - HOLD RUNOFF\",\"\",S30),IF(A3<16,\"BYE\",IF(ISERROR(VLOOKUP(A54,'G Q 1-2'!AO12:'G Q 1-2'!AQ111,3,FALSE))=TRUE,\"BYE\",VLOOKUP(A54,'G Q 1-2'!AO12:'G Q 1-2'!AQ111,3,FALSE))))","v":"BYE"},null,null,null,null,"","",{"$f":"IF(AND(LEFT(C53,1)=\"D\",LEFT(C54,1)=\"D\"),\"\",IF(OR(C53=\"DNR\",C54=\"DNR\"),\"by \"&ABS(J54)&\" seconds\",IF(OR(ISBLANK(C53),ISBLANK(C54),G53=G54),\"\",\"by \"&ABS(J54)&\" seconds\")))","v":""},{"$f":"IF(AND(LEFT(C53,1)=\"D\",LEFT(C54,1)=\"D\"),\"0\",IF(OR(C53=\"DNR\",C54=\"DNR\"),IF(C53=\"DNR\",1,-1)*'G Q 1-2'!A8,IF(OR(ISBLANK(C53),ISBLANK(C54)),\"\",IF(OR(G53=\"-\",G54=\"-\"),IF(G53=\"-\",1,-1)*'G Q 1-2'!A8,IF(ABS(G53-G54)>'G Q 1-2'!A9,IF(G53-G54>'G Q 1-2'!A9,1,-1)*'G Q 1-2'!A9,ROUND(G53-G54,3))))))","v":""},null,null,null,null,null,null,{"$f":"IF(AND(LEFT(K53,1)=\"D\",LEFT(K54,1)=\"D\"),\"\",IF(OR(K53=\"DNR\",K54=\"DNR\"),\"by \"&ABS(R54)&\" seconds\",IF(OR(ISBLANK(K53),ISBLANK(K54),O53=O54),\"\",\"by \"&ABS(R54)&\" seconds\")))","v":""},{"$f":"IF(AND(LEFT(K53,1)=\"D\",LEFT(K54,1)=\"D\"),\"0\",IF(OR(K53=\"DNR\",K54=\"DNR\"),IF(K53=\"DNR\",1,-1)*'G Q 1-2'!A8,IF(OR(ISBLANK(K53),ISBLANK(K54)),\"\",IF(OR(O53=\"-\",O54=\"-\"),IF(O53=\"-\",1,-1)*'G Q 1-2'!A8,IF(ABS(O53-O54)>'G Q 1-2'!A9,IF(O53-O54>'G Q 1-2'!A9,1,-1)*'G Q 1-2'!A9,ROUND(O53-O54,3))))))","v":""},{"$f":"IF(B54=\"BYE\",\"(BYE)\",IF(ISERROR(J54+R54)=TRUE,\"\",IF(J54+R54=0,\"\",\"by \"&ABS(J54+R54)&\" seconds\")))","v":"(BYE)"},"",{"$f":"IF(B54=\"BYE\", B54, IF(ISERROR(J54+R54)=TRUE,\"\",IF(J54+R54>0,B53,B54)))","v":"BYE"},{"$f":"IF(ISERROR(VLOOKUP(U54,'G Q 1-2'!U12:V111,2,FALSE))=TRUE,\"\",VLOOKUP(U54,'G Q 1-2'!U12:V111,2,FALSE))","v":""},{"$f":"IF(ISERROR(VLOOKUP(U54,'G Q 1-2'!AL12:AO111,4,FALSE))=TRUE,\"\",VLOOKUP(U54,'G Q 1-2'!AL12:AO111,4,FALSE))","v":""}]
[{"$f":"IF(S32=B32, A32, A33)","v":3},{"$f":"IF(A3>16,IF(S32=\"TIE - HOLD RUNOFF\",\"\",S32),IF(A3<16,\"BYE\",IF(ISERROR(VLOOKUP(A55,'G Q 1-2'!AO12:'G Q 1-2'!AQ111,3,FALSE))=TRUE,\"BYE\",VLOOKUP(A55,'G Q 1-2'!AO12:'G Q 1-2'!AQ111,3,FALSE))))","v":"BYE"},null,null,null,null,"","",{"$f":"IF(AND(LEFT(C55,1)=\"D\",LEFT(C56,1)=\"D\"),\"\",IF(OR(C55=\"DNR\",C56=\"DNR\"),IF(C55=\"DNR\",B56,B55),IF(OR(ISBLANK(C55),ISBLANK(C56)),\"\",IF(G55=G56,\"TIE\",IF(G55>G56,B56,B55)))))","v":""},null,null,null,null,null,null,null,{"$f":"IF(AND(LEFT(K55,1)=\"D\",LEFT(K56,1)=\"D\"),\"\",IF(OR(K55=\"DNR\",K56=\"DNR\"),IF(K55=\"DNR\",B56,B55),IF(OR(ISBLANK(K55),ISBLANK(K56)),\"\",IF(O55=O56,\"TIE\",IF(O55>O56,B56,B55)))))","v":""},null,{"$f":"IF(B56=\"BYE\", B55, IF(ISERROR(J56+R56)=TRUE,\"\",IF(J56+R56=0,\"TIE - HOLD RUNOFF\",IF(J56+R56>0,B56,B55))))","v":"BYE"},""]
[{"$f":"IF(S34=B34, A34, A35)","v":14},{"$f":"IF(A3>16,IF(S34=\"TIE - HOLD RUNOFF\",\"\",S34),IF(A3<16,\"BYE\",IF(ISERROR(VLOOKUP(A56,'G Q 1-2'!AO12:'G Q 1-2'!AQ111,3,FALSE))=TRUE,\"BYE\",VLOOKUP(A56,'G Q 1-2'!AO12:'G Q 1-2'!AQ111,3,FALSE))))","v":"BYE"},null,null,null,null,"","",{"$f":"IF(AND(LEFT(C55,1)=\"D\",LEFT(C56,1)=\"D\"),\"\",IF(OR(C55=\"DNR\",C56=\"DNR\"),\"by \"&ABS(J56)&\" seconds\",IF(OR(ISBLANK(C55),ISBLANK(C56),G55=G56),\"\",\"by \"&ABS(J56)&\" seconds\")))","v":""},{"$f":"IF(AND(LEFT(C55,1)=\"D\",LEFT(C56,1)=\"D\"),\"0\",IF(OR(C55=\"DNR\",C56=\"DNR\"),IF(C55=\"DNR\",1,-1)*'G Q 1-2'!A8,IF(OR(ISBLANK(C55),ISBLANK(C56)),\"\",IF(OR(G55=\"-\",G56=\"-\"),IF(G55=\"-\",1,-1)*'G Q 1-2'!A8,IF(ABS(G55-G56)>'G Q 1-2'!A9,IF(G55-G56>'G Q 1-2'!A9,1,-1)*'G Q 1-2'!A9,ROUND(G55-G56,3))))))","v":""},null,null,null,null,null,null,{"$f":"IF(AND(LEFT(K55,1)=\"D\",LEFT(K56,1)=\"D\"),\"\",IF(OR(K55=\"DNR\",K56=\"DNR\"),\"by \"&ABS(R56)&\" seconds\",IF(OR(ISBLANK(K55),ISBLANK(K56),O55=O56),\"\",\"by \"&ABS(R56)&\" seconds\")))","v":""},{"$f":"IF(AND(LEFT(K55,1)=\"D\",LEFT(K56,1)=\"D\"),\"0\",IF(OR(K55=\"DNR\",K56=\"DNR\"),IF(K55=\"DNR\",1,-1)*'G Q 1-2'!A8,IF(OR(ISBLANK(K55),ISBLANK(K56)),\"\",IF(OR(O55=\"-\",O56=\"-\"),IF(O55=\"-\",1,-1)*'G Q 1-2'!A8,IF(ABS(O55-O56)>'G Q 1-2'!A9,IF(O55-O56>'G Q 1-2'!A9,1,-1)*'G Q 1-2'!A9,ROUND(O55-O56,3))))))","v":""},{"$f":"IF(B56=\"BYE\",\"(BYE)\",IF(ISERROR(J56+R56)=TRUE,\"\",IF(J56+R56=0,\"\",\"by \"&ABS(J56+R56)&\" seconds\")))","v":"(BYE)"},"",{"$f":"IF(B56=\"BYE\", B56, IF(ISERROR(J56+R56)=TRUE,\"\",IF(J56+R56>0,B55,B56)))","v":"BYE"},{"$f":"IF(ISERROR(VLOOKUP(U56,'G Q 1-2'!U12:V111,2,FALSE))=TRUE,\"\",VLOOKUP(U56,'G Q 1-2'!U12:V111,2,FALSE))","v":""},{"$f":"IF(ISERROR(VLOOKUP(U56,'G Q 1-2'!AL12:AO111,4,FALSE))=TRUE,\"\",VLOOKUP(U56,'G Q 1-2'!AL12:AO111,4,FALSE))","v":""}]
[{"$f":"IF(S36=B36, A36, A37)","v":6},{"$f":"IF(A3>16,IF(S36=\"TIE - HOLD RUNOFF\",\"\",S36),IF(A3<16,\"BYE\",IF(ISERROR(VLOOKUP(A57,'G Q 1-2'!AO12:'G Q 1-2'!AQ111,3,FALSE))=TRUE,\"BYE\",VLOOKUP(A57,'G Q 1-2'!AO12:'G Q 1-2'!AQ111,3,FALSE))))","v":"BYE"},null,null,null,null,"","",{"$f":"IF(AND(LEFT(C57,1)=\"D\",LEFT(C58,1)=\"D\"),\"\",IF(OR(C57=\"DNR\",C58=\"DNR\"),IF(C57=\"DNR\",B58,B57),IF(OR(ISBLANK(C57),ISBLANK(C58)),\"\",IF(G57=G58,\"TIE\",IF(G57>G58,B58,B57)))))","v":""},null,null,null,null,null,null,null,{"$f":"IF(AND(LEFT(K57,1)=\"D\",LEFT(K58,1)=\"D\"),\"\",IF(OR(K57=\"DNR\",K58=\"DNR\"),IF(K57=\"DNR\",B58,B57),IF(OR(ISBLANK(K57),ISBLANK(K58)),\"\",IF(O57=O58,\"TIE\",IF(O57>O58,B58,B57)))))","v":""},null,{"$f":"IF(B58=\"BYE\", B57, IF(ISERROR(J58+R58)=TRUE,\"\",IF(J58+R58=0,\"TIE - HOLD RUNOFF\",IF(J58+R58>0,B58,B57))))","v":"BYE"},""]
[{"$f":"IF(S38=B38, A38, A39)","v":11},{"$f":"IF(A3>16,IF(S38=\"TIE - HOLD RUNOFF\",\"\",S38),IF(A3<16,\"BYE\",IF(ISERROR(VLOOKUP(A58,'G Q 1-2'!AO12:'G Q 1-2'!AQ111,3,FALSE))=TRUE,\"BYE\",VLOOKUP(A58,'G Q 1-2'!AO12:'G Q 1-2'!AQ111,3,FALSE))))","v":"BYE"},null,null,null,null,"","",{"$f":"IF(AND(LEFT(C57,1)=\"D\",LEFT(C58,1)=\"D\"),\"\",IF(OR(C57=\"DNR\",C58=\"DNR\"),\"by \"&ABS(J58)&\" seconds\",IF(OR(ISBLANK(C57),ISBLANK(C58),G57=G58),\"\",\"by \"&ABS(J58)&\" seconds\")))","v":""},{"$f":"IF(AND(LEFT(C57,1)=\"D\",LEFT(C58,1)=\"D\"),\"0\",IF(OR(C57=\"DNR\",C58=\"DNR\"),IF(C57=\"DNR\",1,-1)*'G Q 1-2'!A8,IF(OR(ISBLANK(C57),ISBLANK(C58)),\"\",IF(OR(G57=\"-\",G58=\"-\"),IF(G57=\"-\",1,-1)*'G Q 1-2'!A8,IF(ABS(G57-G58)>'G Q 1-2'!A9,IF(G57-G58>'G Q 1-2'!A9,1,-1)*'G Q 1-2'!A9,ROUND(G57-G58,3))))))","v":""},null,null,null,null,null,null,{"$f":"IF(AND(LEFT(K57,1)=\"D\",LEFT(K58,1)=\"D\"),\"\",IF(OR(K57=\"DNR\",K58=\"DNR\"),\"by \"&ABS(R58)&\" seconds\",IF(OR(ISBLANK(K57),ISBLANK(K58),O57=O58),\"\",\"by \"&ABS(R58)&\" seconds\")))","v":""},{"$f":"IF(AND(LEFT(K57,1)=\"D\",LEFT(K58,1)=\"D\"),\"0\",IF(OR(K57=\"DNR\",K58=\"DNR\"),IF(K57=\"DNR\",1,-1)*'G Q 1-2'!A8,IF(OR(ISBLANK(K57),ISBLANK(K58)),\"\",IF(OR(O57=\"-\",O58=\"-\"),IF(O57=\"-\",1,-1)*'G Q 1-2'!A8,IF(ABS(O57-O58)>'G Q 1-2'!A9,IF(O57-O58>'G Q 1-2'!A9,1,-1)*'G Q 1-2'!A9,ROUND(O57-O58,3))))))","v":""},{"$f":"IF(B58=\"BYE\",\"(BYE)\",IF(ISERROR(J58+R58)=TRUE,\"\",IF(J58+R58=0,\"\",\"by \"&ABS(J58+R58)&\" seconds\")))","v":"(BYE)"},"",{"$f":"IF(B58=\"BYE\", B58, IF(ISERROR(J58+R58)=TRUE,\"\",IF(J58+R58>0,B57,B58)))","v":"BYE"},{"$f":"IF(ISERROR(VLOOKUP(U58,'G Q 1-2'!U12:V111,2,FALSE))=TRUE,\"\",VLOOKUP(U58,'G Q 1-2'!U12:V111,2,FALSE))","v":""},{"$f":"IF(ISERROR(VLOOKUP(U58,'G Q 1-2'!AL12:AO111,4,FALSE))=TRUE,\"\",VLOOKUP(U58,'G Q 1-2'!AL12:AO111,4,FALSE))","v":""}]
[]
[]
[null,"Round of 8"]
[{"$f":"IF(S43=B43, A43, A44)","v":1},{"$f":"IF(A3>8,IF(S43=\"TIE - HOLD RUNOFF\",\"\",S43),IF(A3<8,\"BYE\",IF(ISERROR(VLOOKUP(A62,'G Q 1-2'!AO12:'G Q 1-2'!AQ111,3,FALSE))=TRUE,\"BYE\",VLOOKUP(A62,'G Q 1-2'!AO12:'G Q 1-2'!AQ111,3,FALSE))))","v":"Voves  Jindřich  [CZE] "},null,null,null,null,{"$f":"IF(LEFT(C62:C69,1)=\"D\",\"-\",IF(D62:D69>'G Q 1-2'!A6,\"-\",IF(C62:C69>0,C62:C69+D62:D69*'G Q 1-2'!A5+F62:F69*'G Q 1-2'!A7,\"\")))","v":""},{"$f":"IF(G62:G69=\"\",\"\",IF(G62:G69=\"-\",\"\",RANK(G62:G69,G62:G69,1)))","v":""},{"$f":"IF(AND(LEFT(C62,1)=\"D\",LEFT(C63,1)=\"D\"),\"\",IF(OR(C62=\"DNR\",C63=\"DNR\"),IF(C62=\"DNR\",B63,B62),IF(OR(ISBLANK(C62),ISBLANK(C63)),\"\",IF(G62=G63,\"TIE\",IF(G62>G63,B63,B62)))))","v":""},null,null,null,null,null,{"$f":"IF(LEFT(K62:K69,1)=\"D\",\"-\",IF(L62:L69>'G Q 1-2'!A6,\"-\",IF(K62:K69>0,K62:K69+L62:L69*'G Q 1-2'!A5+N62:N69*'G Q 1-2'!A7,\"\")))","v":""},{"$f":"IF(O62:O69=\"\",\"\",IF(O62:O69=\"-\",\"\",RANK(O62:O69,O62:O69,1)))","v":""},{"$f":"IF(AND(LEFT(K62,1)=\"D\",LEFT(K63,1)=\"D\"),\"\",IF(OR(K62=\"DNR\",K63=\"DNR\"),IF(K62=\"DNR\",B63,B62),IF(OR(ISBLANK(K62),ISBLANK(K63)),\"\",IF(O62=O63,\"TIE\",IF(O62>O63,B63,B62)))))","v":""},null,{"$f":"IF(B63=\"BYE\", B62, IF(ISERROR(J63+R63)=TRUE,\"\",IF(J63+R63=0,\"TIE - HOLD RUNOFF\",IF(J63+R63>0,B63,B62))))","v":"Voves  Jindřich  [CZE] "}]
[{"$f":"IF(S45=B45, A45, A46)","v":8},{"$f":"IF(A3>8,IF(S45=\"TIE - HOLD RUNOFF\",\"\",S45),IF(A3<8,\"BYE\",IF(ISERROR(VLOOKUP(A63,'G Q 1-2'!AO12:'G Q 1-2'!AQ111,3,FALSE))=TRUE,\"BYE\",VLOOKUP(A63,'G Q 1-2'!AO12:'G Q 1-2'!AQ111,3,FALSE))))","v":"BYE"},null,null,null,null,"","",{"$f":"IF(AND(LEFT(C62,1)=\"D\",LEFT(C63,1)=\"D\"),\"\",IF(OR(C62=\"DNR\",C63=\"DNR\"),\"by \"&ABS(J63)&\" seconds\",IF(OR(ISBLANK(C62),ISBLANK(C63),G62=G63),\"\",\"by \"&ABS(J63)&\" seconds\")))","v":""},{"$f":"IF(AND(LEFT(C62,1)=\"D\",LEFT(C63,1)=\"D\"),\"0\",IF(OR(C62=\"DNR\",C63=\"DNR\"),IF(C62=\"DNR\",1,-1)*'G Q 1-2'!A8,IF(OR(ISBLANK(C62),ISBLANK(C63)),\"\",IF(OR(G62=\"-\",G63=\"-\"),IF(G62=\"-\",1,-1)*'G Q 1-2'!A8,IF(ABS(G62-G63)>'G Q 1-2'!A9,IF(G62-G63>'G Q 1-2'!A9,1,-1)*'G Q 1-2'!A9,ROUND(G62-G63,3))))))","v":""},null,null,null,null,"","",{"$f":"IF(AND(LEFT(K62,1)=\"D\",LEFT(K63,1)=\"D\"),\"\",IF(OR(K62=\"DNR\",K63=\"DNR\"),\"by \"&ABS(R63)&\" seconds\",IF(OR(ISBLANK(K62),ISBLANK(K63),O62=O63),\"\",\"by \"&ABS(R63)&\" seconds\")))","v":""},{"$f":"IF(AND(LEFT(K62,1)=\"D\",LEFT(K63,1)=\"D\"),\"0\",IF(OR(K62=\"DNR\",K63=\"DNR\"),IF(K62=\"DNR\",1,-1)*'G Q 1-2'!A8,IF(OR(ISBLANK(K62),ISBLANK(K63)),\"\",IF(OR(O62=\"-\",O63=\"-\"),IF(O62=\"-\",1,-1)*'G Q 1-2'!A8,IF(ABS(O62-O63)>'G Q 1-2'!A9,IF(O62-O63>'G Q 1-2'!A9,1,-1)*'G Q 1-2'!A9,ROUND(O62-O63,3))))))","v":""},{"$f":"IF(B63=\"BYE\",\"(BYE)\",IF(ISERROR(J63+R63)=TRUE,\"\",IF(J63+R63=0,\"\",\"by \"&ABS(J63+R63)&\" seconds\")))","v":"(BYE)"},{"$f":"IF(W63:W69=\"\",\"\",IF(ISERROR(W63:W69)=TRUE,\"\",4+RANK(W63:W69,W63:W69,1)))","v":""},{"$f":"IF(B63=\"BYE\", B63, IF(ISERROR(J63+R63)=TRUE,\"\",IF(J63+R63>0,B62,B63)))","v":"BYE"},{"$f":"IF(ISERROR(VLOOKUP(U63,'G Q 1-2'!U12:V111,2,FALSE))=TRUE,\"\",VLOOKUP(U63,'G Q 1-2'!U12:V111,2,FALSE))","v":""},{"$f":"IF(ISERROR(VLOOKUP(U63,'G Q 1-2'!AL12:AO111,4,FALSE))=TRUE,\"\",VLOOKUP(U63,'G Q 1-2'!AL12:AO111,4,FALSE))","v":""}]
[{"$f":"IF(S47=B47, A47, A48)","v":4},{"$f":"IF(A3>8,IF(S47=\"TIE - HOLD RUNOFF\",\"\",S47),IF(A3<8,\"BYE\",IF(ISERROR(VLOOKUP(A64,'G Q 1-2'!AO12:'G Q 1-2'!AQ111,3,FALSE))=TRUE,\"BYE\",VLOOKUP(A64,'G Q 1-2'!AO12:'G Q 1-2'!AQ111,3,FALSE))))","v":"BYE"},null,null,null,null,"","",{"$f":"IF(AND(LEFT(C64,1)=\"D\",LEFT(C65,1)=\"D\"),\"\",IF(OR(C64=\"DNR\",C65=\"DNR\"),IF(C64=\"DNR\",B65,B64),IF(OR(ISBLANK(C64),ISBLANK(C65)),\"\",IF(G64=G65,\"TIE\",IF(G64>G65,B65,B64)))))","v":""},null,null,null,null,null,"","",{"$f":"IF(AND(LEFT(K64,1)=\"D\",LEFT(K65,1)=\"D\"),\"\",IF(OR(K64=\"DNR\",K65=\"DNR\"),IF(K64=\"DNR\",B65,B64),IF(OR(ISBLANK(K64),ISBLANK(K65)),\"\",IF(O64=O65,\"TIE\",IF(O64>O65,B65,B64)))))","v":""},null,{"$f":"IF(B65=\"BYE\", B64, IF(ISERROR(J65+R65)=TRUE,\"\",IF(J65+R65=0,\"TIE - HOLD RUNOFF\",IF(J65+R65>0,B65,B64))))","v":"BYE"},""]
[{"$f":"IF(S49=B49, A49, A50)","v":5},{"$f":"IF(A3>8,IF(S49=\"TIE - HOLD RUNOFF\",\"\",S49),IF(A3<8,\"BYE\",IF(ISERROR(VLOOKUP(A65,'G Q 1-2'!AO12:'G Q 1-2'!AQ111,3,FALSE))=TRUE,\"BYE\",VLOOKUP(A65,'G Q 1-2'!AO12:'G Q 1-2'!AQ111,3,FALSE))))","v":"BYE"},null,null,null,null,"","",{"$f":"IF(AND(LEFT(C64,1)=\"D\",LEFT(C65,1)=\"D\"),\"\",IF(OR(C64=\"DNR\",C65=\"DNR\"),\"by \"&ABS(J65)&\" seconds\",IF(OR(ISBLANK(C64),ISBLANK(C65),G64=G65),\"\",\"by \"&ABS(J65)&\" seconds\")))","v":""},{"$f":"IF(AND(LEFT(C64,1)=\"D\",LEFT(C65,1)=\"D\"),\"0\",IF(OR(C64=\"DNR\",C65=\"DNR\"),IF(C64=\"DNR\",1,-1)*'G Q 1-2'!A8,IF(OR(ISBLANK(C64),ISBLANK(C65)),\"\",IF(OR(G64=\"-\",G65=\"-\"),IF(G64=\"-\",1,-1)*'G Q 1-2'!A8,IF(ABS(G64-G65)>'G Q 1-2'!A9,IF(G64-G65>'G Q 1-2'!A9,1,-1)*'G Q 1-2'!A9,ROUND(G64-G65,3))))))","v":""},null,null,null,null,"","",{"$f":"IF(AND(LEFT(K64,1)=\"D\",LEFT(K65,1)=\"D\"),\"\",IF(OR(K64=\"DNR\",K65=\"DNR\"),\"by \"&ABS(R65)&\" seconds\",IF(OR(ISBLANK(K64),ISBLANK(K65),O64=O65),\"\",\"by \"&ABS(R65)&\" seconds\")))","v":""},{"$f":"IF(AND(LEFT(K64,1)=\"D\",LEFT(K65,1)=\"D\"),\"0\",IF(OR(K64=\"DNR\",K65=\"DNR\"),IF(K64=\"DNR\",1,-1)*'G Q 1-2'!A8,IF(OR(ISBLANK(K64),ISBLANK(K65)),\"\",IF(OR(O64=\"-\",O65=\"-\"),IF(O64=\"-\",1,-1)*'G Q 1-2'!A8,IF(ABS(O64-O65)>'G Q 1-2'!A9,IF(O64-O65>'G Q 1-2'!A9,1,-1)*'G Q 1-2'!A9,ROUND(O64-O65,3))))))","v":""},{"$f":"IF(B65=\"BYE\",\"(BYE)\",IF(ISERROR(J65+R65)=TRUE,\"\",IF(J65+R65=0,\"\",\"by \"&ABS(J65+R65)&\" seconds\")))","v":"(BYE)"},"",{"$f":"IF(B65=\"BYE\", B65, IF(ISERROR(J65+R65)=TRUE,\"\",IF(J65+R65>0,B64,B65)))","v":"BYE"},{"$f":"IF(ISERROR(VLOOKUP(U65,'G Q 1-2'!U12:V111,2,FALSE))=TRUE,\"\",VLOOKUP(U65,'G Q 1-2'!U12:V111,2,FALSE))","v":""},{"$f":"IF(ISERROR(VLOOKUP(U65,'G Q 1-2'!AL12:AO111,4,FALSE))=TRUE,\"\",VLOOKUP(U65,'G Q 1-2'!AL12:AO111,4,FALSE))","v":""}]
[{"$f":"IF(S51=B51, A51, A52)","v":2},{"$f":"IF(A3>8,IF(S51=\"TIE - HOLD RUNOFF\",\"\",S51),IF(A3<8,\"BYE\",IF(ISERROR(VLOOKUP(A66,'G Q 1-2'!AO12:'G Q 1-2'!AQ111,3,FALSE))=TRUE,\"BYE\",VLOOKUP(A66,'G Q 1-2'!AO12:'G Q 1-2'!AQ111,3,FALSE))))","v":"Rezková  Anna  [CZE] "},null,null,null,null,"","",{"$f":"IF(AND(LEFT(C66,1)=\"D\",LEFT(C67,1)=\"D\"),\"\",IF(OR(C66=\"DNR\",C67=\"DNR\"),IF(C66=\"DNR\",B67,B66),IF(OR(ISBLANK(C66),ISBLANK(C67)),\"\",IF(G66=G67,\"TIE\",IF(G66>G67,B67,B66)))))","v":""},null,null,null,null,null,"","",{"$f":"IF(AND(LEFT(K66,1)=\"D\",LEFT(K67,1)=\"D\"),\"\",IF(OR(K66=\"DNR\",K67=\"DNR\"),IF(K66=\"DNR\",B67,B66),IF(OR(ISBLANK(K66),ISBLANK(K67)),\"\",IF(O66=O67,\"TIE\",IF(O66>O67,B67,B66)))))","v":""},null,{"$f":"IF(B67=\"BYE\", B66, IF(ISERROR(J67+R67)=TRUE,\"\",IF(J67+R67=0,\"TIE - HOLD RUNOFF\",IF(J67+R67>0,B67,B66))))","v":"Rezková  Anna  [CZE] "},""]
[{"$f":"IF(S53=B53, A53, A54)","v":7},{"$f":"IF(A3>8,IF(S53=\"TIE - HOLD RUNOFF\",\"\",S53),IF(A3<8,\"BYE\",IF(ISERROR(VLOOKUP(A67,'G Q 1-2'!AO12:'G Q 1-2'!AQ111,3,FALSE))=TRUE,\"BYE\",VLOOKUP(A67,'G Q 1-2'!AO12:'G Q 1-2'!AQ111,3,FALSE))))","v":"BYE"},null,null,null,null,"","",{"$f":"IF(AND(LEFT(C66,1)=\"D\",LEFT(C67,1)=\"D\"),\"\",IF(OR(C66=\"DNR\",C67=\"DNR\"),\"by \"&ABS(J67)&\" seconds\",IF(OR(ISBLANK(C66),ISBLANK(C67),G66=G67),\"\",\"by \"&ABS(J67)&\" seconds\")))","v":""},{"$f":"IF(AND(LEFT(C66,1)=\"D\",LEFT(C67,1)=\"D\"),\"0\",IF(OR(C66=\"DNR\",C67=\"DNR\"),IF(C66=\"DNR\",1,-1)*'G Q 1-2'!A8,IF(OR(ISBLANK(C66),ISBLANK(C67)),\"\",IF(OR(G66=\"-\",G67=\"-\"),IF(G66=\"-\",1,-1)*'G Q 1-2'!A8,IF(ABS(G66-G67)>'G Q 1-2'!A9,IF(G66-G67>'G Q 1-2'!A9,1,-1)*'G Q 1-2'!A9,ROUND(G66-G67,3))))))","v":""},null,null,null,null,"","",{"$f":"IF(AND(LEFT(K66,1)=\"D\",LEFT(K67,1)=\"D\"),\"\",IF(OR(K66=\"DNR\",K67=\"DNR\"),\"by \"&ABS(R67)&\" seconds\",IF(OR(ISBLANK(K66),ISBLANK(K67),O66=O67),\"\",\"by \"&ABS(R67)&\" seconds\")))","v":""},{"$f":"IF(AND(LEFT(K66,1)=\"D\",LEFT(K67,1)=\"D\"),\"0\",IF(OR(K66=\"DNR\",K67=\"DNR\"),IF(K66=\"DNR\",1,-1)*'G Q 1-2'!A8,IF(OR(ISBLANK(K66),ISBLANK(K67)),\"\",IF(OR(O66=\"-\",O67=\"-\"),IF(O66=\"-\",1,-1)*'G Q 1-2'!A8,IF(ABS(O66-O67)>'G Q 1-2'!A9,IF(O66-O67>'G Q 1-2'!A9,1,-1)*'G Q 1-2'!A9,ROUND(O66-O67,3))))))","v":""},{"$f":"IF(B67=\"BYE\",\"(BYE)\",IF(ISERROR(J67+R67)=TRUE,\"\",IF(J67+R67=0,\"\",\"by \"&ABS(J67+R67)&\" seconds\")))","v":"(BYE)"},"",{"$f":"IF(B67=\"BYE\", B67, IF(ISERROR(J67+R67)=TRUE,\"\",IF(J67+R67>0,B66,B67)))","v":"BYE"},{"$f":"IF(ISERROR(VLOOKUP(U67,'G Q 1-2'!U12:V111,2,FALSE))=TRUE,\"\",VLOOKUP(U67,'G Q 1-2'!U12:V111,2,FALSE))","v":""},{"$f":"IF(ISERROR(VLOOKUP(U67,'G Q 1-2'!AL12:AO111,4,FALSE))=TRUE,\"\",VLOOKUP(U67,'G Q 1-2'!AL12:AO111,4,FALSE))","v":""}]
[{"$f":"IF(S55=B55, A55, A56)","v":3},{"$f":"IF(A3>8,IF(S55=\"TIE - HOLD RUNOFF\",\"\",S55),IF(A3<8,\"BYE\",IF(ISERROR(VLOOKUP(A68,'G Q 1-2'!AO12:'G Q 1-2'!AQ111,3,FALSE))=TRUE,\"BYE\",VLOOKUP(A68,'G Q 1-2'!AO12:'G Q 1-2'!AQ111,3,FALSE))))","v":"BYE"},null,null,null,null,"","",{"$f":"IF(AND(LEFT(C68,1)=\"D\",LEFT(C69,1)=\"D\"),\"\",IF(OR(C68=\"DNR\",C69=\"DNR\"),IF(C68=\"DNR\",B69,B68),IF(OR(ISBLANK(C68),ISBLANK(C69)),\"\",IF(G68=G69,\"TIE\",IF(G68>G69,B69,B68)))))","v":""},null,null,null,null,null,"","",{"$f":"IF(AND(LEFT(K68,1)=\"D\",LEFT(K69,1)=\"D\"),\"\",IF(OR(K68=\"DNR\",K69=\"DNR\"),IF(K68=\"DNR\",B69,B68),IF(OR(ISBLANK(K68),ISBLANK(K69)),\"\",IF(O68=O69,\"TIE\",IF(O68>O69,B69,B68)))))","v":""},null,{"$f":"IF(B69=\"BYE\", B68, IF(ISERROR(J69+R69)=TRUE,\"\",IF(J69+R69=0,\"TIE - HOLD RUNOFF\",IF(J69+R69>0,B69,B68))))","v":"BYE"},""]
[{"$f":"IF(S57=B57, A57, A58)","v":6},{"$f":"IF(A3>8,IF(S57=\"TIE - HOLD RUNOFF\",\"\",S57),IF(A3<8,\"BYE\",IF(ISERROR(VLOOKUP(A69,'G Q 1-2'!AO12:'G Q 1-2'!AQ111,3,FALSE))=TRUE,\"BYE\",VLOOKUP(A69,'G Q 1-2'!AO12:'G Q 1-2'!AQ111,3,FALSE))))","v":"BYE"},null,null,null,null,"","",{"$f":"IF(AND(LEFT(C68,1)=\"D\",LEFT(C69,1)=\"D\"),\"\",IF(OR(C68=\"DNR\",C69=\"DNR\"),\"by \"&ABS(J69)&\" seconds\",IF(OR(ISBLANK(C68),ISBLANK(C69),G68=G69),\"\",\"by \"&ABS(J69)&\" seconds\")))","v":""},{"$f":"IF(AND(LEFT(C68,1)=\"D\",LEFT(C69,1)=\"D\"),\"0\",IF(OR(C68=\"DNR\",C69=\"DNR\"),IF(C68=\"DNR\",1,-1)*'G Q 1-2'!A8,IF(OR(ISBLANK(C68),ISBLANK(C69)),\"\",IF(OR(G68=\"-\",G69=\"-\"),IF(G68=\"-\",1,-1)*'G Q 1-2'!A8,IF(ABS(G68-G69)>'G Q 1-2'!A9,IF(G68-G69>'G Q 1-2'!A9,1,-1)*'G Q 1-2'!A9,ROUND(G68-G69,3))))))","v":""},null,null,null,null,"","",{"$f":"IF(AND(LEFT(K68,1)=\"D\",LEFT(K69,1)=\"D\"),\"\",IF(OR(K68=\"DNR\",K69=\"DNR\"),\"by \"&ABS(R69)&\" seconds\",IF(OR(ISBLANK(K68),ISBLANK(K69),O68=O69),\"\",\"by \"&ABS(R69)&\" seconds\")))","v":""},{"$f":"IF(AND(LEFT(K68,1)=\"D\",LEFT(K69,1)=\"D\"),\"0\",IF(OR(K68=\"DNR\",K69=\"DNR\"),IF(K68=\"DNR\",1,-1)*'G Q 1-2'!A8,IF(OR(ISBLANK(K68),ISBLANK(K69)),\"\",IF(OR(O68=\"-\",O69=\"-\"),IF(O68=\"-\",1,-1)*'G Q 1-2'!A8,IF(ABS(O68-O69)>'G Q 1-2'!A9,IF(O68-O69>'G Q 1-2'!A9,1,-1)*'G Q 1-2'!A9,ROUND(O68-O69,3))))))","v":""},{"$f":"IF(B69=\"BYE\",\"(BYE)\",IF(ISERROR(J69+R69)=TRUE,\"\",IF(J69+R69=0,\"\",\"by \"&ABS(J69+R69)&\" seconds\")))","v":"(BYE)"},"",{"$f":"IF(B69=\"BYE\", B69, IF(ISERROR(J69+R69)=TRUE,\"\",IF(J69+R69>0,B68,B69)))","v":"BYE"},{"$f":"IF(ISERROR(VLOOKUP(U69,'G Q 1-2'!U12:V111,2,FALSE))=TRUE,\"\",VLOOKUP(U69,'G Q 1-2'!U12:V111,2,FALSE))","v":""},{"$f":"IF(ISERROR(VLOOKUP(U69,'G Q 1-2'!AL12:AO111,4,FALSE))=TRUE,\"\",VLOOKUP(U69,'G Q 1-2'!AL12:AO111,4,FALSE))","v":""}]
[]
[]
[null,"Round of 4"]
[{"$f":"IF(S62=B62, A62, A63)","v":1},{"$f":"IF(A3>4,IF(S62=\"TIE - HOLD RUNOFF\",\"\",S62),IF(A3<4,\"BYE\",IF(ISERROR(VLOOKUP(A73,'G Q 1-2'!AO12:'G Q 1-2'!AQ111,3,FALSE))=TRUE,\"BYE\",VLOOKUP(A73,'G Q 1-2'!AO12:'G Q 1-2'!AQ111,3,FALSE))))","v":"Voves  Jindřich  [CZE] "},null,null,null,null,{"$f":"IF(LEFT(C73:C76,1)=\"D\",\"-\",IF(D73:D76>'G Q 1-2'!A6,\"-\",IF(C73:C76>0,C73:C76+D73:D76*'G Q 1-2'!A5+F73:F76*'G Q 1-2'!A7,\"\")))","v":""},{"$f":"IF(G73:G76=\"\",\"\",IF(G73:G76=\"-\",\"\",RANK(G73:G76,G73:G76,1)))","v":""},{"$f":"IF(AND(LEFT(C73,1)=\"D\",LEFT(C74,1)=\"D\"),\"\",IF(OR(C73=\"DNR\",C74=\"DNR\"),IF(C73=\"DNR\",B74,B73),IF(OR(ISBLANK(C73),ISBLANK(C74)),\"\",IF(G73=G74,\"TIE\",IF(G73>G74,B74,B73)))))","v":""},null,null,null,null,null,{"$f":"IF(LEFT(K73:K76,1)=\"D\",\"-\",IF(L73:L76>'G Q 1-2'!A6,\"-\",IF(K73:K76>0,K73:K76+L73:L76*'G Q 1-2'!A5+N73:N76*'G Q 1-2'!A7,\"\")))","v":""},{"$f":"IF(O73:O76=\"\",\"\",IF(O73:O76=\"-\",\"\",RANK(O73:O76,O73:O76,1)))","v":""},{"$f":"IF(AND(LEFT(K73,1)=\"D\",LEFT(K74,1)=\"D\"),\"\",IF(OR(K73=\"DNR\",K74=\"DNR\"),IF(K73=\"DNR\",B74,B73),IF(OR(ISBLANK(K73),ISBLANK(K74)),\"\",IF(O73=O74,\"TIE\",IF(O73>O74,B74,B73)))))","v":""},null,{"$f":"IF(B74=\"BYE\", B73, IF(ISERROR(J74+R74)=TRUE,\"\",IF(J74+R74=0,\"TIE - HOLD RUNOFF\",IF(J74+R74>0,B74,B73))))","v":"Voves  Jindřich  [CZE] "}]
[{"$f":"IF(S64=B64, A64, A65)","v":4},{"$f":"IF(A3>4,IF(S64=\"TIE - HOLD RUNOFF\",\"\",S64),IF(A3<4,\"BYE\",IF(ISERROR(VLOOKUP(A74,'G Q 1-2'!AO12:'G Q 1-2'!AQ111,3,FALSE))=TRUE,\"BYE\",VLOOKUP(A74,'G Q 1-2'!AO12:'G Q 1-2'!AQ111,3,FALSE))))","v":"BYE"},null,null,null,null,"","",{"$f":"IF(AND(LEFT(C73,1)=\"D\",LEFT(C74,1)=\"D\"),\"\",IF(OR(C73=\"DNR\",C74=\"DNR\"),\"by \"&ABS(J74)&\" seconds\",IF(OR(ISBLANK(C73),ISBLANK(C74),G73=G74),\"\",\"by \"&ABS(J74)&\" seconds\")))","v":""},{"$f":"IF(AND(LEFT(C73,1)=\"D\",LEFT(C74,1)=\"D\"),\"0\",IF(OR(C73=\"DNR\",C74=\"DNR\"),IF(C73=\"DNR\",1,-1)*'G Q 1-2'!A8,IF(OR(ISBLANK(C73),ISBLANK(C74)),\"\",IF(OR(G73=\"-\",G74=\"-\"),IF(G73=\"-\",1,-1)*'G Q 1-2'!A8,IF(ABS(G73-G74)>'G Q 1-2'!A9,IF(G73-G74>'G Q 1-2'!A9,1,-1)*'G Q 1-2'!A9,ROUND(G73-G74,3))))))","v":""},null,null,null,null,"","",{"$f":"IF(AND(LEFT(K73,1)=\"D\",LEFT(K74,1)=\"D\"),\"\",IF(OR(K73=\"DNR\",K74=\"DNR\"),\"by \"&ABS(R74)&\" seconds\",IF(OR(ISBLANK(K73),ISBLANK(K74),O73=O74),\"\",\"by \"&ABS(R74)&\" seconds\")))","v":""},{"$f":"IF(AND(LEFT(K73,1)=\"D\",LEFT(K74,1)=\"D\"),\"0\",IF(OR(K73=\"DNR\",K74=\"DNR\"),IF(K73=\"DNR\",1,-1)*'G Q 1-2'!A8,IF(OR(ISBLANK(K73),ISBLANK(K74)),\"\",IF(OR(O73=\"-\",O74=\"-\"),IF(O73=\"-\",1,-1)*'G Q 1-2'!A8,IF(ABS(O73-O74)>'G Q 1-2'!A9,IF(O73-O74>'G Q 1-2'!A9,1,-1)*'G Q 1-2'!A9,ROUND(O73-O74,3))))))","v":""},{"$f":"IF(B74=\"BYE\",\"(BYE)\",IF(ISERROR(J74+R74)=TRUE,\"\",IF(J74+R74=0,\"\",\"by \"&ABS(J74+R74)&\" seconds\")))","v":"(BYE)"},null,{"$f":"IF(B74=\"BYE\", B74, IF(ISERROR(J74+R74)=TRUE,\"\",IF(J74+R74>0,B73,B74)))","v":"BYE"}]
[{"$f":"IF(S66=B66, A66, A67)","v":2},{"$f":"IF(A3>4,IF(S66=\"TIE - HOLD RUNOFF\",\"\",S66),IF(A3<4,\"BYE\",IF(ISERROR(VLOOKUP(A75,'G Q 1-2'!AO12:'G Q 1-2'!AQ111,3,FALSE))=TRUE,\"BYE\",VLOOKUP(A75,'G Q 1-2'!AO12:'G Q 1-2'!AQ111,3,FALSE))))","v":"Rezková  Anna  [CZE] "},null,null,null,null,"","",{"$f":"IF(AND(LEFT(C75,1)=\"D\",LEFT(C76,1)=\"D\"),\"\",IF(OR(C75=\"DNR\",C76=\"DNR\"),IF(C75=\"DNR\",B76,B75),IF(OR(ISBLANK(C75),ISBLANK(C76)),\"\",IF(G75=G76,\"TIE\",IF(G75>G76,B76,B75)))))","v":""},null,null,null,null,null,"","",{"$f":"IF(AND(LEFT(K75,1)=\"D\",LEFT(K76,1)=\"D\"),\"\",IF(OR(K75=\"DNR\",K76=\"DNR\"),IF(K75=\"DNR\",B76,B75),IF(OR(ISBLANK(K75),ISBLANK(K76)),\"\",IF(O75=O76,\"TIE\",IF(O75>O76,B76,B75)))))","v":""},null,{"$f":"IF(B76=\"BYE\", B75, IF(ISERROR(J76+R76)=TRUE,\"\",IF(J76+R76=0,\"TIE - HOLD RUNOFF\",IF(J76+R76>0,B76,B75))))","v":"Rezková  Anna  [CZE] "}]
[{"$f":"IF(S68=B68, A68, A69)","v":3},{"$f":"IF(A3>4,IF(S68=\"TIE - HOLD RUNOFF\",\"\",S68),IF(A3<4,\"BYE\",IF(ISERROR(VLOOKUP(A76,'G Q 1-2'!AO12:'G Q 1-2'!AQ111,3,FALSE))=TRUE,\"BYE\",VLOOKUP(A76,'G Q 1-2'!AO12:'G Q 1-2'!AQ111,3,FALSE))))","v":"BYE"},null,null,null,null,"","",{"$f":"IF(AND(LEFT(C75,1)=\"D\",LEFT(C76,1)=\"D\"),\"\",IF(OR(C75=\"DNR\",C76=\"DNR\"),\"by \"&ABS(J76)&\" seconds\",IF(OR(ISBLANK(C75),ISBLANK(C76),G75=G76),\"\",\"by \"&ABS(J76)&\" seconds\")))","v":""},{"$f":"IF(AND(LEFT(C75,1)=\"D\",LEFT(C76,1)=\"D\"),\"0\",IF(OR(C75=\"DNR\",C76=\"DNR\"),IF(C75=\"DNR\",1,-1)*'G Q 1-2'!A8,IF(OR(ISBLANK(C75),ISBLANK(C76)),\"\",IF(OR(G75=\"-\",G76=\"-\"),IF(G75=\"-\",1,-1)*'G Q 1-2'!A8,IF(ABS(G75-G76)>'G Q 1-2'!A9,IF(G75-G76>'G Q 1-2'!A9,1,-1)*'G Q 1-2'!A9,ROUND(G75-G76,3))))))","v":""},null,null,null,null,"","",{"$f":"IF(AND(LEFT(K75,1)=\"D\",LEFT(K76,1)=\"D\"),\"\",IF(OR(K75=\"DNR\",K76=\"DNR\"),\"by \"&ABS(R76)&\" seconds\",IF(OR(ISBLANK(K75),ISBLANK(K76),O75=O76),\"\",\"by \"&ABS(R76)&\" seconds\")))","v":""},{"$f":"IF(AND(LEFT(K75,1)=\"D\",LEFT(K76,1)=\"D\"),\"0\",IF(OR(K75=\"DNR\",K76=\"DNR\"),IF(K75=\"DNR\",1,-1)*'G Q 1-2'!A8,IF(OR(ISBLANK(K75),ISBLANK(K76)),\"\",IF(OR(O75=\"-\",O76=\"-\"),IF(O75=\"-\",1,-1)*'G Q 1-2'!A8,IF(ABS(O75-O76)>'G Q 1-2'!A9,IF(O75-O76>'G Q 1-2'!A9,1,-1)*'G Q 1-2'!A9,ROUND(O75-O76,3))))))","v":""},{"$f":"IF(B76=\"BYE\",\"(BYE)\",IF(ISERROR(J76+R76)=TRUE,\"\",IF(J76+R76=0,\"\",\"by \"&ABS(J76+R76)&\" seconds\")))","v":"(BYE)"},null,{"$f":"IF(B76=\"BYE\", B76, IF(ISERROR(J76+R76)=TRUE,\"\",IF(J76+R76>0,B75,B76)))","v":"BYE"}]
[]
[]
[null,"Consolation Round"]
[{"$f":"IF(B74=\"BYE\",IF(S75=B75,A76,A75),IF(S73=B73, A74, A73))","v":3},{"$f":"IF(A3>2,IF(B74=\"BYE\",\"BYE\",IF(U74=\"\",\"\",U74)),IF(ISERROR(VLOOKUP(A80,'G Q 1-2'!AO12:'G Q 1-2'!AQ111,3,FALSE))=TRUE,\"BYE\",VLOOKUP(A80,'G Q 1-2'!AO12:'G Q 1-2'!AQ111,3,FALSE)))","v":"BYE"},null,null,null,null,{"$f":"IF(LEFT(C80:C81,1)=\"D\",\"-\",IF(D80:D81>'G Q 1-2'!A6,\"-\",IF(C80:C81>0,C80:C81+D80:D81*'G Q 1-2'!A5+F80:F81*'G Q 1-2'!A7,\"\")))","v":""},{"$f":"IF(G80:G81=\"\",\"\",IF(G80:G81=\"-\",\"\",RANK(G80:G81,G80:G81,1)))","v":""},{"$f":"IF(AND(LEFT(C80,1)=\"D\",LEFT(C81,1)=\"D\"),\"\",IF(OR(C80=\"DNR\",C81=\"DNR\"),IF(C80=\"DNR\",B81,B80),IF(OR(ISBLANK(C80),ISBLANK(C81)),\"\",IF(G80=G81,\"TIE\",IF(G80>G81,B81,B80)))))","v":""},null,null,null,null,null,{"$f":"IF(LEFT(K80:K81,1)=\"D\",\"-\",IF(L80:L81>'G Q 1-2'!A6,\"-\",IF(K80:K81>0,K80:K81+L80:L81*'G Q 1-2'!A5+N80:N81*'G Q 1-2'!A7,\"\")))","v":""},{"$f":"IF(O80:O81=\"\",\"\",IF(O80:O81=\"-\",\"\",RANK(O80:O81,O80:O81,1)))","v":""},{"$f":"IF(AND(LEFT(K80,1)=\"D\",LEFT(K81,1)=\"D\"),\"\",IF(OR(K80=\"DNR\",K81=\"DNR\"),IF(K80=\"DNR\",B81,B80),IF(OR(ISBLANK(K80),ISBLANK(K81)),\"\",IF(O80=O81,\"TIE\",IF(O80>O81,B81,B80)))))","v":""},null,{"$f":"IF(B80=\"BYE\", B81, IF(ISERROR(J81+R81)=TRUE,\"\",IF(J81+R81=0,\"TIE - HOLD RUNOFF\",IF(J81+R81>0,B81,B80))))","v":"BYE"},{"$f":"IF(W80:W81=\"\",\"\",IF(ISERROR(W80:W81)=TRUE,\"\",2+RANK(W80:W81,W80:W81,1)))","v":""},{"$f":"IF(B81=\"BYE\", B80, IF(ISERROR(J81+R81)=TRUE,\"\",IF(J81+R81>0,B81,B80)))","v":"BYE"},{"$f":"IF(ISERROR(VLOOKUP(U80,'G Q 1-2'!U12:V111,2,FALSE))=TRUE,\"\",VLOOKUP(U80,'G Q 1-2'!U12:V111,2,FALSE))","v":""},{"$f":"IF(ISERROR(VLOOKUP(U80,'G Q 1-2'!AL12:AO111,4,FALSE))=TRUE,\"\",VLOOKUP(U80,'G Q 1-2'!AL12:AO111,4,FALSE))","v":""}]
[{"$f":"IF(B74=\"BYE\",A74,IF(S75=B75, A76, A75))","v":4},{"$f":"IF(A3>2,IF(B76=\"BYE\",\"BYE\",IF(U76=\"\",\"\",U76)),IF(ISERROR(VLOOKUP(A81,'G Q 1-2'!AO12:'G Q 1-2'!AQ111,3,FALSE))=TRUE,\"BYE\",VLOOKUP(A81,'G Q 1-2'!AO12:'G Q 1-2'!AQ111,3,FALSE)))","v":"BYE"},null,null,null,null,"","",{"$f":"IF(AND(LEFT(C80,1)=\"D\",LEFT(C81,1)=\"D\"),\"\",IF(OR(C80=\"DNR\",C81=\"DNR\"),\"by \"&ABS(J81)&\" seconds\",IF(OR(ISBLANK(C80),ISBLANK(C81),G80=G81),\"\",\"by \"&ABS(J81)&\" seconds\")))","v":""},{"$f":"IF(AND(LEFT(C80,1)=\"D\",LEFT(C81,1)=\"D\"),\"0\",IF(OR(C80=\"DNR\",C81=\"DNR\"),IF(C80=\"DNR\",1,-1)*'G Q 1-2'!A8,IF(OR(ISBLANK(C80),ISBLANK(C81)),\"\",IF(OR(G80=\"-\",G81=\"-\"),IF(G80=\"-\",1,-1)*'G Q 1-2'!A8,IF(ABS(G80-G81)>'G Q 1-2'!A9,IF(G80-G81>'G Q 1-2'!A9,1,-1)*'G Q 1-2'!A9,ROUND(G80-G81,3))))))","v":""},null,null,null,null,"","",{"$f":"IF(AND(LEFT(K80,1)=\"D\",LEFT(K81,1)=\"D\"),\"\",IF(OR(K80=\"DNR\",K81=\"DNR\"),\"by \"&ABS(R81)&\" seconds\",IF(OR(ISBLANK(K80),ISBLANK(K81),O80=O81),\"\",\"by \"&ABS(R81)&\" seconds\")))","v":""},{"$f":"IF(AND(LEFT(K80,1)=\"D\",LEFT(K81,1)=\"D\"),\"0\",IF(OR(K80=\"DNR\",K81=\"DNR\"),IF(K80=\"DNR\",1,-1)*'G Q 1-2'!A8,IF(OR(ISBLANK(K80),ISBLANK(K81)),\"\",IF(OR(O80=\"-\",O81=\"-\"),IF(O80=\"-\",1,-1)*'G Q 1-2'!A8,IF(ABS(O80-O81)>'G Q 1-2'!A9,IF(O80-O81>'G Q 1-2'!A9,1,-1)*'G Q 1-2'!A9,ROUND(O80-O81,3))))))","v":""},{"$f":"IF(B81=\"BYE\",\"(BYE)\",IF(ISERROR(J81+R81)=TRUE,\"\",IF(J81+R81=0,\"\",\"by \"&ABS(J81+R81)&\" seconds\")))","v":"(BYE)"},"",{"$f":"IF(B81=\"BYE\", B81, IF(ISERROR(J81+R81)=TRUE,\"\",IF(J81+R81>0,B80,B81)))","v":"BYE"},{"$f":"IF(ISERROR(VLOOKUP(U81,'G Q 1-2'!U12:V111,2,FALSE))=TRUE,\"\",VLOOKUP(U81,'G Q 1-2'!U12:V111,2,FALSE))","v":""},{"$f":"IF(ISERROR(VLOOKUP(U81,'G Q 1-2'!AL12:AO111,4,FALSE))=TRUE,\"\",VLOOKUP(U81,'G Q 1-2'!AL12:AO111,4,FALSE))","v":""}]
[]
[]
[null,"Final Round"]
[{"$f":"IF(S73=B73, A73, A74)","v":1},{"$f":"IF(A3>2,IF(S73=\"TIE - HOLD RUNOFF\",\"\",S73),IF(ISERROR(VLOOKUP(A85,'G Q 1-2'!AO12:'G Q 1-2'!AQ111,3,FALSE))=TRUE,\"BYE\",VLOOKUP(A85,'G Q 1-2'!AO12:'G Q 1-2'!AQ111,3,FALSE)))","v":"Voves  Jindřich  [CZE] "},null,null,null,null,{"$f":"IF(LEFT(C85:C86,1)=\"D\",\"-\",IF(D85:D86>'G Q 1-2'!A6,\"-\",IF(C85:C86>0,C85:C86+D85:D86*'G Q 1-2'!A5+F85:F86*'G Q 1-2'!A7,\"\")))","v":""},{"$f":"IF(G85:G86=\"\",\"\",IF(G85:G86=\"-\",\"\",RANK(G85:G86,G85:G86,1)))","v":""},{"$f":"IF(AND(LEFT(C85,1)=\"D\",LEFT(C86,1)=\"D\"),\"\",IF(OR(C85=\"DNR\",C86=\"DNR\"),IF(C85=\"DNR\",B86,B85),IF(OR(ISBLANK(C85),ISBLANK(C86)),\"\",IF(G85=G86,\"TIE\",IF(G85>G86,B86,B85)))))","v":""},null,null,null,null,null,{"$f":"IF(LEFT(K85:K86,1)=\"D\",\"-\",IF(L85:L86>'G Q 1-2'!A6,\"-\",IF(K85:K86>0,K85:K86+L85:L86*'G Q 1-2'!A5+N85:N86*'G Q 1-2'!A7,\"\")))","v":""},{"$f":"IF(O85:O86=\"\",\"\",IF(O85:O86=\"-\",\"\",RANK(O85:O86,O85:O86,1)))","v":""},{"$f":"IF(AND(LEFT(K85,1)=\"D\",LEFT(K86,1)=\"D\"),\"\",IF(OR(K85=\"DNR\",K86=\"DNR\"),IF(K85=\"DNR\",B86,B85),IF(OR(ISBLANK(K85),ISBLANK(K86)),\"\",IF(O85=O86,\"TIE\",IF(O85>O86,B86,B85)))))","v":""},null,{"$f":"IF(B86=\"BYE\", B85, IF(ISERROR(J86+R86)=TRUE,\"\",IF(J86+R86=0,\"TIE - HOLD RUNOFF\",IF(J86+R86>0,B86,B85))))","v":""},{"$f":"IF(W85:W86=\"\",\"\",IF(ISERROR(W85:W86)=TRUE,\"\",RANK(W85:W86,W85:W86,1)))","v":""},{"$f":"IF(B86=\"BYE\", B85, IF(ISERROR(J86+R86)=TRUE,\"\",IF(J86+R86>0,B86,B85)))","v":""},{"$f":"IF(ISERROR(VLOOKUP(U85,'G Q 1-2'!U12:V111,2,FALSE))=TRUE,\"\",VLOOKUP(U85,'G Q 1-2'!U12:V111,2,FALSE))","v":""},{"$f":"IF(ISERROR(VLOOKUP(U85,'G Q 1-2'!AL12:AO111,4,FALSE))=TRUE,\"\",VLOOKUP(U85,'G Q 1-2'!AL12:AO111,4,FALSE))","v":""}]
[{"$f":"IF(S75=B75, A75, A76)","v":2},{"$f":"IF(A3>2,IF(S75=\"TIE - HOLD RUNOFF\",\"\",S75),IF(ISERROR(VLOOKUP(A86,'G Q 1-2'!AO12:'G Q 1-2'!AQ111,3,FALSE))=TRUE,\"BYE\",VLOOKUP(A86,'G Q 1-2'!AO12:'G Q 1-2'!AQ111,3,FALSE)))","v":"Rezková  Anna  [CZE] "},null,null,null,null,"","",{"$f":"IF(AND(LEFT(C85,1)=\"D\",LEFT(C86,1)=\"D\"),\"\",IF(OR(C85=\"DNR\",C86=\"DNR\"),\"by \"&ABS(J86)&\" seconds\",IF(OR(ISBLANK(C85),ISBLANK(C86),G85=G86),\"\",\"by \"&ABS(J86)&\" seconds\")))","v":""},{"$f":"IF(AND(LEFT(C85,1)=\"D\",LEFT(C86,1)=\"D\"),\"0\",IF(OR(C85=\"DNR\",C86=\"DNR\"),IF(C85=\"DNR\",1,-1)*'G Q 1-2'!A8,IF(OR(ISBLANK(C85),ISBLANK(C86)),\"\",IF(OR(G85=\"-\",G86=\"-\"),IF(G85=\"-\",1,-1)*'G Q 1-2'!A8,IF(ABS(G85-G86)>'G Q 1-2'!A9,IF(G85-G86>'G Q 1-2'!A9,1,-1)*'G Q 1-2'!A9,ROUND(G85-G86,3))))))","v":""},null,null,null,null,"","",{"$f":"IF(AND(LEFT(K85,1)=\"D\",LEFT(K86,1)=\"D\"),\"\",IF(OR(K85=\"DNR\",K86=\"DNR\"),\"by \"&ABS(R86)&\" seconds\",IF(OR(ISBLANK(K85),ISBLANK(K86),O85=O86),\"\",\"by \"&ABS(R86)&\" seconds\")))","v":""},{"$f":"IF(AND(LEFT(K85,1)=\"D\",LEFT(K86,1)=\"D\"),\"0\",IF(OR(K85=\"DNR\",K86=\"DNR\"),IF(K85=\"DNR\",1,-1)*'G Q 1-2'!A8,IF(OR(ISBLANK(K85),ISBLANK(K86)),\"\",IF(OR(O85=\"-\",O86=\"-\"),IF(O85=\"-\",1,-1)*'G Q 1-2'!A8,IF(ABS(O85-O86)>'G Q 1-2'!A9,IF(O85-O86>'G Q 1-2'!A9,1,-1)*'G Q 1-2'!A9,ROUND(O85-O86,3))))))","v":""},{"$f":"IF(B86=\"BYE\",\"(BYE)\",IF(ISERROR(J86+R86)=TRUE,\"\",IF(J86+R86=0,\"\",\"by \"&ABS(J86+R86)&\" seconds\")))","v":""},"",{"$f":"IF(B86=\"BYE\", B86, IF(ISERROR(J86+R86)=TRUE,\"\",IF(J86+R86>0,B85,B86)))","v":""},{"$f":"IF(ISERROR(VLOOKUP(U86,'G Q 1-2'!U12:V111,2,FALSE))=TRUE,\"\",VLOOKUP(U86,'G Q 1-2'!U12:V111,2,FALSE))","v":""},{"$f":"IF(ISERROR(VLOOKUP(U86,'G Q 1-2'!AL12:AO111,4,FALSE))=TRUE,\"\",VLOOKUP(U86,'G Q 1-2'!AL12:AO111,4,FALSE))","v":""}]
[]
[]
["Final Results",null,null,null,null,null,null,null,"Final Results"]
["Final Position","Racer No. & Name","Qualifying Time","Qualifying Position",null,null,"Points Earned","Final Position","Racer No. & Name"]
[1,{"$f":"IF(S85=\"BYE\",\"\",S85)","v":""},{"$f":"V85","v":""},{"$f":"W85","v":""},null,null,null,1,{"$f":"IF(B91<>\"\",B91,'G Q 4'!AQ12)","v":"Voves  Jindřich  [CZE] "}]
[2,{"$f":"IF(U86=\"BYE\",\"\",U86)","v":""},{"$f":"V86","v":""},{"$f":"W86","v":""},null,null,null,2,{"$f":"IF(B92<>\"\",B92,'G Q 4'!AQ13)","v":"Rezková  Anna  [CZE] "}]
[3,{"$f":"IF(S80=\"BYE\",\"\",S80)","v":""},{"$f":"V80","v":""},{"$f":"W80","v":""},null,null,null,3,{"$f":"IF(B93<>\"\",B93,'G Q 4'!AQ14)","v":""}]
[4,{"$f":"IF(U81=\"BYE\",\"\",U81)","v":""},{"$f":"V81","v":""},{"$f":"W81","v":""},null,null,null,4,{"$f":"IF(B94<>\"\",B94,'G Q 4'!AQ15)","v":""}]
[5,{"$f":"IF(ISERROR(VLOOKUP(5,T63:V69,2,FALSE))=TRUE,\"\",VLOOKUP(5,T63:V69,2,FALSE))","v":""},{"$f":"IF(ISERROR(ROUND(VLOOKUP(5,T63:V69,3,FALSE),3))=TRUE,\"\",ROUND(VLOOKUP(5,T63:V69,3,FALSE),3))","v":""},{"$f":"IF(ISERROR(VLOOKUP(5,T63:W69,4,FALSE))=TRUE,\"\",VLOOKUP(5,T63:W69,4,FALSE))","v":""},null,null,null,5,{"$f":"IF(B95<>\"\",B95,'G Q 4'!AQ16)","v":""}]
[6,{"$f":"IF(ISERROR(VLOOKUP(6,T63:V69,2,FALSE))=TRUE,\"\",VLOOKUP(6,T63:V69,2,FALSE))","v":""},{"$f":"IF(ISERROR(ROUND(VLOOKUP(6,T63:V69,3,FALSE),3))=TRUE,\"\",ROUND(VLOOKUP(6,T63:V69,3,FALSE),3))","v":""},{"$f":"IF(ISERROR(VLOOKUP(6,T63:W69,4,FALSE))=TRUE,\"\",VLOOKUP(6,T63:W69,4,FALSE))","v":""},null,null,null,6,{"$f":"IF(B96<>\"\",B96,'G Q 4'!AQ17)","v":""}]
[7,{"$f":"IF(ISERROR(VLOOKUP(7,T63:V69,2,FALSE))=TRUE,\"\",VLOOKUP(7,T63:V69,2,FALSE))","v":""},{"$f":"IF(ISERROR(ROUND(VLOOKUP(7,T63:V69,3,FALSE),3))=TRUE,\"\",ROUND(VLOOKUP(7,T63:V69,3,FALSE),3))","v":""},{"$f":"IF(ISERROR(VLOOKUP(7,T63:W69,4,FALSE))=TRUE,\"\",VLOOKUP(7,T63:W69,4,FALSE))","v":""},null,null,null,7,{"$f":"IF(B97<>\"\",B97,'G Q 4'!AQ18)","v":""}]
[8,{"$f":"IF(ISERROR(VLOOKUP(8,T63:V69,2,FALSE))=TRUE,\"\",VLOOKUP(8,T63:V69,2,FALSE))","v":""},{"$f":"IF(ISERROR(ROUND(VLOOKUP(8,T63:V69,3,FALSE),3))=TRUE,\"\",ROUND(VLOOKUP(8,T63:V69,3,FALSE),3))","v":""},{"$f":"IF(ISERROR(VLOOKUP(8,T63:W69,4,FALSE))=TRUE,\"\",VLOOKUP(8,T63:W69,4,FALSE))","v":""},null,null,null,8,{"$f":"IF(B98<>\"\",B98,'G Q 4'!AQ19)","v":""}]
[9,{"$f":"IF(ISERROR(VLOOKUP(9,T44:V58,2,FALSE))=TRUE,\"\",VLOOKUP(9,T44:V58,2,FALSE))","v":""},{"$f":"IF(ISERROR(ROUND(VLOOKUP(9,T44:V58,3,FALSE),3))=TRUE,\"\",ROUND(VLOOKUP(9,T44:V58,3,FALSE),3))","v":""},{"$f":"IF(ISERROR(VLOOKUP(9,T44:W58,4,FALSE))=TRUE,\"\",VLOOKUP(9,T44:W58,4,FALSE))","v":""},null,null,null,9,{"$f":"IF(B99<>\"\",B99,'G Q 4'!AQ20)","v":""}]
[10,{"$f":"IF(ISERROR(VLOOKUP(10,T44:V58,2,FALSE))=TRUE,\"\",VLOOKUP(10,T44:V58,2,FALSE))","v":""},{"$f":"IF(ISERROR(ROUND(VLOOKUP(10,T44:V58,3,FALSE),3))=TRUE,\"\",ROUND(VLOOKUP(10,T44:V58,3,FALSE),3))","v":""},{"$f":"IF(ISERROR(VLOOKUP(10,T44:W58,4,FALSE))=TRUE,\"\",VLOOKUP(10,T44:W58,4,FALSE))","v":""},null,null,null,10,{"$f":"IF(B100<>\"\",B100,'G Q 4'!AQ21)","v":""}]
[11,{"$f":"IF(ISERROR(VLOOKUP(11,T44:V58,2,FALSE))=TRUE,\"\",VLOOKUP(11,T44:V58,2,FALSE))","v":""},{"$f":"IF(ISERROR(ROUND(VLOOKUP(11,T44:V58,3,FALSE),3))=TRUE,\"\",ROUND(VLOOKUP(11,T44:V58,3,FALSE),3))","v":""},{"$f":"IF(ISERROR(VLOOKUP(11,T44:W58,4,FALSE))=TRUE,\"\",VLOOKUP(11,T44:W58,4,FALSE))","v":""},null,null,null,11,{"$f":"IF(B101<>\"\",B101,'G Q 4'!AQ22)","v":""}]
[12,{"$f":"IF(ISERROR(VLOOKUP(12,T44:V58,2,FALSE))=TRUE,\"\",VLOOKUP(12,T44:V58,2,FALSE))","v":""},{"$f":"IF(ISERROR(ROUND(VLOOKUP(12,T44:V58,3,FALSE),3))=TRUE,\"\",ROUND(VLOOKUP(12,T44:V58,3,FALSE),3))","v":""},{"$f":"IF(ISERROR(VLOOKUP(12,T44:W58,4,FALSE))=TRUE,\"\",VLOOKUP(12,T44:W58,4,FALSE))","v":""},null,null,null,12,{"$f":"IF(B102<>\"\",B102,'G Q 4'!AQ23)","v":""}]
[13,{"$f":"IF(ISERROR(VLOOKUP(13,T44:V58,2,FALSE))=TRUE,\"\",VLOOKUP(13,T44:V58,2,FALSE))","v":""},{"$f":"IF(ISERROR(ROUND(VLOOKUP(13,T44:V58,3,FALSE),3))=TRUE,\"\",ROUND(VLOOKUP(13,T44:V58,3,FALSE),3))","v":""},{"$f":"IF(ISERROR(VLOOKUP(13,T44:W58,4,FALSE))=TRUE,\"\",VLOOKUP(13,T44:W58,4,FALSE))","v":""},null,null,null,13,{"$f":"IF(B103<>\"\",B103,'G Q 4'!AQ24)","v":""}]
[14,{"$f":"IF(ISERROR(VLOOKUP(14,T44:V58,2,FALSE))=TRUE,\"\",VLOOKUP(14,T44:V58,2,FALSE))","v":""},{"$f":"IF(ISERROR(ROUND(VLOOKUP(14,T44:V58,3,FALSE),3)),\"\",ROUND(VLOOKUP(14,T44:V58,3,FALSE),3))","v":""},{"$f":"IF(ISERROR(VLOOKUP(14,T44:W58,4,FALSE)),\"\",VLOOKUP(14,T44:W58,4,FALSE))","v":""},null,null,null,14,{"$f":"IF(B104<>\"\",B104,'G Q 4'!AQ25)","v":""}]
[15,{"$f":"IF(ISERROR(VLOOKUP(15,T44:V58,2,FALSE))=TRUE,\"\",VLOOKUP(15,T44:V58,2,FALSE))","v":""},{"$f":"IF(ISERROR(ROUND(VLOOKUP(15,T44:V58,3,FALSE),3))=TRUE,\"\",ROUND(VLOOKUP(15,T44:V58,3,FALSE),3))","v":""},{"$f":"IF(ISERROR(VLOOKUP(15,T44:W58,4,FALSE))=TRUE,\"\",VLOOKUP(15,T44:W58,4,FALSE))","v":""},null,null,null,15,{"$f":"IF(B105<>\"\",B105,'G Q 4'!AQ26)","v":""}]
[16,{"$f":"IF(ISERROR(VLOOKUP(16,T44:V58,2,FALSE))=TRUE,\"\",VLOOKUP(16,T44:V58,2,FALSE))","v":""},{"$f":"IF(ISERROR(ROUND(VLOOKUP(16,T44:V58,3,FALSE),3))=TRUE,\"\",ROUND(VLOOKUP(16,T44:V58,3,FALSE),3))","v":""},{"$f":"IF(ISERROR(VLOOKUP(16,T44:W58,4,FALSE))=TRUE,\"\",VLOOKUP(16,T44:W58,4,FALSE))","v":""},null,null,null,16,{"$f":"IF(B106<>\"\",B106,'G Q 4'!AQ27)","v":""}]
[17,{"$f":"IF(ISERROR(VLOOKUP(17,T9:V39,2,FALSE))=TRUE,\"\",VLOOKUP(17,T9:V39,2,FALSE))","v":""},{"$f":"IF(ISERROR(ROUND(VLOOKUP(17,T9:V39,3,FALSE),3))=TRUE,\"\",ROUND(VLOOKUP(17,T9:V39,3,FALSE),3))","v":""},{"$f":"IF(ISERROR(VLOOKUP(17,T9:W39,4,FALSE))=TRUE,\"\",VLOOKUP(17,T9:W39,4,FALSE))","v":""},null,null,null,17,{"$f":"IF(B107<>\"\",B107,'G Q 4'!AQ28)","v":""}]
[18,{"$f":"IF(ISERROR(VLOOKUP(18,T9:V39,2,FALSE))=TRUE,\"\",VLOOKUP(18,T9:V39,2,FALSE))","v":""},{"$f":"IF(ISERROR(ROUND(VLOOKUP(18,T9:V39,3,FALSE),3))=TRUE,\"\",ROUND(VLOOKUP(18,T9:V39,3,FALSE),3))","v":""},{"$f":"IF(ISERROR(VLOOKUP(18,T9:W39,4,FALSE))=TRUE,\"\",VLOOKUP(18,T9:W39,4,FALSE))","v":""},null,null,null,18,{"$f":"IF(B108<>\"\",B108,'G Q 4'!AQ29)","v":""}]
[19,{"$f":"IF(ISERROR(VLOOKUP(19,T9:V39,2,FALSE))=TRUE,\"\",VLOOKUP(19,T9:V39,2,FALSE))","v":""},{"$f":"IF(ISERROR(ROUND(VLOOKUP(19,T9:V39,3,FALSE),3))=TRUE,\"\",ROUND(VLOOKUP(19,T9:V39,3,FALSE),3))","v":""},{"$f":"IF(ISERROR(VLOOKUP(19,T9:W39,4,FALSE))=TRUE,\"\",VLOOKUP(19,T9:W39,4,FALSE))","v":""},null,null,null,19,{"$f":"IF(B109<>\"\",B109,'G Q 4'!AQ30)","v":""}]
[20,{"$f":"IF(ISERROR(VLOOKUP(20,T9:V39,2,FALSE))=TRUE,\"\",VLOOKUP(20,T9:V39,2,FALSE))","v":""},{"$f":"IF(ISERROR(ROUND(VLOOKUP(20,T9:V39,3,FALSE),3))=TRUE,\"\",ROUND(VLOOKUP(20,T9:V39,3,FALSE),3))","v":""},{"$f":"IF(ISERROR(VLOOKUP(20,T9:W39,4,FALSE))=TRUE,\"\",VLOOKUP(20,T9:W39,4,FALSE))","v":""},null,null,null,20,{"$f":"IF(B110<>\"\",B110,'G Q 4'!AQ31)","v":""}]
[21,{"$f":"IF(ISERROR(VLOOKUP(21,T9:V39,2,FALSE))=TRUE,\"\",VLOOKUP(21,T9:V39,2,FALSE))","v":""},{"$f":"IF(ISERROR(ROUND(VLOOKUP(21,T9:V39,3,FALSE),3))=TRUE,\"\",ROUND(VLOOKUP(21,T9:V39,3,FALSE),3))","v":""},{"$f":"IF(ISERROR(VLOOKUP(21,T9:W39,4,FALSE))=TRUE,\"\",VLOOKUP(21,T9:W39,4,FALSE))","v":""},null,null,null,21,{"$f":"IF(B111<>\"\",B111,'G Q 4'!AQ32)","v":""}]
[22,{"$f":"IF(ISERROR(VLOOKUP(22,T9:V39,2,FALSE))=TRUE,\"\",VLOOKUP(22,T9:V39,2,FALSE))","v":""},{"$f":"IF(ISERROR(ROUND(VLOOKUP(22,T9:V39,3,FALSE),3))=TRUE,\"\",ROUND(VLOOKUP(22,T9:V39,3,FALSE),3))","v":""},{"$f":"IF(ISERROR(VLOOKUP(22,T9:W39,4,FALSE))=TRUE,\"\",VLOOKUP(22,T9:W39,4,FALSE))","v":""},null,null,null,22,{"$f":"IF(B112<>\"\",B112,'G Q 4'!AQ33)","v":""}]
[23,{"$f":"IF(ISERROR(VLOOKUP(23,T9:V39,2,FALSE))=TRUE,\"\",VLOOKUP(23,T9:V39,2,FALSE))","v":""},{"$f":"IF(ISERROR(ROUND(VLOOKUP(23,T9:V39,3,FALSE),3))=TRUE,\"\",ROUND(VLOOKUP(23,T9:V39,3,FALSE),3))","v":""},{"$f":"IF(ISERROR(VLOOKUP(23,T9:W39,4,FALSE))=TRUE,\"\",VLOOKUP(23,T9:W39,4,FALSE))","v":""},null,null,null,23,{"$f":"IF(B113<>\"\",B113,'G Q 4'!AQ34)","v":""}]
[24,{"$f":"IF(ISERROR(VLOOKUP(24,T9:V39,2,FALSE))=TRUE,\"\",VLOOKUP(24,T9:V39,2,FALSE))","v":""},{"$f":"IF(ISERROR(ROUND(VLOOKUP(24,T9:V39,3,FALSE),3))=TRUE,\"\",ROUND(VLOOKUP(24,T9:V39,3,FALSE),3))","v":""},{"$f":"IF(ISERROR(VLOOKUP(24,T9:W39,4,FALSE))=TRUE,\"\",VLOOKUP(24,T9:W39,4,FALSE))","v":""},null,null,null,24,{"$f":"IF(B114<>\"\",B114,'G Q 4'!AQ35)","v":""}]
[25,{"$f":"IF(ISERROR(VLOOKUP(25,T9:V39,2,FALSE))=TRUE,\"\",VLOOKUP(25,T9:V39,2,FALSE))","v":""},{"$f":"IF(ISERROR(ROUND(VLOOKUP(25,T9:V39,3,FALSE),3))=TRUE,\"\",ROUND(VLOOKUP(25,T9:V39,3,FALSE),3))","v":""},{"$f":"IF(ISERROR(VLOOKUP(25,T9:W39,4,FALSE))=TRUE,\"\",VLOOKUP(25,T9:W39,4,FALSE))","v":""},null,null,null,25,{"$f":"IF(B115<>\"\",B115,'G Q 4'!AQ36)","v":""}]
[26,{"$f":"IF(ISERROR(VLOOKUP(26,T9:V39,2,FALSE))=TRUE,\"\",VLOOKUP(26,T9:V39,2,FALSE))","v":""},{"$f":"IF(ISERROR(ROUND(VLOOKUP(26,T9:V39,3,FALSE),3))=TRUE,\"\",ROUND(VLOOKUP(26,T9:V39,3,FALSE),3))","v":""},{"$f":"IF(ISERROR(VLOOKUP(26,T9:W39,4,FALSE))=TRUE,\"\",VLOOKUP(26,T9:W39,4,FALSE))","v":""},null,null,null,26,{"$f":"IF(B116<>\"\",B116,'G Q 4'!AQ37)","v":""}]
[27,{"$f":"IF(ISERROR(VLOOKUP(27,T9:V39,2,FALSE))=TRUE,\"\",VLOOKUP(27,T9:V39,2,FALSE))","v":""},{"$f":"IF(ISERROR(ROUND(VLOOKUP(27,T9:V39,3,FALSE),3))=TRUE,\"\",ROUND(VLOOKUP(27,T9:V39,3,FALSE),3))","v":""},{"$f":"IF(ISERROR(VLOOKUP(27,T9:W39,4,FALSE))=TRUE,\"\",VLOOKUP(27,T9:W39,4,FALSE))","v":""},null,null,null,27,{"$f":"IF(B117<>\"\",B117,'G Q 4'!AQ38)","v":""}]
[28,{"$f":"IF(ISERROR(VLOOKUP(28,T9:V39,2,FALSE))=TRUE,\"\",VLOOKUP(28,T9:V39,2,FALSE))","v":""},{"$f":"IF(ISERROR(ROUND(VLOOKUP(28,T9:V39,3,FALSE),3))=TRUE,\"\",ROUND(VLOOKUP(28,T9:V39,3,FALSE),3))","v":""},{"$f":"IF(ISERROR(VLOOKUP(28,T9:W39,4,FALSE))=TRUE,\"\",VLOOKUP(28,T9:W39,4,FALSE))","v":""},null,null,null,28,{"$f":"IF(B118<>\"\",B118,'G Q 4'!AQ39)","v":""}]
[29,{"$f":"IF(ISERROR(VLOOKUP(29,T9:V39,2,FALSE))=TRUE,\"\",VLOOKUP(29,T9:V39,2,FALSE))","v":""},{"$f":"IF(ISERROR(ROUND(VLOOKUP(29,T9:V39,3,FALSE),3))=TRUE,\"\",ROUND(VLOOKUP(29,T9:V39,3,FALSE),3))","v":""},{"$f":"IF(ISERROR(VLOOKUP(29,T9:W39,4,FALSE))=TRUE,\"\",VLOOKUP(29,T9:W39,4,FALSE))","v":""},null,null,null,29,{"$f":"IF(B119<>\"\",B119,'G Q 4'!AQ40)","v":""}]
[30,{"$f":"IF(ISERROR(VLOOKUP(30,T9:V39,2,FALSE))=TRUE,\"\",VLOOKUP(30,T9:V39,2,FALSE))","v":""},{"$f":"IF(ISERROR(ROUND(VLOOKUP(30,T9:V39,3,FALSE),3))=TRUE,\"\",ROUND(VLOOKUP(30,T9:V39,3,FALSE),3))","v":""},{"$f":"IF(ISERROR(VLOOKUP(30,T9:W39,4,FALSE))=TRUE,\"\",VLOOKUP(30,T9:W39,4,FALSE))","v":""},null,null,null,30,{"$f":"IF(B120<>\"\",B120,'G Q 4'!AQ41)","v":""}]
[31,{"$f":"IF(ISERROR(VLOOKUP(31,T9:V39,2,FALSE))=TRUE,\"\",VLOOKUP(31,T9:V39,2,FALSE))","v":""},{"$f":"IF(ISERROR(ROUND(VLOOKUP(31,T9:V39,3,FALSE),3))=TRUE,\"\",ROUND(VLOOKUP(31,T9:V39,3,FALSE),3))","v":""},{"$f":"IF(ISERROR(VLOOKUP(31,T9:W39,4,FALSE))=TRUE,\"\",VLOOKUP(31,T9:W39,4,FALSE))","v":""},null,null,null,31,{"$f":"IF(B121<>\"\",B121,'G Q 4'!AQ42)","v":""}]
[32,{"$f":"IF(ISERROR(VLOOKUP(32,T9:V39,2,FALSE))=TRUE,\"\",VLOOKUP(32,T9:V39,2,FALSE))","v":""},{"$f":"IF(ISERROR(ROUND(VLOOKUP(32,T9:V39,3,FALSE),3))=TRUE,\"\",ROUND(VLOOKUP(32,T9:V39,3,FALSE),3))","v":""},{"$f":"IF(ISERROR(VLOOKUP(32,T9:W39,4,FALSE))=TRUE,\"\",VLOOKUP(32,T9:W39,4,FALSE))","v":""},null,null,null,32,{"$f":"IF(B122<>\"\",B122,'G Q 4'!AQ43)","v":""}]
[null,null,null,null,null,null,null,33,{"$f":"IF(B123<>\"\",B123,'G Q 4'!AQ44)","v":""}]
[null,null,null,null,null,null,null,34,{"$f":"IF(B124<>\"\",B124,'G Q 4'!AQ45)","v":""}]
[null,null,null,null,null,null,null,35,{"$f":"IF(B125<>\"\",B125,'G Q 4'!AQ46)","v":""}]
[null,null,null,null,null,null,null,36,{"$f":"IF(B126<>\"\",B126,'G Q 4'!AQ47)","v":""}]
[null,null,null,null,null,null,null,37,{"$f":"IF(B127<>\"\",B127,'G Q 4'!AQ48)","v":""}]
[null,null,null,null,null,null,null,38,{"$f":"IF(B128<>\"\",B128,'G Q 4'!AQ49)","v":""}]
[null,null,null,null,null,null,null,39,{"$f":"IF(B129<>\"\",B129,'G Q 4'!AQ50)","v":""}]
[null,null,null,null,null,null,null,40,{"$f":"IF(B130<>\"\",B130,'G Q 4'!AQ51)","v":""}]
[null,null,null,null,null,null,null,41,{"$f":"IF(B131<>\"\",B131,'G Q 4'!AQ52)","v":""}]
[null,null,null,null,null,null,null,42,{"$f":"IF(B132<>\"\",B132,'G Q 4'!AQ53)","v":""}]
[null,null,null,null,null,null,null,43,{"$f":"IF(B133<>\"\",B133,'G Q 4'!AQ54)","v":""}]
[null,null,null,null,null,null,null,44,{"$f":"IF(B134<>\"\",B134,'G Q 4'!AQ55)","v":""}]
[null,null,null,null,null,null,null,45,{"$f":"IF(B135<>\"\",B135,'G Q 4'!AQ56)","v":""}]
[null,null,null,null,null,null,null,46,{"$f":"IF(B136<>\"\",B136,'G Q 4'!AQ57)","v":""}]
[null,null,null,null,null,null,null,47,{"$f":"IF(B137<>\"\",B137,'G Q 4'!AQ58)","v":""}]
[null,null,null,null,null,null,null,48,{"$f":"IF(B138<>\"\",B138,'G Q 4'!AQ59)","v":""}]
[null,null,null,null,null,null,null,49,{"$f":"IF(B139<>\"\",B139,'G Q 4'!AQ60)","v":""}]
[null,null,null,null,null,null,null,50,{"$f":"IF(B140<>\"\",B140,'G Q 4'!AQ61)","v":""}]
[null,null,null,null,null,null,null,51,{"$f":"IF(B141<>\"\",B141,'G Q 4'!AQ62)","v":""}]
[null,null,null,null,null,null,null,52,{"$f":"IF(B142<>\"\",B142,'G Q 4'!AQ63)","v":""}]
[null,null,null,null,null,null,null,53,{"$f":"IF(B143<>\"\",B143,'G Q 4'!AQ64)","v":""}]
[null,null,null,null,null,null,null,54,{"$f":"IF(B144<>\"\",B144,'G Q 4'!AQ65)","v":""}]
[null,null,null,null,null,null,null,55,{"$f":"IF(B145<>\"\",B145,'G Q 4'!AQ66)","v":""}]
[null,null,null,null,null,null,null,56,{"$f":"IF(B146<>\"\",B146,'G Q 4'!AQ67)","v":""}]
[null,null,null,null,null,null,null,57,{"$f":"IF(B147<>\"\",B147,'G Q 4'!AQ68)","v":""}]
[null,null,null,null,null,null,null,58,{"$f":"IF(B148<>\"\",B148,'G Q 4'!AQ69)","v":""}]
[null,null,null,null,null,null,null,59,{"$f":"IF(B149<>\"\",B149,'G Q 4'!AQ70)","v":""}]
[null,null,null,null,null,null,null,60,{"$f":"IF(B150<>\"\",B150,'G Q 4'!AQ71)","v":""}]
[null,null,null,null,null,null,null,61,{"$f":"IF(B151<>\"\",B151,'G Q 4'!AQ72)","v":""}]
[null,null,null,null,null,null,null,62,{"$f":"IF(B152<>\"\",B152,'G Q 4'!AQ73)","v":""}]
[null,null,null,null,null,null,null,63,{"$f":"IF(B153<>\"\",B153,'G Q 4'!AQ74)","v":""}]
[null,null,null,null,null,null,null,64,{"$f":"IF(B154<>\"\",B154,'G Q 4'!AQ75)","v":""}]
[null,null,null,null,null,null,null,65,{"$f":"IF(B155<>\"\",B155,'G Q 4'!AQ76)","v":""}]
[null,null,null,null,null,null,null,66,{"$f":"IF(B156<>\"\",B156,'G Q 4'!AQ77)","v":""}]
[null,null,null,null,null,null,null,67,{"$f":"IF(B157<>\"\",B157,'G Q 4'!AQ78)","v":""}]
[null,null,null,null,null,null,null,68,{"$f":"IF(B158<>\"\",B158,'G Q 4'!AQ79)","v":""}]
[null,null,null,null,null,null,null,69,{"$f":"IF(B159<>\"\",B159,'G Q 4'!AQ80)","v":""}]
[null,null,null,null,null,null,null,70,{"$f":"IF(B160<>\"\",B160,'G Q 4'!AQ81)","v":""}]
[null,null,null,null,null,null,null,71,{"$f":"IF(B161<>\"\",B161,'G Q 4'!AQ82)","v":""}]
[null,null,null,null,null,null,null,72,{"$f":"IF(B162<>\"\",B162,'G Q 4'!AQ83)","v":""}]
[null,null,null,null,null,null,null,73,{"$f":"IF(B163<>\"\",B163,'G Q 4'!AQ84)","v":""}]
[null,null,null,null,null,null,null,74,{"$f":"IF(B164<>\"\",B164,'G Q 4'!AQ85)","v":""}]
[null,null,null,null,null,null,null,75,{"$f":"IF(B165<>\"\",B165,'G Q 4'!AQ86)","v":""}]
[null,null,null,null,null,null,null,76,{"$f":"IF(B166<>\"\",B166,'G Q 4'!AQ87)","v":""}]
[null,null,null,null,null,null,null,77,{"$f":"IF(B167<>\"\",B167,'G Q 4'!AQ88)","v":""}]
[null,null,null,null,null,null,null,78,{"$f":"IF(B168<>\"\",B168,'G Q 4'!AQ89)","v":""}]
[null,null,null,null,null,null,null,79,{"$f":"IF(B169<>\"\",B169,'G Q 4'!AQ90)","v":""}]
[null,null,null,null,null,null,null,80,{"$f":"IF(B170<>\"\",B170,'G Q 4'!AQ91)","v":""}]
[null,null,null,null,null,null,null,81,{"$f":"IF(B171<>\"\",B171,'G Q 4'!AQ92)","v":""}]
[null,null,null,null,null,null,null,82,{"$f":"IF(B172<>\"\",B172,'G Q 4'!AQ93)","v":""}]
[null,null,null,null,null,null,null,83,{"$f":"IF(B173<>\"\",B173,'G Q 4'!AQ94)","v":""}]
[null,null,null,null,null,null,null,84,{"$f":"IF(B174<>\"\",B174,'G Q 4'!AQ95)","v":""}]
[null,null,null,null,null,null,null,85,{"$f":"IF(B175<>\"\",B175,'G Q 4'!AQ96)","v":""}]
[null,null,null,null,null,null,null,86,{"$f":"IF(B176<>\"\",B176,'G Q 4'!AQ97)","v":""}]
[null,null,null,null,null,null,null,87,{"$f":"IF(B177<>\"\",B177,'G Q 4'!AQ98)","v":""}]
[null,null,null,null,null,null,null,88,{"$f":"IF(B178<>\"\",B178,'G Q 4'!AQ99)","v":""}]
[null,null,null,null,null,null,null,89,{"$f":"IF(B179<>\"\",B179,'G Q 4'!AQ100)","v":""}]
[null,null,null,null,null,null,null,90,{"$f":"IF(B180<>\"\",B180,'G Q 4'!AQ101)","v":""}]
[null,null,null,null,null,null,null,91,{"$f":"IF(B181<>\"\",B181,'G Q 4'!AQ102)","v":""}]
[null,null,null,null,null,null,null,92,{"$f":"IF(B182<>\"\",B182,'G Q 4'!AQ103)","v":""}]
[null,null,null,null,null,null,null,93,{"$f":"IF(B183<>\"\",B183,'G Q 4'!AQ104)","v":""}]
[null,null,null,null,null,null,null,94,{"$f":"IF(B184<>\"\",B184,'G Q 4'!AQ105)","v":""}]
[null,null,null,null,null,null,null,95,{"$f":"IF(B185<>\"\",B185,'G Q 4'!AQ106)","v":""}]
[null,null,null,null,null,null,null,96,{"$f":"IF(B186<>\"\",B186,'G Q 4'!AQ107)","v":""}]
[null,null,null,null,null,null,null,97,{"$f":"IF(B187<>\"\",B187,'G Q 4'!AQ108)","v":""}]
[null,null,null,null,null,null,null,98,{"$f":"IF(B188<>\"\",B188,'G Q 4'!AQ109)","v":""}]
[null,null,null,null,null,null,null,99,{"$f":"IF(B189<>\"\",B189,'G Q 4'!AQ110)","v":""}]
[null,null,null,null,null,null,null,100,{"$f":"IF(B190<>\"\",B190,'G Q 4'!AQ111)","v":""}]

{"sheet":"H Q 1-2","index":8,"n_rows":111,"n_cols":45,"rows_kept":111,"cut":false,"hidden":false,"merged":[[9,0,10,0],[9,42,10,42],[9,38,10,38],[9,19,10,19],[9,22,10,22],[9,30,10,30],[9,20,10,20],[9,23,10,23],[9,36,10,36],[9,37,10,37],[9,2,10,2],[9,1,10,1],[9,17,10,17],[9,31,10,31],[9,26,10,26],[9,35,10,35],[6,44,7,44],[9,39,10,39],[6,41,6,43],[7,41,7,43],[9,43,10,43],[9,44,10,44],[9,40,10,40],[9,41,10,41],[9,32,10,32],[9,34,10,34],[9,3,9,8],[9,10,9,15],[9,16,10,16],[9,18,10,18],[9,25,10,25],[9,27,10,27],[9,21,10,21],[9,29,10,29],[9,28,10,28],[9,24,10,24],[9,33,10,33],[7,1,7,2],[6,3,6,18],[7,3,7,18],[8,1,8,2],[0,41,0,42],[1,41,1,42],[4,1,4,2],[6,1,6,2],[5,1,5,2],[0,3,0,18],[1,3,1,18],[2,3,2,18]]}
[null,null,null,{"$f":"CONTEST!B4","v":"Skate n Roll Polička  2022"}]
[null,null,null,{"$f":"CONTEST!B6","v":"13.8. - 14.8.2022"}]
[null,null,null,{"$f":"CONCATENATE(CONTEST!B9,\" / \",CONTEST!B16,\" / \",CONTEST!B13)","v":"HYBRID SLALOM / Qualifications / TEEN 12-14"}]
[null,null,{"$f":"_xll.iPush(\"TEEN_Hybrid_Q\", \"WCH_SK8_2018\", 'H Q 1-2'!$A$5:$S$111, 'H Q 1-2'!$A$5:$S$111, 'H Q 1-2'!$A$5:$S$111, 1, TRUE)","v":{"$error":"#NAME?"}}]
[0.1,"secs penalty per hit cone"]
[8,"maximum hit cones before DQ"]
[2,"false start multiplication factor",null,"Under \"Raw Time,\" enter \"DQ\" or\"DNF\" for",null,null,null,null,null,null,null,null,null,null,null,null,null,null,null,null,null,null,null,null,null,null,null,null,null,null,null,null,null,null,null,null,null,null,null,null,null,"Advance Racers who DQ",null,null,"Y"]
[{"$f":"IF(ISERROR(0.1*AR12)=TRUE,\"\",ROUND(0.1*AR12,2))","v":2.06},"secs head-to-head DQ/DNR penalty",null,"\"Disqualified\" and \"DNR\" for \"Did Not Race.\"",null,null,null,null,null,null,null,null,null,null,null,null,null,null,null,null,null,null,null,null,null,null,null,null,null,null,null,null,null,null,null,null,null,null,null,null,null,"all Qualifying Runs? (Y/N)"]
[{"$f":"IF(ISERROR(0.1*AR12)=TRUE,\"\",ROUND(0.1*AR12,2))","v":2.06},"secs max head-to-head victory margin"]
[null,"START Number","Racer Name","Run 1",null,null,null,null,null,null,"Run 2",null,null,null,null,null,"Qual Rank (w/out DQs)","Best Time","Qualifying Position","Qual Rank (w/DQs sequenced)","Racer No. & Name","Best Time","Double DQ Place Factor","No. of Ties per Best Time","Tied-at Time","Tied-at Time Rank","Run 1 Time w/DQ Adjust","Run 2 Time w/DQ Adjust","Total Time w/DQ Adjust","Total Time Rank","Total Tie Place Factor","Tie 1 Total Time Rank","Tie 1 Place Factor","Tie 2 Total Time Rank","Tie 2 Place Factor","Tie 3 Total Time Rank","Tie 3 Place Factor","Placed Racer No. & Name","Withdrawal Place Factor","Double DQ Place Factor 2","Final Spot - Withdrawals","Qualifying Position",{"$f":"CONCATENATE(+CONTEST!B4,\"                                \",+CONTEST!B8,\"                                   \",\"RUN 1-2\",\"                                     \",\"  Racer No. & Name\")","v":"Skate n Roll Polička  2022                                GIANT SLALOM                                   RUN 1-2                                       Racer No. & Name"},"Best Time","Withdraw (W)"]
[null,null,null,"Raw Time","Cones","Reaction Time","False Start","Final Time","Run Rank",null,"Raw Time","Cones","Reaction Time","False Start","Final Time","Run Rank"]
[1,{"$f":"IF(REG!B11<>\"\",REG!B11,\"\")","v":""},{"$f":"IF(REG!C11<>\"\",REG!G11,\"\")","v":"Voves  Jindřich  [CZE] "},20.759,0,0.51600000000000001,null,{"$f":"IF(LEFT(D12:D111,1)=\"D\",\"-\",IF(E12:E111>A6,\"-\",IF(D12:D111>0,D12:D111+E12:E111*A5+G12:G111*A7,\"\")))","v":20.759},{"$f":"IF(H12:H111=\"\",\"\",IF(H12:H111=\"-\",\"\",RANK(H12:H111,H12:H111,1)))","v":1},null,20.757999999999999,0,0.52400000000000002,null,{"$f":"IF(LEFT(K12:K111,1)=\"D\",\"-\",IF(L12:L111>A6,\"-\",IF(K12:K111>0,K12:K111+L12:L111*A5+N12:N111*A7,\"\")))","v":20.757999999999999},{"$f":"IF(O12:O111=\"\",\"\",IF(O12:O111=\"-\",\"\",RANK(O12:O111,O12:O111,1)))","v":2},{"$f":"IF(R12:R111=\"\",\"\",IF(R12:R111=\"-\",\"\",RANK(R12:R111,R12:R111,1)))","v":2},{"$f":"IF(AND(ISBLANK(D12),ISBLANK(K12)),\"\",IF(AND(H12=\"-\",O12=\"-\"),\"-\",IF(AND(H12=\"-\",ISBLANK(K12)),\"-\",MIN(H12,O12))))","v":20.757999999999999},{"$f":"IF(R12:R111=\"\",\"\",VLOOKUP(U12:U111,AL12:AP111,5,FALSE))","v":2},{"$f":"IF(R12:R111=\"\",\"\",IF(R12:R111=\"-\",COUNT(Q12:Q111)+W12:W111,Q12:Q111+AE12:AE111+AG12:AG111+AI12:AI111+AK12:AK111))","v":2},{"$f":"IF(B12:B111 =\"\",\"\",B12:B111 & \" \")&C12:C111","v":"Voves  Jindřich  [CZE] "},{"$f":"R12:R111","v":20.757999999999999},{"$f":"IF(R12=\"\",\"\",COUNTIF(R12:R12,\"-\"))","v":0},{"$f":"IF(Q12:Q111=\"\",\"\",COUNTIF(Q12:Q111,Q12:Q111)-1)","v":0},{"$f":"IF(R12:R111=\"-\",\"\",IF(X12:X111=0,\"\",R12:R111))","v":""},{"$f":"IF(Y12:Y111=\"\",\"\",RANK(Y12:Y111,Y12:Y111,1))","v":""},{"$f":"IF(X12:X111=\"\",\"\",IF(X12:X111=0,\"\",IF(LEFT(H12:H111,1)=\"-\",\"199\",H12:H111)))","v":""},{"$f":"IF(X12:X111=\"\",\"\",IF(X12:X111=0,\"\",IF(LEFT(O12:O111,1)=\"-\",\"199\",O12:O111)))","v":""},{"$f":"IF(ISERROR(AA12:AA111+AB12:AB111)=TRUE,AA12:AA111,AA12:AA111+AB12:AB111)","v":""},{"$f":"IF(R12:R111=\"\",\"\",IF(X12:X111=0,\"0\",IF(ISERROR(RANK(AC12:AC111,AC12:AC111,1))=TRUE,\"0\",RANK(AC12:AC111,AC12:AC111,1))))","v":"0"},0,{"$f":"IF(ISERROR(X12:X111)=TRUE,\"\",IF(Z12:Z111=1,AD12:AD111,\"\"))","v":""},{"$f":"IF(R12:R111=\"\",\"\",IF(AF12:AF111=\"\",\"0\",RANK(AF12:AF111,AF12:AF111,1)-1))","v":"0"},{"$f":"IF(ISERROR(X12:X111)=TRUE,\"\",IF(Z12:Z111=COUNT(AF12:AF111)+1,AD12:AD111,\"\"))","v":""},{"$f":"IF(R12:R111=\"\",\"\",IF(AH12:AH111=\"\",\"0\",RANK(AH12:AH111,AH12:AH111,1)-1))","v":"0"},{"$f":"IF(ISERROR(X12:X111)=TRUE,\"\",IF(Z12:Z111=COUNT(AF12:AF111)+COUNT(AH12:AH111)+1,AD12:AD111,\"\"))","v":""},{"$f":"IF(R12:R111=\"\",\"\",IF(AJ12:AJ111=\"\",\"0\",RANK(AJ12:AJ111,AJ12:AJ111,1)-1))","v":"0"},{"$f":"AQ12:AQ111","v":"Rezková  Anna  [CZE] "},{"$f":"COUNTIF(AS12:AS12,\"W\")","v":0},{"$f":"IF(AR12=\"\",\"\",COUNTIF(AR12:AR12,\"-\"))","v":0},{"$f":"IF(AQ12:AQ111=\"BYE\",\"\",IF(AS12:AS111=\"W\",\"\",IF(AS7=\"N\",IF(AP12:AP111<=COUNT(Q12:Q111),AP12:AP111-AM12:AM111,\"\"),IF(AP12:AP111<=COUNT(Q12:Q111),AP12:AP111-AM12:AM111,AP12:AP111-AM12:AM111+AN12:AN111-1))))","v":1},{"$f":"IF(R12:R111=\"\",\"\",IF(AP11:AP110+1<=COUNT(Q12:Q111),AP11:AP110+1,COUNT(Q12:Q111)+1))","v":1},{"$f":"IF(R12:R111=\"\",\"BYE\",IF(ISERROR(VLOOKUP(A12:A111,T12:U111,2,FALSE))=TRUE,\"\",VLOOKUP(A12:A111,T12:U111,2,FALSE)))","v":"Rezková  Anna  [CZE] "},{"$f":"IF(C12:C111=\"BYE\", \"\",IF(A12:A111=\"\",\"\",IF(ISERROR(VLOOKUP(A12:A111,T12:V111,3,FALSE))=TRUE,\"\",VLOOKUP(A12:A111,T12:V111,3,FALSE))))","v":20.643000000000001}]
[2,{"$f":"IF(REG!B12<>\"\",REG!B12,\"\")","v":""},{"$f":"IF(REG!C12<>\"\",REG!G12,\"\")","v":"Rezková  Anna  [CZE] "},20.795999999999999,0,0.51900000000000002,null,20.795999999999999,2,null,20.643000000000001,0,0.66800000000000004,null,20.643000000000001,1,1,20.643000000000001,1,1,"Rezková  Anna  [CZE] ",20.643000000000001,{"$f":"IF(R13=\"\",\"\",COUNTIF(R12:R13,\"-\"))","v":0},0,"","","","","","0",{"$f":"IF(R13=\"\",\"\",IF(AD13=\"0\",\"0\",COUNTIF(AD12:AD12,AD13)))","v":"0"},"","0","","0","","0","Voves  Jindřich  [CZE] ",{"$f":"COUNTIF(AS12:AS13,\"W\")","v":0},{"$f":"IF(AR13=\"\",\"\",COUNTIF(AR12:AR13,\"-\"))","v":0},2,2,"Voves  Jindřich  [CZE] ",20.757999999999999]
[3,{"$f":"IF(REG!B13<>\"\",REG!B13,\"\")","v":""},{"$f":"IF(REG!C13<>\"\",REG!G13,\"\")","v":""},null,null,null,null,"","",null,null,null,null,null,"","","","","","","","",{"$f":"IF(R14=\"\",\"\",COUNTIF(R12:R14,\"-\"))","v":""},"","","","","","","",{"$f":"IF(R14=\"\",\"\",IF(AD14=\"0\",\"0\",COUNTIF(AD12:AD13,AD14)))","v":""},"","","","","","","BYE",{"$f":"COUNTIF(AS12:AS14,\"W\")","v":0},{"$f":"IF(AR14=\"\",\"\",COUNTIF(AR12:AR14,\"-\"))","v":""},"","","BYE",""]
[4,{"$f":"IF(REG!B14<>\"\",REG!B14,\"\")","v":""},{"$f":"IF(REG!C14<>\"\",REG!G14,\"\")","v":""},null,null,null,null,"","",null,null,null,null,null,"","","","","","","","",{"$f":"IF(R15=\"\",\"\",COUNTIF(R12:R15,\"-\"))","v":""},"","","","","","","",{"$f":"IF(R15=\"\",\"\",IF(AD15=\"0\",\"0\",COUNTIF(AD12:AD14,AD15)))","v":""},"","","","","","","BYE",{"$f":"COUNTIF(AS12:AS15,\"W\")","v":0},{"$f":"IF(AR15=\"\",\"\",COUNTIF(AR12:AR15,\"-\"))","v":""},"","","BYE",""]
[5,{"$f":"IF(REG!B15<>\"\",REG!B15,\"\")","v":""},{"$f":"IF(REG!C15<>\"\",REG!G15,\"\")","v":""},null,null,null,null,"","",null,null,null,null,null,"","","","","","","","",{"$f":"IF(R16=\"\",\"\",COUNTIF(R12:R16,\"-\"))","v":""},"","","","","","","",{"$f":"IF(R16=\"\",\"\",IF(AD16=\"0\",\"0\",COUNTIF(AD12:AD15,AD16)))","v":""},"","","","","","","BYE",{"$f":"COUNTIF(AS12:AS16,\"W\")","v":0},{"$f":"IF(AR16=\"\",\"\",COUNTIF(AR12:AR16,\"-\"))","v":""},"","","BYE",""]
[6,{"$f":"IF(REG!B16<>\"\",REG!B16,\"\")","v":""},{"$f":"IF(REG!C16<>\"\",REG!G16,\"\")","v":""},null,null,null,null,"","",null,null,null,null,null,"","","","","","","","",{"$f":"IF(R17=\"\",\"\",COUNTIF(R12:R17,\"-\"))","v":""},"","","","","","","",{"$f":"IF(R17=\"\",\"\",IF(AD17=\"0\",\"0\",COUNTIF(AD12:AD16,AD17)))","v":""},"","","","","","","BYE",{"$f":"COUNTIF(AS12:AS17,\"W\")","v":0},{"$f":"IF(AR17=\"\",\"\",COUNTIF(AR12:AR17,\"-\"))","v":""},"","","BYE",""]
[7,{"$f":"IF(REG!B17<>\"\",REG!B17,\"\")","v":""},{"$f":"IF(REG!C17<>\"\",REG!G17,\"\")","v":""},null,null,null,null,"","",null,null,null,null,null,"","","","","","","","",{"$f":"IF(R18=\"\",\"\",COUNTIF(R12:R18,\"-\"))","v":""},"","","","","","","",{"$f":"IF(R18=\"\",\"\",IF(R18=\"\",\"\",IF(AD18=\"0\",\"0\",COUNTIF(AD12:AD17,AD18))))","v":""},"","","","","","","BYE",{"$f":"COUNTIF(AS12:AS18,\"W\")","v":0},{"$f":"IF(AR18=\"\",\"\",COUNTIF(AR12:AR18,\"-\"))","v":""},"","","BYE",""]
[8,{"$f":"IF(REG!B18<>\"\",REG!B18,\"\")","v":""},{"$f":"IF(REG!C18<>\"\",REG!G18,\"\")","v":""},null,null,null,null,"","",null,null,null,null,null,"","","","","","","","",{"$f":"IF(R19=\"\",\"\",COUNTIF(R12:R19,\"-\"))","v":""},"","","","","","","",{"$f":"IF(R19=\"\",\"\",IF(R19=\"\",\"\",IF(AD19=\"0\",\"0\",COUNTIF(AD12:AD18,AD19))))","v":""},"","","","","","","BYE",{"$f":"COUNTIF(AS12:AS19,\"W\")","v":0},{"$f":"IF(AR19=\"\",\"\",COUNTIF(AR12:AR19,\"-\"))","v":""},"","","BYE",""]
[9,{"$f":"IF(REG!B19<>\"\",REG!B19,\"\")","v":""},{"$f":"IF(REG!C19<>\"\",REG!G19,\"\")","v":""},null,null,null,null,"","",null,null,null,null,null,"","","","","","","","",{"$f":"IF(R20=\"\",\"\",COUNTIF(R12:R20,\"-\"))","v":""},"","","","","","","",{"$f":"IF(R20=\"\",\"\",IF(R20=\"\",\"\",IF(AD20=\"0\",\"0\",COUNTIF(AD12:AD19,AD20))))","v":""},"","","","","","","BYE",{"$f":"COUNTIF(AS12:AS20,\"W\")","v":0},{"$f":"IF(AR20=\"\",\"\",COUNTIF(AR12:AR20,\"-\"))","v":""},"","","BYE",""]
[10,{"$f":"IF(REG!B20<>\"\",REG!B20,\"\")","v":""},{"$f":"IF(REG!C20<>\"\",REG!G20,\"\")","v":""},null,null,null,null,"","",null,null,null,null,null,"","","","","","","","",{"$f":"IF(R21=\"\",\"\",COUNTIF(R12:R21,\"-\"))","v":""},"","","","","","","",{"$f":"IF(R21=\"\",\"\",IF(AD21=\"0\",\"0\",COUNTIF(AD12:AD20,AD21)))","v":""},"","","","","","","BYE",{"$f":"COUNTIF(AS12:AS21,\"W\")","v":0},{"$f":"IF(AR21=\"\",\"\",COUNTIF(AR12:AR21,\"-\"))","v":""},"","","BYE",""]
[11,{"$f":"IF(REG!B21<>\"\",REG!B21,\"\")","v":""},{"$f":"IF(REG!C21<>\"\",REG!G21,\"\")","v":""},null,null,null,null,"","",null,null,null,null,null,"","","","","","","","",{"$f":"IF(R22=\"\",\"\",COUNTIF(R12:R22,\"-\"))","v":""},"","","","","","","",{"$f":"IF(R22=\"\",\"\",IF(AD22=\"0\",\"0\",COUNTIF(AD1:AD21,AD22)))","v":""},"","","","","","","BYE",{"$f":"COUNTIF(AS12:AS22,\"W\")","v":0},{"$f":"IF(AR22=\"\",\"\",COUNTIF(AR12:AR22,\"-\"))","v":""},"","","BYE",""]
[12,{"$f":"IF(REG!B22<>\"\",REG!B22,\"\")","v":""},{"$f":"IF(REG!C22<>\"\",REG!G22,\"\")","v":""},null,null,null,null,"","",null,null,null,null,null,"","","","","","","","",{"$f":"IF(R23=\"\",\"\",COUNTIF(R12:R23,\"-\"))","v":""},"","","","","","","",{"$f":"IF(R23=\"\",\"\",IF(AD23=\"0\",\"0\",COUNTIF(AD12:AD22,AD23)))","v":""},"","","","","","","BYE",{"$f":"COUNTIF(AS12:AS23,\"W\")","v":0},{"$f":"IF(AR23=\"\",\"\",COUNTIF(AR12:AR23,\"-\"))","v":""},"","","BYE",""]
[13,{"$f":"IF(REG!B23<>\"\",REG!B23,\"\")","v":""},{"$f":"IF(REG!C23<>\"\",REG!G23,\"\")","v":""},null,null,null,null,"","",null,null,null,null,null,"","","","","","","","",{"$f":"IF(R24=\"\",\"\",COUNTIF(R12:R24,\"-\"))","v":""},"","","","","","","",{"$f":"IF(R24=\"\",\"\",IF(AD24=\"0\",\"0\",COUNTIF(AD12:AD23,AD24)))","v":""},"","","","","","","BYE",{"$f":"COUNTIF(AS12:AS24,\"W\")","v":0},{"$f":"IF(AR24=\"\",\"\",COUNTIF(AR12:AR24,\"-\"))","v":""},"","","BYE",""]
[14,{"$f":"IF(REG!B24<>\"\",REG!B24,\"\")","v":""},{"$f":"IF(REG!C24<>\"\",REG!G24,\"\")","v":""},null,null,null,null,"","",null,null,null,null,null,"","","","","","","","",{"$f":"IF(R25=\"\",\"\",COUNTIF(R12:R25,\"-\"))","v":""},"","","","","","","",{"$f":"IF(R25=\"\",\"\",IF(AD25=\"0\",\"0\",COUNTIF(AD12:AD24,AD25)))","v":""},"","","","","","","BYE",{"$f":"COUNTIF(AS12:AS25,\"W\")","v":0},{"$f":"IF(AR25=\"\",\"\",COUNTIF(AR12:AR25,\"-\"))","v":""},"","","BYE",""]
[15,{"$f":"IF(REG!B25<>\"\",REG!B25,\"\")","v":""},{"$f":"IF(REG!C25<>\"\",REG!G25,\"\")","v":""},null,null,null,null,"","",null,null,null,null,null,"","","","","","","","",{"$f":"IF(R26=\"\",\"\",COUNTIF(R12:R26,\"-\"))","v":""},"","","","","","","",{"$f":"IF(R26=\"\",\"\",IF(AD26=\"0\",\"0\",COUNTIF(AD12:AD25,AD26)))","v":""},"","","","","","","BYE",{"$f":"COUNTIF(AS12:AS26,\"W\")","v":0},{"$f":"IF(AR26=\"\",\"\",COUNTIF(AR12:AR26,\"-\"))","v":""},"","","BYE",""]
[16,{"$f":"IF(REG!B26<>\"\",REG!B26,\"\")","v":""},{"$f":"IF(REG!C26<>\"\",REG!G26,\"\")","v":""},null,null,null,null,"","",null,null,null,null,null,"","","","","","","","",{"$f":"IF(R27=\"\",\"\",COUNTIF(R12:R27,\"-\"))","v":""},"","","","","","","",{"$f":"IF(R27=\"\",\"\",IF(AD27=\"0\",\"0\",COUNTIF(AD12:AD26,AD27)))","v":""},"","","","","","","BYE",{"$f":"COUNTIF(AS12:AS27,\"W\")","v":0},{"$f":"IF(AR27=\"\",\"\",COUNTIF(AR12:AR27,\"-\"))","v":""},"","","BYE",""]
[17,{"$f":"IF(REG!B27<>\"\",REG!B27,\"\")","v":""},{"$f":"IF(REG!C27<>\"\",REG!G27,\"\")","v":""},null,null,null,null,"","",null,null,null,null,null,"","","","","","","","",{"$f":"IF(R28=\"\",\"\",COUNTIF(R12:R28,\"-\"))","v":""},"","","","","","","",{"$f":"IF(R28=\"\",\"\",IF(AD28=\"0\",\"0\",COUNTIF(AD12:AD27,AD28)))","v":""},"","","","","","","BYE",{"$f":"COUNTIF(AS12:AS28,\"W\")","v":0},{"$f":"IF(AR28=\"\",\"\",COUNTIF(AR12:AR28,\"-\"))","v":""},"","","BYE",""]
[18,{"$f":"IF(REG!B28<>\"\",REG!B28,\"\")","v":""},{"$f":"IF(REG!C28<>\"\",REG!G28,\"\")","v":""},null,null,null,null,"","",null,null,null,null,null,"","","","","","","","",{"$f":"IF(R29=\"\",\"\",COUNTIF(R12:R29,\"-\"))","v":""},"","","","","","","",{"$f":"IF(R29=\"\",\"\",IF(AD29=\"0\",\"0\",COUNTIF(AD12:AD28,AD29)))","v":""},"","","","","","","BYE",{"$f":"COUNTIF(AS12:AS29,\"W\")","v":0},{"$f":"IF(AR29=\"\",\"\",COUNTIF(AR12:AR29,\"-\"))","v":""},"","","BYE",""]
[19,{"$f":"IF(REG!B29<>\"\",REG!B29,\"\")","v":""},{"$f":"IF(REG!C29<>\"\",REG!G29,\"\")","v":""},null,null,null,null,"","",null,null,null,null,null,"","","","","","","","",{"$f":"IF(R30=\"\",\"\",COUNTIF(R12:R30,\"-\"))","v":""},"","","","","","","",{"$f":"IF(R30=\"\",\"\",IF(AD30=\"0\",\"0\",COUNTIF(AD12:AD29,AD30)))","v":""},"","","","","","","BYE",{"$f":"COUNTIF(AS12:AS30,\"W\")","v":0},{"$f":"IF(AR30=\"\",\"\",COUNTIF(AR12:AR30,\"-\"))","v":""},"","","BYE",""]
[20,{"$f":"IF(REG!B30<>\"\",REG!B30,\"\")","v":""},{"$f":"IF(REG!C30<>\"\",REG!G30,\"\")","v":""},null,null,null,null,"","",null,null,null,null,null,"","","","","","","","",{"$f":"IF(R31=\"\",\"\",COUNTIF(R12:R31,\"-\"))","v":""},"","","","","","","",{"$f":"IF(R31=\"\",\"\",IF(AD31=\"0\",\"0\",COUNTIF(AD12:AD30,AD31)))","v":""},"","","","","","","BYE",{"$f":"COUNTIF(AS12:AS31,\"W\")","v":0},{"$f":"IF(AR31=\"\",\"\",COUNTIF(AR12:AR31,\"-\"))","v":""},"","","BYE",""]
[21,{"$f":"IF(REG!B31<>\"\",REG!B31,\"\")","v":""},{"$f":"IF(REG!C31<>\"\",REG!G31,\"\")","v":""},null,null,null,null,"","",null,null,null,null,null,"","","","","","","","",{"$f":"IF(R32=\"\",\"\",COUNTIF(R12:R32,\"-\"))","v":""},"","","","","","","",{"$f":"IF(R32=\"\",\"\",IF(AD32=\"0\",\"0\",COUNTIF(AD12:AD31,AD32)))","v":""},"","","","","","","BYE",{"$f":"COUNTIF(AS12:AS32,\"W\")","v":0},{"$f":"IF(AR32=\"\",\"\",COUNTIF(AR12:AR32,\"-\"))","v":""},"","","BYE",""]
[22,{"$f":"IF(REG!B32<>\"\",REG!B32,\"\")","v":""},{"$f":"IF(REG!C32<>\"\",REG!G32,\"\")","v":""},null,null,null,null,"","",null,null,null,null,null,"","","","","","","","",{"$f":"IF(R33=\"\",\"\",COUNTIF(R12:R33,\"-\"))","v":""},"","","","","","","",{"$f":"IF(R33=\"\",\"\",IF(AD33=\"0\",\"0\",COUNTIF(AD12:AD32,AD33)))","v":""},"","","","","","","BYE",{"$f":"COUNTIF(AS12:AS33,\"W\")","v":0},{"$f":"IF(AR33=\"\",\"\",COUNTIF(AR12:AR33,\"-\"))","v":""},"","","BYE",""]
[23,{"$f":"IF(REG!B33<>\"\",REG!B33,\"\")","v":""},{"$f":"IF(REG!C33<>\"\",REG!G33,\"\")","v":""},null,null,null,null,"","",null,null,null,null,null,"","","","","","","","",{"$f":"IF(R34=\"\",\"\",COUNTIF(R12:R34,\"-\"))","v":""},"","","","","","","",{"$f":"IF(R34=\"\",\"\",IF(AD34=\"0\",\"0\",COUNTIF(AD12:AD33,AD34)))","v":""},"","","","","","","BYE",{"$f":"COUNTIF(AS12:AS34,\"W\")","v":0},{"$f":"IF(AR34=\"\",\"\",COUNTIF(AR12:AR34,\"-\"))","v":""},"","","BYE",""]
[24,{"$f":"IF(REG!B34<>\"\",REG!B34,\"\")","v":""},{"$f":"IF(REG!C34<>\"\",REG!G34,\"\")","v":""},null,null,null,null,"","",null,null,null,null,null,"","","","","","","","",{"$f":"IF(R35=\"\",\"\",COUNTIF(R12:R35,\"-\"))","v":""},"","","","","","","",{"$f":"IF(R35=\"\",\"\",IF(AD35=\"0\",\"0\",COUNTIF(AD12:AD34,AD35)))","v":""},"","","","","","","BYE",{"$f":"COUNTIF(AS12:AS35,\"W\")","v":0},{"$f":"IF(AR35=\"\",\"\",COUNTIF(AR12:AR35,\"-\"))","v":""},"","","BYE",""]
[25,{"$f":"IF(REG!B35<>\"\",REG!B35,\"\")","v":""},{"$f":"IF(REG!C35<>\"\",REG!G35,\"\")","v":""},null,null,null,null,"","",null,null,null,null,null,"","","","","","","","",{"$f":"IF(R36=\"\",\"\",COUNTIF(R12:R36,\"-\"))","v":""},"","","","","","","",{"$f":"IF(R36=\"\",\"\",IF(AD36=\"0\",\"0\",COUNTIF(AD12:AD35,AD36)))","v":""},"","","","","","","BYE",{"$f":"COUNTIF(AS12:AS36,\"W\")","v":0},{"$f":"IF(AR36=\"\",\"\",COUNTIF(AR12:AR36,\"-\"))","v":""},"","","BYE",""]
[26,{"$f":"IF(REG!B36<>\"\",REG!B36,\"\")","v":""},{"$f":"IF(REG!C36<>\"\",REG!G36,\"\")","v":""},null,null,null,null,"","",null,null,null,null,null,"","","","","","","","",{"$f":"IF(R37=\"\",\"\",COUNTIF(R12:R37,\"-\"))","v":""},"","","","","","","",{"$f":"IF(R37=\"\",\"\",IF(AD37=\"0\",\"0\",COUNTIF(AD12:AD36,AD37)))","v":""},"","","","","","","BYE",{"$f":"COUNTIF(AS12:AS37,\"W\")","v":0},{"$f":"IF(AR37=\"\",\"\",COUNTIF(AR12:AR37,\"-\"))","v":""},"","","BYE",""]
[27,{"$f":"IF(REG!B37<>\"\",REG!B37,\"\")","v":""},{"$f":"IF(REG!C37<>\"\",REG!G37,\"\")","v":""},null,null,null,null,"","",null,null,null,null,null,"","","","","","","","",{"$f":"IF(R38=\"\",\"\",COUNTIF(R12:R38,\"-\"))","v":""},"","","","","","","",{"$f":"IF(R38=\"\",\"\",IF(AD38=\"0\",\"0\",COUNTIF(AD12:AD37,AD38)))","v":""},"","","","","","","BYE",{"$f":"COUNTIF(AS12:AS38,\"W\")","v":0},{"$f":"IF(AR38=\"\",\"\",COUNTIF(AR12:AR38,\"-\"))","v":""},"","","BYE",""]
[28,{"$f":"IF(REG!B38<>\"\",REG!B38,\"\")","v":""},{"$f":"IF(REG!C38<>\"\",REG!G38,\"\")","v":""},null,null,null,null,"","",null,null,null,null,null,"","","","","","","","",{"$f":"IF(R39=\"\",\"\",COUNTIF(R12:R39,\"-\"))","v":""},"","","","","","","",{"$f":"IF(R39=\"\",\"\",IF(AD39=\"0\",\"0\",COUNTIF(AD12:AD38,AD39)))","v":""},"","","","","","","BYE",{"$f":"COUNTIF(AS12:AS39,\"W\")","v":0},{"$f":"IF(AR39=\"\",\"\",COUNTIF(AR12:AR39,\"-\"))","v":""},"","","BYE",""]
[29,{"$f":"IF(REG!B39<>\"\",REG!B39,\"\")","v":""},{"$f":"IF(REG!C39<>\"\",REG!G39,\"\")","v":""},null,null,null,null,"","",null,null,null,null,null,"","","","","","","","",{"$f":"IF(R40=\"\",\"\",COUNTIF(R12:R40,\"-\"))","v":""},"","","","","","","",{"$f":"IF(R40=\"\",\"\",IF(AD40=\"0\",\"0\",COUNTIF(AD12:AD39,AD40)))","v":""},"","","","","","","BYE",{"$f":"COUNTIF(AS12:AS40,\"W\")","v":0},{"$f":"IF(AR40=\"\",\"\",COUNTIF(AR12:AR40,\"-\"))","v":""},"","","BYE",""]
[30,{"$f":"IF(REG!B40<>\"\",REG!B40,\"\")","v":""},{"$f":"IF(REG!C40<>\"\",REG!G40,\"\")","v":""},null,null,null,null,"","",null,null,null,null,null,"","","","","","","","",{"$f":"IF(R41=\"\",\"\",COUNTIF(R12:R41,\"-\"))","v":""},"","","","","","","",{"$f":"IF(R41=\"\",\"\",IF(AD41=\"0\",\"0\",COUNTIF(AD12:AD40,AD41)))","v":""},"","","","","","","BYE",{"$f":"COUNTIF(AS12:AS41,\"W\")","v":0},{"$f":"IF(AR41=\"\",\"\",COUNTIF(AR12:AR41,\"-\"))","v":""},"","","BYE",""]
[31,{"$f":"IF(REG!B41<>\"\",REG!B41,\"\")","v":""},{"$f":"IF(REG!C41<>\"\",REG!G41,\"\")","v":""},null,null,null,null,"","",null,null,null,null,null,"","","","","","","","",{"$f":"IF(R42=\"\",\"\",COUNTIF(R12:R42,\"-\"))","v":""},"","","","","","","",{"$f":"IF(R42=\"\",\"\",IF(AD42=\"0\",\"0\",COUNTIF(AD12:AD41,AD42)))","v":""},"","","","","","","BYE",{"$f":"COUNTIF(AS12:AS42,\"W\")","v":0},{"$f":"IF(AR42=\"\",\"\",COUNTIF(AR12:AR42,\"-\"))","v":""},"","","BYE",""]
[32,{"$f":"IF(REG!B42<>\"\",REG!B42,\"\")","v":""},{"$f":"IF(REG!C42<>\"\",REG!G42,\"\")","v":""},null,null,null,null,"","",null,null,null,null,null,"","","","","","","","",{"$f":"IF(R43=\"\",\"\",COUNTIF(R12:R43,\"-\"))","v":""},"","","","","","","",{"$f":"IF(R43=\"\",\"\",IF(AD43=\"0\",\"0\",COUNTIF(AD12:AD42,AD43)))","v":""},"","","","","","","BYE",{"$f":"COUNTIF(AS12:AS43,\"W\")","v":0},{"$f":"IF(AR43=\"\",\"\",COUNTIF(AR12:AR43,\"-\"))","v":""},"","","BYE",""]
[33,{"$f":"IF(REG!B43<>\"\",REG!B43,\"\")","v":""},{"$f":"IF(REG!C43<>\"\",REG!G43,\"\")","v":""},null,null,null,null,"","",null,null,null,null,null,"","","",{"$f":"IF(AND(ISBLANK(D44),ISBLANK(K44)),\"\",IF(AND(H44=\"-\",O44=\"-\"),\"-\",IF(AND(H44=\"-\",ISBLANK(K44)),\"-\",MIN(H44,O44))))","v":""},"","","","",{"$f":"IF(R44=\"\",\"\",COUNTIF(R12:R44,\"-\"))","v":""},"","","","","","","",{"$f":"IF(R44=\"\",\"\",IF(AD44=\"0\",\"0\",COUNTIF(AD12:AD43,AD44)))","v":""},"","","","","","","BYE",{"$f":"COUNTIF(AS12:AS44,\"W\")","v":0},{"$f":"IF(AR44=\"\",\"\",COUNTIF(AR12:AR44,\"-\"))","v":""},"","","BYE",""]
[34,{"$f":"IF(REG!B44<>\"\",REG!B44,\"\")","v":""},{"$f":"IF(REG!C44<>\"\",REG!G44,\"\")","v":""},null,null,null,null,"","",null,null,null,null,null,"","","","","","","","",{"$f":"IF(R45=\"\",\"\",COUNTIF(R12:R45,\"-\"))","v":""},"","","","","","","",{"$f":"IF(R45=\"\",\"\",IF(AD45=\"0\",\"0\",COUNTIF(AD12:AD44,AD45)))","v":""},"","","","","","","BYE",{"$f":"COUNTIF(AS12:AS45,\"W\")","v":0},{"$f":"IF(AR45=\"\",\"\",COUNTIF(AR12:AR45,\"-\"))","v":""},"","","BYE",""]
[35,{"$f":"IF(REG!B45<>\"\",REG!B45,\"\")","v":""},{"$f":"IF(REG!C45<>\"\",REG!G45,\"\")","v":""},null,null,null,null,"","",null,null,null,null,null,"","","","","","","","",{"$f":"IF(R46=\"\",\"\",COUNTIF(R12:R46,\"-\"))","v":""},"","","","","","","",{"$f":"IF(R46=\"\",\"\",IF(AD46=\"0\",\"0\",COUNTIF(AD12:AD45,AD46)))","v":""},"","","","","","","BYE",{"$f":"COUNTIF(AS12:AS46,\"W\")","v":0},{"$f":"IF(AR46=\"\",\"\",COUNTIF(AR12:AR46,\"-\"))","v":""},"","","BYE",""]
[36,{"$f":"IF(REG!B46<>\"\",REG!B46,\"\")","v":""},{"$f":"IF(REG!C46<>\"\",REG!G46,\"\")","v":""},null,null,null,null,"","",null,null,null,null,null,"","","","","","","","",{"$f":"IF(R47=\"\",\"\",COUNTIF(R12:R47,\"-\"))","v":""},"","","","","","","",{"$f":"IF(R47=\"\",\"\",IF(AD47=\"0\",\"0\",COUNTIF(AD12:AD46,AD47)))","v":""},"","","","","","","BYE",{"$f":"COUNTIF(AS12:AS47,\"W\")","v":0},{"$f":"IF(AR47=\"\",\"\",COUNTIF(AR12:AR47,\"-\"))","v":""},"","","BYE",""]
[37,{"$f":"IF(REG!B47<>\"\",REG!B47,\"\")","v":""},{"$f":"IF(REG!C47<>\"\",REG!G47,\"\")","v":""},null,null,null,null,"","",null,null,null,null,null,"","","","","","","","",{"$f":"IF(R48=\"\",\"\",COUNTIF(R12:R48,\"-\"))","v":""},"","","","","","","",{"$f":"IF(R48=\"\",\"\",IF(AD48=\"0\",\"0\",COUNTIF(AD12:AD47,AD48)))","v":""},"","","","","","","BYE",{"$f":"COUNTIF(AS12:AS48,\"W\")","v":0},{"$f":"IF(AR48=\"\",\"\",COUNTIF(AR12:AR48,\"-\"))","v":""},"","","BYE",""]
[38,{"$f":"IF(REG!B48<>\"\",REG!B48,\"\")","v":""},{"$f":"IF(REG!C48<>\"\",REG!G48,\"\")","v":""},null,null,null,null,"","",null,null,null,null,null,"","","","","","","","",{"$f":"IF(R49=\"\",\"\",COUNTIF(R12:R49,\"-\"))","v":""},"","","","","","","",{"$f":"IF(R49=\"\",\"\",IF(AD49=\"0\",\"0\",COUNTIF(AD12:AD48,AD49)))","v":""},"","","","","","","BYE",{"$f":"COUNTIF(AS12:AS49,\"W\")","v":0},{"$f":"IF(AR49=\"\",\"\",COUNTIF(AR12:AR49,\"-\"))","v":""},"","","BYE",""]
[39,{"$f":"IF(REG!B49<>\"\",REG!B49,\"\")","v":""},{"$f":"IF(REG!C49<>\"\",REG!G49,\"\")","v":""},null,null,null,null,"","",null,null,null,null,null,"","","","","","","","",{"$f":"IF(R50=\"\",\"\",COUNTIF(R12:R50,\"-\"))","v":""},"","","","","","","",{"$f":"IF(R50=\"\",\"\",IF(AD50=\"0\",\"0\",COUNTIF(AD12:AD49,AD50)))","v":""},"","","","","","","BYE",{"$f":"COUNTIF(AS12:AS50,\"W\")","v":0},{"$f":"IF(AR50=\"\",\"\",COUNTIF(AR12:AR50,\"-\"))","v":""},"","","BYE",""]
[40,{"$f":"IF(REG!B50<>\"\",REG!B50,\"\")","v":""},{"$f":"IF(REG!C50<>\"\",REG!G50,\"\")","v":""},null,null,null,null,"","",null,null,null,null,null,"","","","","","","","",{"$f":"IF(R51=\"\",\"\",COUNTIF(R12:R51,\"-\"))","v":""},"","","","","","","",{"$f":"IF(R51=\"\",\"\",IF(AD51=\"0\",\"0\",COUNTIF(AD12:AD50,AD51)))","v":""},"","","","","","","BYE",{"$f":"COUNTIF(AS12:AS51,\"W\")","v":0},{"$f":"IF(AR51=\"\",\"\",COUNTIF(AR12:AR51,\"-\"))","v":""},"","","BYE",""]
[41,{"$f":"IF(REG!B51<>\"\",REG!B51,\"\")","v":""},{"$f":"IF(REG!C51<>\"\",REG!G51,\"\")","v":""},null,null,null,null,"","",null,null,null,null,null,"","","","","","","","",{"$f":"IF(R52=\"\",\"\",COUNTIF(R12:R52,\"-\"))","v":""},"","","","","","","",{"$f":"IF(R52=\"\",\"\",IF(AD52=\"0\",\"0\",COUNTIF(AD12:AD51,AD52)))","v":""},"","","","","","","BYE",{"$f":"COUNTIF(AS12:AS52,\"W\")","v":0},{"$f":"IF(AR52=\"\",\"\",COUNTIF(AR12:AR52,\"-\"))","v":""},"","","BYE",""]
[42,{"$f":"IF(REG!B52<>\"\",REG!B52,\"\")","v":""},{"$f":"IF(REG!C52<>\"\",REG!G52,\"\")","v":""},null,null,null,null,"","",null,null,null,null,null,"","","","","","","","",{"$f":"IF(R53=\"\",\"\",COUNTIF(R12:R53,\"-\"))","v":""},"","","","","","","",{"$f":"IF(R53=\"\",\"\",IF(AD53=\"0\",\"0\",COUNTIF(AD12:AD52,AD53)))","v":""},"","","","","","","BYE",{"$f":"COUNTIF(AS12:AS53,\"W\")","v":0},{"$f":"IF(AR53=\"\",\"\",COUNTIF(AR12:AR53,\"-\"))","v":""},"","","BYE",""]
[43,{"$f":"IF(REG!B53<>\"\",REG!B53,\"\")","v":""},{"$f":"IF(REG!C53<>\"\",REG!G53,\"\")","v":""},null,null,null,null,"","",null,null,null,null,null,"","","","","","","","",{"$f":"IF(R54=\"\",\"\",COUNTIF(R12:R54,\"-\"))","v":""},"","","","","","","",{"$f":"IF(R54=\"\",\"\",IF(AD54=\"0\",\"0\",COUNTIF(AD12:AD53,AD54)))","v":""},"","","","","","","BYE",{"$f":"COUNTIF(AS12:AS54,\"W\")","v":0},{"$f":"IF(AR54=\"\",\"\",COUNTIF(AR12:AR54,\"-\"))","v":""},"","","BYE",""]
[44,{"$f":"IF(REG!B54<>\"\",REG!B54,\"\")","v":""},{"$f":"IF(REG!C54<>\"\",REG!G54,\"\")","v":""},null,null,null,null,"","",null,null,null,null,null,"","","","","","","","",{"$f":"IF(R55=\"\",\"\",COUNTIF(R12:R55,\"-\"))","v":""},"","","","","","","",{"$f":"IF(R55=\"\",\"\",IF(AD55=\"0\",\"0\",COUNTIF(AD12:AD54,AD55)))","v":""},"","","","","","","BYE",{"$f":"COUNTIF(AS12:AS55,\"W\")","v":0},{"$f":"IF(AR55=\"\",\"\",COUNTIF(AR12:AR55,\"-\"))","v":""},"","","BYE",""]
[45,{"$f":"IF(REG!B55<>\"\",REG!B55,\"\")","v":""},{"$f":"IF(REG!C55<>\"\",REG!G55,\"\")","v":""},null,null,null,null,"","",null,null,null,null,null,"","","","","","","","",{"$f":"IF(R56=\"\",\"\",COUNTIF(R12:R56,\"-\"))","v":""},"","","","","","","",{"$f":"IF(R56=\"\",\"\",IF(AD56=\"0\",\"0\",COUNTIF(AD12:AD55,AD56)))","v":""},"","","","","","","BYE",{"$f":"COUNTIF(AS12:AS56,\"W\")","v":0},{"$f":"IF(AR56=\"\",\"\",COUNTIF(AR12:AR56,\"-\"))","v":""},"","","BYE",""]
[46,{"$f":"IF(REG!B56<>\"\",REG!B56,\"\")","v":""},{"$f":"IF(REG!C56<>\"\",REG!G56,\"\")","v":""},null,null,null,null,"","",null,null,null,null,null,"","","","","","","","",{"$f":"IF(R57=\"\",\"\",COUNTIF(R12:R57,\"-\"))","v":""},"","","","","","","",{"$f":"IF(R57=\"\",\"\",IF(AD57=\"0\",\"0\",COUNTIF(AD12:AD56,AD57)))","v":""},"","","","","","","BYE",{"$f":"COUNTIF(AS12:AS57,\"W\")","v":0},{"$f":"IF(AR57=\"\",\"\",COUNTIF(AR12:AR57,\"-\"))","v":""},"","","BYE",""]
[47,{"$f":"IF(REG!B57<>\"\",REG!B57,\"\")","v":""},{"$f":"IF(REG!C57<>\"\",REG!G57,\"\")","v":""},null,null,null,null,"","",null,null,null,null,null,"","","","","","","","",{"$f":"IF(R58=\"\",\"\",COUNTIF(R12:R58,\"-\"))","v":""},"","","","","","","",{"$f":"IF(R58=\"\",\"\",IF(AD58=\"0\",\"0\",COUNTIF(AD12:AD57,AD58)))","v":""},"","","","","","","BYE",{"$f":"COUNTIF(AS12:AS58,\"W\")","v":0},{"$f":"IF(AR58=\"\",\"\",COUNTIF(AR12:AR58,\"-\"))","v":""},"","","BYE",""]
[48,{"$f":"IF(REG!B58<>\"\",REG!B58,\"\")","v":""},{"$f":"IF(REG!C58<>\"\",REG!G58,\"\")","v":""},null,null,null,null,"","",null,null,null,null,null,"","","","","","","","",{"$f":"IF(R59=\"\",\"\",COUNTIF(R12:R59,\"-\"))","v":""},"","","","","","","",{"$f":"IF(R59=\"\",\"\",IF(AD59=\"0\",\"0\",COUNTIF(AD12:AD58,AD59)))","v":""},"","","","","","","BYE",{"$f":"COUNTIF(AS12:AS59,\"W\")","v":0},{"$f":"IF(AR59=\"\",\"\",COUNTIF(AR12:AR59,\"-\"))","v":""},"","","BYE",""]
[49,{"$f":"IF(REG!B59<>\"\",REG!B59,\"\")","v":""},{"$f":"IF(REG!C59<>\"\",REG!G59,\"\")","v":""},null,null,null,null,"","",null,null,null,null,null,"","","","","","","","",{"$f":"IF(R60=\"\",\"\",COUNTIF(R12:R60,\"-\"))","v":""},"","","","","","","",{"$f":"IF(R60=\"\",\"\",IF(AD60=\"0\",\"0\",COUNTIF(AD12:AD59,AD60)))","v":""},"","","","","","","BYE",{"$f":"COUNTIF(AS12:AS60,\"W\")","v":0},{"$f":"IF(AR60=\"\",\"\",COUNTIF(AR12:AR60,\"-\"))","v":""},"","","BYE",""]
[50,{"$f":"IF(REG!B60<>\"\",REG!B60,\"\")","v":""},{"$f":"IF(REG!C60<>\"\",REG!G60,\"\")","v":""},null,null,null,null,"","",null,null,null,null,null,"","","","","","","","",{"$f":"IF(R61=\"\",\"\",COUNTIF(R12:R61,\"-\"))","v":""},"","","","","","","",{"$f":"IF(R61=\"\",\"\",IF(AD61=\"0\",\"0\",COUNTIF(AD12:AD60,AD61)))","v":""},"","","","","","","BYE",{"$f":"COUNTIF(AS12:AS61,\"W\")","v":0},{"$f":"IF(AR61=\"\",\"\",COUNTIF(AR12:AR61,\"-\"))","v":""},"","","BYE",""]
[51,{"$f":"IF(REG!B61<>\"\",REG!B61,\"\")","v":""},{"$f":"IF(REG!C61<>\"\",REG!G61,\"\")","v":""},null,null,null,null,"","",null,null,null,null,null,"","","","","","","","",{"$f":"IF(R62=\"\",\"\",COUNTIF(R12:R62,\"-\"))","v":""},"","","","","","","",{"$f":"IF(R62=\"\",\"\",IF(AD62=\"0\",\"0\",COUNTIF(AD12:AD61,AD62)))","v":""},"","","","","","","BYE",{"$f":"COUNTIF(AS12:AS62,\"W\")","v":0},{"$f":"IF(AR62=\"\",\"\",COUNTIF(AR12:AR62,\"-\"))","v":""},"","","BYE",""]
[52,{"$f":"IF(REG!B62<>\"\",REG!B62,\"\")","v":""},{"$f":"IF(REG!C62<>\"\",REG!G62,\"\")","v":""},null,null,null,null,"","",null,null,null,null,null,"","","","","","","","",{"$f":"IF(R63=\"\",\"\",COUNTIF(R12:R63,\"-\"))","v":""},"","","","","","","",{"$f":"IF(R63=\"\",\"\",IF(AD63=\"0\",\"0\",COUNTIF(AD12:AD62,AD63)))","v":""},"","","","","","","BYE",{"$f":"COUNTIF(AS12:AS63,\"W\")","v":0},{"$f":"IF(AR63=\"\",\"\",COUNTIF(AR12:AR63,\"-\"))","v":""},"","","BYE",""]
[53,{"$f":"IF(REG!B63<>\"\",REG!B63,\"\")","v":""},{"$f":"IF(REG!C63<>\"\",REG!G63,\"\")","v":""},null,null,null,null,"","",null,null,null,null,null,"","","","","","","","",{"$f":"IF(R64=\"\",\"\",COUNTIF(R12:R64,\"-\"))","v":""},"","","","","","","",{"$f":"IF(R64=\"\",\"\",IF(AD64=\"0\",\"0\",COUNTIF(AD12:AD63,AD64)))","v":""},"","","","","","","BYE",{"$f":"COUNTIF(AS12:AS64,\"W\")","v":0},{"$f":"IF(AR64=\"\",\"\",COUNTIF(AR12:AR64,\"-\"))","v":""},"","","BYE",""]
[54,{"$f":"IF(REG!B64<>\"\",REG!B64,\"\")","v":""},{"$f":"IF(REG!C64<>\"\",REG!G64,\"\")","v":""},null,null,null,null,"","",null,null,null,null,null,"","","","","","","","",{"$f":"IF(R65=\"\",\"\",COUNTIF(R12:R65,\"-\"))","v":""},"","","","","","","",{"$f":"IF(R65=\"\",\"\",IF(AD65=\"0\",\"0\",COUNTIF(AD12:AD64,AD65)))","v":""},"","","","","","","BYE",{"$f":"COUNTIF(AS12:AS65,\"W\")","v":0},{"$f":"IF(AR65=\"\",\"\",COUNTIF(AR12:AR65,\"-\"))","v":""},"","","BYE",""]
[55,{"$f":"IF(REG!B65<>\"\",REG!B65,\"\")","v":""},{"$f":"IF(REG!C65<>\"\",REG!G65,\"\")","v":""},null,null,null,null,"","",null,null,null,null,null,"","","","","","","","",{"$f":"IF(R66=\"\",\"\",COUNTIF(R12:R66,\"-\"))","v":""},"","","","","","","",{"$f":"IF(R66=\"\",\"\",IF(AD66=\"0\",\"0\",COUNTIF(AD12:AD65,AD66)))","v":""},"","","","","","","BYE",{"$f":"COUNTIF(AS12:AS66,\"W\")","v":0},{"$f":"IF(AR66=\"\",\"\",COUNTIF(AR12:AR66,\"-\"))","v":""},"","","BYE",""]
[56,{"$f":"IF(REG!B66<>\"\",REG!B66,\"\")","v":""},{"$f":"IF(REG!C66<>\"\",REG!G66,\"\")","v":""},null,null,null,null,"","",null,null,null,null,null,"","","","","","","","",{"$f":"IF(R67=\"\",\"\",COUNTIF(R12:R67,\"-\"))","v":""},"","","","","","","",{"$f":"IF(R67=\"\",\"\",IF(AD67=\"0\",\"0\",COUNTIF(AD12:AD66,AD67)))","v":""},"","","","","","","BYE",{"$f":"COUNTIF(AS12:AS67,\"W\")","v":0},{"$f":"IF(AR67=\"\",\"\",COUNTIF(AR12:AR67,\"-\"))","v":""},"","","BYE",""]
[57,{"$f":"IF(REG!B67<>\"\",REG!B67,\"\")","v":""},{"$f":"IF(REG!C67<>\"\",REG!G67,\"\")","v":""},null,null,null,null,"","",null,null,null,null,null,"","","","","","","","",{"$f":"IF(R68=\"\",\"\",COUNTIF(R12:R68,\"-\"))","v":""},"","","","","","","",{"$f":"IF(R68=\"\",\"\",IF(R68=\"\",\"\",IF(AD68=\"0\",\"0\",COUNTIF(AD12:AD67,AD68))))","v":""},"","","","","","","BYE",{"$f":"COUNTIF(AS12:AS68,\"W\")","v":0},{"$f":"IF(AR68=\"\",\"\",COUNTIF(AR12:AR68,\"-\"))","v":""},"","","BYE",""]
[58,{"$f":"IF(REG!B68<>\"\",REG!B68,\"\")","v":""},{"$f":"IF(REG!C68<>\"\",REG!G68,\"\")","v":""},null,null,null,null,"","",null,null,null,null,null,"","","","","","","","",{"$f":"IF(R69=\"\",\"\",COUNTIF(R12:R69,\"-\"))","v":""},"","","","","","","",{"$f":"IF(R69=\"\",\"\",IF(R69=\"\",\"\",IF(AD69=\"0\",\"0\",COUNTIF(AD12:AD68,AD69))))","v":""},"","","","","","","BYE",{"$f":"COUNTIF(AS12:AS69,\"W\")","v":0},{"$f":"IF(AR69=\"\",\"\",COUNTIF(AR12:AR69,\"-\"))","v":""},"","","BYE",""]
[59,{"$f":"IF(REG!B69<>\"\",REG!B69,\"\")","v":""},{"$f":"IF(REG!C69<>\"\",REG!G69,\"\")","v":""},null,null,null,null,"","",null,null,null,null,null,"","","","","","","","",{"$f":"IF(R70=\"\",\"\",COUNTIF(R12:R70,\"-\"))","v":""},"","","","","","","",{"$f":"IF(R70=\"\",\"\",IF(R70=\"\",\"\",IF(AD70=\"0\",\"0\",COUNTIF(AD12:AD69,AD70))))","v":""},"","","","","","","BYE",{"$f":"COUNTIF(AS12:AS70,\"W\")","v":0},{"$f":"IF(AR70=\"\",\"\",COUNTIF(AR12:AR70,\"-\"))","v":""},"","","BYE",""]
[60,{"$f":"IF(REG!B70<>\"\",REG!B70,\"\")","v":""},{"$f":"IF(REG!C70<>\"\",REG!G70,\"\")","v":""},null,null,null,null,"","",null,null,null,null,null,"","","","","","","","",{"$f":"IF(R71=\"\",\"\",COUNTIF(R12:R71,\"-\"))","v":""},"","","","","","","",{"$f":"IF(R71=\"\",\"\",IF(AD71=\"0\",\"0\",COUNTIF(AD12:AD70,AD71)))","v":""},"","","","","","","BYE",{"$f":"COUNTIF(AS12:AS71,\"W\")","v":0},{"$f":"IF(AR71=\"\",\"\",COUNTIF(AR12:AR71,\"-\"))","v":""},"","","BYE",""]
[61,{"$f":"IF(REG!B71<>\"\",REG!B71,\"\")","v":""},{"$f":"IF(REG!C71<>\"\",REG!G71,\"\")","v":""},null,null,null,null,"","",null,null,null,null,null,"","","","","","","","",{"$f":"IF(R72=\"\",\"\",COUNTIF(R12:R72,\"-\"))","v":""},"","","","","","","",{"$f":"IF(R72=\"\",\"\",IF(AD72=\"0\",\"0\",COUNTIF(AD52:AD71,AD72)))","v":""},"","","","","","","BYE",{"$f":"COUNTIF(AS12:AS72,\"W\")","v":0},{"$f":"IF(AR72=\"\",\"\",COUNTIF(AR12:AR72,\"-\"))","v":""},"","","BYE",""]
[62,{"$f":"IF(REG!B72<>\"\",REG!B72,\"\")","v":""},{"$f":"IF(REG!C72<>\"\",REG!G72,\"\")","v":""},null,null,null,null,"","",null,null,null,null,null,"","","","","","","","",{"$f":"IF(R73=\"\",\"\",COUNTIF(R12:R73,\"-\"))","v":""},"","","","","","","",{"$f":"IF(R73=\"\",\"\",IF(AD73=\"0\",\"0\",COUNTIF(AD12:AD72,AD73)))","v":""},"","","","","","","BYE",{"$f":"COUNTIF(AS12:AS73,\"W\")","v":0},{"$f":"IF(AR73=\"\",\"\",COUNTIF(AR12:AR73,\"-\"))","v":""},"","","BYE",""]
[63,{"$f":"IF(REG!B73<>\"\",REG!B73,\"\")","v":""},{"$f":"IF(REG!C73<>\"\",REG!G73,\"\")","v":""},null,null,null,null,"","",null,null,null,null,null,"","","","","","","","",{"$f":"IF(R74=\"\",\"\",COUNTIF(R12:R74,\"-\"))","v":""},"","","","","","","",{"$f":"IF(R74=\"\",\"\",IF(AD74=\"0\",\"0\",COUNTIF(AD12:AD73,AD74)))","v":""},"","","","","","","BYE",{"$f":"COUNTIF(AS12:AS74,\"W\")","v":0},{"$f":"IF(AR74=\"\",\"\",COUNTIF(AR12:AR74,\"-\"))","v":""},"","","BYE",""]
[64,{"$f":"IF(REG!B74<>\"\",REG!B74,\"\")","v":""},{"$f":"IF(REG!C74<>\"\",REG!G74,\"\")","v":""},null,null,null,null,"","",null,null,null,null,null,"","","","","","","","",{"$f":"IF(R75=\"\",\"\",COUNTIF(R12:R75,\"-\"))","v":""},"","","","","","","",{"$f":"IF(R75=\"\",\"\",IF(AD75=\"0\",\"0\",COUNTIF(AD12:AD74,AD75)))","v":""},"","","","","","","BYE",{"$f":"COUNTIF(AS12:AS75,\"W\")","v":0},{"$f":"IF(AR75=\"\",\"\",COUNTIF(AR12:AR75,\"-\"))","v":""},"","","BYE",""]
[65,{"$f":"IF(REG!B75<>\"\",REG!B75,\"\")","v":""},{"$f":"IF(REG!C75<>\"\",REG!G75,\"\")","v":""},null,null,null,null,"","",null,null,null,null,null,"","","",{"$f":"IF(AND(ISBLANK(D76),ISBLANK(K76)),\"\",IF(AND(H76=\"-\",O76=\"-\"),\"-\",IF(AND(H76=\"-\",ISBLANK(K76)),\"-\",MIN(H76,O76))))","v":""},"","","","",{"$f":"IF(R76=\"\",\"\",COUNTIF(R12:R76,\"-\"))","v":""},"","","","","","","",{"$f":"IF(R76=\"\",\"\",IF(AD76=\"0\",\"0\",COUNTIF(AD12:AD75,AD76)))","v":""},"","","","","","","BYE",{"$f":"COUNTIF(AS12:AS76,\"W\")","v":0},{"$f":"IF(AR76=\"\",\"\",COUNTIF(AR12:AR76,\"-\"))","v":""},"","","BYE",""]
[66,{"$f":"IF(REG!B76<>\"\",REG!B76,\"\")","v":""},{"$f":"IF(REG!C76<>\"\",REG!G76,\"\")","v":""},null,null,null,null,"","",null,null,null,null,null,"","","","","","","","",{"$f":"IF(R77=\"\",\"\",COUNTIF(R12:R77,\"-\"))","v":""},"","","","","","","",{"$f":"IF(R77=\"\",\"\",IF(AD77=\"0\",\"0\",COUNTIF(AD12:AD76,AD77)))","v":""},"","","","","","","BYE",{"$f":"COUNTIF(AS12:AS77,\"W\")","v":0},{"$f":"IF(AR77=\"\",\"\",COUNTIF(AR12:AR77,\"-\"))","v":""},"","","BYE",""]
[67,{"$f":"IF(REG!B77<>\"\",REG!B77,\"\")","v":""},{"$f":"IF(REG!C77<>\"\",REG!G77,\"\")","v":""},null,null,null,null,"","",null,null,null,null,null,"","","","","","","","",{"$f":"IF(R78=\"\",\"\",COUNTIF(R12:R78,\"-\"))","v":""},"","","","","","","",{"$f":"IF(R78=\"\",\"\",IF(AD78=\"0\",\"0\",COUNTIF(AD12:AD77,AD78)))","v":""},"","","","","","","BYE",{"$f":"COUNTIF(AS12:AS78,\"W\")","v":0},{"$f":"IF(AR78=\"\",\"\",COUNTIF(AR12:AR78,\"-\"))","v":""},"","","BYE",""]
[68,{"$f":"IF(REG!B78<>\"\",REG!B78,\"\")","v":""},{"$f":"IF(REG!C78<>\"\",REG!G78,\"\")","v":""},null,null,null,null,"","",null,null,null,null,null,"","","","","","","","",{"$f":"IF(R79=\"\",\"\",COUNTIF(R12:R79,\"-\"))","v":""},"","","","","","","",{"$f":"IF(R79=\"\",\"\",IF(AD79=\"0\",\"0\",COUNTIF(AD12:AD78,AD79)))","v":""},"","","","","","","BYE",{"$f":"COUNTIF(AS12:AS79,\"W\")","v":0},{"$f":"IF(AR79=\"\",\"\",COUNTIF(AR12:AR79,\"-\"))","v":""},"","","BYE",""]
[69,{"$f":"IF(REG!B79<>\"\",REG!B79,\"\")","v":""},{"$f":"IF(REG!C79<>\"\",REG!G79,\"\")","v":""},null,null,null,null,"","",null,null,null,null,null,"","","","","","","","",{"$f":"IF(R80=\"\",\"\",COUNTIF(R12:R80,\"-\"))","v":""},"","","","","","","",{"$f":"IF(R80=\"\",\"\",IF(AD80=\"0\",\"0\",COUNTIF(AD12:AD79,AD80)))","v":""},"","","","","","","BYE",{"$f":"COUNTIF(AS12:AS80,\"W\")","v":0},{"$f":"IF(AR80=\"\",\"\",COUNTIF(AR12:AR80,\"-\"))","v":""},"","","BYE",""]
[70,{"$f":"IF(REG!B80<>\"\",REG!B80,\"\")","v":""},{"$f":"IF(REG!C80<>\"\",REG!G80,\"\")","v":""},null,null,null,null,"","",null,null,null,null,null,"","","","","","","","",{"$f":"IF(R81=\"\",\"\",COUNTIF(R12:R81,\"-\"))","v":""},"","","","","","","",{"$f":"IF(R81=\"\",\"\",IF(AD81=\"0\",\"0\",COUNTIF(AD12:AD80,AD81)))","v":""},"","","","","","","BYE",{"$f":"COUNTIF(AS12:AS81,\"W\")","v":0},{"$f":"IF(AR81=\"\",\"\",COUNTIF(AR12:AR81,\"-\"))","v":""},"","","BYE",""]
[71,{"$f":"IF(REG!B81<>\"\",REG!B81,\"\")","v":""},{"$f":"IF(REG!C81<>\"\",REG!G81,\"\")","v":""},null,null,null,null,"","",null,null,null,null,null,"","","","","","","","",{"$f":"IF(R82=\"\",\"\",COUNTIF(R12:R82,\"-\"))","v":""},"","","","","","","",{"$f":"IF(R82=\"\",\"\",IF(AD82=\"0\",\"0\",COUNTIF(AD12:AD81,AD82)))","v":""},"","","","","","","BYE",{"$f":"COUNTIF(AS12:AS82,\"W\")","v":0},{"$f":"IF(AR82=\"\",\"\",COUNTIF(AR12:AR82,\"-\"))","v":""},"","","BYE",""]
[72,{"$f":"IF(REG!B82<>\"\",REG!B82,\"\")","v":""},{"$f":"IF(REG!C82<>\"\",REG!G82,\"\")","v":""},null,null,null,null,"","",null,null,null,null,null,"","","","","","","","",{"$f":"IF(R83=\"\",\"\",COUNTIF(R12:R83,\"-\"))","v":""},"","","","","","","",{"$f":"IF(R83=\"\",\"\",IF(AD83=\"0\",\"0\",COUNTIF(AD12:AD82,AD83)))","v":""},"","","","","","","BYE",{"$f":"COUNTIF(AS12:AS83,\"W\")","v":0},{"$f":"IF(AR83=\"\",\"\",COUNTIF(AR12:AR83,\"-\"))","v":""},"","","BYE",""]
[73,{"$f":"IF(REG!B83<>\"\",REG!B83,\"\")","v":""},{"$f":"IF(REG!C83<>\"\",REG!G83,\"\")","v":""},null,null,null,null,"","",null,null,null,null,null,"","","","","","","","",{"$f":"IF(R84=\"\",\"\",COUNTIF(R12:R84,\"-\"))","v":""},"","","","","","","",{"$f":"IF(R84=\"\",\"\",IF(AD84=\"0\",\"0\",COUNTIF(AD12:AD83,AD84)))","v":""},"","","","","","","BYE",{"$f":"COUNTIF(AS12:AS84,\"W\")","v":0},{"$f":"IF(AR84=\"\",\"\",COUNTIF(AR12:AR84,\"-\"))","v":""},"","","BYE",""]
[74,{"$f":"IF(REG!B84<>\"\",REG!B84,\"\")","v":""},{"$f":"IF(REG!C84<>\"\",REG!G84,\"\")","v":""},null,null,null,null,"","",null,null,null,null,null,"","","","","","","","",{"$f":"IF(R85=\"\",\"\",COUNTIF(R12:R85,\"-\"))","v":""},"","","","","","","",{"$f":"IF(R85=\"\",\"\",IF(AD85=\"0\",\"0\",COUNTIF(AD12:AD84,AD85)))","v":""},"","","","","","","BYE",{"$f":"COUNTIF(AS12:AS85,\"W\")","v":0},{"$f":"IF(AR85=\"\",\"\",COUNTIF(AR12:AR85,\"-\"))","v":""},"","","BYE",""]
[75,{"$f":"IF(REG!B85<>\"\",REG!B85,\"\")","v":""},{"$f":"IF(REG!C85<>\"\",REG!G85,\"\")","v":""},null,null,null,null,"","",null,null,null,null,null,"","","","","","","","",{"$f":"IF(R86=\"\",\"\",COUNTIF(R12:R86,\"-\"))","v":""},"","","","","","","",{"$f":"IF(R86=\"\",\"\",IF(AD86=\"0\",\"0\",COUNTIF(AD12:AD85,AD86)))","v":""},"","","","","","","BYE",{"$f":"COUNTIF(AS12:AS86,\"W\")","v":0},{"$f":"IF(AR86=\"\",\"\",COUNTIF(AR12:AR86,\"-\"))","v":""},"","","BYE",""]
[76,{"$f":"IF(REG!B86<>\"\",REG!B86,\"\")","v":""},{"$f":"IF(REG!C86<>\"\",REG!G86,\"\")","v":""},null,null,null,null,"","",null,null,null,null,null,"","","","","","","","",{"$f":"IF(R87=\"\",\"\",COUNTIF(R12:R87,\"-\"))","v":""},"","","","","","","",{"$f":"IF(R87=\"\",\"\",IF(AD87=\"0\",\"0\",COUNTIF(AD12:AD86,AD87)))","v":""},"","","","","","","BYE",{"$f":"COUNTIF(AS12:AS87,\"W\")","v":0},{"$f":"IF(AR87=\"\",\"\",COUNTIF(AR12:AR87,\"-\"))","v":""},"","","BYE",""]
[77,{"$f":"IF(REG!B87<>\"\",REG!B87,\"\")","v":""},{"$f":"IF(REG!C87<>\"\",REG!G87,\"\")","v":""},null,null,null,null,"","",null,null,null,null,null,"","","","","","","","",{"$f":"IF(R88=\"\",\"\",COUNTIF(R12:R88,\"-\"))","v":""},"","","","","","","",{"$f":"IF(R88=\"\",\"\",IF(AD88=\"0\",\"0\",COUNTIF(AD12:AD87,AD88)))","v":""},"","","","","","","BYE",{"$f":"COUNTIF(AS12:AS88,\"W\")","v":0},{"$f":"IF(AR88=\"\",\"\",COUNTIF(AR12:AR88,\"-\"))","v":""},"","","BYE",""]
[78,{"$f":"IF(REG!B88<>\"\",REG!B88,\"\")","v":""},{"$f":"IF(REG!C88<>\"\",REG!G88,\"\")","v":""},null,null,null,null,"","",null,null,null,null,null,"","","","","","","","",{"$f":"IF(R89=\"\",\"\",COUNTIF(R12:R89,\"-\"))","v":""},"","","","","","","",{"$f":"IF(R89=\"\",\"\",IF(AD89=\"0\",\"0\",COUNTIF(AD12:AD88,AD89)))","v":""},"","","","","","","BYE",{"$f":"COUNTIF(AS12:AS89,\"W\")","v":0},{"$f":"IF(AR89=\"\",\"\",COUNTIF(AR12:AR89,\"-\"))","v":""},"","","BYE",""]
[79,{"$f":"IF(REG!B89<>\"\",REG!B89,\"\")","v":""},{"$f":"IF(REG!C89<>\"\",REG!G89,\"\")","v":""},null,null,null,null,"","",null,null,null,null,null,"","","","","","","","",{"$f":"IF(R90=\"\",\"\",COUNTIF(R12:R90,\"-\"))","v":""},"","","","","","","",{"$f":"IF(R90=\"\",\"\",IF(AD90=\"0\",\"0\",COUNTIF(AD12:AD89,AD90)))","v":""},"","","","","","","BYE",{"$f":"COUNTIF(AS12:AS90,\"W\")","v":0},{"$f":"IF(AR90=\"\",\"\",COUNTIF(AR12:AR90,\"-\"))","v":""},"","","BYE",""]
[80,{"$f":"IF(REG!B90<>\"\",REG!B90,\"\")","v":""},{"$f":"IF(REG!C90<>\"\",REG!G90,\"\")","v":""},null,null,null,null,"","",null,null,null,null,null,"","","","","","","","",{"$f":"IF(R91=\"\",\"\",COUNTIF(R12:R91,\"-\"))","v":""},"","","","","","","",{"$f":"IF(R91=\"\",\"\",IF(AD91=\"0\",\"0\",COUNTIF(AD12:AD90,AD91)))","v":""},"","","","","","","BYE",{"$f":"COUNTIF(AS12:AS91,\"W\")","v":0},{"$f":"IF(AR91=\"\",\"\",COUNTIF(AR12:AR91,\"-\"))","v":""},"","","BYE",""]
[81,{"$f":"IF(REG!B91<>\"\",REG!B91,\"\")","v":""},{"$f":"IF(REG!C91<>\"\",REG!G91,\"\")","v":""},null,null,null,null,"","",null,null,null,null,null,"","","","","","","","",{"$f":"IF(R92=\"\",\"\",COUNTIF(R12:R92,\"-\"))","v":""},"","","","","","","",{"$f":"IF(R92=\"\",\"\",IF(AD92=\"0\",\"0\",COUNTIF(AD12:AD91,AD92)))","v":""},"","","","","","","BYE",{"$f":"COUNTIF(AS12:AS92,\"W\")","v":0},{"$f":"IF(AR92=\"\",\"\",COUNTIF(AR12:AR92,\"-\"))","v":""},"","","BYE",""]
[82,{"$f":"IF(REG!B92<>\"\",REG!B92,\"\")","v":""},{"$f":"IF(REG!C92<>\"\",REG!G92,\"\")","v":""},null,null,null,null,"","",null,null,null,null,null,"","","","","","","","",{"$f":"IF(R93=\"\",\"\",COUNTIF(R12:R93,\"-\"))","v":""},"","","","","","","",{"$f":"IF(R93=\"\",\"\",IF(AD93=\"0\",\"0\",COUNTIF(AD12:AD92,AD93)))","v":""},"","","","","","","BYE",{"$f":"COUNTIF(AS12:AS93,\"W\")","v":0},{"$f":"IF(AR93=\"\",\"\",COUNTIF(AR12:AR93,\"-\"))","v":""},"","","BYE",""]
[83,{"$f":"IF(REG!B93<>\"\",REG!B93,\"\")","v":""},{"$f":"IF(REG!C93<>\"\",REG!G93,\"\")","v":""},null,null,null,null,"","",null,null,null,null,null,"","","","","","","","",{"$f":"IF(R94=\"\",\"\",COUNTIF(R12:R94,\"-\"))","v":""},"","","","","","","",{"$f":"IF(R94=\"\",\"\",IF(AD94=\"0\",\"0\",COUNTIF(AD12:AD93,AD94)))","v":""},"","","","","","","BYE",{"$f":"COUNTIF(AS12:AS94,\"W\")","v":0},{"$f":"IF(AR94=\"\",\"\",COUNTIF(AR12:AR94,\"-\"))","v":""},"","","BYE",""]
[84,{"$f":"IF(REG!B94<>\"\",REG!B94,\"\")","v":""},{"$f":"IF(REG!C94<>\"\",REG!G94,\"\")","v":""},null,null,null,null,"","",null,null,null,null,null,"","","","","","","","",{"$f":"IF(R95=\"\",\"\",COUNTIF(R12:R95,\"-\"))","v":""},"","","","","","","",{"$f":"IF(R95=\"\",\"\",IF(AD95=\"0\",\"0\",COUNTIF(AD12:AD94,AD95)))","v":""},"","","","","","","BYE",{"$f":"COUNTIF(AS12:AS95,\"W\")","v":0},{"$f":"IF(AR95=\"\",\"\",COUNTIF(AR12:AR95,\"-\"))","v":""},"","","BYE",""]
[85,{"$f":"IF(REG!B95<>\"\",REG!B95,\"\")","v":""},{"$f":"IF(REG!C95<>\"\",REG!G95,\"\")","v":""},null,null,null,null,"","",null,null,null,null,null,"","","","","","","","",{"$f":"IF(R96=\"\",\"\",COUNTIF(R12:R96,\"-\"))","v":""},"","","","","","","",{"$f":"IF(R96=\"\",\"\",IF(AD96=\"0\",\"0\",COUNTIF(AD12:AD95,AD96)))","v":""},"","","","","","","BYE",{"$f":"COUNTIF(AS12:AS96,\"W\")","v":0},{"$f":"IF(AR96=\"\",\"\",COUNTIF(AR12:AR96,\"-\"))","v":""},"","","BYE",""]
[86,{"$f":"IF(REG!B96<>\"\",REG!B96,\"\")","v":""},{"$f":"IF(REG!C96<>\"\",REG!G96,\"\")","v":""},null,null,null,null,"","",null,null,null,null,null,"","","","","","","","",{"$f":"IF(R97=\"\",\"\",COUNTIF(R12:R97,\"-\"))","v":""},"","","","","","","",{"$f":"IF(R97=\"\",\"\",IF(AD97=\"0\",\"0\",COUNTIF(AD12:AD96,AD97)))","v":""},"","","","","","","BYE",{"$f":"COUNTIF(AS12:AS97,\"W\")","v":0},{"$f":"IF(AR97=\"\",\"\",COUNTIF(AR12:AR97,\"-\"))","v":""},"","","BYE",""]
[87,{"$f":"IF(REG!B97<>\"\",REG!B97,\"\")","v":""},{"$f":"IF(REG!C97<>\"\",REG!G97,\"\")","v":""},null,null,null,null,"","",null,null,null,null,null,"","","","","","","","",{"$f":"IF(R98=\"\",\"\",COUNTIF(R12:R98,\"-\"))","v":""},"","","","","","","",{"$f":"IF(R98=\"\",\"\",IF(AD98=\"0\",\"0\",COUNTIF(AD12:AD97,AD98)))","v":""},"","","","","","","BYE",{"$f":"COUNTIF(AS12:AS98,\"W\")","v":0},{"$f":"IF(AR98=\"\",\"\",COUNTIF(AR12:AR98,\"-\"))","v":""},"","","BYE",""]
[88,{"$f":"IF(REG!B98<>\"\",REG!B98,\"\")","v":""},{"$f":"IF(REG!C98<>\"\",REG!G98,\"\")","v":""},null,null,null,null,"","",null,null,null,null,null,"","","","","","","","",{"$f":"IF(R99=\"\",\"\",COUNTIF(R12:R99,\"-\"))","v":""},"","","","","","","",{"$f":"IF(R99=\"\",\"\",IF(AD99=\"0\",\"0\",COUNTIF(AD12:AD98,AD99)))","v":""},"","","","","","","BYE",{"$f":"COUNTIF(AS12:AS99,\"W\")","v":0},{"$f":"IF(AR99=\"\",\"\",COUNTIF(AR12:AR99,\"-\"))","v":""},"","","BYE",""]
[89,{"$f":"IF(REG!B99<>\"\",REG!B99,\"\")","v":""},{"$f":"IF(REG!C99<>\"\",REG!G99,\"\")","v":""},null,null,null,null,"","",null,null,null,null,null,"","","","","","","","",{"$f":"IF(R100=\"\",\"\",COUNTIF(R12:R100,\"-\"))","v":""},"","","","","","","",{"$f":"IF(R100=\"\",\"\",IF(AD100=\"0\",\"0\",COUNTIF(AD12:AD99,AD100)))","v":""},"","","","","","","BYE",{"$f":"COUNTIF(AS12:AS100,\"W\")","v":0},{"$f":"IF(AR100=\"\",\"\",COUNTIF(AR12:AR100,\"-\"))","v":""},"","","BYE",""]
[90,{"$f":"IF(REG!B100<>\"\",REG!B100,\"\")","v":""},{"$f":"IF(REG!C100<>\"\",REG!G100,\"\")","v":""},null,null,null,null,"","",null,null,null,null,null,"","","","","","","","",{"$f":"IF(R101=\"\",\"\",COUNTIF(R12:R101,\"-\"))","v":""},"","","","","","","",{"$f":"IF(R101=\"\",\"\",IF(AD101=\"0\",\"0\",COUNTIF(AD12:AD100,AD101)))","v":""},"","","","","","","BYE",{"$f":"COUNTIF(AS12:AS101,\"W\")","v":0},{"$f":"IF(AR101=\"\",\"\",COUNTIF(AR12:AR101,\"-\"))","v":""},"","","BYE",""]
[91,{"$f":"IF(REG!B101<>\"\",REG!B101,\"\")","v":""},{"$f":"IF(REG!C101<>\"\",REG!G101,\"\")","v":""},null,null,null,null,"","",null,null,null,null,null,"","","","","","","","",{"$f":"IF(R102=\"\",\"\",COUNTIF(R12:R102,\"-\"))","v":""},"","","","","","","",{"$f":"IF(R102=\"\",\"\",IF(AD102=\"0\",\"0\",COUNTIF(AD12:AD101,AD102)))","v":""},"","","","","","","BYE",{"$f":"COUNTIF(AS12:AS102,\"W\")","v":0},{"$f":"IF(AR102=\"\",\"\",COUNTIF(AR12:AR102,\"-\"))","v":""},"","","BYE",""]
[92,{"$f":"IF(REG!B102<>\"\",REG!B102,\"\")","v":""},{"$f":"IF(REG!C102<>\"\",REG!G102,\"\")","v":""},null,null,null,null,"","",null,null,null,null,null,"","","","","","","","",{"$f":"IF(R103=\"\",\"\",COUNTIF(R12:R103,\"-\"))","v":""},"","","","","","","",{"$f":"IF(R103=\"\",\"\",IF(AD103=\"0\",\"0\",COUNTIF(AD12:AD102,AD103)))","v":""},"","","","","","","BYE",{"$f":"COUNTIF(AS12:AS103,\"W\")","v":0},{"$f":"IF(AR103=\"\",\"\",COUNTIF(AR12:AR103,\"-\"))","v":""},"","","BYE",""]
[93,{"$f":"IF(REG!B103<>\"\",REG!B103,\"\")","v":""},{"$f":"IF(REG!C103<>\"\",REG!G103,\"\")","v":""},null,null,null,null,"","",null,null,null,null,null,"","","","","","","","",{"$f":"IF(R104=\"\",\"\",COUNTIF(R12:R104,\"-\"))","v":""},"","","","","","","",{"$f":"IF(R104=\"\",\"\",IF(AD104=\"0\",\"0\",COUNTIF(AD12:AD103,AD104)))","v":""},"","","","","","","BYE",{"$f":"COUNTIF(AS12:AS104,\"W\")","v":0},{"$f":"IF(AR104=\"\",\"\",COUNTIF(AR12:AR104,\"-\"))","v":""},"","","BYE",""]
[94,{"$f":"IF(REG!B104<>\"\",REG!B104,\"\")","v":""},{"$f":"IF(REG!C104<>\"\",REG!G104,\"\")","v":""},null,null,null,null,"","",null,null,null,null,null,"","","","","","","","",{"$f":"IF(R105=\"\",\"\",COUNTIF(R12:R105,\"-\"))","v":""},"","","","","","","",{"$f":"IF(R105=\"\",\"\",IF(AD105=\"0\",\"0\",COUNTIF(AD12:AD104,AD105)))","v":""},"","","","","","","BYE",{"$f":"COUNTIF(AS12:AS105,\"W\")","v":0},{"$f":"IF(AR105=\"\",\"\",COUNTIF(AR12:AR105,\"-\"))","v":""},"","","BYE",""]
[95,{"$f":"IF(REG!B105<>\"\",REG!B105,\"\")","v":""},{"$f":"IF(REG!C105<>\"\",REG!G105,\"\")","v":""},null,null,null,null,"","",null,null,null,null,null,"","","","","","","","",{"$f":"IF(R106=\"\",\"\",COUNTIF(R12:R106,\"-\"))","v":""},"","","","","","","",{"$f":"IF(R106=\"\",\"\",IF(AD106=\"0\",\"0\",COUNTIF(AD12:AD105,AD106)))","v":""},"","","","","","","BYE",{"$f":"COUNTIF(AS12:AS106,\"W\")","v":0},{"$f":"IF(AR106=\"\",\"\",COUNTIF(AR12:AR106,\"-\"))","v":""},"","","BYE",""]
[96,{"$f":"IF(REG!B106<>\"\",REG!B106,\"\")","v":""},{"$f":"IF(REG!C106<>\"\",REG!G106,\"\")","v":""},null,null,null,null,"","",null,null,null,null,null,"","","","","","","","",{"$f":"IF(R107=\"\",\"\",COUNTIF(R12:R107,\"-\"))","v":""},"","","","","","","",{"$f":"IF(R107=\"\",\"\",IF(AD107=\"0\",\"0\",COUNTIF(AD12:AD106,AD107)))","v":""},"","","","","","","BYE",{"$f":"COUNTIF(AS12:AS107,\"W\")","v":0},{"$f":"IF(AR107=\"\",\"\",COUNTIF(AR12:AR107,\"-\"))","v":""},"","","BYE",""]
[97,{"$f":"IF(REG!B107<>\"\",REG!B107,\"\")","v":""},{"$f":"IF(REG!C107<>\"\",REG!G107,\"\")","v":""},null,null,null,null,"","",null,null,null,null,null,"","","","","","","","",{"$f":"IF(R108=\"\",\"\",COUNTIF(R12:R108,\"-\"))","v":""},"","","","","","","",{"$f":"IF(R108=\"\",\"\",IF(AD108=\"0\",\"0\",COUNTIF(AD12:AD107,AD108)))","v":""},"","","","","","","BYE",{"$f":"COUNTIF(AS12:AS108,\"W\")","v":0},{"$f":"IF(AR108=\"\",\"\",COUNTIF(AR12:AR108,\"-\"))","v":""},"","","BYE",""]
[98,{"$f":"IF(REG!B108<>\"\",REG!B108,\"\")","v":""},{"$f":"IF(REG!C108<>\"\",REG!G108,\"\")","v":""},null,null,null,null,"","",null,null,null,null,null,"","","","","","","","",{"$f":"IF(R109=\"\",\"\",COUNTIF(R12:R109,\"-\"))","v":""},"","","","","","","",{"$f":"IF(R109=\"\",\"\",IF(AD109=\"0\",\"0\",COUNTIF(AD12:AD108,AD109)))","v":""},"","","","","","","BYE",{"$f":"COUNTIF(AS12:AS109,\"W\")","v":0},{"$f":"IF(AR109=\"\",\"\",COUNTIF(AR12:AR109,\"-\"))","v":""},"","","BYE",""]
[99,{"$f":"IF(REG!B109<>\"\",REG!B109,\"\")","v":""},{"$f":"IF(REG!C109<>\"\",REG!G109,\"\")","v":""},null,null,null,null,"","",null,null,null,null,null,"","","","","","","","",{"$f":"IF(R110=\"\",\"\",COUNTIF(R12:R110,\"-\"))","v":""},"","","","","","","",{"$f":"IF(R110=\"\",\"\",IF(AD110=\"0\",\"0\",COUNTIF(AD12:AD109,AD110)))","v":""},"","","","","","","BYE",{"$f":"COUNTIF(AS12:AS110,\"W\")","v":0},{"$f":"IF(AR110=\"\",\"\",COUNTIF(AR12:AR110,\"-\"))","v":""},"","","BYE",""]
[100,{"$f":"IF(REG!B110<>\"\",REG!B110,\"\")","v":""},{"$f":"IF(REG!C110<>\"\",REG!G110,\"\")","v":""},null,null,null,null,"","",null,null,null,null,null,"","","","","","","","",{"$f":"IF(R111=\"\",\"\",COUNTIF(R12:R111,\"-\"))","v":""},"","","","","","","",{"$f":"IF(R111=\"\",\"\",IF(AD111=\"0\",\"0\",COUNTIF(AD12:AD110,AD111)))","v":""},"","","","","","","BYE",{"$f":"COUNTIF(AS12:AS111,\"W\")","v":0},{"$f":"IF(AR111=\"\",\"\",COUNTIF(AR12:AR111,\"-\"))","v":""},"","","BYE",""]

{"sheet":"H Q 3","index":9,"n_rows":111,"n_cols":45,"rows_kept":111,"cut":false,"hidden":false,"merged":[[9,42,10,42],[9,43,10,43],[9,44,10,44],[9,38,10,38],[9,39,10,39],[9,40,10,40],[9,41,10,41],[9,30,10,30],[9,31,10,31],[9,32,10,32],[9,33,10,33],[9,34,10,34],[9,25,10,25],[9,26,10,26],[9,27,10,27],[9,28,10,28],[9,29,10,29],[9,19,10,19],[6,1,6,2],[9,20,10,20],[9,21,10,21],[6,41,6,43],[9,3,9,8],[9,10,9,15],[9,16,10,16],[9,17,10,17],[9,18,10,18],[9,35,10,35],[9,36,10,36],[9,37,10,37],[9,22,10,22],[9,23,10,23],[9,24,10,24],[6,44,7,44],[7,1,7,2],[7,3,7,18],[7,41,7,43],[8,1,8,2],[6,3,6,18],[0,41,0,42],[1,3,1,18],[1,41,1,42],[2,3,2,18],[0,3,0,18],[9,0,10,0],[9,1,10,1],[9,2,10,2],[4,1,4,2],[5,1,5,2]]}
[null,null,null,{"$f":"CONTEST!B4","v":"Skate n Roll Polička  2022"}]
[null,null,null,{"$f":"CONTEST!B6","v":"13.8. - 14.8.2022"}]
[null,null,null,{"$f":"CONCATENATE(CONTEST!B9,\" / \",CONTEST!B16,\" / \",CONTEST!B13)","v":"HYBRID SLALOM / Qualifications / TEEN 12-14"}]
[]
[{"$f":"+'H Q 1-2'!A5","v":0.1},"secs penalty per hit cone"]
[{"$f":"+'H Q 1-2'!A6","v":8},"maximum hit cones before DQ"]
[{"$f":"+'H Q 1-2'!A8","v":2.06},"false start multiplication factor",null,"Under \"Raw Time,\" enter \"DQ\" or\"DNF\" for",null,null,null,null,null,null,null,null,null,null,null,null,null,null,null,null,null,null,null,null,null,null,null,null,null,null,null,null,null,null,null,null,null,null,null,null,null,"Advance Racers who DQ",null,null,"Y"]
[{"$f":"IF(ISERROR(0.1*AR12)=TRUE,\"\",ROUND(0.1*AR12,2))","v":2.06},"secs head-to-head DQ/DNR penalty",null,"\"Disqualified\" and \"DNR\" for \"Did Not Race.\"",null,null,null,null,null,null,null,null,null,null,null,null,null,null,null,null,null,null,null,null,null,null,null,null,null,null,null,null,null,null,null,null,null,null,null,null,null,"all Qualifying Runs? (Y/N)"]
[{"$f":"+'H Q 1-2'!A9","v":2.06},"secs max head-to-head victory margin"]
[null,"START Number","Racer Name","Run 1-2",null,null,null,null,null,null,"Run 3",null,null,null,null,null,"Qual Rank (w/out DQs)","Best Time","Qualifying Position","Qual Rank (w/DQs sequenced)","Racer No. & Name","Best Time","Double DQ Place Factor","No. of Ties per Best Time","Tied-at Time","Tied-at Time Rank","Run 1 Time w/DQ Adjust","Run 2 Time w/DQ Adjust","Total Time w/DQ Adjust","Total Time Rank","Total Tie Place Factor","Tie 1 Total Time Rank","Tie 1 Place Factor","Tie 2 Total Time Rank","Tie 2 Place Factor","Tie 3 Total Time Rank","Tie 3 Place Factor","Placed Racer No. & Name","Withdrawal Place Factor","Double DQ Place Factor 2","Final Spot - Withdrawals","Qualifying Position",{"$f":"CONCATENATE(+CONTEST!B4,\"                                \",+CONTEST!B8,\"                                   \",\"RUN 1-3\",\"                                     \",\"  Racer No. & Name\")","v":"Skate n Roll Polička  2022                                GIANT SLALOM                                   RUN 1-3                                       Racer No. & Name"},"Best Time","Withdraw (W)"]
[null,null,null,"BEST of 1-2","Cones","Reaction Time","False Start","Final Time","Run Rank",null,"Raw Time","Cones","Reaction Time","False Start","Final Time","Run Rank"]
[1,{"$f":"IF(REG!B11<>\"\",REG!B11,\"\")","v":""},{"$f":"IF(REG!C11<>\"\",REG!G11,\"\")","v":"Voves  Jindřich  [CZE] "},{"$f":"IF('H Q 1-2'!R12=\"\",\"DNR\",IF('H Q 1-2'!R12=\"-\",+'H Q 1-2'!D12,+'H Q 1-2'!R12))","v":20.757999999999999},null,null,null,{"$f":"IF(LEFT(D12:D111,1)=\"D\",\"-\",IF(E12:E111>A6,\"-\",IF(D12:D111>0,D12:D111+E12:E111*A5+G12:G111*A7,\"\")))","v":20.757999999999999},{"$f":"IF(H12:H111=\"\",\"\",IF(H12:H111=\"-\",\"\",RANK(H12:H111,H12:H111,1)))","v":2},null,null,null,null,null,{"$f":"IF(LEFT(K12:K111,1)=\"D\",\"-\",IF(L12:L111>A6,\"-\",IF(K12:K111>0,K12:K111+L12:L111*A5+N12:N111*A7,\"\")))","v":""},{"$f":"IF(O12:O111=\"\",\"\",IF(O12:O111=\"-\",\"\",RANK(O12:O111,O12:O111,1)))","v":""},{"$f":"IF(R12:R111=\"\",\"\",IF(R12:R111=\"-\",\"\",RANK(R12:R111,R12:R111,1)))","v":2},{"$f":"IF(AND(ISBLANK(D12),ISBLANK(K12)),\"\",IF(AND(H12=\"-\",O12=\"-\"),\"-\",IF(AND(H12=\"-\",ISBLANK(K12)),\"-\",MIN(H12,O12))))","v":20.757999999999999},{"$f":"IF(R12:R111=\"\",\"\",VLOOKUP(U12:U111,AL12:AP111,5,FALSE))","v":2},{"$f":"IF(R12:R111=\"\",\"\",IF(R12:R111=\"-\",COUNT(Q12:Q111)+W12:W111,Q12:Q111+AE12:AE111+AG12:AG111+AI12:AI111+AK12:AK111))","v":2},{"$f":"IF(B12:B111 =\"\",\"\",B12:B111 & \" \")&C12:C111","v":"Voves  Jindřich  [CZE] "},{"$f":"R12:R111","v":20.757999999999999},{"$f":"IF(R12=\"\",\"\",COUNTIF(R12:R12,\"-\"))","v":0},{"$f":"IF(Q12:Q111=\"\",\"\",COUNTIF(Q12:Q111,Q12:Q111)-1)","v":0},{"$f":"IF(R12:R111=\"-\",\"\",IF(X12:X111=0,\"\",R12:R111))","v":""},{"$f":"IF(Y12:Y111=\"\",\"\",RANK(Y12:Y111,Y12:Y111,1))","v":""},{"$f":"IF(X12:X111=\"\",\"\",IF(X12:X111=0,\"\",IF(LEFT(H12:H111,1)=\"-\",\"199\",H12:H111)))","v":""},{"$f":"IF(X12:X111=\"\",\"\",IF(X12:X111=0,\"\",IF(LEFT(O12:O111,1)=\"-\",\"199\",O12:O111)))","v":""},{"$f":"IF(ISERROR(AA12:AA111+AB12:AB111)=TRUE,AA12:AA111,AA12:AA111+AB12:AB111)","v":""},{"$f":"IF(R12:R111=\"\",\"\",IF(X12:X111=0,\"0\",IF(ISERROR(RANK(AC12:AC111,AC12:AC111,1))=TRUE,\"0\",RANK(AC12:AC111,AC12:AC111,1))))","v":"0"},0,{"$f":"IF(ISERROR(X12:X111)=TRUE,\"\",IF(Z12:Z111=1,AD12:AD111,\"\"))","v":""},{"$f":"IF(R12:R111=\"\",\"\",IF(AF12:AF111=\"\",\"0\",RANK(AF12:AF111,AF12:AF111,1)-1))","v":"0"},{"$f":"IF(ISERROR(X12:X111)=TRUE,\"\",IF(Z12:Z111=COUNT(AF12:AF111)+1,AD12:AD111,\"\"))","v":""},{"$f":"IF(R12:R111=\"\",\"\",IF(AH12:AH111=\"\",\"0\",RANK(AH12:AH111,AH12:AH111,1)-1))","v":"0"},{"$f":"IF(ISERROR(X12:X111)=TRUE,\"\",IF(Z12:Z111=COUNT(AF12:AF111)+COUNT(AH12:AH111)+1,AD12:AD111,\"\"))","v":""},{"$f":"IF(R12:R111=\"\",\"\",IF(AJ12:AJ111=\"\",\"0\",RANK(AJ12:AJ111,AJ12:AJ111,1)-1))","v":"0"},{"$f":"AQ12:AQ111","v":"Rezková  Anna  [CZE] "},{"$f":"COUNTIF(AS12:AS12,\"W\")","v":0},{"$f":"IF(AR12=\"\",\"\",COUNTIF(AR12:AR12,\"-\"))","v":0},{"$f":"IF(AQ12:AQ111=\"BYE\",\"\",IF(AS12:AS111=\"W\",\"\",IF(AS7=\"N\",IF(AP12:AP111<=COUNT(Q12:Q111),AP12:AP111-AM12:AM111,\"\"),IF(AP12:AP111<=COUNT(Q12:Q111),AP12:AP111-AM12:AM111,AP12:AP111-AM12:AM111+AN12:AN111-1))))","v":1},{"$f":"IF(R12:R111=\"\",\"\",IF(AP11:AP110+1<=COUNT(Q12:Q111),AP11:AP110+1,COUNT(Q12:Q111)+1))","v":1},{"$f":"IF(R12:R111=\"\",\"BYE\",IF(ISERROR(VLOOKUP(A12:A111,T12:U111,2,FALSE))=TRUE,\"\",VLOOKUP(A12:A111,T12:U111,2,FALSE)))","v":"Rezková  Anna  [CZE] "},{"$f":"IF(C12:C111=\"BYE\", \"\",IF(A12:A111=\"\",\"\",IF(ISERROR(VLOOKUP(A12:A111,T12:V111,3,FALSE))=TRUE,\"\",VLOOKUP(A12:A111,T12:V111,3,FALSE))))","v":20.643000000000001}]
[2,{"$f":"IF(REG!B12<>\"\",REG!B12,\"\")","v":""},{"$f":"IF(REG!C12<>\"\",REG!G12,\"\")","v":"Rezková  Anna  [CZE] "},{"$f":"IF('H Q 1-2'!R13=\"\",\"DNR\",IF('H Q 1-2'!R13=\"-\",+'H Q 1-2'!D13,+'H Q 1-2'!R13))","v":20.643000000000001},null,null,null,20.643000000000001,1,null,null,null,null,null,"","",1,20.643000000000001,1,1,"Rezková  Anna  [CZE] ",20.643000000000001,{"$f":"IF(R13=\"\",\"\",COUNTIF(R12:R13,\"-\"))","v":0},0,"","","","","","0",{"$f":"IF(R13=\"\",\"\",IF(AD13=\"0\",\"0\",COUNTIF(AD12:AD12,AD13)))","v":"0"},"","0","","0","","0","Voves  Jindřich  [CZE] ",{"$f":"COUNTIF(AS12:AS13,\"W\")","v":0},{"$f":"IF(AR13=\"\",\"\",COUNTIF(AR12:AR13,\"-\"))","v":0},2,2,"Voves  Jindřich  [CZE] ",20.757999999999999]
[3,{"$f":"IF(REG!B13<>\"\",REG!B13,\"\")","v":""},{"$f":"IF(REG!C13<>\"\",REG!G13,\"\")","v":""},{"$f":"IF('H Q 1-2'!R14=\"\",\"DNR\",IF('H Q 1-2'!R14=\"-\",+'H Q 1-2'!D14,+'H Q 1-2'!R14))","v":"DNR"},null,null,null,"-","",null,null,null,null,null,"","","","-",3,3,"","-",{"$f":"IF(R14=\"\",\"\",COUNTIF(R12:R14,\"-\"))","v":1},"","","","","","","0",{"$f":"IF(R14=\"\",\"\",IF(AD14=\"0\",\"0\",COUNTIF(AD12:AD13,AD14)))","v":"0"},"","0","","0","","0","",{"$f":"COUNTIF(AS12:AS14,\"W\")","v":0},{"$f":"IF(AR14=\"\",\"\",COUNTIF(AR12:AR14,\"-\"))","v":1},3,3,"","-"]
[4,{"$f":"IF(REG!B14<>\"\",REG!B14,\"\")","v":""},{"$f":"IF(REG!C14<>\"\",REG!G14,\"\")","v":""},{"$f":"IF('H Q 1-2'!R15=\"\",\"DNR\",IF('H Q 1-2'!R15=\"-\",+'H Q 1-2'!D15,+'H Q 1-2'!R15))","v":"DNR"},null,null,null,"-","",null,null,null,null,null,"","","","-",3,4,"","-",{"$f":"IF(R15=\"\",\"\",COUNTIF(R12:R15,\"-\"))","v":2},"","","","","","","0",{"$f":"IF(R15=\"\",\"\",IF(AD15=\"0\",\"0\",COUNTIF(AD12:AD14,AD15)))","v":"0"},"","0","","0","","0","",{"$f":"COUNTIF(AS12:AS15,\"W\")","v":0},{"$f":"IF(AR15=\"\",\"\",COUNTIF(AR12:AR15,\"-\"))","v":2},4,3,"","-"]
[5,{"$f":"IF(REG!B15<>\"\",REG!B15,\"\")","v":""},{"$f":"IF(REG!C15<>\"\",REG!G15,\"\")","v":""},{"$f":"IF('H Q 1-2'!R16=\"\",\"DNR\",IF('H Q 1-2'!R16=\"-\",+'H Q 1-2'!D16,+'H Q 1-2'!R16))","v":"DNR"},null,null,null,"-","",null,null,null,null,null,"","","","-",3,5,"","-",{"$f":"IF(R16=\"\",\"\",COUNTIF(R12:R16,\"-\"))","v":3},"","","","","","","0",{"$f":"IF(R16=\"\",\"\",IF(AD16=\"0\",\"0\",COUNTIF(AD12:AD15,AD16)))","v":"0"},"","0","","0","","0","",{"$f":"COUNTIF(AS12:AS16,\"W\")","v":0},{"$f":"IF(AR16=\"\",\"\",COUNTIF(AR12:AR16,\"-\"))","v":3},5,3,"","-"]
[6,{"$f":"IF(REG!B16<>\"\",REG!B16,\"\")","v":""},{"$f":"IF(REG!C16<>\"\",REG!G16,\"\")","v":""},{"$f":"IF('H Q 1-2'!R17=\"\",\"DNR\",IF('H Q 1-2'!R17=\"-\",+'H Q 1-2'!D17,+'H Q 1-2'!R17))","v":"DNR"},null,null,null,"-","",null,null,null,null,null,"","","","-",3,6,"","-",{"$f":"IF(R17=\"\",\"\",COUNTIF(R12:R17,\"-\"))","v":4},"","","","","","","0",{"$f":"IF(R17=\"\",\"\",IF(AD17=\"0\",\"0\",COUNTIF(AD12:AD16,AD17)))","v":"0"},"","0","","0","","0","",{"$f":"COUNTIF(AS12:AS17,\"W\")","v":0},{"$f":"IF(AR17=\"\",\"\",COUNTIF(AR12:AR17,\"-\"))","v":4},6,3,"","-"]
[7,{"$f":"IF(REG!B17<>\"\",REG!B17,\"\")","v":""},{"$f":"IF(REG!C17<>\"\",REG!G17,\"\")","v":""},{"$f":"IF('H Q 1-2'!R18=\"\",\"DNR\",IF('H Q 1-2'!R18=\"-\",+'H Q 1-2'!D18,+'H Q 1-2'!R18))","v":"DNR"},null,null,null,"-","",null,null,null,null,null,"","","","-",3,7,"","-",{"$f":"IF(R18=\"\",\"\",COUNTIF(R12:R18,\"-\"))","v":5},"","","","","","","0",{"$f":"IF(R18=\"\",\"\",IF(R18=\"\",\"\",IF(AD18=\"0\",\"0\",COUNTIF(AD12:AD17,AD18))))","v":"0"},"","0","","0","","0","",{"$f":"COUNTIF(AS12:AS18,\"W\")","v":0},{"$f":"IF(AR18=\"\",\"\",COUNTIF(AR12:AR18,\"-\"))","v":5},7,3,"","-"]
[8,{"$f":"IF(REG!B18<>\"\",REG!B18,\"\")","v":""},{"$f":"IF(REG!C18<>\"\",REG!G18,\"\")","v":""},{"$f":"IF('H Q 1-2'!R19=\"\",\"DNR\",IF('H Q 1-2'!R19=\"-\",+'H Q 1-2'!D19,+'H Q 1-2'!R19))","v":"DNR"},null,null,null,"-","",null,null,null,null,null,"","","","-",3,8,"","-",{"$f":"IF(R19=\"\",\"\",COUNTIF(R12:R19,\"-\"))","v":6},"","","","","","","0",{"$f":"IF(R19=\"\",\"\",IF(R19=\"\",\"\",IF(AD19=\"0\",\"0\",COUNTIF(AD12:AD18,AD19))))","v":"0"},"","0","","0","","0","",{"$f":"COUNTIF(AS12:AS19,\"W\")","v":0},{"$f":"IF(AR19=\"\",\"\",COUNTIF(AR12:AR19,\"-\"))","v":6},8,3,"","-"]
[9,{"$f":"IF(REG!B19<>\"\",REG!B19,\"\")","v":""},{"$f":"IF(REG!C19<>\"\",REG!G19,\"\")","v":""},{"$f":"IF('H Q 1-2'!R20=\"\",\"DNR\",IF('H Q 1-2'!R20=\"-\",+'H Q 1-2'!D20,+'H Q 1-2'!R20))","v":"DNR"},null,null,null,"-","",null,null,null,null,null,"","","","-",3,9,"","-",{"$f":"IF(R20=\"\",\"\",COUNTIF(R12:R20,\"-\"))","v":7},"","","","","","","0",{"$f":"IF(R20=\"\",\"\",IF(R20=\"\",\"\",IF(AD20=\"0\",\"0\",COUNTIF(AD12:AD19,AD20))))","v":"0"},"","0","","0","","0","",{"$f":"COUNTIF(AS12:AS20,\"W\")","v":0},{"$f":"IF(AR20=\"\",\"\",COUNTIF(AR12:AR20,\"-\"))","v":7},9,3,"","-"]
[10,{"$f":"IF(REG!B20<>\"\",REG!B20,\"\")","v":""},{"$f":"IF(REG!C20<>\"\",REG!G20,\"\")","v":""},{"$f":"IF('H Q 1-2'!R21=\"\",\"DNR\",IF('H Q 1-2'!R21=\"-\",+'H Q 1-2'!D21,+'H Q 1-2'!R21))","v":"DNR"},null,null,null,"-","",null,null,null,null,null,"","","","-",3,10,"","-",{"$f":"IF(R21=\"\",\"\",COUNTIF(R12:R21,\"-\"))","v":8},"","","","","","","0",{"$f":"IF(R21=\"\",\"\",IF(AD21=\"0\",\"0\",COUNTIF(AD12:AD20,AD21)))","v":"0"},"","0","","0","","0","",{"$f":"COUNTIF(AS12:AS21,\"W\")","v":0},{"$f":"IF(AR21=\"\",\"\",COUNTIF(AR12:AR21,\"-\"))","v":8},10,3,"","-"]
[11,{"$f":"IF(REG!B21<>\"\",REG!B21,\"\")","v":""},{"$f":"IF(REG!C21<>\"\",REG!G21,\"\")","v":""},{"$f":"IF('H Q 1-2'!R22=\"\",\"DNR\",IF('H Q 1-2'!R22=\"-\",+'H Q 1-2'!D22,+'H Q 1-2'!R22))","v":"DNR"},null,null,null,"-","",null,null,null,null,null,"","","","-",3,11,"","-",{"$f":"IF(R22=\"\",\"\",COUNTIF(R12:R22,\"-\"))","v":9},"","","","","","","0",{"$f":"IF(R22=\"\",\"\",IF(AD22=\"0\",\"0\",COUNTIF(AD1:AD21,AD22)))","v":"0"},"","0","","0","","0","",{"$f":"COUNTIF(AS12:AS22,\"W\")","v":0},{"$f":"IF(AR22=\"\",\"\",COUNTIF(AR12:AR22,\"-\"))","v":9},11,3,"","-"]
[12,{"$f":"IF(REG!B22<>\"\",REG!B22,\"\")","v":""},{"$f":"IF(REG!C22<>\"\",REG!G22,\"\")","v":""},{"$f":"IF('H Q 1-2'!R23=\"\",\"DNR\",IF('H Q 1-2'!R23=\"-\",+'H Q 1-2'!D23,+'H Q 1-2'!R23))","v":"DNR"},null,null,null,"-","",null,null,null,null,null,"","","","-",3,12,"","-",{"$f":"IF(R23=\"\",\"\",COUNTIF(R12:R23,\"-\"))","v":10},"","","","","","","0",{"$f":"IF(R23=\"\",\"\",IF(AD23=\"0\",\"0\",COUNTIF(AD12:AD22,AD23)))","v":"0"},"","0","","0","","0","",{"$f":"COUNTIF(AS12:AS23,\"W\")","v":0},{"$f":"IF(AR23=\"\",\"\",COUNTIF(AR12:AR23,\"-\"))","v":10},12,3,"","-"]
[13,{"$f":"IF(REG!B23<>\"\",REG!B23,\"\")","v":""},{"$f":"IF(REG!C23<>\"\",REG!G23,\"\")","v":""},{"$f":"IF('H Q 1-2'!R24=\"\",\"DNR\",IF('H Q 1-2'!R24=\"-\",+'H Q 1-2'!D24,+'H Q 1-2'!R24))","v":"DNR"},null,null,null,"-","",null,null,null,null,null,"","","","-",3,13,"","-",{"$f":"IF(R24=\"\",\"\",COUNTIF(R12:R24,\"-\"))","v":11},"","","","","","","0",{"$f":"IF(R24=\"\",\"\",IF(AD24=\"0\",\"0\",COUNTIF(AD12:AD23,AD24)))","v":"0"},"","0","","0","","0","",{"$f":"COUNTIF(AS12:AS24,\"W\")","v":0},{"$f":"IF(AR24=\"\",\"\",COUNTIF(AR12:AR24,\"-\"))","v":11},13,3,"","-"]
[14,{"$f":"IF(REG!B24<>\"\",REG!B24,\"\")","v":""},{"$f":"IF(REG!C24<>\"\",REG!G24,\"\")","v":""},{"$f":"IF('H Q 1-2'!R25=\"\",\"DNR\",IF('H Q 1-2'!R25=\"-\",+'H Q 1-2'!D25,+'H Q 1-2'!R25))","v":"DNR"},null,null,null,"-","",null,null,null,null,null,"","","","-",3,14,"","-",{"$f":"IF(R25=\"\",\"\",COUNTIF(R12:R25,\"-\"))","v":12},"","","","","","","0",{"$f":"IF(R25=\"\",\"\",IF(AD25=\"0\",\"0\",COUNTIF(AD12:AD24,AD25)))","v":"0"},"","0","","0","","0","",{"$f":"COUNTIF(AS12:AS25,\"W\")","v":0},{"$f":"IF(AR25=\"\",\"\",COUNTIF(AR12:AR25,\"-\"))","v":12},14,3,"","-"]
[15,{"$f":"IF(REG!B25<>\"\",REG!B25,\"\")","v":""},{"$f":"IF(REG!C25<>\"\",REG!G25,\"\")","v":""},{"$f":"IF('H Q 1-2'!R26=\"\",\"DNR\",IF('H Q 1-2'!R26=\"-\",+'H Q 1-2'!D26,+'H Q 1-2'!R26))","v":"DNR"},null,null,null,"-","",null,null,null,null,null,"","","","-",3,15,"","-",{"$f":"IF(R26=\"\",\"\",COUNTIF(R12:R26,\"-\"))","v":13},"","","","","","","0",{"$f":"IF(R26=\"\",\"\",IF(AD26=\"0\",\"0\",COUNTIF(AD12:AD25,AD26)))","v":"0"},"","0","","0","","0","",{"$f":"COUNTIF(AS12:AS26,\"W\")","v":0},{"$f":"IF(AR26=\"\",\"\",COUNTIF(AR12:AR26,\"-\"))","v":13},15,3,"","-"]
[16,{"$f":"IF(REG!B26<>\"\",REG!B26,\"\")","v":""},{"$f":"IF(REG!C26<>\"\",REG!G26,\"\")","v":""},{"$f":"IF('H Q 1-2'!R27=\"\",\"DNR\",IF('H Q 1-2'!R27=\"-\",+'H Q 1-2'!D27,+'H Q 1-2'!R27))","v":"DNR"},null,null,null,"-","",null,null,null,null,null,"","","","-",3,16,"","-",{"$f":"IF(R27=\"\",\"\",COUNTIF(R12:R27,\"-\"))","v":14},"","","","","","","0",{"$f":"IF(R27=\"\",\"\",IF(AD27=\"0\",\"0\",COUNTIF(AD12:AD26,AD27)))","v":"0"},"","0","","0","","0","",{"$f":"COUNTIF(AS12:AS27,\"W\")","v":0},{"$f":"IF(AR27=\"\",\"\",COUNTIF(AR12:AR27,\"-\"))","v":14},16,3,"","-"]
[17,{"$f":"IF(REG!B27<>\"\",REG!B27,\"\")","v":""},{"$f":"IF(REG!C27<>\"\",REG!G27,\"\")","v":""},{"$f":"IF('H Q 1-2'!R28=\"\",\"DNR\",IF('H Q 1-2'!R28=\"-\",+'H Q 1-2'!D28,+'H Q 1-2'!R28))","v":"DNR"},null,null,null,"-","",null,null,null,null,null,"","","","-",3,17,"","-",{"$f":"IF(R28=\"\",\"\",COUNTIF(R12:R28,\"-\"))","v":15},"","","","","","","0",{"$f":"IF(R28=\"\",\"\",IF(AD28=\"0\",\"0\",COUNTIF(AD12:AD27,AD28)))","v":"0"},"","0","","0","","0","",{"$f":"COUNTIF(AS12:AS28,\"W\")","v":0},{"$f":"IF(AR28=\"\",\"\",COUNTIF(AR12:AR28,\"-\"))","v":15},17,3,"","-"]
[18,{"$f":"IF(REG!B28<>\"\",REG!B28,\"\")","v":""},{"$f":"IF(REG!C28<>\"\",REG!G28,\"\")","v":""},{"$f":"IF('H Q 1-2'!R29=\"\",\"DNR\",IF('H Q 1-2'!R29=\"-\",+'H Q 1-2'!D29,+'H Q 1-2'!R29))","v":"DNR"},null,null,null,"-","",null,null,null,null,null,"","","","-",3,18,"","-",{"$f":"IF(R29=\"\",\"\",COUNTIF(R12:R29,\"-\"))","v":16},"","","","","","","0",{"$f":"IF(R29=\"\",\"\",IF(AD29=\"0\",\"0\",COUNTIF(AD12:AD28,AD29)))","v":"0"},"","0","","0","","0","",{"$f":"COUNTIF(AS12:AS29,\"W\")","v":0},{"$f":"IF(AR29=\"\",\"\",COUNTIF(AR12:AR29,\"-\"))","v":16},18,3,"","-"]
[19,{"$f":"IF(REG!B29<>\"\",REG!B29,\"\")","v":""},{"$f":"IF(REG!C29<>\"\",REG!G29,\"\")","v":""},{"$f":"IF('H Q 1-2'!R30=\"\",\"DNR\",IF('H Q 1-2'!R30=\"-\",+'H Q 1-2'!D30,+'H Q 1-2'!R30))","v":"DNR"},null,null,null,"-","",null,null,null,null,null,"","","","-",3,19,"","-",{"$f":"IF(R30=\"\",\"\",COUNTIF(R12:R30,\"-\"))","v":17},"","","","","","","0",{"$f":"IF(R30=\"\",\"\",IF(AD30=\"0\",\"0\",COUNTIF(AD12:AD29,AD30)))","v":"0"},"","0","","0","","0","",{"$f":"COUNTIF(AS12:AS30,\"W\")","v":0},{"$f":"IF(AR30=\"\",\"\",COUNTIF(AR12:AR30,\"-\"))","v":17},19,3,"","-"]
[20,{"$f":"IF(REG!B30<>\"\",REG!B30,\"\")","v":""},{"$f":"IF(REG!C30<>\"\",REG!G30,\"\")","v":""},{"$f":"IF('H Q 1-2'!R31=\"\",\"DNR\",IF('H Q 1-2'!R31=\"-\",+'H Q 1-2'!D31,+'H Q 1-2'!R31))","v":"DNR"},null,null,null,"-","",null,null,null,null,null,"","","","-",3,20,"","-",{"$f":"IF(R31=\"\",\"\",COUNTIF(R12:R31,\"-\"))","v":18},"","","","","","","0",{"$f":"IF(R31=\"\",\"\",IF(AD31=\"0\",\"0\",COUNTIF(AD12:AD30,AD31)))","v":"0"},"","0","","0","","0","",{"$f":"COUNTIF(AS12:AS31,\"W\")","v":0},{"$f":"IF(AR31=\"\",\"\",COUNTIF(AR12:AR31,\"-\"))","v":18},20,3,"","-"]
[21,{"$f":"IF(REG!B31<>\"\",REG!B31,\"\")","v":""},{"$f":"IF(REG!C31<>\"\",REG!G31,\"\")","v":""},{"$f":"IF('H Q 1-2'!R32=\"\",\"DNR\",IF('H Q 1-2'!R32=\"-\",+'H Q 1-2'!D32,+'H Q 1-2'!R32))","v":"DNR"},null,null,null,"-","",null,null,null,null,null,"","","","-",3,21,"","-",{"$f":"IF(R32=\"\",\"\",COUNTIF(R12:R32,\"-\"))","v":19},"","","","","","","0",{"$f":"IF(R32=\"\",\"\",IF(AD32=\"0\",\"0\",COUNTIF(AD12:AD31,AD32)))","v":"0"},"","0","","0","","0","",{"$f":"COUNTIF(AS12:AS32,\"W\")","v":0},{"$f":"IF(AR32=\"\",\"\",COUNTIF(AR12:AR32,\"-\"))","v":19},21,3,"","-"]
[22,{"$f":"IF(REG!B32<>\"\",REG!B32,\"\")","v":""},{"$f":"IF(REG!C32<>\"\",REG!G32,\"\")","v":""},{"$f":"IF('H Q 1-2'!R33=\"\",\"DNR\",IF('H Q 1-2'!R33=\"-\",+'H Q 1-2'!D33,+'H Q 1-2'!R33))","v":"DNR"},null,null,null,"-","",null,null,null,null,null,"","","","-",3,22,"","-",{"$f":"IF(R33=\"\",\"\",COUNTIF(R12:R33,\"-\"))","v":20},"","","","","","","0",{"$f":"IF(R33=\"\",\"\",IF(AD33=\"0\",\"0\",COUNTIF(AD12:AD32,AD33)))","v":"0"},"","0","","0","","0","",{"$f":"COUNTIF(AS12:AS33,\"W\")","v":0},{"$f":"IF(AR33=\"\",\"\",COUNTIF(AR12:AR33,\"-\"))","v":20},22,3,"","-"]
[23,{"$f":"IF(REG!B33<>\"\",REG!B33,\"\")","v":""},{"$f":"IF(REG!C33<>\"\",REG!G33,\"\")","v":""},{"$f":"IF('H Q 1-2'!R34=\"\",\"DNR\",IF('H Q 1-2'!R34=\"-\",+'H Q 1-2'!D34,+'H Q 1-2'!R34))","v":"DNR"},null,null,null,"-","",null,null,null,null,null,"","","","-",3,23,"","-",{"$f":"IF(R34=\"\",\"\",COUNTIF(R12:R34,\"-\"))","v":21},"","","","","","","0",{"$f":"IF(R34=\"\",\"\",IF(AD34=\"0\",\"0\",COUNTIF(AD12:AD33,AD34)))","v":"0"},"","0","","0","","0","",{"$f":"COUNTIF(AS12:AS34,\"W\")","v":0},{"$f":"IF(AR34=\"\",\"\",COUNTIF(AR12:AR34,\"-\"))","v":21},23,3,"","-"]
[24,{"$f":"IF(REG!B34<>\"\",REG!B34,\"\")","v":""},{"$f":"IF(REG!C34<>\"\",REG!G34,\"\")","v":""},{"$f":"IF('H Q 1-2'!R35=\"\",\"DNR\",IF('H Q 1-2'!R35=\"-\",+'H Q 1-2'!D35,+'H Q 1-2'!R35))","v":"DNR"},null,null,null,"-","",null,null,null,null,null,"","","","-",3,24,"","-",{"$f":"IF(R35=\"\",\"\",COUNTIF(R12:R35,\"-\"))","v":22},"","","","","","","0",{"$f":"IF(R35=\"\",\"\",IF(AD35=\"0\",\"0\",COUNTIF(AD12:AD34,AD35)))","v":"0"},"","0","","0","","0","",{"$f":"COUNTIF(AS12:AS35,\"W\")","v":0},{"$f":"IF(AR35=\"\",\"\",COUNTIF(AR12:AR35,\"-\"))","v":22},24,3,"","-"]
[25,{"$f":"IF(REG!B35<>\"\",REG!B35,\"\")","v":""},{"$f":"IF(REG!C35<>\"\",REG!G35,\"\")","v":""},{"$f":"IF('H Q 1-2'!R36=\"\",\"DNR\",IF('H Q 1-2'!R36=\"-\",+'H Q 1-2'!D36,+'H Q 1-2'!R36))","v":"DNR"},null,null,null,"-","",null,null,null,null,null,"","","","-",3,25,"","-",{"$f":"IF(R36=\"\",\"\",COUNTIF(R12:R36,\"-\"))","v":23},"","","","","","","0",{"$f":"IF(R36=\"\",\"\",IF(AD36=\"0\",\"0\",COUNTIF(AD12:AD35,AD36)))","v":"0"},"","0","","0","","0","",{"$f":"COUNTIF(AS12:AS36,\"W\")","v":0},{"$f":"IF(AR36=\"\",\"\",COUNTIF(AR12:AR36,\"-\"))","v":23},25,3,"","-"]
[26,{"$f":"IF(REG!B36<>\"\",REG!B36,\"\")","v":""},{"$f":"IF(REG!C36<>\"\",REG!G36,\"\")","v":""},{"$f":"IF('H Q 1-2'!R37=\"\",\"DNR\",IF('H Q 1-2'!R37=\"-\",+'H Q 1-2'!D37,+'H Q 1-2'!R37))","v":"DNR"},null,null,null,"-","",null,null,null,null,null,"","","","-",3,26,"","-",{"$f":"IF(R37=\"\",\"\",COUNTIF(R12:R37,\"-\"))","v":24},"","","","","","","0",{"$f":"IF(R37=\"\",\"\",IF(AD37=\"0\",\"0\",COUNTIF(AD12:AD36,AD37)))","v":"0"},"","0","","0","","0","",{"$f":"COUNTIF(AS12:AS37,\"W\")","v":0},{"$f":"IF(AR37=\"\",\"\",COUNTIF(AR12:AR37,\"-\"))","v":24},26,3,"","-"]
[27,{"$f":"IF(REG!B37<>\"\",REG!B37,\"\")","v":""},{"$f":"IF(REG!C37<>\"\",REG!G37,\"\")","v":""},{"$f":"IF('H Q 1-2'!R38=\"\",\"DNR\",IF('H Q 1-2'!R38=\"-\",+'H Q 1-2'!D38,+'H Q 1-2'!R38))","v":"DNR"},null,null,null,"-","",null,null,null,null,null,"","","","-",3,27,"","-",{"$f":"IF(R38=\"\",\"\",COUNTIF(R12:R38,\"-\"))","v":25},"","","","","","","0",{"$f":"IF(R38=\"\",\"\",IF(AD38=\"0\",\"0\",COUNTIF(AD12:AD37,AD38)))","v":"0"},"","0","","0","","0","",{"$f":"COUNTIF(AS12:AS38,\"W\")","v":0},{"$f":"IF(AR38=\"\",\"\",COUNTIF(AR12:AR38,\"-\"))","v":25},27,3,"","-"]
[28,{"$f":"IF(REG!B38<>\"\",REG!B38,\"\")","v":""},{"$f":"IF(REG!C38<>\"\",REG!G38,\"\")","v":""},{"$f":"IF('H Q 1-2'!R39=\"\",\"DNR\",IF('H Q 1-2'!R39=\"-\",+'H Q 1-2'!D39,+'H Q 1-2'!R39))","v":"DNR"},null,null,null,"-","",null,null,null,null,null,"","","","-",3,28,"","-",{"$f":"IF(R39=\"\",\"\",COUNTIF(R12:R39,\"-\"))","v":26},"","","","","","","0",{"$f":"IF(R39=\"\",\"\",IF(AD39=\"0\",\"0\",COUNTIF(AD12:AD38,AD39)))","v":"0"},"","0","","0","","0","",{"$f":"COUNTIF(AS12:AS39,\"W\")","v":0},{"$f":"IF(AR39=\"\",\"\",COUNTIF(AR12:AR39,\"-\"))","v":26},28,3,"","-"]
[29,{"$f":"IF(REG!B39<>\"\",REG!B39,\"\")","v":""},{"$f":"IF(REG!C39<>\"\",REG!G39,\"\")","v":""},{"$f":"IF('H Q 1-2'!R40=\"\",\"DNR\",IF('H Q 1-2'!R40=\"-\",+'H Q 1-2'!D40,+'H Q 1-2'!R40))","v":"DNR"},null,null,null,"-","",null,null,null,null,null,"","","","-",3,29,"","-",{"$f":"IF(R40=\"\",\"\",COUNTIF(R12:R40,\"-\"))","v":27},"","","","","","","0",{"$f":"IF(R40=\"\",\"\",IF(AD40=\"0\",\"0\",COUNTIF(AD12:AD39,AD40)))","v":"0"},"","0","","0","","0","",{"$f":"COUNTIF(AS12:AS40,\"W\")","v":0},{"$f":"IF(AR40=\"\",\"\",COUNTIF(AR12:AR40,\"-\"))","v":27},29,3,"","-"]
[30,{"$f":"IF(REG!B40<>\"\",REG!B40,\"\")","v":""},{"$f":"IF(REG!C40<>\"\",REG!G40,\"\")","v":""},{"$f":"IF('H Q 1-2'!R41=\"\",\"DNR\",IF('H Q 1-2'!R41=\"-\",+'H Q 1-2'!D41,+'H Q 1-2'!R41))","v":"DNR"},null,null,null,"-","",null,null,null,null,null,"","","","-",3,30,"","-",{"$f":"IF(R41=\"\",\"\",COUNTIF(R12:R41,\"-\"))","v":28},"","","","","","","0",{"$f":"IF(R41=\"\",\"\",IF(AD41=\"0\",\"0\",COUNTIF(AD12:AD40,AD41)))","v":"0"},"","0","","0","","0","",{"$f":"COUNTIF(AS12:AS41,\"W\")","v":0},{"$f":"IF(AR41=\"\",\"\",COUNTIF(AR12:AR41,\"-\"))","v":28},30,3,"","-"]
[31,{"$f":"IF(REG!B41<>\"\",REG!B41,\"\")","v":""},{"$f":"IF(REG!C41<>\"\",REG!G41,\"\")","v":""},{"$f":"IF('H Q 1-2'!R42=\"\",\"DNR\",IF('H Q 1-2'!R42=\"-\",+'H Q 1-2'!D42,+'H Q 1-2'!R42))","v":"DNR"},null,null,null,"-","",null,null,null,null,null,"","","","-",3,31,"","-",{"$f":"IF(R42=\"\",\"\",COUNTIF(R12:R42,\"-\"))","v":29},"","","","","","","0",{"$f":"IF(R42=\"\",\"\",IF(AD42=\"0\",\"0\",COUNTIF(AD12:AD41,AD42)))","v":"0"},"","0","","0","","0","",{"$f":"COUNTIF(AS12:AS42,\"W\")","v":0},{"$f":"IF(AR42=\"\",\"\",COUNTIF(AR12:AR42,\"-\"))","v":29},31,3,"","-"]
[32,{"$f":"IF(REG!B42<>\"\",REG!B42,\"\")","v":""},{"$f":"IF(REG!C42<>\"\",REG!G42,\"\")","v":""},{"$f":"IF('H Q 1-2'!R43=\"\",\"DNR\",IF('H Q 1-2'!R43=\"-\",+'H Q 1-2'!D43,+'H Q 1-2'!R43))","v":"DNR"},null,null,null,"-","",null,null,null,null,null,"","","","-",3,32,"","-",{"$f":"IF(R43=\"\",\"\",COUNTIF(R12:R43,\"-\"))","v":30},"","","","","","","0",{"$f":"IF(R43=\"\",\"\",IF(AD43=\"0\",\"0\",COUNTIF(AD12:AD42,AD43)))","v":"0"},"","0","","0","","0","",{"$f":"COUNTIF(AS12:AS43,\"W\")","v":0},{"$f":"IF(AR43=\"\",\"\",COUNTIF(AR12:AR43,\"-\"))","v":30},32,3,"","-"]
[33,{"$f":"IF(REG!B43<>\"\",REG!B43,\"\")","v":""},{"$f":"IF(REG!C43<>\"\",REG!G43,\"\")","v":""},{"$f":"IF('H Q 1-2'!R44=\"\",\"DNR\",IF('H Q 1-2'!R44=\"-\",+'H Q 1-2'!D44,+'H Q 1-2'!R44))","v":"DNR"},null,null,null,"-","",null,null,null,null,null,"","","",{"$f":"IF(AND(ISBLANK(D44),ISBLANK(K44)),\"\",IF(AND(H44=\"-\",O44=\"-\"),\"-\",IF(AND(H44=\"-\",ISBLANK(K44)),\"-\",MIN(H44,O44))))","v":"-"},3,33,"","-",{"$f":"IF(R44=\"\",\"\",COUNTIF(R12:R44,\"-\"))","v":31},"","","","","","","0",{"$f":"IF(R44=\"\",\"\",IF(AD44=\"0\",\"0\",COUNTIF(AD12:AD43,AD44)))","v":"0"},"","0","","0","","0","",{"$f":"COUNTIF(AS12:AS44,\"W\")","v":0},{"$f":"IF(AR44=\"\",\"\",COUNTIF(AR12:AR44,\"-\"))","v":31},33,3,"","-"]
[34,{"$f":"IF(REG!B44<>\"\",REG!B44,\"\")","v":""},{"$f":"IF(REG!C44<>\"\",REG!G44,\"\")","v":""},{"$f":"IF('H Q 1-2'!R45=\"\",\"DNR\",IF('H Q 1-2'!R45=\"-\",+'H Q 1-2'!D45,+'H Q 1-2'!R45))","v":"DNR"},null,null,null,"-","",null,null,null,null,null,"","","","-",3,34,"","-",{"$f":"IF(R45=\"\",\"\",COUNTIF(R12:R45,\"-\"))","v":32},"","","","","","","0",{"$f":"IF(R45=\"\",\"\",IF(AD45=\"0\",\"0\",COUNTIF(AD12:AD44,AD45)))","v":"0"},"","0","","0","","0","",{"$f":"COUNTIF(AS12:AS45,\"W\")","v":0},{"$f":"IF(AR45=\"\",\"\",COUNTIF(AR12:AR45,\"-\"))","v":32},34,3,"","-"]
[35,{"$f":"IF(REG!B45<>\"\",REG!B45,\"\")","v":""},{"$f":"IF(REG!C45<>\"\",REG!G45,\"\")","v":""},{"$f":"IF('H Q 1-2'!R46=\"\",\"DNR\",IF('H Q 1-2'!R46=\"-\",+'H Q 1-2'!D46,+'H Q 1-2'!R46))","v":"DNR"},null,null,null,"-","",null,null,null,null,null,"","","","-",3,35,"","-",{"$f":"IF(R46=\"\",\"\",COUNTIF(R12:R46,\"-\"))","v":33},"","","","","","","0",{"$f":"IF(R46=\"\",\"\",IF(AD46=\"0\",\"0\",COUNTIF(AD12:AD45,AD46)))","v":"0"},"","0","","0","","0","",{"$f":"COUNTIF(AS12:AS46,\"W\")","v":0},{"$f":"IF(AR46=\"\",\"\",COUNTIF(AR12:AR46,\"-\"))","v":33},35,3,"","-"]
[36,{"$f":"IF(REG!B46<>\"\",REG!B46,\"\")","v":""},{"$f":"IF(REG!C46<>\"\",REG!G46,\"\")","v":""},{"$f":"IF('H Q 1-2'!R47=\"\",\"DNR\",IF('H Q 1-2'!R47=\"-\",+'H Q 1-2'!D47,+'H Q 1-2'!R47))","v":"DNR"},null,null,null,"-","",null,null,null,null,null,"","","","-",3,36,"","-",{"$f":"IF(R47=\"\",\"\",COUNTIF(R12:R47,\"-\"))","v":34},"","","","","","","0",{"$f":"IF(R47=\"\",\"\",IF(AD47=\"0\",\"0\",COUNTIF(AD12:AD46,AD47)))","v":"0"},"","0","","0","","0","",{"$f":"COUNTIF(AS12:AS47,\"W\")","v":0},{"$f":"IF(AR47=\"\",\"\",COUNTIF(AR12:AR47,\"-\"))","v":34},36,3,"","-"]
[37,{"$f":"IF(REG!B47<>\"\",REG!B47,\"\")","v":""},{"$f":"IF(REG!C47<>\"\",REG!G47,\"\")","v":""},{"$f":"IF('H Q 1-2'!R48=\"\",\"DNR\",IF('H Q 1-2'!R48=\"-\",+'H Q 1-2'!D48,+'H Q 1-2'!R48))","v":"DNR"},null,null,null,"-","",null,null,null,null,null,"","","","-",3,37,"","-",{"$f":"IF(R48=\"\",\"\",COUNTIF(R12:R48,\"-\"))","v":35},"","","","","","","0",{"$f":"IF(R48=\"\",\"\",IF(AD48=\"0\",\"0\",COUNTIF(AD12:AD47,AD48)))","v":"0"},"","0","","0","","0","",{"$f":"COUNTIF(AS12:AS48,\"W\")","v":0},{"$f":"IF(AR48=\"\",\"\",COUNTIF(AR12:AR48,\"-\"))","v":35},37,3,"","-"]
[38,{"$f":"IF(REG!B48<>\"\",REG!B48,\"\")","v":""},{"$f":"IF(REG!C48<>\"\",REG!G48,\"\")","v":""},{"$f":"IF('H Q 1-2'!R49=\"\",\"DNR\",IF('H Q 1-2'!R49=\"-\",+'H Q 1-2'!D49,+'H Q 1-2'!R49))","v":"DNR"},null,null,null,"-","",null,null,null,null,null,"","","","-",3,38,"","-",{"$f":"IF(R49=\"\",\"\",COUNTIF(R12:R49,\"-\"))","v":36},"","","","","","","0",{"$f":"IF(R49=\"\",\"\",IF(AD49=\"0\",\"0\",COUNTIF(AD12:AD48,AD49)))","v":"0"},"","0","","0","","0","",{"$f":"COUNTIF(AS12:AS49,\"W\")","v":0},{"$f":"IF(AR49=\"\",\"\",COUNTIF(AR12:AR49,\"-\"))","v":36},38,3,"","-"]
[39,{"$f":"IF(REG!B49<>\"\",REG!B49,\"\")","v":""},{"$f":"IF(REG!C49<>\"\",REG!G49,\"\")","v":""},{"$f":"IF('H Q 1-2'!R50=\"\",\"DNR\",IF('H Q 1-2'!R50=\"-\",+'H Q 1-2'!D50,+'H Q 1-2'!R50))","v":"DNR"},null,null,null,"-","",null,null,null,null,null,"","","","-",3,39,"","-",{"$f":"IF(R50=\"\",\"\",COUNTIF(R12:R50,\"-\"))","v":37},"","","","","","","0",{"$f":"IF(R50=\"\",\"\",IF(AD50=\"0\",\"0\",COUNTIF(AD12:AD49,AD50)))","v":"0"},"","0","","0","","0","",{"$f":"COUNTIF(AS12:AS50,\"W\")","v":0},{"$f":"IF(AR50=\"\",\"\",COUNTIF(AR12:AR50,\"-\"))","v":37},39,3,"","-"]
[40,{"$f":"IF(REG!B50<>\"\",REG!B50,\"\")","v":""},{"$f":"IF(REG!C50<>\"\",REG!G50,\"\")","v":""},{"$f":"IF('H Q 1-2'!R51=\"\",\"DNR\",IF('H Q 1-2'!R51=\"-\",+'H Q 1-2'!D51,+'H Q 1-2'!R51))","v":"DNR"},null,null,null,"-","",null,null,null,null,null,"","","","-",3,40,"","-",{"$f":"IF(R51=\"\",\"\",COUNTIF(R12:R51,\"-\"))","v":38},"","","","","","","0",{"$f":"IF(R51=\"\",\"\",IF(AD51=\"0\",\"0\",COUNTIF(AD12:AD50,AD51)))","v":"0"},"","0","","0","","0","",{"$f":"COUNTIF(AS12:AS51,\"W\")","v":0},{"$f":"IF(AR51=\"\",\"\",COUNTIF(AR12:AR51,\"-\"))","v":38},40,3,"","-"]
[41,{"$f":"IF(REG!B51<>\"\",REG!B51,\"\")","v":""},{"$f":"IF(REG!C51<>\"\",REG!G51,\"\")","v":""},{"$f":"IF('H Q 1-2'!R52=\"\",\"DNR\",IF('H Q 1-2'!R52=\"-\",+'H Q 1-2'!D52,+'H Q 1-2'!R52))","v":"DNR"},null,null,null,"-","",null,null,null,null,null,"","","","-",3,41,"","-",{"$f":"IF(R52=\"\",\"\",COUNTIF(R12:R52,\"-\"))","v":39},"","","","","","","0",{"$f":"IF(R52=\"\",\"\",IF(AD52=\"0\",\"0\",COUNTIF(AD12:AD51,AD52)))","v":"0"},"","0","","0","","0","",{"$f":"COUNTIF(AS12:AS52,\"W\")","v":0},{"$f":"IF(AR52=\"\",\"\",COUNTIF(AR12:AR52,\"-\"))","v":39},41,3,"","-"]
[42,{"$f":"IF(REG!B52<>\"\",REG!B52,\"\")","v":""},{"$f":"IF(REG!C52<>\"\",REG!G52,\"\")","v":""},{"$f":"IF('H Q 1-2'!R53=\"\",\"DNR\",IF('H Q 1-2'!R53=\"-\",+'H Q 1-2'!D53,+'H Q 1-2'!R53))","v":"DNR"},null,null,null,"-","",null,null,null,null,null,"","","","-",3,42,"","-",{"$f":"IF(R53=\"\",\"\",COUNTIF(R12:R53,\"-\"))","v":40},"","","","","","","0",{"$f":"IF(R53=\"\",\"\",IF(AD53=\"0\",\"0\",COUNTIF(AD12:AD52,AD53)))","v":"0"},"","0","","0","","0","",{"$f":"COUNTIF(AS12:AS53,\"W\")","v":0},{"$f":"IF(AR53=\"\",\"\",COUNTIF(AR12:AR53,\"-\"))","v":40},42,3,"","-"]
[43,{"$f":"IF(REG!B53<>\"\",REG!B53,\"\")","v":""},{"$f":"IF(REG!C53<>\"\",REG!G53,\"\")","v":""},{"$f":"IF('H Q 1-2'!R54=\"\",\"DNR\",IF('H Q 1-2'!R54=\"-\",+'H Q 1-2'!D54,+'H Q 1-2'!R54))","v":"DNR"},null,null,null,"-","",null,null,null,null,null,"","","","-",3,43,"","-",{"$f":"IF(R54=\"\",\"\",COUNTIF(R12:R54,\"-\"))","v":41},"","","","","","","0",{"$f":"IF(R54=\"\",\"\",IF(AD54=\"0\",\"0\",COUNTIF(AD12:AD53,AD54)))","v":"0"},"","0","","0","","0","",{"$f":"COUNTIF(AS12:AS54,\"W\")","v":0},{"$f":"IF(AR54=\"\",\"\",COUNTIF(AR12:AR54,\"-\"))","v":41},43,3,"","-"]
[44,{"$f":"IF(REG!B54<>\"\",REG!B54,\"\")","v":""},{"$f":"IF(REG!C54<>\"\",REG!G54,\"\")","v":""},{"$f":"IF('H Q 1-2'!R55=\"\",\"DNR\",IF('H Q 1-2'!R55=\"-\",+'H Q 1-2'!D55,+'H Q 1-2'!R55))","v":"DNR"},null,null,null,"-","",null,null,null,null,null,"","","","-",3,44,"","-",{"$f":"IF(R55=\"\",\"\",COUNTIF(R12:R55,\"-\"))","v":42},"","","","","","","0",{"$f":"IF(R55=\"\",\"\",IF(AD55=\"0\",\"0\",COUNTIF(AD12:AD54,AD55)))","v":"0"},"","0","","0","","0","",{"$f":"COUNTIF(AS12:AS55,\"W\")","v":0},{"$f":"IF(AR55=\"\",\"\",COUNTIF(AR12:AR55,\"-\"))","v":42},44,3,"","-"]
[45,{"$f":"IF(REG!B55<>\"\",REG!B55,\"\")","v":""},{"$f":"IF(REG!C55<>\"\",REG!G55,\"\")","v":""},{"$f":"IF('H Q 1-2'!R56=\"\",\"DNR\",IF('H Q 1-2'!R56=\"-\",+'H Q 1-2'!D56,+'H Q 1-2'!R56))","v":"DNR"},null,null,null,"-","",null,null,null,null,null,"","","","-",3,45,"","-",{"$f":"IF(R56=\"\",\"\",COUNTIF(R12:R56,\"-\"))","v":43},"","","","","","","0",{"$f":"IF(R56=\"\",\"\",IF(AD56=\"0\",\"0\",COUNTIF(AD12:AD55,AD56)))","v":"0"},"","0","","0","","0","",{"$f":"COUNTIF(AS12:AS56,\"W\")","v":0},{"$f":"IF(AR56=\"\",\"\",COUNTIF(AR12:AR56,\"-\"))","v":43},45,3,"","-"]
[46,{"$f":"IF(REG!B56<>\"\",REG!B56,\"\")","v":""},{"$f":"IF(REG!C56<>\"\",REG!G56,\"\")","v":""},{"$f":"IF('H Q 1-2'!R57=\"\",\"DNR\",IF('H Q 1-2'!R57=\"-\",+'H Q 1-2'!D57,+'H Q 1-2'!R57))","v":"DNR"},null,null,null,"-","",null,null,null,null,null,"","","","-",3,46,"","-",{"$f":"IF(R57=\"\",\"\",COUNTIF(R12:R57,\"-\"))","v":44},"","","","","","","0",{"$f":"IF(R57=\"\",\"\",IF(AD57=\"0\",\"0\",COUNTIF(AD12:AD56,AD57)))","v":"0"},"","0","","0","","0","",{"$f":"COUNTIF(AS12:AS57,\"W\")","v":0},{"$f":"IF(AR57=\"\",\"\",COUNTIF(AR12:AR57,\"-\"))","v":44},46,3,"","-"]
[47,{"$f":"IF(REG!B57<>\"\",REG!B57,\"\")","v":""},{"$f":"IF(REG!C57<>\"\",REG!G57,\"\")","v":""},{"$f":"IF('H Q 1-2'!R58=\"\",\"DNR\",IF('H Q 1-2'!R58=\"-\",+'H Q 1-2'!D58,+'H Q 1-2'!R58))","v":"DNR"},null,null,null,"-","",null,null,null,null,null,"","","","-",3,47,"","-",{"$f":"IF(R58=\"\",\"\",COUNTIF(R12:R58,\"-\"))","v":45},"","","","","","","0",{"$f":"IF(R58=\"\",\"\",IF(AD58=\"0\",\"0\",COUNTIF(AD12:AD57,AD58)))","v":"0"},"","0","","0","","0","",{"$f":"COUNTIF(AS12:AS58,\"W\")","v":0},{"$f":"IF(AR58=\"\",\"\",COUNTIF(AR12:AR58,\"-\"))","v":45},47,3,"","-"]
[48,{"$f":"IF(REG!B58<>\"\",REG!B58,\"\")","v":""},{"$f":"IF(REG!C58<>\"\",REG!G58,\"\")","v":""},{"$f":"IF('H Q 1-2'!R59=\"\",\"DNR\",IF('H Q 1-2'!R59=\"-\",+'H Q 1-2'!D59,+'H Q 1-2'!R59))","v":"DNR"},null,null,null,"-","",null,null,null,null,null,"","","","-",3,48,"","-",{"$f":"IF(R59=\"\",\"\",COUNTIF(R12:R59,\"-\"))","v":46},"","","","","","","0",{"$f":"IF(R59=\"\",\"\",IF(AD59=\"0\",\"0\",COUNTIF(AD12:AD58,AD59)))","v":"0"},"","0","","0","","0","",{"$f":"COUNTIF(AS12:AS59,\"W\")","v":0},{"$f":"IF(AR59=\"\",\"\",COUNTIF(AR12:AR59,\"-\"))","v":46},48,3,"","-"]
[49,{"$f":"IF(REG!B59<>\"\",REG!B59,\"\")","v":""},{"$f":"IF(REG!C59<>\"\",REG!G59,\"\")","v":""},{"$f":"IF('H Q 1-2'!R60=\"\",\"DNR\",IF('H Q 1-2'!R60=\"-\",+'H Q 1-2'!D60,+'H Q 1-2'!R60))","v":"DNR"},null,null,null,"-","",null,null,null,null,null,"","","","-",3,49,"","-",{"$f":"IF(R60=\"\",\"\",COUNTIF(R12:R60,\"-\"))","v":47},"","","","","","","0",{"$f":"IF(R60=\"\",\"\",IF(AD60=\"0\",\"0\",COUNTIF(AD12:AD59,AD60)))","v":"0"},"","0","","0","","0","",{"$f":"COUNTIF(AS12:AS60,\"W\")","v":0},{"$f":"IF(AR60=\"\",\"\",COUNTIF(AR12:AR60,\"-\"))","v":47},49,3,"","-"]
[50,{"$f":"IF(REG!B60<>\"\",REG!B60,\"\")","v":""},{"$f":"IF(REG!C60<>\"\",REG!G60,\"\")","v":""},{"$f":"IF('H Q 1-2'!R61=\"\",\"DNR\",IF('H Q 1-2'!R61=\"-\",+'H Q 1-2'!D61,+'H Q 1-2'!R61))","v":"DNR"},null,null,null,"-","",null,null,null,null,null,"","","","-",3,50,"","-",{"$f":"IF(R61=\"\",\"\",COUNTIF(R12:R61,\"-\"))","v":48},"","","","","","","0",{"$f":"IF(R61=\"\",\"\",IF(AD61=\"0\",\"0\",COUNTIF(AD12:AD60,AD61)))","v":"0"},"","0","","0","","0","",{"$f":"COUNTIF(AS12:AS61,\"W\")","v":0},{"$f":"IF(AR61=\"\",\"\",COUNTIF(AR12:AR61,\"-\"))","v":48},50,3,"","-"]
[51,{"$f":"IF(REG!B61<>\"\",REG!B61,\"\")","v":""},{"$f":"IF(REG!C61<>\"\",REG!G61,\"\")","v":""},{"$f":"IF('H Q 1-2'!R62=\"\",\"DNR\",IF('H Q 1-2'!R62=\"-\",+'H Q 1-2'!D62,+'H Q 1-2'!R62))","v":"DNR"},null,null,null,"-","",null,null,null,null,null,"","","","-",3,51,"","-",{"$f":"IF(R62=\"\",\"\",COUNTIF(R12:R62,\"-\"))","v":49},"","","","","","","0",{"$f":"IF(R62=\"\",\"\",IF(AD62=\"0\",\"0\",COUNTIF(AD12:AD61,AD62)))","v":"0"},"","0","","0","","0","",{"$f":"COUNTIF(AS12:AS62,\"W\")","v":0},{"$f":"IF(AR62=\"\",\"\",COUNTIF(AR12:AR62,\"-\"))","v":49},51,3,"","-"]
[52,{"$f":"IF(REG!B62<>\"\",REG!B62,\"\")","v":""},{"$f":"IF(REG!C62<>\"\",REG!G62,\"\")","v":""},{"$f":"IF('H Q 1-2'!R63=\"\",\"DNR\",IF('H Q 1-2'!R63=\"-\",+'H Q 1-2'!D63,+'H Q 1-2'!R63))","v":"DNR"},null,null,null,"-","",null,null,null,null,null,"","","","-",3,52,"","-",{"$f":"IF(R63=\"\",\"\",COUNTIF(R12:R63,\"-\"))","v":50},"","","","","","","0",{"$f":"IF(R63=\"\",\"\",IF(AD63=\"0\",\"0\",COUNTIF(AD12:AD62,AD63)))","v":"0"},"","0","","0","","0","",{"$f":"COUNTIF(AS12:AS63,\"W\")","v":0},{"$f":"IF(AR63=\"\",\"\",COUNTIF(AR12:AR63,\"-\"))","v":50},52,3,"","-"]
[53,{"$f":"IF(REG!B63<>\"\",REG!B63,\"\")","v":""},{"$f":"IF(REG!C63<>\"\",REG!G63,\"\")","v":""},{"$f":"IF('H Q 1-2'!R64=\"\",\"DNR\",IF('H Q 1-2'!R64=\"-\",+'H Q 1-2'!D64,+'H Q 1-2'!R64))","v":"DNR"},null,null,null,"-","",null,null,null,null,null,"","","","-",3,53,"","-",{"$f":"IF(R64=\"\",\"\",COUNTIF(R12:R64,\"-\"))","v":51},"","","","","","","0",{"$f":"IF(R64=\"\",\"\",IF(AD64=\"0\",\"0\",COUNTIF(AD12:AD63,AD64)))","v":"0"},"","0","","0","","0","",{"$f":"COUNTIF(AS12:AS64,\"W\")","v":0},{"$f":"IF(AR64=\"\",\"\",COUNTIF(AR12:AR64,\"-\"))","v":51},53,3,"","-"]
[54,{"$f":"IF(REG!B64<>\"\",REG!B64,\"\")","v":""},{"$f":"IF(REG!C64<>\"\",REG!G64,\"\")","v":""},{"$f":"IF('H Q 1-2'!R65=\"\",\"DNR\",IF('H Q 1-2'!R65=\"-\",+'H Q 1-2'!D65,+'H Q 1-2'!R65))","v":"DNR"},null,null,null,"-","",null,null,null,null,null,"","","","-",3,54,"","-",{"$f":"IF(R65=\"\",\"\",COUNTIF(R12:R65,\"-\"))","v":52},"","","","","","","0",{"$f":"IF(R65=\"\",\"\",IF(AD65=\"0\",\"0\",COUNTIF(AD12:AD64,AD65)))","v":"0"},"","0","","0","","0","",{"$f":"COUNTIF(AS12:AS65,\"W\")","v":0},{"$f":"IF(AR65=\"\",\"\",COUNTIF(AR12:AR65,\"-\"))","v":52},54,3,"","-"]
[55,{"$f":"IF(REG!B65<>\"\",REG!B65,\"\")","v":""},{"$f":"IF(REG!C65<>\"\",REG!G65,\"\")","v":""},{"$f":"IF('H Q 1-2'!R66=\"\",\"DNR\",IF('H Q 1-2'!R66=\"-\",+'H Q 1-2'!D66,+'H Q 1-2'!R66))","v":"DNR"},null,null,null,"-","",null,null,null,null,null,"","","","-",3,55,"","-",{"$f":"IF(R66=\"\",\"\",COUNTIF(R12:R66,\"-\"))","v":53},"","","","","","","0",{"$f":"IF(R66=\"\",\"\",IF(AD66=\"0\",\"0\",COUNTIF(AD12:AD65,AD66)))","v":"0"},"","0","","0","","0","",{"$f":"COUNTIF(AS12:AS66,\"W\")","v":0},{"$f":"IF(AR66=\"\",\"\",COUNTIF(AR12:AR66,\"-\"))","v":53},55,3,"","-"]
[56,{"$f":"IF(REG!B66<>\"\",REG!B66,\"\")","v":""},{"$f":"IF(REG!C66<>\"\",REG!G66,\"\")","v":""},{"$f":"IF('H Q 1-2'!R67=\"\",\"DNR\",IF('H Q 1-2'!R67=\"-\",+'H Q 1-2'!D67,+'H Q 1-2'!R67))","v":"DNR"},null,null,null,"-","",null,null,null,null,null,"","","","-",3,56,"","-",{"$f":"IF(R67=\"\",\"\",COUNTIF(R12:R67,\"-\"))","v":54},"","","","","","","0",{"$f":"IF(R67=\"\",\"\",IF(AD67=\"0\",\"0\",COUNTIF(AD12:AD66,AD67)))","v":"0"},"","0","","0","","0","",{"$f":"COUNTIF(AS12:AS67,\"W\")","v":0},{"$f":"IF(AR67=\"\",\"\",COUNTIF(AR12:AR67,\"-\"))","v":54},56,3,"","-"]
[57,{"$f":"IF(REG!B67<>\"\",REG!B67,\"\")","v":""},{"$f":"IF(REG!C67<>\"\",REG!G67,\"\")","v":""},{"$f":"IF('H Q 1-2'!R68=\"\",\"DNR\",IF('H Q 1-2'!R68=\"-\",+'H Q 1-2'!D68,+'H Q 1-2'!R68))","v":"DNR"},null,null,null,"-","",null,null,null,null,null,"","","","-",3,57,"","-",{"$f":"IF(R68=\"\",\"\",COUNTIF(R12:R68,\"-\"))","v":55},"","","","","","","0",{"$f":"IF(R68=\"\",\"\",IF(R68=\"\",\"\",IF(AD68=\"0\",\"0\",COUNTIF(AD12:AD67,AD68))))","v":"0"},"","0","","0","","0","",{"$f":"COUNTIF(AS12:AS68,\"W\")","v":0},{"$f":"IF(AR68=\"\",\"\",COUNTIF(AR12:AR68,\"-\"))","v":55},57,3,"","-"]
[58,{"$f":"IF(REG!B68<>\"\",REG!B68,\"\")","v":""},{"$f":"IF(REG!C68<>\"\",REG!G68,\"\")","v":""},{"$f":"IF('H Q 1-2'!R69=\"\",\"DNR\",IF('H Q 1-2'!R69=\"-\",+'H Q 1-2'!D69,+'H Q 1-2'!R69))","v":"DNR"},null,null,null,"-","",null,null,null,null,null,"","","","-",3,58,"","-",{"$f":"IF(R69=\"\",\"\",COUNTIF(R12:R69,\"-\"))","v":56},"","","","","","","0",{"$f":"IF(R69=\"\",\"\",IF(R69=\"\",\"\",IF(AD69=\"0\",\"0\",COUNTIF(AD12:AD68,AD69))))","v":"0"},"","0","","0","","0","",{"$f":"COUNTIF(AS12:AS69,\"W\")","v":0},{"$f":"IF(AR69=\"\",\"\",COUNTIF(AR12:AR69,\"-\"))","v":56},58,3,"","-"]
[59,{"$f":"IF(REG!B69<>\"\",REG!B69,\"\")","v":""},{"$f":"IF(REG!C69<>\"\",REG!G69,\"\")","v":""},{"$f":"IF('H Q 1-2'!R70=\"\",\"DNR\",IF('H Q 1-2'!R70=\"-\",+'H Q 1-2'!D70,+'H Q 1-2'!R70))","v":"DNR"},null,null,null,"-","",null,null,null,null,null,"","","","-",3,59,"","-",{"$f":"IF(R70=\"\",\"\",COUNTIF(R12:R70,\"-\"))","v":57},"","","","","","","0",{"$f":"IF(R70=\"\",\"\",IF(R70=\"\",\"\",IF(AD70=\"0\",\"0\",COUNTIF(AD12:AD69,AD70))))","v":"0"},"","0","","0","","0","",{"$f":"COUNTIF(AS12:AS70,\"W\")","v":0},{"$f":"IF(AR70=\"\",\"\",COUNTIF(AR12:AR70,\"-\"))","v":57},59,3,"","-"]
[60,{"$f":"IF(REG!B70<>\"\",REG!B70,\"\")","v":""},{"$f":"IF(REG!C70<>\"\",REG!G70,\"\")","v":""},{"$f":"IF('H Q 1-2'!R71=\"\",\"DNR\",IF('H Q 1-2'!R71=\"-\",+'H Q 1-2'!D71,+'H Q 1-2'!R71))","v":"DNR"},null,null,null,"-","",null,null,null,null,null,"","","","-",3,60,"","-",{"$f":"IF(R71=\"\",\"\",COUNTIF(R12:R71,\"-\"))","v":58},"","","","","","","0",{"$f":"IF(R71=\"\",\"\",IF(AD71=\"0\",\"0\",COUNTIF(AD12:AD70,AD71)))","v":"0"},"","0","","0","","0","",{"$f":"COUNTIF(AS12:AS71,\"W\")","v":0},{"$f":"IF(AR71=\"\",\"\",COUNTIF(AR12:AR71,\"-\"))","v":58},60,3,"","-"]
[61,{"$f":"IF(REG!B71<>\"\",REG!B71,\"\")","v":""},{"$f":"IF(REG!C71<>\"\",REG!G71,\"\")","v":""},{"$f":"IF('H Q 1-2'!R72=\"\",\"DNR\",IF('H Q 1-2'!R72=\"-\",+'H Q 1-2'!D72,+'H Q 1-2'!R72))","v":"DNR"},null,null,null,"-","",null,null,null,null,null,"","","","-",3,61,"","-",{"$f":"IF(R72=\"\",\"\",COUNTIF(R12:R72,\"-\"))","v":59},"","","","","","","0",{"$f":"IF(R72=\"\",\"\",IF(AD72=\"0\",\"0\",COUNTIF(AD52:AD71,AD72)))","v":"0"},"","0","","0","","0","",{"$f":"COUNTIF(AS12:AS72,\"W\")","v":0},{"$f":"IF(AR72=\"\",\"\",COUNTIF(AR12:AR72,\"-\"))","v":59},61,3,"","-"]
[62,{"$f":"IF(REG!B72<>\"\",REG!B72,\"\")","v":""},{"$f":"IF(REG!C72<>\"\",REG!G72,\"\")","v":""},{"$f":"IF('H Q 1-2'!R73=\"\",\"DNR\",IF('H Q 1-2'!R73=\"-\",+'H Q 1-2'!D73,+'H Q 1-2'!R73))","v":"DNR"},null,null,null,"-","",null,null,null,null,null,"","","","-",3,62,"","-",{"$f":"IF(R73=\"\",\"\",COUNTIF(R12:R73,\"-\"))","v":60},"","","","","","","0",{"$f":"IF(R73=\"\",\"\",IF(AD73=\"0\",\"0\",COUNTIF(AD12:AD72,AD73)))","v":"0"},"","0","","0","","0","",{"$f":"COUNTIF(AS12:AS73,\"W\")","v":0},{"$f":"IF(AR73=\"\",\"\",COUNTIF(AR12:AR73,\"-\"))","v":60},62,3,"","-"]
[63,{"$f":"IF(REG!B73<>\"\",REG!B73,\"\")","v":""},{"$f":"IF(REG!C73<>\"\",REG!G73,\"\")","v":""},{"$f":"IF('H Q 1-2'!R74=\"\",\"DNR\",IF('H Q 1-2'!R74=\"-\",+'H Q 1-2'!D74,+'H Q 1-2'!R74))","v":"DNR"},null,null,null,"-","",null,null,null,null,null,"","","","-",3,63,"","-",{"$f":"IF(R74=\"\",\"\",COUNTIF(R12:R74,\"-\"))","v":61},"","","","","","","0",{"$f":"IF(R74=\"\",\"\",IF(AD74=\"0\",\"0\",COUNTIF(AD12:AD73,AD74)))","v":"0"},"","0","","0","","0","",{"$f":"COUNTIF(AS12:AS74,\"W\")","v":0},{"$f":"IF(AR74=\"\",\"\",COUNTIF(AR12:AR74,\"-\"))","v":61},63,3,"","-"]
[64,{"$f":"IF(REG!B74<>\"\",REG!B74,\"\")","v":""},{"$f":"IF(REG!C74<>\"\",REG!G74,\"\")","v":""},{"$f":"IF('H Q 1-2'!R75=\"\",\"DNR\",IF('H Q 1-2'!R75=\"-\",+'H Q 1-2'!D75,+'H Q 1-2'!R75))","v":"DNR"},null,null,null,"-","",null,null,null,null,null,"","","","-",3,64,"","-",{"$f":"IF(R75=\"\",\"\",COUNTIF(R12:R75,\"-\"))","v":62},"","","","","","","0",{"$f":"IF(R75=\"\",\"\",IF(AD75=\"0\",\"0\",COUNTIF(AD12:AD74,AD75)))","v":"0"},"","0","","0","","0","",{"$f":"COUNTIF(AS12:AS75,\"W\")","v":0},{"$f":"IF(AR75=\"\",\"\",COUNTIF(AR12:AR75,\"-\"))","v":62},64,3,"","-"]
[65,{"$f":"IF(REG!B75<>\"\",REG!B75,\"\")","v":""},{"$f":"IF(REG!C75<>\"\",REG!G75,\"\")","v":""},{"$f":"IF('H Q 1-2'!R76=\"\",\"DNR\",IF('H Q 1-2'!R76=\"-\",+'H Q 1-2'!D76,+'H Q 1-2'!R76))","v":"DNR"},null,null,null,"-","",null,null,null,null,null,"","","",{"$f":"IF(AND(ISBLANK(D76),ISBLANK(K76)),\"\",IF(AND(H76=\"-\",O76=\"-\"),\"-\",IF(AND(H76=\"-\",ISBLANK(K76)),\"-\",MIN(H76,O76))))","v":"-"},3,65,"","-",{"$f":"IF(R76=\"\",\"\",COUNTIF(R12:R76,\"-\"))","v":63},"","","","","","","0",{"$f":"IF(R76=\"\",\"\",IF(AD76=\"0\",\"0\",COUNTIF(AD12:AD75,AD76)))","v":"0"},"","0","","0","","0","",{"$f":"COUNTIF(AS12:AS76,\"W\")","v":0},{"$f":"IF(AR76=\"\",\"\",COUNTIF(AR12:AR76,\"-\"))","v":63},65,3,"","-"]
[66,{"$f":"IF(REG!B76<>\"\",REG!B76,\"\")","v":""},{"$f":"IF(REG!C76<>\"\",REG!G76,\"\")","v":""},{"$f":"IF('H Q 1-2'!R77=\"\",\"DNR\",IF('H Q 1-2'!R77=\"-\",+'H Q 1-2'!D77,+'H Q 1-2'!R77))","v":"DNR"},null,null,null,"-","",null,null,null,null,null,"","","","-",3,66,"","-",{"$f":"IF(R77=\"\",\"\",COUNTIF(R12:R77,\"-\"))","v":64},"","","","","","","0",{"$f":"IF(R77=\"\",\"\",IF(AD77=\"0\",\"0\",COUNTIF(AD12:AD76,AD77)))","v":"0"},"","0","","0","","0","",{"$f":"COUNTIF(AS12:AS77,\"W\")","v":0},{"$f":"IF(AR77=\"\",\"\",COUNTIF(AR12:AR77,\"-\"))","v":64},66,3,"","-"]
[67,{"$f":"IF(REG!B77<>\"\",REG!B77,\"\")","v":""},{"$f":"IF(REG!C77<>\"\",REG!G77,\"\")","v":""},{"$f":"IF('H Q 1-2'!R78=\"\",\"DNR\",IF('H Q 1-2'!R78=\"-\",+'H Q 1-2'!D78,+'H Q 1-2'!R78))","v":"DNR"},null,null,null,"-","",null,null,null,null,null,"","","","-",3,67,"","-",{"$f":"IF(R78=\"\",\"\",COUNTIF(R12:R78,\"-\"))","v":65},"","","","","","","0",{"$f":"IF(R78=\"\",\"\",IF(AD78=\"0\",\"0\",COUNTIF(AD12:AD77,AD78)))","v":"0"},"","0","","0","","0","",{"$f":"COUNTIF(AS12:AS78,\"W\")","v":0},{"$f":"IF(AR78=\"\",\"\",COUNTIF(AR12:AR78,\"-\"))","v":65},67,3,"","-"]
[68,{"$f":"IF(REG!B78<>\"\",REG!B78,\"\")","v":""},{"$f":"IF(REG!C78<>\"\",REG!G78,\"\")","v":""},{"$f":"IF('H Q 1-2'!R79=\"\",\"DNR\",IF('H Q 1-2'!R79=\"-\",+'H Q 1-2'!D79,+'H Q 1-2'!R79))","v":"DNR"},null,null,null,"-","",null,null,null,null,null,"","","","-",3,68,"","-",{"$f":"IF(R79=\"\",\"\",COUNTIF(R12:R79,\"-\"))","v":66},"","","","","","","0",{"$f":"IF(R79=\"\",\"\",IF(AD79=\"0\",\"0\",COUNTIF(AD12:AD78,AD79)))","v":"0"},"","0","","0","","0","",{"$f":"COUNTIF(AS12:AS79,\"W\")","v":0},{"$f":"IF(AR79=\"\",\"\",COUNTIF(AR12:AR79,\"-\"))","v":66},68,3,"","-"]
[69,{"$f":"IF(REG!B79<>\"\",REG!B79,\"\")","v":""},{"$f":"IF(REG!C79<>\"\",REG!G79,\"\")","v":""},{"$f":"IF('H Q 1-2'!R80=\"\",\"DNR\",IF('H Q 1-2'!R80=\"-\",+'H Q 1-2'!D80,+'H Q 1-2'!R80))","v":"DNR"},null,null,null,"-","",null,null,null,null,null,"","","","-",3,69,"","-",{"$f":"IF(R80=\"\",\"\",COUNTIF(R12:R80,\"-\"))","v":67},"","","","","","","0",{"$f":"IF(R80=\"\",\"\",IF(AD80=\"0\",\"0\",COUNTIF(AD12:AD79,AD80)))","v":"0"},"","0","","0","","0","",{"$f":"COUNTIF(AS12:AS80,\"W\")","v":0},{"$f":"IF(AR80=\"\",\"\",COUNTIF(AR12:AR80,\"-\"))","v":67},69,3,"","-"]
[70,{"$f":"IF(REG!B80<>\"\",REG!B80,\"\")","v":""},{"$f":"IF(REG!C80<>\"\",REG!G80,\"\")","v":""},{"$f":"IF('H Q 1-2'!R81=\"\",\"DNR\",IF('H Q 1-2'!R81=\"-\",+'H Q 1-2'!D81,+'H Q 1-2'!R81))","v":"DNR"},null,null,null,"-","",null,null,null,null,null,"","","","-",3,70,"","-",{"$f":"IF(R81=\"\",\"\",COUNTIF(R12:R81,\"-\"))","v":68},"","","","","","","0",{"$f":"IF(R81=\"\",\"\",IF(AD81=\"0\",\"0\",COUNTIF(AD12:AD80,AD81)))","v":"0"},"","0","","0","","0","",{"$f":"COUNTIF(AS12:AS81,\"W\")","v":0},{"$f":"IF(AR81=\"\",\"\",COUNTIF(AR12:AR81,\"-\"))","v":68},70,3,"","-"]
[71,{"$f":"IF(REG!B81<>\"\",REG!B81,\"\")","v":""},{"$f":"IF(REG!C81<>\"\",REG!G81,\"\")","v":""},{"$f":"IF('H Q 1-2'!R82=\"\",\"DNR\",IF('H Q 1-2'!R82=\"-\",+'H Q 1-2'!D82,+'H Q 1-2'!R82))","v":"DNR"},null,null,null,"-","",null,null,null,null,null,"","","","-",3,71,"","-",{"$f":"IF(R82=\"\",\"\",COUNTIF(R12:R82,\"-\"))","v":69},"","","","","","","0",{"$f":"IF(R82=\"\",\"\",IF(AD82=\"0\",\"0\",COUNTIF(AD12:AD81,AD82)))","v":"0"},"","0","","0","","0","",{"$f":"COUNTIF(AS12:AS82,\"W\")","v":0},{"$f":"IF(AR82=\"\",\"\",COUNTIF(AR12:AR82,\"-\"))","v":69},71,3,"","-"]
[72,{"$f":"IF(REG!B82<>\"\",REG!B82,\"\")","v":""},{"$f":"IF(REG!C82<>\"\",REG!G82,\"\")","v":""},{"$f":"IF('H Q 1-2'!R83=\"\",\"DNR\",IF('H Q 1-2'!R83=\"-\",+'H Q 1-2'!D83,+'H Q 1-2'!R83))","v":"DNR"},null,null,null,"-","",null,null,null,null,null,"","","","-",3,72,"","-",{"$f":"IF(R83=\"\",\"\",COUNTIF(R12:R83,\"-\"))","v":70},"","","","","","","0",{"$f":"IF(R83=\"\",\"\",IF(AD83=\"0\",\"0\",COUNTIF(AD12:AD82,AD83)))","v":"0"},"","0","","0","","0","",{"$f":"COUNTIF(AS12:AS83,\"W\")","v":0},{"$f":"IF(AR83=\"\",\"\",COUNTIF(AR12:AR83,\"-\"))","v":70},72,3,"","-"]
[73,{"$f":"IF(REG!B83<>\"\",REG!B83,\"\")","v":""},{"$f":"IF(REG!C83<>\"\",REG!G83,\"\")","v":""},{"$f":"IF('H Q 1-2'!R84=\"\",\"DNR\",IF('H Q 1-2'!R84=\"-\",+'H Q 1-2'!D84,+'H Q 1-2'!R84))","v":"DNR"},null,null,null,"-","",null,null,null,null,null,"","","","-",3,73,"","-",{"$f":"IF(R84=\"\",\"\",COUNTIF(R12:R84,\"-\"))","v":71},"","","","","","","0",{"$f":"IF(R84=\"\",\"\",IF(AD84=\"0\",\"0\",COUNTIF(AD12:AD83,AD84)))","v":"0"},"","0","","0","","0","",{"$f":"COUNTIF(AS12:AS84,\"W\")","v":0},{"$f":"IF(AR84=\"\",\"\",COUNTIF(AR12:AR84,\"-\"))","v":71},73,3,"","-"]
[74,{"$f":"IF(REG!B84<>\"\",REG!B84,\"\")","v":""},{"$f":"IF(REG!C84<>\"\",REG!G84,\"\")","v":""},{"$f":"IF('H Q 1-2'!R85=\"\",\"DNR\",IF('H Q 1-2'!R85=\"-\",+'H Q 1-2'!D85,+'H Q 1-2'!R85))","v":"DNR"},null,null,null,"-","",null,null,null,null,null,"","","","-",3,74,"","-",{"$f":"IF(R85=\"\",\"\",COUNTIF(R12:R85,\"-\"))","v":72},"","","","","","","0",{"$f":"IF(R85=\"\",\"\",IF(AD85=\"0\",\"0\",COUNTIF(AD12:AD84,AD85)))","v":"0"},"","0","","0","","0","",{"$f":"COUNTIF(AS12:AS85,\"W\")","v":0},{"$f":"IF(AR85=\"\",\"\",COUNTIF(AR12:AR85,\"-\"))","v":72},74,3,"","-"]
[75,{"$f":"IF(REG!B85<>\"\",REG!B85,\"\")","v":""},{"$f":"IF(REG!C85<>\"\",REG!G85,\"\")","v":""},{"$f":"IF('H Q 1-2'!R86=\"\",\"DNR\",IF('H Q 1-2'!R86=\"-\",+'H Q 1-2'!D86,+'H Q 1-2'!R86))","v":"DNR"},null,null,null,"-","",null,null,null,null,null,"","","","-",3,75,"","-",{"$f":"IF(R86=\"\",\"\",COUNTIF(R12:R86,\"-\"))","v":73},"","","","","","","0",{"$f":"IF(R86=\"\",\"\",IF(AD86=\"0\",\"0\",COUNTIF(AD12:AD85,AD86)))","v":"0"},"","0","","0","","0","",{"$f":"COUNTIF(AS12:AS86,\"W\")","v":0},{"$f":"IF(AR86=\"\",\"\",COUNTIF(AR12:AR86,\"-\"))","v":73},75,3,"","-"]
[76,{"$f":"IF(REG!B86<>\"\",REG!B86,\"\")","v":""},{"$f":"IF(REG!C86<>\"\",REG!G86,\"\")","v":""},{"$f":"IF('H Q 1-2'!R87=\"\",\"DNR\",IF('H Q 1-2'!R87=\"-\",+'H Q 1-2'!D87,+'H Q 1-2'!R87))","v":"DNR"},null,null,null,"-","",null,null,null,null,null,"","","","-",3,76,"","-",{"$f":"IF(R87=\"\",\"\",COUNTIF(R12:R87,\"-\"))","v":74},"","","","","","","0",{"$f":"IF(R87=\"\",\"\",IF(AD87=\"0\",\"0\",COUNTIF(AD12:AD86,AD87)))","v":"0"},"","0","","0","","0","",{"$f":"COUNTIF(AS12:AS87,\"W\")","v":0},{"$f":"IF(AR87=\"\",\"\",COUNTIF(AR12:AR87,\"-\"))","v":74},76,3,"","-"]
[77,{"$f":"IF(REG!B87<>\"\",REG!B87,\"\")","v":""},{"$f":"IF(REG!C87<>\"\",REG!G87,\"\")","v":""},{"$f":"IF('H Q 1-2'!R88=\"\",\"DNR\",IF('H Q 1-2'!R88=\"-\",+'H Q 1-2'!D88,+'H Q 1-2'!R88))","v":"DNR"},null,null,null,"-","",null,null,null,null,null,"","","","-",3,77,"","-",{"$f":"IF(R88=\"\",\"\",COUNTIF(R12:R88,\"-\"))","v":75},"","","","","","","0",{"$f":"IF(R88=\"\",\"\",IF(AD88=\"0\",\"0\",COUNTIF(AD12:AD87,AD88)))","v":"0"},"","0","","0","","0","",{"$f":"COUNTIF(AS12:AS88,\"W\")","v":0},{"$f":"IF(AR88=\"\",\"\",COUNTIF(AR12:AR88,\"-\"))","v":75},77,3,"","-"]
[78,{"$f":"IF(REG!B88<>\"\",REG!B88,\"\")","v":""},{"$f":"IF(REG!C88<>\"\",REG!G88,\"\")","v":""},{"$f":"IF('H Q 1-2'!R89=\"\",\"DNR\",IF('H Q 1-2'!R89=\"-\",+'H Q 1-2'!D89,+'H Q 1-2'!R89))","v":"DNR"},null,null,null,"-","",null,null,null,null,null,"","","","-",3,78,"","-",{"$f":"IF(R89=\"\",\"\",COUNTIF(R12:R89,\"-\"))","v":76},"","","","","","","0",{"$f":"IF(R89=\"\",\"\",IF(AD89=\"0\",\"0\",COUNTIF(AD12:AD88,AD89)))","v":"0"},"","0","","0","","0","",{"$f":"COUNTIF(AS12:AS89,\"W\")","v":0},{"$f":"IF(AR89=\"\",\"\",COUNTIF(AR12:AR89,\"-\"))","v":76},78,3,"","-"]
[79,{"$f":"IF(REG!B89<>\"\",REG!B89,\"\")","v":""},{"$f":"IF(REG!C89<>\"\",REG!G89,\"\")","v":""},{"$f":"IF('H Q 1-2'!R90=\"\",\"DNR\",IF('H Q 1-2'!R90=\"-\",+'H Q 1-2'!D90,+'H Q 1-2'!R90))","v":"DNR"},null,null,null,"-","",null,null,null,null,null,"","","","-",3,79,"","-",{"$f":"IF(R90=\"\",\"\",COUNTIF(R12:R90,\"-\"))","v":77},"","","","","","","0",{"$f":"IF(R90=\"\",\"\",IF(AD90=\"0\",\"0\",COUNTIF(AD12:AD89,AD90)))","v":"0"},"","0","","0","","0","",{"$f":"COUNTIF(AS12:AS90,\"W\")","v":0},{"$f":"IF(AR90=\"\",\"\",COUNTIF(AR12:AR90,\"-\"))","v":77},79,3,"","-"]
[80,{"$f":"IF(REG!B90<>\"\",REG!B90,\"\")","v":""},{"$f":"IF(REG!C90<>\"\",REG!G90,\"\")","v":""},{"$f":"IF('H Q 1-2'!R91=\"\",\"DNR\",IF('H Q 1-2'!R91=\"-\",+'H Q 1-2'!D91,+'H Q 1-2'!R91))","v":"DNR"},null,null,null,"-","",null,null,null,null,null,"","","","-",3,80,"","-",{"$f":"IF(R91=\"\",\"\",COUNTIF(R12:R91,\"-\"))","v":78},"","","","","","","0",{"$f":"IF(R91=\"\",\"\",IF(AD91=\"0\",\"0\",COUNTIF(AD12:AD90,AD91)))","v":"0"},"","0","","0","","0","",{"$f":"COUNTIF(AS12:AS91,\"W\")","v":0},{"$f":"IF(AR91=\"\",\"\",COUNTIF(AR12:AR91,\"-\"))","v":78},80,3,"","-"]
[81,{"$f":"IF(REG!B91<>\"\",REG!B91,\"\")","v":""},{"$f":"IF(REG!C91<>\"\",REG!G91,\"\")","v":""},{"$f":"IF('H Q 1-2'!R92=\"\",\"DNR\",IF('H Q 1-2'!R92=\"-\",+'H Q 1-2'!D92,+'H Q 1-2'!R92))","v":"DNR"},null,null,null,"-","",null,null,null,null,null,"","","","-",3,81,"","-",{"$f":"IF(R92=\"\",\"\",COUNTIF(R12:R92,\"-\"))","v":79},"","","","","","","0",{"$f":"IF(R92=\"\",\"\",IF(AD92=\"0\",\"0\",COUNTIF(AD12:AD91,AD92)))","v":"0"},"","0","","0","","0","",{"$f":"COUNTIF(AS12:AS92,\"W\")","v":0},{"$f":"IF(AR92=\"\",\"\",COUNTIF(AR12:AR92,\"-\"))","v":79},81,3,"","-"]
[82,{"$f":"IF(REG!B92<>\"\",REG!B92,\"\")","v":""},{"$f":"IF(REG!C92<>\"\",REG!G92,\"\")","v":""},{"$f":"IF('H Q 1-2'!R93=\"\",\"DNR\",IF('H Q 1-2'!R93=\"-\",+'H Q 1-2'!D93,+'H Q 1-2'!R93))","v":"DNR"},null,null,null,"-","",null,null,null,null,null,"","","","-",3,82,"","-",{"$f":"IF(R93=\"\",\"\",COUNTIF(R12:R93,\"-\"))","v":80},"","","","","","","0",{"$f":"IF(R93=\"\",\"\",IF(AD93=\"0\",\"0\",COUNTIF(AD12:AD92,AD93)))","v":"0"},"","0","","0","","0","",{"$f":"COUNTIF(AS12:AS93,\"W\")","v":0},{"$f":"IF(AR93=\"\",\"\",COUNTIF(AR12:AR93,\"-\"))","v":80},82,3,"","-"]
[83,{"$f":"IF(REG!B93<>\"\",REG!B93,\"\")","v":""},{"$f":"IF(REG!C93<>\"\",REG!G93,\"\")","v":""},{"$f":"IF('H Q 1-2'!R94=\"\",\"DNR\",IF('H Q 1-2'!R94=\"-\",+'H Q 1-2'!D94,+'H Q 1-2'!R94))","v":"DNR"},null,null,null,"-","",null,null,null,null,null,"","","","-",3,83,"","-",{"$f":"IF(R94=\"\",\"\",COUNTIF(R12:R94,\"-\"))","v":81},"","","","","","","0",{"$f":"IF(R94=\"\",\"\",IF(AD94=\"0\",\"0\",COUNTIF(AD12:AD93,AD94)))","v":"0"},"","0","","0","","0","",{"$f":"COUNTIF(AS12:AS94,\"W\")","v":0},{"$f":"IF(AR94=\"\",\"\",COUNTIF(AR12:AR94,\"-\"))","v":81},83,3,"","-"]
[84,{"$f":"IF(REG!B94<>\"\",REG!B94,\"\")","v":""},{"$f":"IF(REG!C94<>\"\",REG!G94,\"\")","v":""},{"$f":"IF('H Q 1-2'!R95=\"\",\"DNR\",IF('H Q 1-2'!R95=\"-\",+'H Q 1-2'!D95,+'H Q 1-2'!R95))","v":"DNR"},null,null,null,"-","",null,null,null,null,null,"","","","-",3,84,"","-",{"$f":"IF(R95=\"\",\"\",COUNTIF(R12:R95,\"-\"))","v":82},"","","","","","","0",{"$f":"IF(R95=\"\",\"\",IF(AD95=\"0\",\"0\",COUNTIF(AD12:AD94,AD95)))","v":"0"},"","0","","0","","0","",{"$f":"COUNTIF(AS12:AS95,\"W\")","v":0},{"$f":"IF(AR95=\"\",\"\",COUNTIF(AR12:AR95,\"-\"))","v":82},84,3,"","-"]
[85,{"$f":"IF(REG!B95<>\"\",REG!B95,\"\")","v":""},{"$f":"IF(REG!C95<>\"\",REG!G95,\"\")","v":""},{"$f":"IF('H Q 1-2'!R96=\"\",\"DNR\",IF('H Q 1-2'!R96=\"-\",+'H Q 1-2'!D96,+'H Q 1-2'!R96))","v":"DNR"},null,null,null,"-","",null,null,null,null,null,"","","","-",3,85,"","-",{"$f":"IF(R96=\"\",\"\",COUNTIF(R12:R96,\"-\"))","v":83},"","","","","","","0",{"$f":"IF(R96=\"\",\"\",IF(AD96=\"0\",\"0\",COUNTIF(AD12:AD95,AD96)))","v":"0"},"","0","","0","","0","",{"$f":"COUNTIF(AS12:AS96,\"W\")","v":0},{"$f":"IF(AR96=\"\",\"\",COUNTIF(AR12:AR96,\"-\"))","v":83},85,3,"","-"]
[86,{"$f":"IF(REG!B96<>\"\",REG!B96,\"\")","v":""},{"$f":"IF(REG!C96<>\"\",REG!G96,\"\")","v":""},{"$f":"IF('H Q 1-2'!R97=\"\",\"DNR\",IF('H Q 1-2'!R97=\"-\",+'H Q 1-2'!D97,+'H Q 1-2'!R97))","v":"DNR"},null,null,null,"-","",null,null,null,null,null,"","","","-",3,86,"","-",{"$f":"IF(R97=\"\",\"\",COUNTIF(R12:R97,\"-\"))","v":84},"","","","","","","0",{"$f":"IF(R97=\"\",\"\",IF(AD97=\"0\",\"0\",COUNTIF(AD12:AD96,AD97)))","v":"0"},"","0","","0","","0","",{"$f":"COUNTIF(AS12:AS97,\"W\")","v":0},{"$f":"IF(AR97=\"\",\"\",COUNTIF(AR12:AR97,\"-\"))","v":84},86,3,"","-"]
[87,{"$f":"IF(REG!B97<>\"\",REG!B97,\"\")","v":""},{"$f":"IF(REG!C97<>\"\",REG!G97,\"\")","v":""},{"$f":"IF('H Q 1-2'!R98=\"\",\"DNR\",IF('H Q 1-2'!R98=\"-\",+'H Q 1-2'!D98,+'H Q 1-2'!R98))","v":"DNR"},null,null,null,"-","",null,null,null,null,null,"","","","-",3,87,"","-",{"$f":"IF(R98=\"\",\"\",COUNTIF(R12:R98,\"-\"))","v":85},"","","","","","","0",{"$f":"IF(R98=\"\",\"\",IF(AD98=\"0\",\"0\",COUNTIF(AD12:AD97,AD98)))","v":"0"},"","0","","0","","0","",{"$f":"COUNTIF(AS12:AS98,\"W\")","v":0},{"$f":"IF(AR98=\"\",\"\",COUNTIF(AR12:AR98,\"-\"))","v":85},87,3,"","-"]
[88,{"$f":"IF(REG!B98<>\"\",REG!B98,\"\")","v":""},{"$f":"IF(REG!C98<>\"\",REG!G98,\"\")","v":""},{"$f":"IF('H Q 1-2'!R99=\"\",\"DNR\",IF('H Q 1-2'!R99=\"-\",+'H Q 1-2'!D99,+'H Q 1-2'!R99))","v":"DNR"},null,null,null,"-","",null,null,null,null,null,"","","","-",3,88,"","-",{"$f":"IF(R99=\"\",\"\",COUNTIF(R12:R99,\"-\"))","v":86},"","","","","","","0",{"$f":"IF(R99=\"\",\"\",IF(AD99=\"0\",\"0\",COUNTIF(AD12:AD98,AD99)))","v":"0"},"","0","","0","","0","",{"$f":"COUNTIF(AS12:AS99,\"W\")","v":0},{"$f":"IF(AR99=\"\",\"\",COUNTIF(AR12:AR99,\"-\"))","v":86},88,3,"","-"]
[89,{"$f":"IF(REG!B99<>\"\",REG!B99,\"\")","v":""},{"$f":"IF(REG!C99<>\"\",REG!G99,\"\")","v":""},{"$f":"IF('H Q 1-2'!R100=\"\",\"DNR\",IF('H Q 1-2'!R100=\"-\",+'H Q 1-2'!D100,+'H Q 1-2'!R100))","v":"DNR"},null,null,null,"-","",null,null,null,null,null,"","","","-",3,89,"","-",{"$f":"IF(R100=\"\",\"\",COUNTIF(R12:R100,\"-\"))","v":87},"","","","","","","0",{"$f":"IF(R100=\"\",\"\",IF(AD100=\"0\",\"0\",COUNTIF(AD12:AD99,AD100)))","v":"0"},"","0","","0","","0","",{"$f":"COUNTIF(AS12:AS100,\"W\")","v":0},{"$f":"IF(AR100=\"\",\"\",COUNTIF(AR12:AR100,\"-\"))","v":87},89,3,"","-"]
[90,{"$f":"IF(REG!B100<>\"\",REG!B100,\"\")","v":""},{"$f":"IF(REG!C100<>\"\",REG!G100,\"\")","v":""},{"$f":"IF('H Q 1-2'!R101=\"\",\"DNR\",IF('H Q 1-2'!R101=\"-\",+'H Q 1-2'!D101,+'H Q 1-2'!R101))","v":"DNR"},null,null,null,"-","",null,null,null,null,null,"","","","-",3,90,"","-",{"$f":"IF(R101=\"\",\"\",COUNTIF(R12:R101,\"-\"))","v":88},"","","","","","","0",{"$f":"IF(R101=\"\",\"\",IF(AD101=\"0\",\"0\",COUNTIF(AD12:AD100,AD101)))","v":"0"},"","0","","0","","0","",{"$f":"COUNTIF(AS12:AS101,\"W\")","v":0},{"$f":"IF(AR101=\"\",\"\",COUNTIF(AR12:AR101,\"-\"))","v":88},90,3,"","-"]
[91,{"$f":"IF(REG!B101<>\"\",REG!B101,\"\")","v":""},{"$f":"IF(REG!C101<>\"\",REG!G101,\"\")","v":""},{"$f":"IF('H Q 1-2'!R102=\"\",\"DNR\",IF('H Q 1-2'!R102=\"-\",+'H Q 1-2'!D102,+'H Q 1-2'!R102))","v":"DNR"},null,null,null,"-","",null,null,null,null,null,"","","","-",3,91,"","-",{"$f":"IF(R102=\"\",\"\",COUNTIF(R12:R102,\"-\"))","v":89},"","","","","","","0",{"$f":"IF(R102=\"\",\"\",IF(AD102=\"0\",\"0\",COUNTIF(AD12:AD101,AD102)))","v":"0"},"","0","","0","","0","",{"$f":"COUNTIF(AS12:AS102,\"W\")","v":0},{"$f":"IF(AR102=\"\",\"\",COUNTIF(AR12:AR102,\"-\"))","v":89},91,3,"","-"]
[92,{"$f":"IF(REG!B102<>\"\",REG!B102,\"\")","v":""},{"$f":"IF(REG!C102<>\"\",REG!G102,\"\")","v":""},{"$f":"IF('H Q 1-2'!R103=\"\",\"DNR\",IF('H Q 1-2'!R103=\"-\",+'H Q 1-2'!D103,+'H Q 1-2'!R103))","v":"DNR"},null,null,null,"-","",null,null,null,null,null,"","","","-",3,92,"","-",{"$f":"IF(R103=\"\",\"\",COUNTIF(R12:R103,\"-\"))","v":90},"","","","","","","0",{"$f":"IF(R103=\"\",\"\",IF(AD103=\"0\",\"0\",COUNTIF(AD12:AD102,AD103)))","v":"0"},"","0","","0","","0","",{"$f":"COUNTIF(AS12:AS103,\"W\")","v":0},{"$f":"IF(AR103=\"\",\"\",COUNTIF(AR12:AR103,\"-\"))","v":90},92,3,"","-"]
[93,{"$f":"IF(REG!B103<>\"\",REG!B103,\"\")","v":""},{"$f":"IF(REG!C103<>\"\",REG!G103,\"\")","v":""},{"$f":"IF('H Q 1-2'!R104=\"\",\"DNR\",IF('H Q 1-2'!R104=\"-\",+'H Q 1-2'!D104,+'H Q 1-2'!R104))","v":"DNR"},null,null,null,"-","",null,null,null,null,null,"","","","-",3,93,"","-",{"$f":"IF(R104=\"\",\"\",COUNTIF(R12:R104,\"-\"))","v":91},"","","","","","","0",{"$f":"IF(R104=\"\",\"\",IF(AD104=\"0\",\"0\",COUNTIF(AD12:AD103,AD104)))","v":"0"},"","0","","0","","0","",{"$f":"COUNTIF(AS12:AS104,\"W\")","v":0},{"$f":"IF(AR104=\"\",\"\",COUNTIF(AR12:AR104,\"-\"))","v":91},93,3,"","-"]
[94,{"$f":"IF(REG!B104<>\"\",REG!B104,\"\")","v":""},{"$f":"IF(REG!C104<>\"\",REG!G104,\"\")","v":""},{"$f":"IF('H Q 1-2'!R105=\"\",\"DNR\",IF('H Q 1-2'!R105=\"-\",+'H Q 1-2'!D105,+'H Q 1-2'!R105))","v":"DNR"},null,null,null,"-","",null,null,null,null,null,"","","","-",3,94,"","-",{"$f":"IF(R105=\"\",\"\",COUNTIF(R12:R105,\"-\"))","v":92},"","","","","","","0",{"$f":"IF(R105=\"\",\"\",IF(AD105=\"0\",\"0\",COUNTIF(AD12:AD104,AD105)))","v":"0"},"","0","","0","","0","",{"$f":"COUNTIF(AS12:AS105,\"W\")","v":0},{"$f":"IF(AR105=\"\",\"\",COUNTIF(AR12:AR105,\"-\"))","v":92},94,3,"","-"]
[95,{"$f":"IF(REG!B105<>\"\",REG!B105,\"\")","v":""},{"$f":"IF(REG!C105<>\"\",REG!G105,\"\")","v":""},{"$f":"IF('H Q 1-2'!R106=\"\",\"DNR\",IF('H Q 1-2'!R106=\"-\",+'H Q 1-2'!D106,+'H Q 1-2'!R106))","v":"DNR"},null,null,null,"-","",null,null,null,null,null,"","","","-",3,95,"","-",{"$f":"IF(R106=\"\",\"\",COUNTIF(R12:R106,\"-\"))","v":93},"","","","","","","0",{"$f":"IF(R106=\"\",\"\",IF(AD106=\"0\",\"0\",COUNTIF(AD12:AD105,AD106)))","v":"0"},"","0","","0","","0","",{"$f":"COUNTIF(AS12:AS106,\"W\")","v":0},{"$f":"IF(AR106=\"\",\"\",COUNTIF(AR12:AR106,\"-\"))","v":93},95,3,"","-"]
[96,{"$f":"IF(REG!B106<>\"\",REG!B106,\"\")","v":""},{"$f":"IF(REG!C106<>\"\",REG!G106,\"\")","v":""},{"$f":"IF('H Q 1-2'!R107=\"\",\"DNR\",IF('H Q 1-2'!R107=\"-\",+'H Q 1-2'!D107,+'H Q 1-2'!R107))","v":"DNR"},null,null,null,"-","",null,null,null,null,null,"","","","-",3,96,"","-",{"$f":"IF(R107=\"\",\"\",COUNTIF(R12:R107,\"-\"))","v":94},"","","","","","","0",{"$f":"IF(R107=\"\",\"\",IF(AD107=\"0\",\"0\",COUNTIF(AD12:AD106,AD107)))","v":"0"},"","0","","0","","0","",{"$f":"COUNTIF(AS12:AS107,\"W\")","v":0},{"$f":"IF(AR107=\"\",\"\",COUNTIF(AR12:AR107,\"-\"))","v":94},96,3,"","-"]
[97,{"$f":"IF(REG!B107<>\"\",REG!B107,\"\")","v":""},{"$f":"IF(REG!C107<>\"\",REG!G107,\"\")","v":""},{"$f":"IF('H Q 1-2'!R108=\"\",\"DNR\",IF('H Q 1-2'!R108=\"-\",+'H Q 1-2'!D108,+'H Q 1-2'!R108))","v":"DNR"},null,null,null,"-","",null,null,null,null,null,"","","","-",3,97,"","-",{"$f":"IF(R108=\"\",\"\",COUNTIF(R12:R108,\"-\"))","v":95},"","","","","","","0",{"$f":"IF(R108=\"\",\"\",IF(AD108=\"0\",\"0\",COUNTIF(AD12:AD107,AD108)))","v":"0"},"","0","","0","","0","",{"$f":"COUNTIF(AS12:AS108,\"W\")","v":0},{"$f":"IF(AR108=\"\",\"\",COUNTIF(AR12:AR108,\"-\"))","v":95},97,3,"","-"]
[98,{"$f":"IF(REG!B108<>\"\",REG!B108,\"\")","v":""},{"$f":"IF(REG!C108<>\"\",REG!G108,\"\")","v":""},{"$f":"IF('H Q 1-2'!R109=\"\",\"DNR\",IF('H Q 1-2'!R109=\"-\",+'H Q 1-2'!D109,+'H Q 1-2'!R109))","v":"DNR"},null,null,null,"-","",null,null,null,null,null,"","","","-",3,98,"","-",{"$f":"IF(R109=\"\",\"\",COUNTIF(R12:R109,\"-\"))","v":96},"","","","","","","0",{"$f":"IF(R109=\"\",\"\",IF(AD109=\"0\",\"0\",COUNTIF(AD12:AD108,AD109)))","v":"0"},"","0","","0","","0","",{"$f":"COUNTIF(AS12:AS109,\"W\")","v":0},{"$f":"IF(AR109=\"\",\"\",COUNTIF(AR12:AR109,\"-\"))","v":96},98,3,"","-"]
[99,{"$f":"IF(REG!B109<>\"\",REG!B109,\"\")","v":""},{"$f":"IF(REG!C109<>\"\",REG!G109,\"\")","v":""},{"$f":"IF('H Q 1-2'!R110=\"\",\"DNR\",IF('H Q 1-2'!R110=\"-\",+'H Q 1-2'!D110,+'H Q 1-2'!R110))","v":"DNR"},null,null,null,"-","",null,null,null,null,null,"","","","-",3,99,"","-",{"$f":"IF(R110=\"\",\"\",COUNTIF(R12:R110,\"-\"))","v":97},"","","","","","","0",{"$f":"IF(R110=\"\",\"\",IF(AD110=\"0\",\"0\",COUNTIF(AD12:AD109,AD110)))","v":"0"},"","0","","0","","0","",{"$f":"COUNTIF(AS12:AS110,\"W\")","v":0},{"$f":"IF(AR110=\"\",\"\",COUNTIF(AR12:AR110,\"-\"))","v":97},99,3,"","-"]
[100,{"$f":"IF(REG!B110<>\"\",REG!B110,\"\")","v":""},{"$f":"IF(REG!C110<>\"\",REG!G110,\"\")","v":""},{"$f":"IF('H Q 1-2'!R111=\"\",\"DNR\",IF('H Q 1-2'!R111=\"-\",+'H Q 1-2'!D111,+'H Q 1-2'!R111))","v":"DNR"},null,null,null,"-","",null,null,null,null,null,"","","","-",3,100,"","-",{"$f":"IF(R111=\"\",\"\",COUNTIF(R12:R111,\"-\"))","v":98},"","","","","","","0",{"$f":"IF(R111=\"\",\"\",IF(AD111=\"0\",\"0\",COUNTIF(AD12:AD110,AD111)))","v":"0"},"","0","","0","","0","",{"$f":"COUNTIF(AS12:AS111,\"W\")","v":0},{"$f":"IF(AR111=\"\",\"\",COUNTIF(AR12:AR111,\"-\"))","v":98},100,3,"","-"]

{"sheet":"H Q 4","index":10,"n_rows":111,"n_cols":45,"rows_kept":111,"cut":false,"hidden":false,"merged":[[9,42,10,42],[9,43,10,43],[9,44,10,44],[9,38,10,38],[9,39,10,39],[9,40,10,40],[9,41,10,41],[9,30,10,30],[9,31,10,31],[9,32,10,32],[9,33,10,33],[9,34,10,34],[9,25,10,25],[9,26,10,26],[9,27,10,27],[9,28,10,28],[9,29,10,29],[9,19,10,19],[6,1,6,2],[9,20,10,20],[9,21,10,21],[6,41,6,43],[9,3,9,8],[9,10,9,15],[9,16,10,16],[9,17,10,17],[9,18,10,18],[9,35,10,35],[9,36,10,36],[9,37,10,37],[9,22,10,22],[9,23,10,23],[9,24,10,24],[6,44,7,44],[7,1,7,2],[7,3,7,18],[7,41,7,43],[8,1,8,2],[6,3,6,18],[0,41,0,42],[1,3,1,18],[1,41,1,42],[2,3,2,18],[0,3,0,18],[9,0,10,0],[9,1,10,1],[9,2,10,2],[4,1,4,2],[5,1,5,2]]}
[null,null,null,{"$f":"CONTEST!B4","v":"Skate n Roll Polička  2022"}]
[null,null,null,{"$f":"CONTEST!B6","v":"13.8. - 14.8.2022"}]
[null,null,null,{"$f":"CONCATENATE(CONTEST!B9,\" / \",CONTEST!B16,\" / \",CONTEST!B13)","v":"HYBRID SLALOM / Qualifications / TEEN 12-14"}]
[]
[{"$f":"+'H Q 1-2'!A5","v":0.1},"secs penalty per hit cone"]
[{"$f":"+'H Q 1-2'!A6","v":8},"maximum hit cones before DQ"]
[{"$f":"+'H Q 1-2'!A8","v":2.06},"false start multiplication factor",null,"Under \"Raw Time,\" enter \"DQ\" or\"DNF\" for",null,null,null,null,null,null,null,null,null,null,null,null,null,null,null,null,null,null,null,null,null,null,null,null,null,null,null,null,null,null,null,null,null,null,null,null,null,"Advance Racers who DQ",null,null,"Y"]
[{"$f":"IF(ISERROR(0.1*AR12)=TRUE,\"\",ROUND(0.1*AR12,2))","v":2.06},"secs head-to-head DQ/DNR penalty",null,"\"Disqualified\" and \"DNR\" for \"Did Not Race.\"",null,null,null,null,null,null,null,null,null,null,null,null,null,null,null,null,null,null,null,null,null,null,null,null,null,null,null,null,null,null,null,null,null,null,null,null,null,"all Qualifying Runs? (Y/N)"]
[{"$f":"+'H Q 1-2'!A9","v":2.06},"secs max head-to-head victory margin",null,null,null,null,null,null,null,null,null,null,null,null,null,null,null,null,null,null,null,null,null,null,null,null,null,null,null,null,null,null,null,null,null,null,null,null,null,null,null,null,{"$f":"+D3","v":"HYBRID SLALOM / Qualifications / TEEN 12-14"}]
[null,"START Number","Racer Name","Run 1-3",null,null,null,null,null,null,"Run 4",null,null,null,null,null,"Qual Rank (w/out DQs)","Best Time","Qualifying Position","Qual Rank (w/DQs sequenced)","Racer No. & Name","Best Time","Double DQ Place Factor","No. of Ties per Best Time","Tied-at Time","Tied-at Time Rank","Run 1 Time w/DQ Adjust","Run 2 Time w/DQ Adjust","Total Time w/DQ Adjust","Total Time Rank","Total Tie Place Factor","Tie 1 Total Time Rank","Tie 1 Place Factor","Tie 2 Total Time Rank","Tie 2 Place Factor","Tie 3 Total Time Rank","Tie 3 Place Factor","Placed Racer No. & Name","Withdrawal Place Factor","Double DQ Place Factor 2","Final Spot - Withdrawals","Qualifying Position",{"$f":"CONCATENATE(+CONTEST!B4,\"                                \",+CONTEST!B8,\"                                   \",\"RUN 1-4\",\"                                     \",\"  Racer No. & Name\")","v":"Skate n Roll Polička  2022                                GIANT SLALOM                                   RUN 1-4                                       Racer No. & Name"},"Best Time","Withdraw (W)"]
[null,null,null,"BEST of 1-3","Cones","Reaction Time","False Start","Final Time","Run Rank",null,"Raw Time","Cones","Reaction Time","False Start","Final Time","Run Rank"]
[1,{"$f":"IF(REG!B11<>\"\",REG!B11,\"\")","v":""},{"$f":"IF(REG!C11<>\"\",REG!G11,\"\")","v":"Voves  Jindřich  [CZE] "},{"$f":"IF('H Q 3'!R12=\"\",\"DNR\",IF('H Q 3'!R12=\"-\",+'H Q 3'!D12,+'H Q 3'!R12))","v":20.757999999999999},null,null,null,{"$f":"IF(LEFT(D12:D111,1)=\"D\",\"-\",IF(E12:E111>A6,\"-\",IF(D12:D111>0,D12:D111+E12:E111*A5+G12:G111*A7,\"\")))","v":20.757999999999999},{"$f":"IF(H12:H111=\"\",\"\",IF(H12:H111=\"-\",\"\",RANK(H12:H111,H12:H111,1)))","v":2},null,null,null,null,null,{"$f":"IF(LEFT(K12:K111,1)=\"D\",\"-\",IF(L12:L111>A6,\"-\",IF(K12:K111>0,K12:K111+L12:L111*A5+N12:N111*A7,\"\")))","v":""},{"$f":"IF(O12:O111=\"\",\"\",IF(O12:O111=\"-\",\"\",RANK(O12:O111,O12:O111,1)))","v":""},{"$f":"IF(R12:R111=\"\",\"\",IF(R12:R111=\"-\",\"\",RANK(R12:R111,R12:R111,1)))","v":2},{"$f":"IF(AND(ISBLANK(D12),ISBLANK(K12)),\"\",IF(AND(H12=\"-\",O12=\"-\"),\"-\",IF(AND(H12=\"-\",ISBLANK(K12)),\"-\",MIN(H12,O12))))","v":20.757999999999999},{"$f":"IF(R12:R111=\"\",\"\",VLOOKUP(U12:U111,AL12:AP111,5,FALSE))","v":2},{"$f":"IF(R12:R111=\"\",\"\",IF(R12:R111=\"-\",COUNT(Q12:Q111)+W12:W111,Q12:Q111+AE12:AE111+AG12:AG111+AI12:AI111+AK12:AK111))","v":2},{"$f":"IF(B12:B111 =\"\",\"\",B12:B111 & \" \")&C12:C111","v":"Voves  Jindřich  [CZE] "},{"$f":"R12:R111","v":20.757999999999999},{"$f":"IF(R12=\"\",\"\",COUNTIF(R12:R12,\"-\"))","v":0},{"$f":"IF(Q12:Q111=\"\",\"\",COUNTIF(Q12:Q111,Q12:Q111)-1)","v":0},{"$f":"IF(R12:R111=\"-\",\"\",IF(X12:X111=0,\"\",R12:R111))","v":""},{"$f":"IF(Y12:Y111=\"\",\"\",RANK(Y12:Y111,Y12:Y111,1))","v":""},{"$f":"IF(X12:X111=\"\",\"\",IF(X12:X111=0,\"\",IF(LEFT(H12:H111,1)=\"-\",\"199\",H12:H111)))","v":""},{"$f":"IF(X12:X111=\"\",\"\",IF(X12:X111=0,\"\",IF(LEFT(O12:O111,1)=\"-\",\"199\",O12:O111)))","v":""},{"$f":"IF(ISERROR(AA12:AA111+AB12:AB111)=TRUE,AA12:AA111,AA12:AA111+AB12:AB111)","v":""},{"$f":"IF(R12:R111=\"\",\"\",IF(X12:X111=0,\"0\",IF(ISERROR(RANK(AC12:AC111,AC12:AC111,1))=TRUE,\"0\",RANK(AC12:AC111,AC12:AC111,1))))","v":"0"},0,{"$f":"IF(ISERROR(X12:X111)=TRUE,\"\",IF(Z12:Z111=1,AD12:AD111,\"\"))","v":""},{"$f":"IF(R12:R111=\"\",\"\",IF(AF12:AF111=\"\",\"0\",RANK(AF12:AF111,AF12:AF111,1)-1))","v":"0"},{"$f":"IF(ISERROR(X12:X111)=TRUE,\"\",IF(Z12:Z111=COUNT(AF12:AF111)+1,AD12:AD111,\"\"))","v":""},{"$f":"IF(R12:R111=\"\",\"\",IF(AH12:AH111=\"\",\"0\",RANK(AH12:AH111,AH12:AH111,1)-1))","v":"0"},{"$f":"IF(ISERROR(X12:X111)=TRUE,\"\",IF(Z12:Z111=COUNT(AF12:AF111)+COUNT(AH12:AH111)+1,AD12:AD111,\"\"))","v":""},{"$f":"IF(R12:R111=\"\",\"\",IF(AJ12:AJ111=\"\",\"0\",RANK(AJ12:AJ111,AJ12:AJ111,1)-1))","v":"0"},{"$f":"AQ12:AQ111","v":"Rezková  Anna  [CZE] "},{"$f":"COUNTIF(AS12:AS12,\"W\")","v":0},{"$f":"IF(AR12=\"\",\"\",COUNTIF(AR12:AR12,\"-\"))","v":0},{"$f":"IF(AQ12:AQ111=\"BYE\",\"\",IF(AS12:AS111=\"W\",\"\",IF(AS7=\"N\",IF(AP12:AP111<=COUNT(Q12:Q111),AP12:AP111-AM12:AM111,\"\"),IF(AP12:AP111<=COUNT(Q12:Q111),AP12:AP111-AM12:AM111,AP12:AP111-AM12:AM111+AN12:AN111-1))))","v":1},{"$f":"IF(R12:R111=\"\",\"\",IF(AP11:AP110+1<=COUNT(Q12:Q111),AP11:AP110+1,COUNT(Q12:Q111)+1))","v":1},{"$f":"IF(R12:R111=\"\",\"BYE\",IF(ISERROR(VLOOKUP(A12:A111,T12:U111,2,FALSE))=TRUE,\"\",VLOOKUP(A12:A111,T12:U111,2,FALSE)))","v":"Rezková  Anna  [CZE] "},{"$f":"IF(C12:C111=\"BYE\", \"\",IF(A12:A111=\"\",\"\",IF(ISERROR(VLOOKUP(A12:A111,T12:V111,3,FALSE))=TRUE,\"\",VLOOKUP(A12:A111,T12:V111,3,FALSE))))","v":20.643000000000001}]
[2,{"$f":"IF(REG!B12<>\"\",REG!B12,\"\")","v":""},{"$f":"IF(REG!C12<>\"\",REG!G12,\"\")","v":"Rezková  Anna  [CZE] "},{"$f":"IF('H Q 3'!R13=\"\",\"DNR\",IF('H Q 3'!R13=\"-\",+'H Q 3'!D13,+'H Q 3'!R13))","v":20.643000000000001},null,null,null,20.643000000000001,1,null,null,null,null,null,"","",1,20.643000000000001,1,1,"Rezková  Anna  [CZE] ",20.643000000000001,{"$f":"IF(R13=\"\",\"\",COUNTIF(R12:R13,\"-\"))","v":0},0,"","","","","","0",{"$f":"IF(R13=\"\",\"\",IF(AD13=\"0\",\"0\",COUNTIF(AD12:AD12,AD13)))","v":"0"},"","0","","0","","0","Voves  Jindřich  [CZE] ",{"$f":"COUNTIF(AS12:AS13,\"W\")","v":0},{"$f":"IF(AR13=\"\",\"\",COUNTIF(AR12:AR13,\"-\"))","v":0},2,2,"Voves  Jindřich  [CZE] ",20.757999999999999]
[3,{"$f":"IF(REG!B13<>\"\",REG!B13,\"\")","v":""},{"$f":"IF(REG!C13<>\"\",REG!G13,\"\")","v":""},{"$f":"IF('H Q 3'!R14=\"\",\"DNR\",IF('H Q 3'!R14=\"-\",+'H Q 3'!D14,+'H Q 3'!R14))","v":"DNR"},null,null,null,"-","",null,null,null,null,null,"","","","-",3,3,"","-",{"$f":"IF(R14=\"\",\"\",COUNTIF(R12:R14,\"-\"))","v":1},"","","","","","","0",{"$f":"IF(R14=\"\",\"\",IF(AD14=\"0\",\"0\",COUNTIF(AD12:AD13,AD14)))","v":"0"},"","0","","0","","0","",{"$f":"COUNTIF(AS12:AS14,\"W\")","v":0},{"$f":"IF(AR14=\"\",\"\",COUNTIF(AR12:AR14,\"-\"))","v":1},3,3,"","-"]
[4,{"$f":"IF(REG!B14<>\"\",REG!B14,\"\")","v":""},{"$f":"IF(REG!C14<>\"\",REG!G14,\"\")","v":""},{"$f":"IF('H Q 3'!R15=\"\",\"DNR\",IF('H Q 3'!R15=\"-\",+'H Q 3'!D15,+'H Q 3'!R15))","v":"DNR"},null,null,null,"-","",null,null,null,null,null,"","","","-",3,4,"","-",{"$f":"IF(R15=\"\",\"\",COUNTIF(R12:R15,\"-\"))","v":2},"","","","","","","0",{"$f":"IF(R15=\"\",\"\",IF(AD15=\"0\",\"0\",COUNTIF(AD12:AD14,AD15)))","v":"0"},"","0","","0","","0","",{"$f":"COUNTIF(AS12:AS15,\"W\")","v":0},{"$f":"IF(AR15=\"\",\"\",COUNTIF(AR12:AR15,\"-\"))","v":2},4,3,"","-"]
[5,{"$f":"IF(REG!B15<>\"\",REG!B15,\"\")","v":""},{"$f":"IF(REG!C15<>\"\",REG!G15,\"\")","v":""},{"$f":"IF('H Q 3'!R16=\"\",\"DNR\",IF('H Q 3'!R16=\"-\",+'H Q 3'!D16,+'H Q 3'!R16))","v":"DNR"},null,null,null,"-","",null,null,null,null,null,"","","","-",3,5,"","-",{"$f":"IF(R16=\"\",\"\",COUNTIF(R12:R16,\"-\"))","v":3},"","","","","","","0",{"$f":"IF(R16=\"\",\"\",IF(AD16=\"0\",\"0\",COUNTIF(AD12:AD15,AD16)))","v":"0"},"","0","","0","","0","",{"$f":"COUNTIF(AS12:AS16,\"W\")","v":0},{"$f":"IF(AR16=\"\",\"\",COUNTIF(AR12:AR16,\"-\"))","v":3},5,3,"","-"]
[6,{"$f":"IF(REG!B16<>\"\",REG!B16,\"\")","v":""},{"$f":"IF(REG!C16<>\"\",REG!G16,\"\")","v":""},{"$f":"IF('H Q 3'!R17=\"\",\"DNR\",IF('H Q 3'!R17=\"-\",+'H Q 3'!D17,+'H Q 3'!R17))","v":"DNR"},null,null,null,"-","",null,null,null,null,null,"","","","-",3,6,"","-",{"$f":"IF(R17=\"\",\"\",COUNTIF(R12:R17,\"-\"))","v":4},"","","","","","","0",{"$f":"IF(R17=\"\",\"\",IF(AD17=\"0\",\"0\",COUNTIF(AD12:AD16,AD17)))","v":"0"},"","0","","0","","0","",{"$f":"COUNTIF(AS12:AS17,\"W\")","v":0},{"$f":"IF(AR17=\"\",\"\",COUNTIF(AR12:AR17,\"-\"))","v":4},6,3,"","-"]
[7,{"$f":"IF(REG!B17<>\"\",REG!B17,\"\")","v":""},{"$f":"IF(REG!C17<>\"\",REG!G17,\"\")","v":""},{"$f":"IF('H Q 3'!R18=\"\",\"DNR\",IF('H Q 3'!R18=\"-\",+'H Q 3'!D18,+'H Q 3'!R18))","v":"DNR"},null,null,null,"-","",null,null,null,null,null,"","","","-",3,7,"","-",{"$f":"IF(R18=\"\",\"\",COUNTIF(R12:R18,\"-\"))","v":5},"","","","","","","0",{"$f":"IF(R18=\"\",\"\",IF(R18=\"\",\"\",IF(AD18=\"0\",\"0\",COUNTIF(AD12:AD17,AD18))))","v":"0"},"","0","","0","","0","",{"$f":"COUNTIF(AS12:AS18,\"W\")","v":0},{"$f":"IF(AR18=\"\",\"\",COUNTIF(AR12:AR18,\"-\"))","v":5},7,3,"","-"]
[8,{"$f":"IF(REG!B18<>\"\",REG!B18,\"\")","v":""},{"$f":"IF(REG!C18<>\"\",REG!G18,\"\")","v":""},{"$f":"IF('H Q 3'!R19=\"\",\"DNR\",IF('H Q 3'!R19=\"-\",+'H Q 3'!D19,+'H Q 3'!R19))","v":"DNR"},null,null,null,"-","",null,null,null,null,null,"","","","-",3,8,"","-",{"$f":"IF(R19=\"\",\"\",COUNTIF(R12:R19,\"-\"))","v":6},"","","","","","","0",{"$f":"IF(R19=\"\",\"\",IF(R19=\"\",\"\",IF(AD19=\"0\",\"0\",COUNTIF(AD12:AD18,AD19))))","v":"0"},"","0","","0","","0","",{"$f":"COUNTIF(AS12:AS19,\"W\")","v":0},{"$f":"IF(AR19=\"\",\"\",COUNTIF(AR12:AR19,\"-\"))","v":6},8,3,"","-"]
[9,{"$f":"IF(REG!B19<>\"\",REG!B19,\"\")","v":""},{"$f":"IF(REG!C19<>\"\",REG!G19,\"\")","v":""},{"$f":"IF('H Q 3'!R20=\"\",\"DNR\",IF('H Q 3'!R20=\"-\",+'H Q 3'!D20,+'H Q 3'!R20))","v":"DNR"},null,null,null,"-","",null,null,null,null,null,"","","","-",3,9,"","-",{"$f":"IF(R20=\"\",\"\",COUNTIF(R12:R20,\"-\"))","v":7},"","","","","","","0",{"$f":"IF(R20=\"\",\"\",IF(R20=\"\",\"\",IF(AD20=\"0\",\"0\",COUNTIF(AD12:AD19,AD20))))","v":"0"},"","0","","0","","0","",{"$f":"COUNTIF(AS12:AS20,\"W\")","v":0},{"$f":"IF(AR20=\"\",\"\",COUNTIF(AR12:AR20,\"-\"))","v":7},9,3,"","-"]
[10,{"$f":"IF(REG!B20<>\"\",REG!B20,\"\")","v":""},{"$f":"IF(REG!C20<>\"\",REG!G20,\"\")","v":""},{"$f":"IF('H Q 3'!R21=\"\",\"DNR\",IF('H Q 3'!R21=\"-\",+'H Q 3'!D21,+'H Q 3'!R21))","v":"DNR"},null,null,null,"-","",null,null,null,null,null,"","","","-",3,10,"","-",{"$f":"IF(R21=\"\",\"\",COUNTIF(R12:R21,\"-\"))","v":8},"","","","","","","0",{"$f":"IF(R21=\"\",\"\",IF(AD21=\"0\",\"0\",COUNTIF(AD12:AD20,AD21)))","v":"0"},"","0","","0","","0","",{"$f":"COUNTIF(AS12:AS21,\"W\")","v":0},{"$f":"IF(AR21=\"\",\"\",COUNTIF(AR12:AR21,\"-\"))","v":8},10,3,"","-"]
[11,{"$f":"IF(REG!B21<>\"\",REG!B21,\"\")","v":""},{"$f":"IF(REG!C21<>\"\",REG!G21,\"\")","v":""},{"$f":"IF('H Q 3'!R22=\"\",\"DNR\",IF('H Q 3'!R22=\"-\",+'H Q 3'!D22,+'H Q 3'!R22))","v":"DNR"},null,null,null,"-","",null,null,null,null,null,"","","","-",3,11,"","-",{"$f":"IF(R22=\"\",\"\",COUNTIF(R12:R22,\"-\"))","v":9},"","","","","","","0",{"$f":"IF(R22=\"\",\"\",IF(AD22=\"0\",\"0\",COUNTIF(AD1:AD21,AD22)))","v":"0"},"","0","","0","","0","",{"$f":"COUNTIF(AS12:AS22,\"W\")","v":0},{"$f":"IF(AR22=\"\",\"\",COUNTIF(AR12:AR22,\"-\"))","v":9},11,3,"","-"]
[12,{"$f":"IF(REG!B22<>\"\",REG!B22,\"\")","v":""},{"$f":"IF(REG!C22<>\"\",REG!G22,\"\")","v":""},{"$f":"IF('H Q 3'!R23=\"\",\"DNR\",IF('H Q 3'!R23=\"-\",+'H Q 3'!D23,+'H Q 3'!R23))","v":"DNR"},null,null,null,"-","",null,null,null,null,null,"","","","-",3,12,"","-",{"$f":"IF(R23=\"\",\"\",COUNTIF(R12:R23,\"-\"))","v":10},"","","","","","","0",{"$f":"IF(R23=\"\",\"\",IF(AD23=\"0\",\"0\",COUNTIF(AD12:AD22,AD23)))","v":"0"},"","0","","0","","0","",{"$f":"COUNTIF(AS12:AS23,\"W\")","v":0},{"$f":"IF(AR23=\"\",\"\",COUNTIF(AR12:AR23,\"-\"))","v":10},12,3,"","-"]
[13,{"$f":"IF(REG!B23<>\"\",REG!B23,\"\")","v":""},{"$f":"IF(REG!C23<>\"\",REG!G23,\"\")","v":""},{"$f":"IF('H Q 3'!R24=\"\",\"DNR\",IF('H Q 3'!R24=\"-\",+'H Q 3'!D24,+'H Q 3'!R24))","v":"DNR"},null,null,null,"-","",null,null,null,null,null,"","","","-",3,13,"","-",{"$f":"IF(R24=\"\",\"\",COUNTIF(R12:R24,\"-\"))","v":11},"","","","","","","0",{"$f":"IF(R24=\"\",\"\",IF(AD24=\"0\",\"0\",COUNTIF(AD12:AD23,AD24)))","v":"0"},"","0","","0","","0","",{"$f":"COUNTIF(AS12:AS24,\"W\")","v":0},{"$f":"IF(AR24=\"\",\"\",COUNTIF(AR12:AR24,\"-\"))","v":11},13,3,"","-"]
[14,{"$f":"IF(REG!B24<>\"\",REG!B24,\"\")","v":""},{"$f":"IF(REG!C24<>\"\",REG!G24,\"\")","v":""},{"$f":"IF('H Q 3'!R25=\"\",\"DNR\",IF('H Q 3'!R25=\"-\",+'H Q 3'!D25,+'H Q 3'!R25))","v":"DNR"},null,null,null,"-","",null,null,null,null,null,"","","","-",3,14,"","-",{"$f":"IF(R25=\"\",\"\",COUNTIF(R12:R25,\"-\"))","v":12},"","","","","","","0",{"$f":"IF(R25=\"\",\"\",IF(AD25=\"0\",\"0\",COUNTIF(AD12:AD24,AD25)))","v":"0"},"","0","","0","","0","",{"$f":"COUNTIF(AS12:AS25,\"W\")","v":0},{"$f":"IF(AR25=\"\",\"\",COUNTIF(AR12:AR25,\"-\"))","v":12},14,3,"","-"]
[15,{"$f":"IF(REG!B25<>\"\",REG!B25,\"\")","v":""},{"$f":"IF(REG!C25<>\"\",REG!G25,\"\")","v":""},{"$f":"IF('H Q 3'!R26=\"\",\"DNR\",IF('H Q 3'!R26=\"-\",+'H Q 3'!D26,+'H Q 3'!R26))","v":"DNR"},null,null,null,"-","",null,null,null,null,null,"","","","-",3,15,"","-",{"$f":"IF(R26=\"\",\"\",COUNTIF(R12:R26,\"-\"))","v":13},"","","","","","","0",{"$f":"IF(R26=\"\",\"\",IF(AD26=\"0\",\"0\",COUNTIF(AD12:AD25,AD26)))","v":"0"},"","0","","0","","0","",{"$f":"COUNTIF(AS12:AS26,\"W\")","v":0},{"$f":"IF(AR26=\"\",\"\",COUNTIF(AR12:AR26,\"-\"))","v":13},15,3,"","-"]
[16,{"$f":"IF(REG!B26<>\"\",REG!B26,\"\")","v":""},{"$f":"IF(REG!C26<>\"\",REG!G26,\"\")","v":""},{"$f":"IF('H Q 3'!R27=\"\",\"DNR\",IF('H Q 3'!R27=\"-\",+'H Q 3'!D27,+'H Q 3'!R27))","v":"DNR"},null,null,null,"-","",null,null,null,null,null,"","","","-",3,16,"","-",{"$f":"IF(R27=\"\",\"\",COUNTIF(R12:R27,\"-\"))","v":14},"","","","","","","0",{"$f":"IF(R27=\"\",\"\",IF(AD27=\"0\",\"0\",COUNTIF(AD12:AD26,AD27)))","v":"0"},"","0","","0","","0","",{"$f":"COUNTIF(AS12:AS27,\"W\")","v":0},{"$f":"IF(AR27=\"\",\"\",COUNTIF(AR12:AR27,\"-\"))","v":14},16,3,"","-"]
[17,{"$f":"IF(REG!B27<>\"\",REG!B27,\"\")","v":""},{"$f":"IF(REG!C27<>\"\",REG!G27,\"\")","v":""},{"$f":"IF('H Q 3'!R28=\"\",\"DNR\",IF('H Q 3'!R28=\"-\",+'H Q 3'!D28,+'H Q 3'!R28))","v":"DNR"},null,null,null,"-","",null,null,null,null,null,"","","","-",3,17,"","-",{"$f":"IF(R28=\"\",\"\",COUNTIF(R12:R28,\"-\"))","v":15},"","","","","","","0",{"$f":"IF(R28=\"\",\"\",IF(AD28=\"0\",\"0\",COUNTIF(AD12:AD27,AD28)))","v":"0"},"","0","","0","","0","",{"$f":"COUNTIF(AS12:AS28,\"W\")","v":0},{"$f":"IF(AR28=\"\",\"\",COUNTIF(AR12:AR28,\"-\"))","v":15},17,3,"","-"]
[18,{"$f":"IF(REG!B28<>\"\",REG!B28,\"\")","v":""},{"$f":"IF(REG!C28<>\"\",REG!G28,\"\")","v":""},{"$f":"IF('H Q 3'!R29=\"\",\"DNR\",IF('H Q 3'!R29=\"-\",+'H Q 3'!D29,+'H Q 3'!R29))","v":"DNR"},null,null,null,"-","",null,null,null,null,null,"","","","-",3,18,"","-",{"$f":"IF(R29=\"\",\"\",COUNTIF(R12:R29,\"-\"))","v":16},"","","","","","","0",{"$f":"IF(R29=\"\",\"\",IF(AD29=\"0\",\"0\",COUNTIF(AD12:AD28,AD29)))","v":"0"},"","0","","0","","0","",{"$f":"COUNTIF(AS12:AS29,\"W\")","v":0},{"$f":"IF(AR29=\"\",\"\",COUNTIF(AR12:AR29,\"-\"))","v":16},18,3,"","-"]
[19,{"$f":"IF(REG!B29<>\"\",REG!B29,\"\")","v":""},{"$f":"IF(REG!C29<>\"\",REG!G29,\"\")","v":""},{"$f":"IF('H Q 3'!R30=\"\",\"DNR\",IF('H Q 3'!R30=\"-\",+'H Q 3'!D30,+'H Q 3'!R30))","v":"DNR"},null,null,null,"-","",null,null,null,null,null,"","","","-",3,19,"","-",{"$f":"IF(R30=\"\",\"\",COUNTIF(R12:R30,\"-\"))","v":17},"","","","","","","0",{"$f":"IF(R30=\"\",\"\",IF(AD30=\"0\",\"0\",COUNTIF(AD12:AD29,AD30)))","v":"0"},"","0","","0","","0","",{"$f":"COUNTIF(AS12:AS30,\"W\")","v":0},{"$f":"IF(AR30=\"\",\"\",COUNTIF(AR12:AR30,\"-\"))","v":17},19,3,"","-"]
[20,{"$f":"IF(REG!B30<>\"\",REG!B30,\"\")","v":""},{"$f":"IF(REG!C30<>\"\",REG!G30,\"\")","v":""},{"$f":"IF('H Q 3'!R31=\"\",\"DNR\",IF('H Q 3'!R31=\"-\",+'H Q 3'!D31,+'H Q 3'!R31))","v":"DNR"},null,null,null,"-","",null,null,null,null,null,"","","","-",3,20,"","-",{"$f":"IF(R31=\"\",\"\",COUNTIF(R12:R31,\"-\"))","v":18},"","","","","","","0",{"$f":"IF(R31=\"\",\"\",IF(AD31=\"0\",\"0\",COUNTIF(AD12:AD30,AD31)))","v":"0"},"","0","","0","","0","",{"$f":"COUNTIF(AS12:AS31,\"W\")","v":0},{"$f":"IF(AR31=\"\",\"\",COUNTIF(AR12:AR31,\"-\"))","v":18},20,3,"","-"]
[21,{"$f":"IF(REG!B31<>\"\",REG!B31,\"\")","v":""},{"$f":"IF(REG!C31<>\"\",REG!G31,\"\")","v":""},{"$f":"IF('H Q 3'!R32=\"\",\"DNR\",IF('H Q 3'!R32=\"-\",+'H Q 3'!D32,+'H Q 3'!R32))","v":"DNR"},null,null,null,"-","",null,null,null,null,null,"","","","-",3,21,"","-",{"$f":"IF(R32=\"\",\"\",COUNTIF(R12:R32,\"-\"))","v":19},"","","","","","","0",{"$f":"IF(R32=\"\",\"\",IF(AD32=\"0\",\"0\",COUNTIF(AD12:AD31,AD32)))","v":"0"},"","0","","0","","0","",{"$f":"COUNTIF(AS12:AS32,\"W\")","v":0},{"$f":"IF(AR32=\"\",\"\",COUNTIF(AR12:AR32,\"-\"))","v":19},21,3,"","-"]
[22,{"$f":"IF(REG!B32<>\"\",REG!B32,\"\")","v":""},{"$f":"IF(REG!C32<>\"\",REG!G32,\"\")","v":""},{"$f":"IF('H Q 3'!R33=\"\",\"DNR\",IF('H Q 3'!R33=\"-\",+'H Q 3'!D33,+'H Q 3'!R33))","v":"DNR"},null,null,null,"-","",null,null,null,null,null,"","","","-",3,22,"","-",{"$f":"IF(R33=\"\",\"\",COUNTIF(R12:R33,\"-\"))","v":20},"","","","","","","0",{"$f":"IF(R33=\"\",\"\",IF(AD33=\"0\",\"0\",COUNTIF(AD12:AD32,AD33)))","v":"0"},"","0","","0","","0","",{"$f":"COUNTIF(AS12:AS33,\"W\")","v":0},{"$f":"IF(AR33=\"\",\"\",COUNTIF(AR12:AR33,\"-\"))","v":20},22,3,"","-"]
[23,{"$f":"IF(REG!B33<>\"\",REG!B33,\"\")","v":""},{"$f":"IF(REG!C33<>\"\",REG!G33,\"\")","v":""},{"$f":"IF('H Q 3'!R34=\"\",\"DNR\",IF('H Q 3'!R34=\"-\",+'H Q 3'!D34,+'H Q 3'!R34))","v":"DNR"},null,null,null,"-","",null,null,null,null,null,"","","","-",3,23,"","-",{"$f":"IF(R34=\"\",\"\",COUNTIF(R12:R34,\"-\"))","v":21},"","","","","","","0",{"$f":"IF(R34=\"\",\"\",IF(AD34=\"0\",\"0\",COUNTIF(AD12:AD33,AD34)))","v":"0"},"","0","","0","","0","",{"$f":"COUNTIF(AS12:AS34,\"W\")","v":0},{"$f":"IF(AR34=\"\",\"\",COUNTIF(AR12:AR34,\"-\"))","v":21},23,3,"","-"]
[24,{"$f":"IF(REG!B34<>\"\",REG!B34,\"\")","v":""},{"$f":"IF(REG!C34<>\"\",REG!G34,\"\")","v":""},{"$f":"IF('H Q 3'!R35=\"\",\"DNR\",IF('H Q 3'!R35=\"-\",+'H Q 3'!D35,+'H Q 3'!R35))","v":"DNR"},null,null,null,"-","",null,null,null,null,null,"","","","-",3,24,"","-",{"$f":"IF(R35=\"\",\"\",COUNTIF(R12:R35,\"-\"))","v":22},"","","","","","","0",{"$f":"IF(R35=\"\",\"\",IF(AD35=\"0\",\"0\",COUNTIF(AD12:AD34,AD35)))","v":"0"},"","0","","0","","0","",{"$f":"COUNTIF(AS12:AS35,\"W\")","v":0},{"$f":"IF(AR35=\"\",\"\",COUNTIF(AR12:AR35,\"-\"))","v":22},24,3,"","-"]
[25,{"$f":"IF(REG!B35<>\"\",REG!B35,\"\")","v":""},{"$f":"IF(REG!C35<>\"\",REG!G35,\"\")","v":""},{"$f":"IF('H Q 3'!R36=\"\",\"DNR\",IF('H Q 3'!R36=\"-\",+'H Q 3'!D36,+'H Q 3'!R36))","v":"DNR"},null,null,null,"-","",null,null,null,null,null,"","","","-",3,25,"","-",{"$f":"IF(R36=\"\",\"\",COUNTIF(R12:R36,\"-\"))","v":23},"","","","","","","0",{"$f":"IF(R36=\"\",\"\",IF(AD36=\"0\",\"0\",COUNTIF(AD12:AD35,AD36)))","v":"0"},"","0","","0","","0","",{"$f":"COUNTIF(AS12:AS36,\"W\")","v":0},{"$f":"IF(AR36=\"\",\"\",COUNTIF(AR12:AR36,\"-\"))","v":23},25,3,"","-"]
[26,{"$f":"IF(REG!B36<>\"\",REG!B36,\"\")","v":""},{"$f":"IF(REG!C36<>\"\",REG!G36,\"\")","v":""},{"$f":"IF('H Q 3'!R37=\"\",\"DNR\",IF('H Q 3'!R37=\"-\",+'H Q 3'!D37,+'H Q 3'!R37))","v":"DNR"},null,null,null,"-","",null,null,null,null,null,"","","","-",3,26,"","-",{"$f":"IF(R37=\"\",\"\",COUNTIF(R12:R37,\"-\"))","v":24},"","","","","","","0",{"$f":"IF(R37=\"\",\"\",IF(AD37=\"0\",\"0\",COUNTIF(AD12:AD36,AD37)))","v":"0"},"","0","","0","","0","",{"$f":"COUNTIF(AS12:AS37,\"W\")","v":0},{"$f":"IF(AR37=\"\",\"\",COUNTIF(AR12:AR37,\"-\"))","v":24},26,3,"","-"]
[27,{"$f":"IF(REG!B37<>\"\",REG!B37,\"\")","v":""},{"$f":"IF(REG!C37<>\"\",REG!G37,\"\")","v":""},{"$f":"IF('H Q 3'!R38=\"\",\"DNR\",IF('H Q 3'!R38=\"-\",+'H Q 3'!D38,+'H Q 3'!R38))","v":"DNR"},null,null,null,"-","",null,null,null,null,null,"","","","-",3,27,"","-",{"$f":"IF(R38=\"\",\"\",COUNTIF(R12:R38,\"-\"))","v":25},"","","","","","","0",{"$f":"IF(R38=\"\",\"\",IF(AD38=\"0\",\"0\",COUNTIF(AD12:AD37,AD38)))","v":"0"},"","0","","0","","0","",{"$f":"COUNTIF(AS12:AS38,\"W\")","v":0},{"$f":"IF(AR38=\"\",\"\",COUNTIF(AR12:AR38,\"-\"))","v":25},27,3,"","-"]
[28,{"$f":"IF(REG!B38<>\"\",REG!B38,\"\")","v":""},{"$f":"IF(REG!C38<>\"\",REG!G38,\"\")","v":""},{"$f":"IF('H Q 3'!R39=\"\",\"DNR\",IF('H Q 3'!R39=\"-\",+'H Q 3'!D39,+'H Q 3'!R39))","v":"DNR"},null,null,null,"-","",null,null,null,null,null,"","","","-",3,28,"","-",{"$f":"IF(R39=\"\",\"\",COUNTIF(R12:R39,\"-\"))","v":26},"","","","","","","0",{"$f":"IF(R39=\"\",\"\",IF(AD39=\"0\",\"0\",COUNTIF(AD12:AD38,AD39)))","v":"0"},"","0","","0","","0","",{"$f":"COUNTIF(AS12:AS39,\"W\")","v":0},{"$f":"IF(AR39=\"\",\"\",COUNTIF(AR12:AR39,\"-\"))","v":26},28,3,"","-"]
[29,{"$f":"IF(REG!B39<>\"\",REG!B39,\"\")","v":""},{"$f":"IF(REG!C39<>\"\",REG!G39,\"\")","v":""},{"$f":"IF('H Q 3'!R40=\"\",\"DNR\",IF('H Q 3'!R40=\"-\",+'H Q 3'!D40,+'H Q 3'!R40))","v":"DNR"},null,null,null,"-","",null,null,null,null,null,"","","","-",3,29,"","-",{"$f":"IF(R40=\"\",\"\",COUNTIF(R12:R40,\"-\"))","v":27},"","","","","","","0",{"$f":"IF(R40=\"\",\"\",IF(AD40=\"0\",\"0\",COUNTIF(AD12:AD39,AD40)))","v":"0"},"","0","","0","","0","",{"$f":"COUNTIF(AS12:AS40,\"W\")","v":0},{"$f":"IF(AR40=\"\",\"\",COUNTIF(AR12:AR40,\"-\"))","v":27},29,3,"","-"]
[30,{"$f":"IF(REG!B40<>\"\",REG!B40,\"\")","v":""},{"$f":"IF(REG!C40<>\"\",REG!G40,\"\")","v":""},{"$f":"IF('H Q 3'!R41=\"\",\"DNR\",IF('H Q 3'!R41=\"-\",+'H Q 3'!D41,+'H Q 3'!R41))","v":"DNR"},null,null,null,"-","",null,null,null,null,null,"","","","-",3,30,"","-",{"$f":"IF(R41=\"\",\"\",COUNTIF(R12:R41,\"-\"))","v":28},"","","","","","","0",{"$f":"IF(R41=\"\",\"\",IF(AD41=\"0\",\"0\",COUNTIF(AD12:AD40,AD41)))","v":"0"},"","0","","0","","0","",{"$f":"COUNTIF(AS12:AS41,\"W\")","v":0},{"$f":"IF(AR41=\"\",\"\",COUNTIF(AR12:AR41,\"-\"))","v":28},30,3,"","-"]
[31,{"$f":"IF(REG!B41<>\"\",REG!B41,\"\")","v":""},{"$f":"IF(REG!C41<>\"\",REG!G41,\"\")","v":""},{"$f":"IF('H Q 3'!R42=\"\",\"DNR\",IF('H Q 3'!R42=\"-\",+'H Q 3'!D42,+'H Q 3'!R42))","v":"DNR"},null,null,null,"-","",null,null,null,null,null,"","","","-",3,31,"","-",{"$f":"IF(R42=\"\",\"\",COUNTIF(R12:R42,\"-\"))","v":29},"","","","","","","0",{"$f":"IF(R42=\"\",\"\",IF(AD42=\"0\",\"0\",COUNTIF(AD12:AD41,AD42)))","v":"0"},"","0","","0","","0","",{"$f":"COUNTIF(AS12:AS42,\"W\")","v":0},{"$f":"IF(AR42=\"\",\"\",COUNTIF(AR12:AR42,\"-\"))","v":29},31,3,"","-"]
[32,{"$f":"IF(REG!B42<>\"\",REG!B42,\"\")","v":""},{"$f":"IF(REG!C42<>\"\",REG!G42,\"\")","v":""},{"$f":"IF('H Q 3'!R43=\"\",\"DNR\",IF('H Q 3'!R43=\"-\",+'H Q 3'!D43,+'H Q 3'!R43))","v":"DNR"},null,null,null,"-","",null,null,null,null,null,"","","","-",3,32,"","-",{"$f":"IF(R43=\"\",\"\",COUNTIF(R12:R43,\"-\"))","v":30},"","","","","","","0",{"$f":"IF(R43=\"\",\"\",IF(AD43=\"0\",\"0\",COUNTIF(AD12:AD42,AD43)))","v":"0"},"","0","","0","","0","",{"$f":"COUNTIF(AS12:AS43,\"W\")","v":0},{"$f":"IF(AR43=\"\",\"\",COUNTIF(AR12:AR43,\"-\"))","v":30},32,3,"","-"]
[33,{"$f":"IF(REG!B43<>\"\",REG!B43,\"\")","v":""},{"$f":"IF(REG!C43<>\"\",REG!G43,\"\")","v":""},{"$f":"IF('H Q 3'!R44=\"\",\"DNR\",IF('H Q 3'!R44=\"-\",+'H Q 3'!D44,+'H Q 3'!R44))","v":"DNR"},null,null,null,"-","",null,null,null,null,null,"","","",{"$f":"IF(AND(ISBLANK(D44),ISBLANK(K44)),\"\",IF(AND(H44=\"-\",O44=\"-\"),\"-\",IF(AND(H44=\"-\",ISBLANK(K44)),\"-\",MIN(H44,O44))))","v":"-"},3,33,"","-",{"$f":"IF(R44=\"\",\"\",COUNTIF(R12:R44,\"-\"))","v":31},"","","","","","","0",{"$f":"IF(R44=\"\",\"\",IF(AD44=\"0\",\"0\",COUNTIF(AD12:AD43,AD44)))","v":"0"},"","0","","0","","0","",{"$f":"COUNTIF(AS12:AS44,\"W\")","v":0},{"$f":"IF(AR44=\"\",\"\",COUNTIF(AR12:AR44,\"-\"))","v":31},33,3,"","-"]
[34,{"$f":"IF(REG!B44<>\"\",REG!B44,\"\")","v":""},{"$f":"IF(REG!C44<>\"\",REG!G44,\"\")","v":""},{"$f":"IF('H Q 3'!R45=\"\",\"DNR\",IF('H Q 3'!R45=\"-\",+'H Q 3'!D45,+'H Q 3'!R45))","v":"DNR"},null,null,null,"-","",null,null,null,null,null,"","","","-",3,34,"","-",{"$f":"IF(R45=\"\",\"\",COUNTIF(R12:R45,\"-\"))","v":32},"","","","","","","0",{"$f":"IF(R45=\"\",\"\",IF(AD45=\"0\",\"0\",COUNTIF(AD12:AD44,AD45)))","v":"0"},"","0","","0","","0","",{"$f":"COUNTIF(AS12:AS45,\"W\")","v":0},{"$f":"IF(AR45=\"\",\"\",COUNTIF(AR12:AR45,\"-\"))","v":32},34,3,"","-"]
[35,{"$f":"IF(REG!B45<>\"\",REG!B45,\"\")","v":""},{"$f":"IF(REG!C45<>\"\",REG!G45,\"\")","v":""},{"$f":"IF('H Q 3'!R46=\"\",\"DNR\",IF('H Q 3'!R46=\"-\",+'H Q 3'!D46,+'H Q 3'!R46))","v":"DNR"},null,null,null,"-","",null,null,null,null,null,"","","","-",3,35,"","-",{"$f":"IF(R46=\"\",\"\",COUNTIF(R12:R46,\"-\"))","v":33},"","","","","","","0",{"$f":"IF(R46=\"\",\"\",IF(AD46=\"0\",\"0\",COUNTIF(AD12:AD45,AD46)))","v":"0"},"","0","","0","","0","",{"$f":"COUNTIF(AS12:AS46,\"W\")","v":0},{"$f":"IF(AR46=\"\",\"\",COUNTIF(AR12:AR46,\"-\"))","v":33},35,3,"","-"]
[36,{"$f":"IF(REG!B46<>\"\",REG!B46,\"\")","v":""},{"$f":"IF(REG!C46<>\"\",REG!G46,\"\")","v":""},{"$f":"IF('H Q 3'!R47=\"\",\"DNR\",IF('H Q 3'!R47=\"-\",+'H Q 3'!D47,+'H Q 3'!R47))","v":"DNR"},null,null,null,"-","",null,null,null,null,null,"","","","-",3,36,"","-",{"$f":"IF(R47=\"\",\"\",COUNTIF(R12:R47,\"-\"))","v":34},"","","","","","","0",{"$f":"IF(R47=\"\",\"\",IF(AD47=\"0\",\"0\",COUNTIF(AD12:AD46,AD47)))","v":"0"},"","0","","0","","0","",{"$f":"COUNTIF(AS12:AS47,\"W\")","v":0},{"$f":"IF(AR47=\"\",\"\",COUNTIF(AR12:AR47,\"-\"))","v":34},36,3,"","-"]
[37,{"$f":"IF(REG!B47<>\"\",REG!B47,\"\")","v":""},{"$f":"IF(REG!C47<>\"\",REG!G47,\"\")","v":""},{"$f":"IF('H Q 3'!R48=\"\",\"DNR\",IF('H Q 3'!R48=\"-\",+'H Q 3'!D48,+'H Q 3'!R48))","v":"DNR"},null,null,null,"-","",null,null,null,null,null,"","","","-",3,37,"","-",{"$f":"IF(R48=\"\",\"\",COUNTIF(R12:R48,\"-\"))","v":35},"","","","","","","0",{"$f":"IF(R48=\"\",\"\",IF(AD48=\"0\",\"0\",COUNTIF(AD12:AD47,AD48)))","v":"0"},"","0","","0","","0","",{"$f":"COUNTIF(AS12:AS48,\"W\")","v":0},{"$f":"IF(AR48=\"\",\"\",COUNTIF(AR12:AR48,\"-\"))","v":35},37,3,"","-"]
[38,{"$f":"IF(REG!B48<>\"\",REG!B48,\"\")","v":""},{"$f":"IF(REG!C48<>\"\",REG!G48,\"\")","v":""},{"$f":"IF('H Q 3'!R49=\"\",\"DNR\",IF('H Q 3'!R49=\"-\",+'H Q 3'!D49,+'H Q 3'!R49))","v":"DNR"},null,null,null,"-","",null,null,null,null,null,"","","","-",3,38,"","-",{"$f":"IF(R49=\"\",\"\",COUNTIF(R12:R49,\"-\"))","v":36},"","","","","","","0",{"$f":"IF(R49=\"\",\"\",IF(AD49=\"0\",\"0\",COUNTIF(AD12:AD48,AD49)))","v":"0"},"","0","","0","","0","",{"$f":"COUNTIF(AS12:AS49,\"W\")","v":0},{"$f":"IF(AR49=\"\",\"\",COUNTIF(AR12:AR49,\"-\"))","v":36},38,3,"","-"]
[39,{"$f":"IF(REG!B49<>\"\",REG!B49,\"\")","v":""},{"$f":"IF(REG!C49<>\"\",REG!G49,\"\")","v":""},{"$f":"IF('H Q 3'!R50=\"\",\"DNR\",IF('H Q 3'!R50=\"-\",+'H Q 3'!D50,+'H Q 3'!R50))","v":"DNR"},null,null,null,"-","",null,null,null,null,null,"","","","-",3,39,"","-",{"$f":"IF(R50=\"\",\"\",COUNTIF(R12:R50,\"-\"))","v":37},"","","","","","","0",{"$f":"IF(R50=\"\",\"\",IF(AD50=\"0\",\"0\",COUNTIF(AD12:AD49,AD50)))","v":"0"},"","0","","0","","0","",{"$f":"COUNTIF(AS12:AS50,\"W\")","v":0},{"$f":"IF(AR50=\"\",\"\",COUNTIF(AR12:AR50,\"-\"))","v":37},39,3,"","-"]
[40,{"$f":"IF(REG!B50<>\"\",REG!B50,\"\")","v":""},{"$f":"IF(REG!C50<>\"\",REG!G50,\"\")","v":""},{"$f":"IF('H Q 3'!R51=\"\",\"DNR\",IF('H Q 3'!R51=\"-\",+'H Q 3'!D51,+'H Q 3'!R51))","v":"DNR"},null,null,null,"-","",null,null,null,null,null,"","","","-",3,40,"","-",{"$f":"IF(R51=\"\",\"\",COUNTIF(R12:R51,\"-\"))","v":38},"","","","","","","0",{"$f":"IF(R51=\"\",\"\",IF(AD51=\"0\",\"0\",COUNTIF(AD12:AD50,AD51)))","v":"0"},"","0","","0","","0","",{"$f":"COUNTIF(AS12:AS51,\"W\")","v":0},{"$f":"IF(AR51=\"\",\"\",COUNTIF(AR12:AR51,\"-\"))","v":38},40,3,"","-"]
[41,{"$f":"IF(REG!B51<>\"\",REG!B51,\"\")","v":""},{"$f":"IF(REG!C51<>\"\",REG!G51,\"\")","v":""},{"$f":"IF('H Q 3'!R52=\"\",\"DNR\",IF('H Q 3'!R52=\"-\",+'H Q 3'!D52,+'H Q 3'!R52))","v":"DNR"},null,null,null,"-","",null,null,null,null,null,"","","","-",3,41,"","-",{"$f":"IF(R52=\"\",\"\",COUNTIF(R12:R52,\"-\"))","v":39},"","","","","","","0",{"$f":"IF(R52=\"\",\"\",IF(AD52=\"0\",\"0\",COUNTIF(AD12:AD51,AD52)))","v":"0"},"","0","","0","","0","",{"$f":"COUNTIF(AS12:AS52,\"W\")","v":0},{"$f":"IF(AR52=\"\",\"\",COUNTIF(AR12:AR52,\"-\"))","v":39},41,3,"","-"]
[42,{"$f":"IF(REG!B52<>\"\",REG!B52,\"\")","v":""},{"$f":"IF(REG!C52<>\"\",REG!G52,\"\")","v":""},{"$f":"IF('H Q 3'!R53=\"\",\"DNR\",IF('H Q 3'!R53=\"-\",+'H Q 3'!D53,+'H Q 3'!R53))","v":"DNR"},null,null,null,"-","",null,null,null,null,null,"","","","-",3,42,"","-",{"$f":"IF(R53=\"\",\"\",COUNTIF(R12:R53,\"-\"))","v":40},"","","","","","","0",{"$f":"IF(R53=\"\",\"\",IF(AD53=\"0\",\"0\",COUNTIF(AD12:AD52,AD53)))","v":"0"},"","0","","0","","0","",{"$f":"COUNTIF(AS12:AS53,\"W\")","v":0},{"$f":"IF(AR53=\"\",\"\",COUNTIF(AR12:AR53,\"-\"))","v":40},42,3,"","-"]
[43,{"$f":"IF(REG!B53<>\"\",REG!B53,\"\")","v":""},{"$f":"IF(REG!C53<>\"\",REG!G53,\"\")","v":""},{"$f":"IF('H Q 3'!R54=\"\",\"DNR\",IF('H Q 3'!R54=\"-\",+'H Q 3'!D54,+'H Q 3'!R54))","v":"DNR"},null,null,null,"-","",null,null,null,null,null,"","","","-",3,43,"","-",{"$f":"IF(R54=\"\",\"\",COUNTIF(R12:R54,\"-\"))","v":41},"","","","","","","0",{"$f":"IF(R54=\"\",\"\",IF(AD54=\"0\",\"0\",COUNTIF(AD12:AD53,AD54)))","v":"0"},"","0","","0","","0","",{"$f":"COUNTIF(AS12:AS54,\"W\")","v":0},{"$f":"IF(AR54=\"\",\"\",COUNTIF(AR12:AR54,\"-\"))","v":41},43,3,"","-"]
[44,{"$f":"IF(REG!B54<>\"\",REG!B54,\"\")","v":""},{"$f":"IF(REG!C54<>\"\",REG!G54,\"\")","v":""},{"$f":"IF('H Q 3'!R55=\"\",\"DNR\",IF('H Q 3'!R55=\"-\",+'H Q 3'!D55,+'H Q 3'!R55))","v":"DNR"},null,null,null,"-","",null,null,null,null,null,"","","","-",3,44,"","-",{"$f":"IF(R55=\"\",\"\",COUNTIF(R12:R55,\"-\"))","v":42},"","","","","","","0",{"$f":"IF(R55=\"\",\"\",IF(AD55=\"0\",\"0\",COUNTIF(AD12:AD54,AD55)))","v":"0"},"","0","","0","","0","",{"$f":"COUNTIF(AS12:AS55,\"W\")","v":0},{"$f":"IF(AR55=\"\",\"\",COUNTIF(AR12:AR55,\"-\"))","v":42},44,3,"","-"]
[45,{"$f":"IF(REG!B55<>\"\",REG!B55,\"\")","v":""},{"$f":"IF(REG!C55<>\"\",REG!G55,\"\")","v":""},{"$f":"IF('H Q 3'!R56=\"\",\"DNR\",IF('H Q 3'!R56=\"-\",+'H Q 3'!D56,+'H Q 3'!R56))","v":"DNR"},null,null,null,"-","",null,null,null,null,null,"","","","-",3,45,"","-",{"$f":"IF(R56=\"\",\"\",COUNTIF(R12:R56,\"-\"))","v":43},"","","","","","","0",{"$f":"IF(R56=\"\",\"\",IF(AD56=\"0\",\"0\",COUNTIF(AD12:AD55,AD56)))","v":"0"},"","0","","0","","0","",{"$f":"COUNTIF(AS12:AS56,\"W\")","v":0},{"$f":"IF(AR56=\"\",\"\",COUNTIF(AR12:AR56,\"-\"))","v":43},45,3,"","-"]
[46,{"$f":"IF(REG!B56<>\"\",REG!B56,\"\")","v":""},{"$f":"IF(REG!C56<>\"\",REG!G56,\"\")","v":""},{"$f":"IF('H Q 3'!R57=\"\",\"DNR\",IF('H Q 3'!R57=\"-\",+'H Q 3'!D57,+'H Q 3'!R57))","v":"DNR"},null,null,null,"-","",null,null,null,null,null,"","","","-",3,46,"","-",{"$f":"IF(R57=\"\",\"\",COUNTIF(R12:R57,\"-\"))","v":44},"","","","","","","0",{"$f":"IF(R57=\"\",\"\",IF(AD57=\"0\",\"0\",COUNTIF(AD12:AD56,AD57)))","v":"0"},"","0","","0","","0","",{"$f":"COUNTIF(AS12:AS57,\"W\")","v":0},{"$f":"IF(AR57=\"\",\"\",COUNTIF(AR12:AR57,\"-\"))","v":44},46,3,"","-"]
[47,{"$f":"IF(REG!B57<>\"\",REG!B57,\"\")","v":""},{"$f":"IF(REG!C57<>\"\",REG!G57,\"\")","v":""},{"$f":"IF('H Q 3'!R58=\"\",\"DNR\",IF('H Q 3'!R58=\"-\",+'H Q 3'!D58,+'H Q 3'!R58))","v":"DNR"},null,null,null,"-","",null,null,null,null,null,"","","","-",3,47,"","-",{"$f":"IF(R58=\"\",\"\",COUNTIF(R12:R58,\"-\"))","v":45},"","","","","","","0",{"$f":"IF(R58=\"\",\"\",IF(AD58=\"0\",\"0\",COUNTIF(AD12:AD57,AD58)))","v":"0"},"","0","","0","","0","",{"$f":"COUNTIF(AS12:AS58,\"W\")","v":0},{"$f":"IF(AR58=\"\",\"\",COUNTIF(AR12:AR58,\"-\"))","v":45},47,3,"","-"]
[48,{"$f":"IF(REG!B58<>\"\",REG!B58,\"\")","v":""},{"$f":"IF(REG!C58<>\"\",REG!G58,\"\")","v":""},{"$f":"IF('H Q 3'!R59=\"\",\"DNR\",IF('H Q 3'!R59=\"-\",+'H Q 3'!D59,+'H Q 3'!R59))","v":"DNR"},null,null,null,"-","",null,null,null,null,null,"","","","-",3,48,"","-",{"$f":"IF(R59=\"\",\"\",COUNTIF(R12:R59,\"-\"))","v":46},"","","","","","","0",{"$f":"IF(R59=\"\",\"\",IF(AD59=\"0\",\"0\",COUNTIF(AD12:AD58,AD59)))","v":"0"},"","0","","0","","0","",{"$f":"COUNTIF(AS12:AS59,\"W\")","v":0},{"$f":"IF(AR59=\"\",\"\",COUNTIF(AR12:AR59,\"-\"))","v":46},48,3,"","-"]
[49,{"$f":"IF(REG!B59<>\"\",REG!B59,\"\")","v":""},{"$f":"IF(REG!C59<>\"\",REG!G59,\"\")","v":""},{"$f":"IF('H Q 3'!R60=\"\",\"DNR\",IF('H Q 3'!R60=\"-\",+'H Q 3'!D60,+'H Q 3'!R60))","v":"DNR"},null,null,null,"-","",null,null,null,null,null,"","","","-",3,49,"","-",{"$f":"IF(R60=\"\",\"\",COUNTIF(R12:R60,\"-\"))","v":47},"","","","","","","0",{"$f":"IF(R60=\"\",\"\",IF(AD60=\"0\",\"0\",COUNTIF(AD12:AD59,AD60)))","v":"0"},"","0","","0","","0","",{"$f":"COUNTIF(AS12:AS60,\"W\")","v":0},{"$f":"IF(AR60=\"\",\"\",COUNTIF(AR12:AR60,\"-\"))","v":47},49,3,"","-"]
[50,{"$f":"IF(REG!B60<>\"\",REG!B60,\"\")","v":""},{"$f":"IF(REG!C60<>\"\",REG!G60,\"\")","v":""},{"$f":"IF('H Q 3'!R61=\"\",\"DNR\",IF('H Q 3'!R61=\"-\",+'H Q 3'!D61,+'H Q 3'!R61))","v":"DNR"},null,null,null,"-","",null,null,null,null,null,"","","","-",3,50,"","-",{"$f":"IF(R61=\"\",\"\",COUNTIF(R12:R61,\"-\"))","v":48},"","","","","","","0",{"$f":"IF(R61=\"\",\"\",IF(AD61=\"0\",\"0\",COUNTIF(AD12:AD60,AD61)))","v":"0"},"","0","","0","","0","",{"$f":"COUNTIF(AS12:AS61,\"W\")","v":0},{"$f":"IF(AR61=\"\",\"\",COUNTIF(AR12:AR61,\"-\"))","v":48},50,3,"","-"]
[51,{"$f":"IF(REG!B61<>\"\",REG!B61,\"\")","v":""},{"$f":"IF(REG!C61<>\"\",REG!G61,\"\")","v":""},{"$f":"IF('H Q 3'!R62=\"\",\"DNR\",IF('H Q 3'!R62=\"-\",+'H Q 3'!D62,+'H Q 3'!R62))","v":"DNR"},null,null,null,"-","",null,null,null,null,null,"","","","-",3,51,"","-",{"$f":"IF(R62=\"\",\"\",COUNTIF(R12:R62,\"-\"))","v":49},"","","","","","","0",{"$f":"IF(R62=\"\",\"\",IF(AD62=\"0\",\"0\",COUNTIF(AD12:AD61,AD62)))","v":"0"},"","0","","0","","0","",{"$f":"COUNTIF(AS12:AS62,\"W\")","v":0},{"$f":"IF(AR62=\"\",\"\",COUNTIF(AR12:AR62,\"-\"))","v":49},51,3,"","-"]
[52,{"$f":"IF(REG!B62<>\"\",REG!B62,\"\")","v":""},{"$f":"IF(REG!C62<>\"\",REG!G62,\"\")","v":""},{"$f":"IF('H Q 3'!R63=\"\",\"DNR\",IF('H Q 3'!R63=\"-\",+'H Q 3'!D63,+'H Q 3'!R63))","v":"DNR"},null,null,null,"-","",null,null,null,null,null,"","","","-",3,52,"","-",{"$f":"IF(R63=\"\",\"\",COUNTIF(R12:R63,\"-\"))","v":50},"","","","","","","0",{"$f":"IF(R63=\"\",\"\",IF(AD63=\"0\",\"0\",COUNTIF(AD12:AD62,AD63)))","v":"0"},"","0","","0","","0","",{"$f":"COUNTIF(AS12:AS63,\"W\")","v":0},{"$f":"IF(AR63=\"\",\"\",COUNTIF(AR12:AR63,\"-\"))","v":50},52,3,"","-"]
[53,{"$f":"IF(REG!B63<>\"\",REG!B63,\"\")","v":""},{"$f":"IF(REG!C63<>\"\",REG!G63,\"\")","v":""},{"$f":"IF('H Q 3'!R64=\"\",\"DNR\",IF('H Q 3'!R64=\"-\",+'H Q 3'!D64,+'H Q 3'!R64))","v":"DNR"},null,null,null,"-","",null,null,null,null,null,"","","","-",3,53,"","-",{"$f":"IF(R64=\"\",\"\",COUNTIF(R12:R64,\"-\"))","v":51},"","","","","","","0",{"$f":"IF(R64=\"\",\"\",IF(AD64=\"0\",\"0\",COUNTIF(AD12:AD63,AD64)))","v":"0"},"","0","","0","","0","",{"$f":"COUNTIF(AS12:AS64,\"W\")","v":0},{"$f":"IF(AR64=\"\",\"\",COUNTIF(AR12:AR64,\"-\"))","v":51},53,3,"","-"]
[54,{"$f":"IF(REG!B64<>\"\",REG!B64,\"\")","v":""},{"$f":"IF(REG!C64<>\"\",REG!G64,\"\")","v":""},{"$f":"IF('H Q 3'!R65=\"\",\"DNR\",IF('H Q 3'!R65=\"-\",+'H Q 3'!D65,+'H Q 3'!R65))","v":"DNR"},null,null,null,"-","",null,null,null,null,null,"","","","-",3,54,"","-",{"$f":"IF(R65=\"\",\"\",COUNTIF(R12:R65,\"-\"))","v":52},"","","","","","","0",{"$f":"IF(R65=\"\",\"\",IF(AD65=\"0\",\"0\",COUNTIF(AD12:AD64,AD65)))","v":"0"},"","0","","0","","0","",{"$f":"COUNTIF(AS12:AS65,\"W\")","v":0},{"$f":"IF(AR65=\"\",\"\",COUNTIF(AR12:AR65,\"-\"))","v":52},54,3,"","-"]
[55,{"$f":"IF(REG!B65<>\"\",REG!B65,\"\")","v":""},{"$f":"IF(REG!C65<>\"\",REG!G65,\"\")","v":""},{"$f":"IF('H Q 3'!R66=\"\",\"DNR\",IF('H Q 3'!R66=\"-\",+'H Q 3'!D66,+'H Q 3'!R66))","v":"DNR"},null,null,null,"-","",null,null,null,null,null,"","","","-",3,55,"","-",{"$f":"IF(R66=\"\",\"\",COUNTIF(R12:R66,\"-\"))","v":53},"","","","","","","0",{"$f":"IF(R66=\"\",\"\",IF(AD66=\"0\",\"0\",COUNTIF(AD12:AD65,AD66)))","v":"0"},"","0","","0","","0","",{"$f":"COUNTIF(AS12:AS66,\"W\")","v":0},{"$f":"IF(AR66=\"\",\"\",COUNTIF(AR12:AR66,\"-\"))","v":53},55,3,"","-"]
[56,{"$f":"IF(REG!B66<>\"\",REG!B66,\"\")","v":""},{"$f":"IF(REG!C66<>\"\",REG!G66,\"\")","v":""},{"$f":"IF('H Q 3'!R67=\"\",\"DNR\",IF('H Q 3'!R67=\"-\",+'H Q 3'!D67,+'H Q 3'!R67))","v":"DNR"},null,null,null,"-","",null,null,null,null,null,"","","","-",3,56,"","-",{"$f":"IF(R67=\"\",\"\",COUNTIF(R12:R67,\"-\"))","v":54},"","","","","","","0",{"$f":"IF(R67=\"\",\"\",IF(AD67=\"0\",\"0\",COUNTIF(AD12:AD66,AD67)))","v":"0"},"","0","","0","","0","",{"$f":"COUNTIF(AS12:AS67,\"W\")","v":0},{"$f":"IF(AR67=\"\",\"\",COUNTIF(AR12:AR67,\"-\"))","v":54},56,3,"","-"]
[57,{"$f":"IF(REG!B67<>\"\",REG!B67,\"\")","v":""},{"$f":"IF(REG!C67<>\"\",REG!G67,\"\")","v":""},{"$f":"IF('H Q 3'!R68=\"\",\"DNR\",IF('H Q 3'!R68=\"-\",+'H Q 3'!D68,+'H Q 3'!R68))","v":"DNR"},null,null,null,"-","",null,null,null,null,null,"","","","-",3,57,"","-",{"$f":"IF(R68=\"\",\"\",COUNTIF(R12:R68,\"-\"))","v":55},"","","","","","","0",{"$f":"IF(R68=\"\",\"\",IF(R68=\"\",\"\",IF(AD68=\"0\",\"0\",COUNTIF(AD12:AD67,AD68))))","v":"0"},"","0","","0","","0","",{"$f":"COUNTIF(AS12:AS68,\"W\")","v":0},{"$f":"IF(AR68=\"\",\"\",COUNTIF(AR12:AR68,\"-\"))","v":55},57,3,"","-"]
[58,{"$f":"IF(REG!B68<>\"\",REG!B68,\"\")","v":""},{"$f":"IF(REG!C68<>\"\",REG!G68,\"\")","v":""},{"$f":"IF('H Q 3'!R69=\"\",\"DNR\",IF('H Q 3'!R69=\"-\",+'H Q 3'!D69,+'H Q 3'!R69))","v":"DNR"},null,null,null,"-","",null,null,null,null,null,"","","","-",3,58,"","-",{"$f":"IF(R69=\"\",\"\",COUNTIF(R12:R69,\"-\"))","v":56},"","","","","","","0",{"$f":"IF(R69=\"\",\"\",IF(R69=\"\",\"\",IF(AD69=\"0\",\"0\",COUNTIF(AD12:AD68,AD69))))","v":"0"},"","0","","0","","0","",{"$f":"COUNTIF(AS12:AS69,\"W\")","v":0},{"$f":"IF(AR69=\"\",\"\",COUNTIF(AR12:AR69,\"-\"))","v":56},58,3,"","-"]
[59,{"$f":"IF(REG!B69<>\"\",REG!B69,\"\")","v":""},{"$f":"IF(REG!C69<>\"\",REG!G69,\"\")","v":""},{"$f":"IF('H Q 3'!R70=\"\",\"DNR\",IF('H Q 3'!R70=\"-\",+'H Q 3'!D70,+'H Q 3'!R70))","v":"DNR"},null,null,null,"-","",null,null,null,null,null,"","","","-",3,59,"","-",{"$f":"IF(R70=\"\",\"\",COUNTIF(R12:R70,\"-\"))","v":57},"","","","","","","0",{"$f":"IF(R70=\"\",\"\",IF(R70=\"\",\"\",IF(AD70=\"0\",\"0\",COUNTIF(AD12:AD69,AD70))))","v":"0"},"","0","","0","","0","",{"$f":"COUNTIF(AS12:AS70,\"W\")","v":0},{"$f":"IF(AR70=\"\",\"\",COUNTIF(AR12:AR70,\"-\"))","v":57},59,3,"","-"]
[60,{"$f":"IF(REG!B70<>\"\",REG!B70,\"\")","v":""},{"$f":"IF(REG!C70<>\"\",REG!G70,\"\")","v":""},{"$f":"IF('H Q 3'!R71=\"\",\"DNR\",IF('H Q 3'!R71=\"-\",+'H Q 3'!D71,+'H Q 3'!R71))","v":"DNR"},null,null,null,"-","",null,null,null,null,null,"","","","-",3,60,"","-",{"$f":"IF(R71=\"\",\"\",COUNTIF(R12:R71,\"-\"))","v":58},"","","","","","","0",{"$f":"IF(R71=\"\",\"\",IF(AD71=\"0\",\"0\",COUNTIF(AD12:AD70,AD71)))","v":"0"},"","0","","0","","0","",{"$f":"COUNTIF(AS12:AS71,\"W\")","v":0},{"$f":"IF(AR71=\"\",\"\",COUNTIF(AR12:AR71,\"-\"))","v":58},60,3,"","-"]
[61,{"$f":"IF(REG!B71<>\"\",REG!B71,\"\")","v":""},{"$f":"IF(REG!C71<>\"\",REG!G71,\"\")","v":""},{"$f":"IF('H Q 3'!R72=\"\",\"DNR\",IF('H Q 3'!R72=\"-\",+'H Q 3'!D72,+'H Q 3'!R72))","v":"DNR"},null,null,null,"-","",null,null,null,null,null,"","","","-",3,61,"","-",{"$f":"IF(R72=\"\",\"\",COUNTIF(R12:R72,\"-\"))","v":59},"","","","","","","0",{"$f":"IF(R72=\"\",\"\",IF(AD72=\"0\",\"0\",COUNTIF(AD52:AD71,AD72)))","v":"0"},"","0","","0","","0","",{"$f":"COUNTIF(AS12:AS72,\"W\")","v":0},{"$f":"IF(AR72=\"\",\"\",COUNTIF(AR12:AR72,\"-\"))","v":59},61,3,"","-"]
[62,{"$f":"IF(REG!B72<>\"\",REG!B72,\"\")","v":""},{"$f":"IF(REG!C72<>\"\",REG!G72,\"\")","v":""},{"$f":"IF('H Q 3'!R73=\"\",\"DNR\",IF('H Q 3'!R73=\"-\",+'H Q 3'!D73,+'H Q 3'!R73))","v":"DNR"},null,null,null,"-","",null,null,null,null,null,"","","","-",3,62,"","-",{"$f":"IF(R73=\"\",\"\",COUNTIF(R12:R73,\"-\"))","v":60},"","","","","","","0",{"$f":"IF(R73=\"\",\"\",IF(AD73=\"0\",\"0\",COUNTIF(AD12:AD72,AD73)))","v":"0"},"","0","","0","","0","",{"$f":"COUNTIF(AS12:AS73,\"W\")","v":0},{"$f":"IF(AR73=\"\",\"\",COUNTIF(AR12:AR73,\"-\"))","v":60},62,3,"","-"]
[63,{"$f":"IF(REG!B73<>\"\",REG!B73,\"\")","v":""},{"$f":"IF(REG!C73<>\"\",REG!G73,\"\")","v":""},{"$f":"IF('H Q 3'!R74=\"\",\"DNR\",IF('H Q 3'!R74=\"-\",+'H Q 3'!D74,+'H Q 3'!R74))","v":"DNR"},null,null,null,"-","",null,null,null,null,null,"","","","-",3,63,"","-",{"$f":"IF(R74=\"\",\"\",COUNTIF(R12:R74,\"-\"))","v":61},"","","","","","","0",{"$f":"IF(R74=\"\",\"\",IF(AD74=\"0\",\"0\",COUNTIF(AD12:AD73,AD74)))","v":"0"},"","0","","0","","0","",{"$f":"COUNTIF(AS12:AS74,\"W\")","v":0},{"$f":"IF(AR74=\"\",\"\",COUNTIF(AR12:AR74,\"-\"))","v":61},63,3,"","-"]
[64,{"$f":"IF(REG!B74<>\"\",REG!B74,\"\")","v":""},{"$f":"IF(REG!C74<>\"\",REG!G74,\"\")","v":""},{"$f":"IF('H Q 3'!R75=\"\",\"DNR\",IF('H Q 3'!R75=\"-\",+'H Q 3'!D75,+'H Q 3'!R75))","v":"DNR"},null,null,null,"-","",null,null,null,null,null,"","","","-",3,64,"","-",{"$f":"IF(R75=\"\",\"\",COUNTIF(R12:R75,\"-\"))","v":62},"","","","","","","0",{"$f":"IF(R75=\"\",\"\",IF(AD75=\"0\",\"0\",COUNTIF(AD12:AD74,AD75)))","v":"0"},"","0","","0","","0","",{"$f":"COUNTIF(AS12:AS75,\"W\")","v":0},{"$f":"IF(AR75=\"\",\"\",COUNTIF(AR12:AR75,\"-\"))","v":62},64,3,"","-"]
[65,{"$f":"IF(REG!B75<>\"\",REG!B75,\"\")","v":""},{"$f":"IF(REG!C75<>\"\",REG!G75,\"\")","v":""},{"$f":"IF('H Q 3'!R76=\"\",\"DNR\",IF('H Q 3'!R76=\"-\",+'H Q 3'!D76,+'H Q 3'!R76))","v":"DNR"},null,null,null,"-","",null,null,null,null,null,"","","",{"$f":"IF(AND(ISBLANK(D76),ISBLANK(K76)),\"\",IF(AND(H76=\"-\",O76=\"-\"),\"-\",IF(AND(H76=\"-\",ISBLANK(K76)),\"-\",MIN(H76,O76))))","v":"-"},3,65,"","-",{"$f":"IF(R76=\"\",\"\",COUNTIF(R12:R76,\"-\"))","v":63},"","","","","","","0",{"$f":"IF(R76=\"\",\"\",IF(AD76=\"0\",\"0\",COUNTIF(AD12:AD75,AD76)))","v":"0"},"","0","","0","","0","",{"$f":"COUNTIF(AS12:AS76,\"W\")","v":0},{"$f":"IF(AR76=\"\",\"\",COUNTIF(AR12:AR76,\"-\"))","v":63},65,3,"","-"]
[66,{"$f":"IF(REG!B76<>\"\",REG!B76,\"\")","v":""},{"$f":"IF(REG!C76<>\"\",REG!G76,\"\")","v":""},{"$f":"IF('H Q 3'!R77=\"\",\"DNR\",IF('H Q 3'!R77=\"-\",+'H Q 3'!D77,+'H Q 3'!R77))","v":"DNR"},null,null,null,"-","",null,null,null,null,null,"","","","-",3,66,"","-",{"$f":"IF(R77=\"\",\"\",COUNTIF(R12:R77,\"-\"))","v":64},"","","","","","","0",{"$f":"IF(R77=\"\",\"\",IF(AD77=\"0\",\"0\",COUNTIF(AD12:AD76,AD77)))","v":"0"},"","0","","0","","0","",{"$f":"COUNTIF(AS12:AS77,\"W\")","v":0},{"$f":"IF(AR77=\"\",\"\",COUNTIF(AR12:AR77,\"-\"))","v":64},66,3,"","-"]
[67,{"$f":"IF(REG!B77<>\"\",REG!B77,\"\")","v":""},{"$f":"IF(REG!C77<>\"\",REG!G77,\"\")","v":""},{"$f":"IF('H Q 3'!R78=\"\",\"DNR\",IF('H Q 3'!R78=\"-\",+'H Q 3'!D78,+'H Q 3'!R78))","v":"DNR"},null,null,null,"-","",null,null,null,null,null,"","","","-",3,67,"","-",{"$f":"IF(R78=\"\",\"\",COUNTIF(R12:R78,\"-\"))","v":65},"","","","","","","0",{"$f":"IF(R78=\"\",\"\",IF(AD78=\"0\",\"0\",COUNTIF(AD12:AD77,AD78)))","v":"0"},"","0","","0","","0","",{"$f":"COUNTIF(AS12:AS78,\"W\")","v":0},{"$f":"IF(AR78=\"\",\"\",COUNTIF(AR12:AR78,\"-\"))","v":65},67,3,"","-"]
[68,{"$f":"IF(REG!B78<>\"\",REG!B78,\"\")","v":""},{"$f":"IF(REG!C78<>\"\",REG!G78,\"\")","v":""},{"$f":"IF('H Q 3'!R79=\"\",\"DNR\",IF('H Q 3'!R79=\"-\",+'H Q 3'!D79,+'H Q 3'!R79))","v":"DNR"},null,null,null,"-","",null,null,null,null,null,"","","","-",3,68,"","-",{"$f":"IF(R79=\"\",\"\",COUNTIF(R12:R79,\"-\"))","v":66},"","","","","","","0",{"$f":"IF(R79=\"\",\"\",IF(AD79=\"0\",\"0\",COUNTIF(AD12:AD78,AD79)))","v":"0"},"","0","","0","","0","",{"$f":"COUNTIF(AS12:AS79,\"W\")","v":0},{"$f":"IF(AR79=\"\",\"\",COUNTIF(AR12:AR79,\"-\"))","v":66},68,3,"","-"]
[69,{"$f":"IF(REG!B79<>\"\",REG!B79,\"\")","v":""},{"$f":"IF(REG!C79<>\"\",REG!G79,\"\")","v":""},{"$f":"IF('H Q 3'!R80=\"\",\"DNR\",IF('H Q 3'!R80=\"-\",+'H Q 3'!D80,+'H Q 3'!R80))","v":"DNR"},null,null,null,"-","",null,null,null,null,null,"","","","-",3,69,"","-",{"$f":"IF(R80=\"\",\"\",COUNTIF(R12:R80,\"-\"))","v":67},"","","","","","","0",{"$f":"IF(R80=\"\",\"\",IF(AD80=\"0\",\"0\",COUNTIF(AD12:AD79,AD80)))","v":"0"},"","0","","0","","0","",{"$f":"COUNTIF(AS12:AS80,\"W\")","v":0},{"$f":"IF(AR80=\"\",\"\",COUNTIF(AR12:AR80,\"-\"))","v":67},69,3,"","-"]
[70,{"$f":"IF(REG!B80<>\"\",REG!B80,\"\")","v":""},{"$f":"IF(REG!C80<>\"\",REG!G80,\"\")","v":""},{"$f":"IF('H Q 3'!R81=\"\",\"DNR\",IF('H Q 3'!R81=\"-\",+'H Q 3'!D81,+'H Q 3'!R81))","v":"DNR"},null,null,null,"-","",null,null,null,null,null,"","","","-",3,70,"","-",{"$f":"IF(R81=\"\",\"\",COUNTIF(R12:R81,\"-\"))","v":68},"","","","","","","0",{"$f":"IF(R81=\"\",\"\",IF(AD81=\"0\",\"0\",COUNTIF(AD12:AD80,AD81)))","v":"0"},"","0","","0","","0","",{"$f":"COUNTIF(AS12:AS81,\"W\")","v":0},{"$f":"IF(AR81=\"\",\"\",COUNTIF(AR12:AR81,\"-\"))","v":68},70,3,"","-"]
[71,{"$f":"IF(REG!B81<>\"\",REG!B81,\"\")","v":""},{"$f":"IF(REG!C81<>\"\",REG!G81,\"\")","v":""},{"$f":"IF('H Q 3'!R82=\"\",\"DNR\",IF('H Q 3'!R82=\"-\",+'H Q 3'!D82,+'H Q 3'!R82))","v":"DNR"},null,null,null,"-","",null,null,null,null,null,"","","","-",3,71,"","-",{"$f":"IF(R82=\"\",\"\",COUNTIF(R12:R82,\"-\"))","v":69},"","","","","","","0",{"$f":"IF(R82=\"\",\"\",IF(AD82=\"0\",\"0\",COUNTIF(AD12:AD81,AD82)))","v":"0"},"","0","","0","","0","",{"$f":"COUNTIF(AS12:AS82,\"W\")","v":0},{"$f":"IF(AR82=\"\",\"\",COUNTIF(AR12:AR82,\"-\"))","v":69},71,3,"","-"]
[72,{"$f":"IF(REG!B82<>\"\",REG!B82,\"\")","v":""},{"$f":"IF(REG!C82<>\"\",REG!G82,\"\")","v":""},{"$f":"IF('H Q 3'!R83=\"\",\"DNR\",IF('H Q 3'!R83=\"-\",+'H Q 3'!D83,+'H Q 3'!R83))","v":"DNR"},null,null,null,"-","",null,null,null,null,null,"","","","-",3,72,"","-",{"$f":"IF(R83=\"\",\"\",COUNTIF(R12:R83,\"-\"))","v":70},"","","","","","","0",{"$f":"IF(R83=\"\",\"\",IF(AD83=\"0\",\"0\",COUNTIF(AD12:AD82,AD83)))","v":"0"},"","0","","0","","0","",{"$f":"COUNTIF(AS12:AS83,\"W\")","v":0},{"$f":"IF(AR83=\"\",\"\",COUNTIF(AR12:AR83,\"-\"))","v":70},72,3,"","-"]
[73,{"$f":"IF(REG!B83<>\"\",REG!B83,\"\")","v":""},{"$f":"IF(REG!C83<>\"\",REG!G83,\"\")","v":""},{"$f":"IF('H Q 3'!R84=\"\",\"DNR\",IF('H Q 3'!R84=\"-\",+'H Q 3'!D84,+'H Q 3'!R84))","v":"DNR"},null,null,null,"-","",null,null,null,null,null,"","","","-",3,73,"","-",{"$f":"IF(R84=\"\",\"\",COUNTIF(R12:R84,\"-\"))","v":71},"","","","","","","0",{"$f":"IF(R84=\"\",\"\",IF(AD84=\"0\",\"0\",COUNTIF(AD12:AD83,AD84)))","v":"0"},"","0","","0","","0","",{"$f":"COUNTIF(AS12:AS84,\"W\")","v":0},{"$f":"IF(AR84=\"\",\"\",COUNTIF(AR12:AR84,\"-\"))","v":71},73,3,"","-"]
[74,{"$f":"IF(REG!B84<>\"\",REG!B84,\"\")","v":""},{"$f":"IF(REG!C84<>\"\",REG!G84,\"\")","v":""},{"$f":"IF('H Q 3'!R85=\"\",\"DNR\",IF('H Q 3'!R85=\"-\",+'H Q 3'!D85,+'H Q 3'!R85))","v":"DNR"},null,null,null,"-","",null,null,null,null,null,"","","","-",3,74,"","-",{"$f":"IF(R85=\"\",\"\",COUNTIF(R12:R85,\"-\"))","v":72},"","","","","","","0",{"$f":"IF(R85=\"\",\"\",IF(AD85=\"0\",\"0\",COUNTIF(AD12:AD84,AD85)))","v":"0"},"","0","","0","","0","",{"$f":"COUNTIF(AS12:AS85,\"W\")","v":0},{"$f":"IF(AR85=\"\",\"\",COUNTIF(AR12:AR85,\"-\"))","v":72},74,3,"","-"]
[75,{"$f":"IF(REG!B85<>\"\",REG!B85,\"\")","v":""},{"$f":"IF(REG!C85<>\"\",REG!G85,\"\")","v":""},{"$f":"IF('H Q 3'!R86=\"\",\"DNR\",IF('H Q 3'!R86=\"-\",+'H Q 3'!D86,+'H Q 3'!R86))","v":"DNR"},null,null,null,"-","",null,null,null,null,null,"","","","-",3,75,"","-",{"$f":"IF(R86=\"\",\"\",COUNTIF(R12:R86,\"-\"))","v":73},"","","","","","","0",{"$f":"IF(R86=\"\",\"\",IF(AD86=\"0\",\"0\",COUNTIF(AD12:AD85,AD86)))","v":"0"},"","0","","0","","0","",{"$f":"COUNTIF(AS12:AS86,\"W\")","v":0},{"$f":"IF(AR86=\"\",\"\",COUNTIF(AR12:AR86,\"-\"))","v":73},75,3,"","-"]
[76,{"$f":"IF(REG!B86<>\"\",REG!B86,\"\")","v":""},{"$f":"IF(REG!C86<>\"\",REG!G86,\"\")","v":""},{"$f":"IF('H Q 3'!R87=\"\",\"DNR\",IF('H Q 3'!R87=\"-\",+'H Q 3'!D87,+'H Q 3'!R87))","v":"DNR"},null,null,null,"-","",null,null,null,null,null,"","","","-",3,76,"","-",{"$f":"IF(R87=\"\",\"\",COUNTIF(R12:R87,\"-\"))","v":74},"","","","","","","0",{"$f":"IF(R87=\"\",\"\",IF(AD87=\"0\",\"0\",COUNTIF(AD12:AD86,AD87)))","v":"0"},"","0","","0","","0","",{"$f":"COUNTIF(AS12:AS87,\"W\")","v":0},{"$f":"IF(AR87=\"\",\"\",COUNTIF(AR12:AR87,\"-\"))","v":74},76,3,"","-"]
[77,{"$f":"IF(REG!B87<>\"\",REG!B87,\"\")","v":""},{"$f":"IF(REG!C87<>\"\",REG!G87,\"\")","v":""},{"$f":"IF('H Q 3'!R88=\"\",\"DNR\",IF('H Q 3'!R88=\"-\",+'H Q 3'!D88,+'H Q 3'!R88))","v":"DNR"},null,null,null,"-","",null,null,null,null,null,"","","","-",3,77,"","-",{"$f":"IF(R88=\"\",\"\",COUNTIF(R12:R88,\"-\"))","v":75},"","","","","","","0",{"$f":"IF(R88=\"\",\"\",IF(AD88=\"0\",\"0\",COUNTIF(AD12:AD87,AD88)))","v":"0"},"","0","","0","","0","",{"$f":"COUNTIF(AS12:AS88,\"W\")","v":0},{"$f":"IF(AR88=\"\",\"\",COUNTIF(AR12:AR88,\"-\"))","v":75},77,3,"","-"]
[78,{"$f":"IF(REG!B88<>\"\",REG!B88,\"\")","v":""},{"$f":"IF(REG!C88<>\"\",REG!G88,\"\")","v":""},{"$f":"IF('H Q 3'!R89=\"\",\"DNR\",IF('H Q 3'!R89=\"-\",+'H Q 3'!D89,+'H Q 3'!R89))","v":"DNR"},null,null,null,"-","",null,null,null,null,null,"","","","-",3,78,"","-",{"$f":"IF(R89=\"\",\"\",COUNTIF(R12:R89,\"-\"))","v":76},"","","","","","","0",{"$f":"IF(R89=\"\",\"\",IF(AD89=\"0\",\"0\",COUNTIF(AD12:AD88,AD89)))","v":"0"},"","0","","0","","0","",{"$f":"COUNTIF(AS12:AS89,\"W\")","v":0},{"$f":"IF(AR89=\"\",\"\",COUNTIF(AR12:AR89,\"-\"))","v":76},78,3,"","-"]
[79,{"$f":"IF(REG!B89<>\"\",REG!B89,\"\")","v":""},{"$f":"IF(REG!C89<>\"\",REG!G89,\"\")","v":""},{"$f":"IF('H Q 3'!R90=\"\",\"DNR\",IF('H Q 3'!R90=\"-\",+'H Q 3'!D90,+'H Q 3'!R90))","v":"DNR"},null,null,null,"-","",null,null,null,null,null,"","","","-",3,79,"","-",{"$f":"IF(R90=\"\",\"\",COUNTIF(R12:R90,\"-\"))","v":77},"","","","","","","0",{"$f":"IF(R90=\"\",\"\",IF(AD90=\"0\",\"0\",COUNTIF(AD12:AD89,AD90)))","v":"0"},"","0","","0","","0","",{"$f":"COUNTIF(AS12:AS90,\"W\")","v":0},{"$f":"IF(AR90=\"\",\"\",COUNTIF(AR12:AR90,\"-\"))","v":77},79,3,"","-"]
[80,{"$f":"IF(REG!B90<>\"\",REG!B90,\"\")","v":""},{"$f":"IF(REG!C90<>\"\",REG!G90,\"\")","v":""},{"$f":"IF('H Q 3'!R91=\"\",\"DNR\",IF('H Q 3'!R91=\"-\",+'H Q 3'!D91,+'H Q 3'!R91))","v":"DNR"},null,null,null,"-","",null,null,null,null,null,"","","","-",3,80,"","-",{"$f":"IF(R91=\"\",\"\",COUNTIF(R12:R91,\"-\"))","v":78},"","","","","","","0",{"$f":"IF(R91=\"\",\"\",IF(AD91=\"0\",\"0\",COUNTIF(AD12:AD90,AD91)))","v":"0"},"","0","","0","","0","",{"$f":"COUNTIF(AS12:AS91,\"W\")","v":0},{"$f":"IF(AR91=\"\",\"\",COUNTIF(AR12:AR91,\"-\"))","v":78},80,3,"","-"]
[81,{"$f":"IF(REG!B91<>\"\",REG!B91,\"\")","v":""},{"$f":"IF(REG!C91<>\"\",REG!G91,\"\")","v":""},{"$f":"IF('H Q 3'!R92=\"\",\"DNR\",IF('H Q 3'!R92=\"-\",+'H Q 3'!D92,+'H Q 3'!R92))","v":"DNR"},null,null,null,"-","",null,null,null,null,null,"","","","-",3,81,"","-",{"$f":"IF(R92=\"\",\"\",COUNTIF(R12:R92,\"-\"))","v":79},"","","","","","","0",{"$f":"IF(R92=\"\",\"\",IF(AD92=\"0\",\"0\",COUNTIF(AD12:AD91,AD92)))","v":"0"},"","0","","0","","0","",{"$f":"COUNTIF(AS12:AS92,\"W\")","v":0},{"$f":"IF(AR92=\"\",\"\",COUNTIF(AR12:AR92,\"-\"))","v":79},81,3,"","-"]
[82,{"$f":"IF(REG!B92<>\"\",REG!B92,\"\")","v":""},{"$f":"IF(REG!C92<>\"\",REG!G92,\"\")","v":""},{"$f":"IF('H Q 3'!R93=\"\",\"DNR\",IF('H Q 3'!R93=\"-\",+'H Q 3'!D93,+'H Q 3'!R93))","v":"DNR"},null,null,null,"-","",null,null,null,null,null,"","","","-",3,82,"","-",{"$f":"IF(R93=\"\",\"\",COUNTIF(R12:R93,\"-\"))","v":80},"","","","","","","0",{"$f":"IF(R93=\"\",\"\",IF(AD93=\"0\",\"0\",COUNTIF(AD12:AD92,AD93)))","v":"0"},"","0","","0","","0","",{"$f":"COUNTIF(AS12:AS93,\"W\")","v":0},{"$f":"IF(AR93=\"\",\"\",COUNTIF(AR12:AR93,\"-\"))","v":80},82,3,"","-"]
[83,{"$f":"IF(REG!B93<>\"\",REG!B93,\"\")","v":""},{"$f":"IF(REG!C93<>\"\",REG!G93,\"\")","v":""},{"$f":"IF('H Q 3'!R94=\"\",\"DNR\",IF('H Q 3'!R94=\"-\",+'H Q 3'!D94,+'H Q 3'!R94))","v":"DNR"},null,null,null,"-","",null,null,null,null,null,"","","","-",3,83,"","-",{"$f":"IF(R94=\"\",\"\",COUNTIF(R12:R94,\"-\"))","v":81},"","","","","","","0",{"$f":"IF(R94=\"\",\"\",IF(AD94=\"0\",\"0\",COUNTIF(AD12:AD93,AD94)))","v":"0"},"","0","","0","","0","",{"$f":"COUNTIF(AS12:AS94,\"W\")","v":0},{"$f":"IF(AR94=\"\",\"\",COUNTIF(AR12:AR94,\"-\"))","v":81},83,3,"","-"]
[84,{"$f":"IF(REG!B94<>\"\",REG!B94,\"\")","v":""},{"$f":"IF(REG!C94<>\"\",REG!G94,\"\")","v":""},{"$f":"IF('H Q 3'!R95=\"\",\"DNR\",IF('H Q 3'!R95=\"-\",+'H Q 3'!D95,+'H Q 3'!R95))","v":"DNR"},null,null,null,"-","",null,null,null,null,null,"","","","-",3,84,"","-",{"$f":"IF(R95=\"\",\"\",COUNTIF(R12:R95,\"-\"))","v":82},"","","","","","","0",{"$f":"IF(R95=\"\",\"\",IF(AD95=\"0\",\"0\",COUNTIF(AD12:AD94,AD95)))","v":"0"},"","0","","0","","0","",{"$f":"COUNTIF(AS12:AS95,\"W\")","v":0},{"$f":"IF(AR95=\"\",\"\",COUNTIF(AR12:AR95,\"-\"))","v":82},84,3,"","-"]
[85,{"$f":"IF(REG!B95<>\"\",REG!B95,\"\")","v":""},{"$f":"IF(REG!C95<>\"\",REG!G95,\"\")","v":""},{"$f":"IF('H Q 3'!R96=\"\",\"DNR\",IF('H Q 3'!R96=\"-\",+'H Q 3'!D96,+'H Q 3'!R96))","v":"DNR"},null,null,null,"-","",null,null,null,null,null,"","","","-",3,85,"","-",{"$f":"IF(R96=\"\",\"\",COUNTIF(R12:R96,\"-\"))","v":83},"","","","","","","0",{"$f":"IF(R96=\"\",\"\",IF(AD96=\"0\",\"0\",COUNTIF(AD12:AD95,AD96)))","v":"0"},"","0","","0","","0","",{"$f":"COUNTIF(AS12:AS96,\"W\")","v":0},{"$f":"IF(AR96=\"\",\"\",COUNTIF(AR12:AR96,\"-\"))","v":83},85,3,"","-"]
[86,{"$f":"IF(REG!B96<>\"\",REG!B96,\"\")","v":""},{"$f":"IF(REG!C96<>\"\",REG!G96,\"\")","v":""},{"$f":"IF('H Q 3'!R97=\"\",\"DNR\",IF('H Q 3'!R97=\"-\",+'H Q 3'!D97,+'H Q 3'!R97))","v":"DNR"},null,null,null,"-","",null,null,null,null,null,"","","","-",3,86,"","-",{"$f":"IF(R97=\"\",\"\",COUNTIF(R12:R97,\"-\"))","v":84},"","","","","","","0",{"$f":"IF(R97=\"\",\"\",IF(AD97=\"0\",\"0\",COUNTIF(AD12:AD96,AD97)))","v":"0"},"","0","","0","","0","",{"$f":"COUNTIF(AS12:AS97,\"W\")","v":0},{"$f":"IF(AR97=\"\",\"\",COUNTIF(AR12:AR97,\"-\"))","v":84},86,3,"","-"]
[87,{"$f":"IF(REG!B97<>\"\",REG!B97,\"\")","v":""},{"$f":"IF(REG!C97<>\"\",REG!G97,\"\")","v":""},{"$f":"IF('H Q 3'!R98=\"\",\"DNR\",IF('H Q 3'!R98=\"-\",+'H Q 3'!D98,+'H Q 3'!R98))","v":"DNR"},null,null,null,"-","",null,null,null,null,null,"","","","-",3,87,"","-",{"$f":"IF(R98=\"\",\"\",COUNTIF(R12:R98,\"-\"))","v":85},"","","","","","","0",{"$f":"IF(R98=\"\",\"\",IF(AD98=\"0\",\"0\",COUNTIF(AD12:AD97,AD98)))","v":"0"},"","0","","0","","0","",{"$f":"COUNTIF(AS12:AS98,\"W\")","v":0},{"$f":"IF(AR98=\"\",\"\",COUNTIF(AR12:AR98,\"-\"))","v":85},87,3,"","-"]
[88,{"$f":"IF(REG!B98<>\"\",REG!B98,\"\")","v":""},{"$f":"IF(REG!C98<>\"\",REG!G98,\"\")","v":""},{"$f":"IF('H Q 3'!R99=\"\",\"DNR\",IF('H Q 3'!R99=\"-\",+'H Q 3'!D99,+'H Q 3'!R99))","v":"DNR"},null,null,null,"-","",null,null,null,null,null,"","","","-",3,88,"","-",{"$f":"IF(R99=\"\",\"\",COUNTIF(R12:R99,\"-\"))","v":86},"","","","","","","0",{"$f":"IF(R99=\"\",\"\",IF(AD99=\"0\",\"0\",COUNTIF(AD12:AD98,AD99)))","v":"0"},"","0","","0","","0","",{"$f":"COUNTIF(AS12:AS99,\"W\")","v":0},{"$f":"IF(AR99=\"\",\"\",COUNTIF(AR12:AR99,\"-\"))","v":86},88,3,"","-"]
[89,{"$f":"IF(REG!B99<>\"\",REG!B99,\"\")","v":""},{"$f":"IF(REG!C99<>\"\",REG!G99,\"\")","v":""},{"$f":"IF('H Q 3'!R100=\"\",\"DNR\",IF('H Q 3'!R100=\"-\",+'H Q 3'!D100,+'H Q 3'!R100))","v":"DNR"},null,null,null,"-","",null,null,null,null,null,"","","","-",3,89,"","-",{"$f":"IF(R100=\"\",\"\",COUNTIF(R12:R100,\"-\"))","v":87},"","","","","","","0",{"$f":"IF(R100=\"\",\"\",IF(AD100=\"0\",\"0\",COUNTIF(AD12:AD99,AD100)))","v":"0"},"","0","","0","","0","",{"$f":"COUNTIF(AS12:AS100,\"W\")","v":0},{"$f":"IF(AR100=\"\",\"\",COUNTIF(AR12:AR100,\"-\"))","v":87},89,3,"","-"]
[90,{"$f":"IF(REG!B100<>\"\",REG!B100,\"\")","v":""},{"$f":"IF(REG!C100<>\"\",REG!G100,\"\")","v":""},{"$f":"IF('H Q 3'!R101=\"\",\"DNR\",IF('H Q 3'!R101=\"-\",+'H Q 3'!D101,+'H Q 3'!R101))","v":"DNR"},null,null,null,"-","",null,null,null,null,null,"","","","-",3,90,"","-",{"$f":"IF(R101=\"\",\"\",COUNTIF(R12:R101,\"-\"))","v":88},"","","","","","","0",{"$f":"IF(R101=\"\",\"\",IF(AD101=\"0\",\"0\",COUNTIF(AD12:AD100,AD101)))","v":"0"},"","0","","0","","0","",{"$f":"COUNTIF(AS12:AS101,\"W\")","v":0},{"$f":"IF(AR101=\"\",\"\",COUNTIF(AR12:AR101,\"-\"))","v":88},90,3,"","-"]
[91,{"$f":"IF(REG!B101<>\"\",REG!B101,\"\")","v":""},{"$f":"IF(REG!C101<>\"\",REG!G101,\"\")","v":""},{"$f":"IF('H Q 3'!R102=\"\",\"DNR\",IF('H Q 3'!R102=\"-\",+'H Q 3'!D102,+'H Q 3'!R102))","v":"DNR"},null,null,null,"-","",null,null,null,null,null,"","","","-",3,91,"","-",{"$f":"IF(R102=\"\",\"\",COUNTIF(R12:R102,\"-\"))","v":89},"","","","","","","0",{"$f":"IF(R102=\"\",\"\",IF(AD102=\"0\",\"0\",COUNTIF(AD12:AD101,AD102)))","v":"0"},"","0","","0","","0","",{"$f":"COUNTIF(AS12:AS102,\"W\")","v":0},{"$f":"IF(AR102=\"\",\"\",COUNTIF(AR12:AR102,\"-\"))","v":89},91,3,"","-"]
[92,{"$f":"IF(REG!B102<>\"\",REG!B102,\"\")","v":""},{"$f":"IF(REG!C102<>\"\",REG!G102,\"\")","v":""},{"$f":"IF('H Q 3'!R103=\"\",\"DNR\",IF('H Q 3'!R103=\"-\",+'H Q 3'!D103,+'H Q 3'!R103))","v":"DNR"},null,null,null,"-","",null,null,null,null,null,"","","","-",3,92,"","-",{"$f":"IF(R103=\"\",\"\",COUNTIF(R12:R103,\"-\"))","v":90},"","","","","","","0",{"$f":"IF(R103=\"\",\"\",IF(AD103=\"0\",\"0\",COUNTIF(AD12:AD102,AD103)))","v":"0"},"","0","","0","","0","",{"$f":"COUNTIF(AS12:AS103,\"W\")","v":0},{"$f":"IF(AR103=\"\",\"\",COUNTIF(AR12:AR103,\"-\"))","v":90},92,3,"","-"]
[93,{"$f":"IF(REG!B103<>\"\",REG!B103,\"\")","v":""},{"$f":"IF(REG!C103<>\"\",REG!G103,\"\")","v":""},{"$f":"IF('H Q 3'!R104=\"\",\"DNR\",IF('H Q 3'!R104=\"-\",+'H Q 3'!D104,+'H Q 3'!R104))","v":"DNR"},null,null,null,"-","",null,null,null,null,null,"","","","-",3,93,"","-",{"$f":"IF(R104=\"\",\"\",COUNTIF(R12:R104,\"-\"))","v":91},"","","","","","","0",{"$f":"IF(R104=\"\",\"\",IF(AD104=\"0\",\"0\",COUNTIF(AD12:AD103,AD104)))","v":"0"},"","0","","0","","0","",{"$f":"COUNTIF(AS12:AS104,\"W\")","v":0},{"$f":"IF(AR104=\"\",\"\",COUNTIF(AR12:AR104,\"-\"))","v":91},93,3,"","-"]
[94,{"$f":"IF(REG!B104<>\"\",REG!B104,\"\")","v":""},{"$f":"IF(REG!C104<>\"\",REG!G104,\"\")","v":""},{"$f":"IF('H Q 3'!R105=\"\",\"DNR\",IF('H Q 3'!R105=\"-\",+'H Q 3'!D105,+'H Q 3'!R105))","v":"DNR"},null,null,null,"-","",null,null,null,null,null,"","","","-",3,94,"","-",{"$f":"IF(R105=\"\",\"\",COUNTIF(R12:R105,\"-\"))","v":92},"","","","","","","0",{"$f":"IF(R105=\"\",\"\",IF(AD105=\"0\",\"0\",COUNTIF(AD12:AD104,AD105)))","v":"0"},"","0","","0","","0","",{"$f":"COUNTIF(AS12:AS105,\"W\")","v":0},{"$f":"IF(AR105=\"\",\"\",COUNTIF(AR12:AR105,\"-\"))","v":92},94,3,"","-"]
[95,{"$f":"IF(REG!B105<>\"\",REG!B105,\"\")","v":""},{"$f":"IF(REG!C105<>\"\",REG!G105,\"\")","v":""},{"$f":"IF('H Q 3'!R106=\"\",\"DNR\",IF('H Q 3'!R106=\"-\",+'H Q 3'!D106,+'H Q 3'!R106))","v":"DNR"},null,null,null,"-","",null,null,null,null,null,"","","","-",3,95,"","-",{"$f":"IF(R106=\"\",\"\",COUNTIF(R12:R106,\"-\"))","v":93},"","","","","","","0",{"$f":"IF(R106=\"\",\"\",IF(AD106=\"0\",\"0\",COUNTIF(AD12:AD105,AD106)))","v":"0"},"","0","","0","","0","",{"$f":"COUNTIF(AS12:AS106,\"W\")","v":0},{"$f":"IF(AR106=\"\",\"\",COUNTIF(AR12:AR106,\"-\"))","v":93},95,3,"","-"]
[96,{"$f":"IF(REG!B106<>\"\",REG!B106,\"\")","v":""},{"$f":"IF(REG!C106<>\"\",REG!G106,\"\")","v":""},{"$f":"IF('H Q 3'!R107=\"\",\"DNR\",IF('H Q 3'!R107=\"-\",+'H Q 3'!D107,+'H Q 3'!R107))","v":"DNR"},null,null,null,"-","",null,null,null,null,null,"","","","-",3,96,"","-",{"$f":"IF(R107=\"\",\"\",COUNTIF(R12:R107,\"-\"))","v":94},"","","","","","","0",{"$f":"IF(R107=\"\",\"\",IF(AD107=\"0\",\"0\",COUNTIF(AD12:AD106,AD107)))","v":"0"},"","0","","0","","0","",{"$f":"COUNTIF(AS12:AS107,\"W\")","v":0},{"$f":"IF(AR107=\"\",\"\",COUNTIF(AR12:AR107,\"-\"))","v":94},96,3,"","-"]
[97,{"$f":"IF(REG!B107<>\"\",REG!B107,\"\")","v":""},{"$f":"IF(REG!C107<>\"\",REG!G107,\"\")","v":""},{"$f":"IF('H Q 3'!R108=\"\",\"DNR\",IF('H Q 3'!R108=\"-\",+'H Q 3'!D108,+'H Q 3'!R108))","v":"DNR"},null,null,null,"-","",null,null,null,null,null,"","","","-",3,97,"","-",{"$f":"IF(R108=\"\",\"\",COUNTIF(R12:R108,\"-\"))","v":95},"","","","","","","0",{"$f":"IF(R108=\"\",\"\",IF(AD108=\"0\",\"0\",COUNTIF(AD12:AD107,AD108)))","v":"0"},"","0","","0","","0","",{"$f":"COUNTIF(AS12:AS108,\"W\")","v":0},{"$f":"IF(AR108=\"\",\"\",COUNTIF(AR12:AR108,\"-\"))","v":95},97,3,"","-"]
[98,{"$f":"IF(REG!B108<>\"\",REG!B108,\"\")","v":""},{"$f":"IF(REG!C108<>\"\",REG!G108,\"\")","v":""},{"$f":"IF('H Q 3'!R109=\"\",\"DNR\",IF('H Q 3'!R109=\"-\",+'H Q 3'!D109,+'H Q 3'!R109))","v":"DNR"},null,null,null,"-","",null,null,null,null,null,"","","","-",3,98,"","-",{"$f":"IF(R109=\"\",\"\",COUNTIF(R12:R109,\"-\"))","v":96},"","","","","","","0",{"$f":"IF(R109=\"\",\"\",IF(AD109=\"0\",\"0\",COUNTIF(AD12:AD108,AD109)))","v":"0"},"","0","","0","","0","",{"$f":"COUNTIF(AS12:AS109,\"W\")","v":0},{"$f":"IF(AR109=\"\",\"\",COUNTIF(AR12:AR109,\"-\"))","v":96},98,3,"","-"]
[99,{"$f":"IF(REG!B109<>\"\",REG!B109,\"\")","v":""},{"$f":"IF(REG!C109<>\"\",REG!G109,\"\")","v":""},{"$f":"IF('H Q 3'!R110=\"\",\"DNR\",IF('H Q 3'!R110=\"-\",+'H Q 3'!D110,+'H Q 3'!R110))","v":"DNR"},null,null,null,"-","",null,null,null,null,null,"","","","-",3,99,"","-",{"$f":"IF(R110=\"\",\"\",COUNTIF(R12:R110,\"-\"))","v":97},"","","","","","","0",{"$f":"IF(R110=\"\",\"\",IF(AD110=\"0\",\"0\",COUNTIF(AD12:AD109,AD110)))","v":"0"},"","0","","0","","0","",{"$f":"COUNTIF(AS12:AS110,\"W\")","v":0},{"$f":"IF(AR110=\"\",\"\",COUNTIF(AR12:AR110,\"-\"))","v":97},99,3,"","-"]
[100,{"$f":"IF(REG!B110<>\"\",REG!B110,\"\")","v":""},{"$f":"IF(REG!C110<>\"\",REG!G110,\"\")","v":""},{"$f":"IF('H Q 3'!R111=\"\",\"DNR\",IF('H Q 3'!R111=\"-\",+'H Q 3'!D111,+'H Q 3'!R111))","v":"DNR"},null,null,null,"-","",null,null,null,null,null,"","","","-",3,100,"","-",{"$f":"IF(R111=\"\",\"\",COUNTIF(R12:R111,\"-\"))","v":98},"","","","","","","0",{"$f":"IF(R111=\"\",\"\",IF(AD111=\"0\",\"0\",COUNTIF(AD12:AD110,AD111)))","v":"0"},"","0","","0","","0","",{"$f":"COUNTIF(AS12:AS111,\"W\")","v":0},{"$f":"IF(AR111=\"\",\"\",COUNTIF(AR12:AR111,\"-\"))","v":98},100,3,"","-"]

{"sheet":"H H2H","index":11,"n_rows":190,"n_cols":23,"rows_kept":190,"cut":false,"hidden":false,"merged":[[0,2,0,18],[88,0,88,1],[4,2,4,8],[4,10,4,16],[4,0,5,0],[4,1,5,1],[4,9,5,9],[1,2,1,15],[2,2,2,15],[1,16,1,18],[4,17,5,17],[4,21,5,21],[4,22,5,22],[4,19,5,19],[4,18,5,18],[4,20,5,20]]}
[null,null,{"$f":"CONTEST!B4","v":"Skate n Roll Polička  2022"}]
[null,{"$f":"_xll.iPush(\"TEEN_Hybrid_H2H\", \"WCH_SK8_2018\", 'H H2H'!$A$5:$S$86, 'H H2H'!$A$5:$S$86, 'H H2H'!$A$5:$S$86, 1, TRUE)","v":{"$error":"#NAME?"}},{"$f":"CONTEST!B6","v":"13.8. - 14.8.2022"}]
[4,"Top Bracket (32-16-8-4-2)",{"$f":"CONCATENATE(CONTEST!B9,\" / \",CONTEST!B17,\" / \",CONTEST!B13)","v":"HYBRID SLALOM /  Eliminations / TEEN 12-14"}]
[]
["Qualifying Position","Racer No. & Name","Run 1",null,null,null,null,null,null,"R1 Margin","Run 2",null,null,null,null,null,null,"R2 Margin","Round Winner & Combined Margin","Loser’s Final Placement","Round Loser","Qualifying Time","Qualifying Position"]
[null,null,"Raw Time","Cones","Reaction Time","False Start","Final Time","Run Rank","Winner & Margin",null,"Raw Time","Cones","Reaction Time","False Start","Final Time","Run Rank","Winner & Margin"]
[null,"Round of 32"]
[1,{"$f":"IF(A3<A8,\"BYE\",IF(ISERROR(VLOOKUP(A8,'H Q 4'!AO12:'H Q 4'!AQ111,3,FALSE))=TRUE,\"BYE\",VLOOKUP(A8,'H Q 4'!AO12:'H Q 4'!AQ111,3,FALSE)))","v":"Rezková  Anna  [CZE] "},null,null,null,null,{"$f":"IF(LEFT(C8:C39,1)=\"D\",\"-\",IF(D8:D39>'H Q 4'!A6,\"-\",IF(C8:C39>0,C8:C39+D8:D39*'H Q 4'!A5+F8:F39*'H Q 4'!A7,\"\")))","v":""},{"$f":"IF(G8:G39=\"\",\"\", IF(G8:G39=\"-\",\"\", RANK(G8:G39,G8:G39,1)))","v":""},{"$f":"IF(AND(LEFT(C8,1)=\"D\",LEFT(C9,1)=\"D\"),\"\",IF(OR(C8=\"DNR\",C9=\"DNR\"),IF(C8=\"DNR\",B9,B8),IF(OR(ISBLANK(C8),ISBLANK(C9)),\"\",IF(G8=G9,\"TIE\",IF(G8>G9,B9,B8)))))","v":""},null,null,null,null,null,{"$f":"IF(LEFT(K8:K39,1)=\"D\",\"-\",IF(L8:L39>'H Q 4'!A6,\"-\",IF(K8:K39>0,K8:K39+L8:L39*'H Q 4'!A5+N8:N39*'H Q 4'!A7,\"\")))","v":""},{"$f":"IF(O8:O39=\"\",\"\",IF(O8:O39=\"-\",\"\", RANK(O8:O39,O8:O39,1)))","v":""},{"$f":"IF(AND(LEFT(K8,1)=\"D\",LEFT(K9,1)=\"D\"),\"\",IF(OR(K8=\"DNR\",K9=\"DNR\"),IF(K8=\"DNR\",B9,B8),IF(OR(ISBLANK(K8),ISBLANK(K9)),\"\",IF(O8=O9,\"TIE\",IF(O8>O9,B9,B8)))))","v":""},null,{"$f":"IF(B9=\"BYE\", B8, IF(ISERROR(J9+R9)=TRUE,\"\",IF(J9+R9=0,\"TIE - HOLD RUNOFF\",IF(J9+R9>0,B9,B8))))","v":"Rezková  Anna  [CZE] "}]
[32,{"$f":"IF(A3<A9,\"BYE\",IF(ISERROR(VLOOKUP(A9,'H Q 4'!AO12:'H Q 4'!AQ111,3,FALSE))=TRUE,\"BYE\",VLOOKUP(A9,'H Q 4'!AO12:'H Q 4'!AQ111,3,FALSE)))","v":"BYE"},null,null,null,null,"","",{"$f":"IF(AND(LEFT(C8,1)=\"D\",LEFT(C9,1)=\"D\"),\"\",IF(OR(C8=\"DNR\",C9=\"DNR\"),\"by \"&ABS(J9)&\" seconds\",IF(OR(ISBLANK(C8),ISBLANK(C9),G8=G9),\"\",\"by \"&ABS(J9)&\" seconds\")))","v":""},{"$f":"IF(AND(LEFT(C8,1)=\"D\",LEFT(C9,1)=\"D\"),\"0\",IF(OR(C8=\"DNR\",C9=\"DNR\"),IF(C8=\"DNR\",1,-1)*'H Q 4'!A8,IF(OR(ISBLANK(C8),ISBLANK(C9)),\"\",IF(OR(G8=\"-\",G9=\"-\"),IF(G8=\"-\",1,-1)*'H Q 4'!A8,IF(ABS(G8-G9)>'H Q 4'!A9,IF(G8-G9>'H Q 4'!A9,1,-1)*'H Q 4'!A9,ROUND(G8-G9,3))))))","v":""},null,null,null,null,"","",{"$f":"IF(AND(LEFT(K8,1)=\"D\",LEFT(K9,1)=\"D\"),\"\",IF(OR(K8=\"DNR\",K9=\"DNR\"),\"by \"&ABS(R9)&\" seconds\",IF(OR(ISBLANK(K8),ISBLANK(K9),O8=O9),\"\",\"by \"&ABS(R9)&\" seconds\")))","v":""},{"$f":"IF(AND(LEFT(K8,1)=\"D\",LEFT(K9,1)=\"D\"),\"0\",IF(OR(K8=\"DNR\",K9=\"DNR\"),IF(K8=\"DNR\",1,-1)*'H Q 4'!A8,IF(OR(ISBLANK(K8),ISBLANK(K9)),\"\",IF(OR(O8=\"-\",O9=\"-\"),IF(O8=\"-\",1,-1)*'H Q 4'!A8,IF(ABS(O8-O9)>'H Q 4'!A9,IF(O8-O9>'H Q 4'!A9,1,-1)*'H Q 4'!A9,ROUND(O8-O9,3))))))","v":""},{"$f":"IF(B9=\"BYE\",\"(BYE)\",IF(ISERROR(J9+R9)=TRUE,\"\",IF(J9+R9=0,\"\",\"by \"&ABS(J9+R9)&\" seconds\")))","v":"(BYE)"},{"$f":"IF(W9:W39=\"\",\"\",IF(ISERROR(W9:W39)=TRUE,\"\",16+RANK(W9:W39,W9:W39,1)))","v":""},{"$f":"IF(B9=\"BYE\", B9, IF(ISERROR(J9+R9)=TRUE,\"\",IF(J9+R9>0,B8,B9)))","v":"BYE"},{"$f":"IF(ISERROR(VLOOKUP(U9,'H Q 4'!U12:V111,2,FALSE))=TRUE,\"\",VLOOKUP(U9,'H Q 4'!U12:V111,2,FALSE))","v":""},{"$f":"IF(ISERROR(VLOOKUP(U9,'H Q 4'!AL12:AO111,4,FALSE))=TRUE,\"\",VLOOKUP(U9,'H Q 4'!AL12:AO111,4,FALSE))","v":""}]
[16,{"$f":"IF(A3<A10,\"BYE\",IF(ISERROR(VLOOKUP(A10,'H Q 4'!AO12:'H Q 4'!AQ111,3,FALSE))=TRUE,\"BYE\",VLOOKUP(A10,'H Q 4'!AO12:'H Q 4'!AQ111,3,FALSE)))","v":"BYE"},null,null,null,null,"","",{"$f":"IF(AND(LEFT(C10,1)=\"D\",LEFT(C11,1)=\"D\"),\"\",IF(OR(C10=\"DNR\",C11=\"DNR\"),IF(C10=\"DNR\",B11,B10),IF(OR(ISBLANK(C10),ISBLANK(C11)),\"\",IF(G10=G11,\"TIE\",IF(G10>G11,B11,B10)))))","v":""},null,null,null,null,null,"","",{"$f":"IF(AND(LEFT(K10,1)=\"D\",LEFT(K11,1)=\"D\"),\"\",IF(OR(K10=\"DNR\",K11=\"DNR\"),IF(K10=\"DNR\",B11,B10),IF(OR(ISBLANK(K10),ISBLANK(K11)),\"\",IF(O10=O11,\"TIE\",IF(O10>O11,B11,B10)))))","v":""},null,{"$f":"IF(B11=\"BYE\", B10, IF(ISERROR(J11+R11)=TRUE,\"\",IF(J11+R11=0,\"TIE - HOLD RUNOFF\",IF(J11+R11>0,B11,B10))))","v":"BYE"},""]
[17,{"$f":"IF(A3<A11,\"BYE\",IF(ISERROR(VLOOKUP(A11,'H Q 4'!AO12:'H Q 4'!AQ111,3,FALSE))=TRUE,\"BYE\",VLOOKUP(A11,'H Q 4'!AO12:'H Q 4'!AQ111,3,FALSE)))","v":"BYE"},null,null,null,null,"","",{"$f":"IF(AND(LEFT(C10,1)=\"D\",LEFT(C11,1)=\"D\"),\"\",IF(OR(C10=\"DNR\",C11=\"DNR\"),\"by \"&ABS(J11)&\" seconds\",IF(OR(ISBLANK(C10),ISBLANK(C11),G10=G11),\"\",\"by \"&ABS(J11)&\" seconds\")))","v":""},{"$f":"IF(AND(LEFT(C10,1)=\"D\",LEFT(C11,1)=\"D\"),\"0\",IF(OR(C10=\"DNR\",C11=\"DNR\"),IF(C10=\"DNR\",1,-1)*'H Q 4'!A8,IF(OR(ISBLANK(C10),ISBLANK(C11)),\"\",IF(OR(G10=\"-\",G11=\"-\"),IF(G10=\"-\",1,-1)*'H Q 4'!A8,IF(ABS(G10-G11)>'H Q 4'!A9,IF(G10-G11>'H Q 4'!A9,1,-1)*'H Q 4'!A9,ROUND(G10-G11,3))))))","v":""},null,null,null,null,"","",{"$f":"IF(AND(LEFT(K10,1)=\"D\",LEFT(K11,1)=\"D\"),\"\",IF(OR(K10=\"DNR\",K11=\"DNR\"),\"by \"&ABS(R11)&\" seconds\",IF(OR(ISBLANK(K10),ISBLANK(K11),O10=O11),\"\",\"by \"&ABS(R11)&\" seconds\")))","v":""},{"$f":"IF(AND(LEFT(K10,1)=\"D\",LEFT(K11,1)=\"D\"),\"0\",IF(OR(K10=\"DNR\",K11=\"DNR\"),IF(K10=\"DNR\",1,-1)*'H Q 4'!A8,IF(OR(ISBLANK(K10),ISBLANK(K11)),\"\",IF(OR(O10=\"-\",O11=\"-\"),IF(O10=\"-\",1,-1)*'H Q 4'!A8,IF(ABS(O10-O11)>'H Q 4'!A9,IF(O10-O11>'H Q 4'!A9,1,-1)*'H Q 4'!A9,ROUND(O10-O11,3))))))","v":""},{"$f":"IF(B11=\"BYE\",\"(BYE)\",IF(ISERROR(J11+R11)=TRUE,\"\",IF(J11+R11=0,\"\",\"by \"&ABS(J11+R11)&\" seconds\")))","v":"(BYE)"},"",{"$f":"IF(B11=\"BYE\", B11, IF(ISERROR(J11+R11)=TRUE,\"\",IF(J11+R11>0,B10,B11)))","v":"BYE"},{"$f":"IF(ISERROR(VLOOKUP(U11,'H Q 4'!U12:V111,2,FALSE))=TRUE,\"\",VLOOKUP(U11,'H Q 4'!U12:V111,2,FALSE))","v":""},{"$f":"IF(ISERROR(VLOOKUP(U11,'H Q 4'!AL12:AO111,4,FALSE))=TRUE,\"\",VLOOKUP(U11,'H Q 4'!AL12:AO111,4,FALSE))","v":""}]
[8,{"$f":"IF(A3<A12,\"BYE\",IF(ISERROR(VLOOKUP(A12,'H Q 4'!AO12:'H Q 4'!AQ111,3,FALSE))=TRUE,\"BYE\",VLOOKUP(A12,'H Q 4'!AO12:'H Q 4'!AQ111,3,FALSE)))","v":"BYE"},null,null,null,null,"","",{"$f":"IF(AND(LEFT(C12,1)=\"D\",LEFT(C13,1)=\"D\"),\"\",IF(OR(C12=\"DNR\",C13=\"DNR\"),IF(C12=\"DNR\",B13,B12),IF(OR(ISBLANK(C12),ISBLANK(C13)),\"\",IF(G12=G13,\"TIE\",IF(G12>G13,B13,B12)))))","v":""},null,null,null,null,null,"","",{"$f":"IF(AND(LEFT(K12,1)=\"D\",LEFT(K13,1)=\"D\"),\"\",IF(OR(K12=\"DNR\",K13=\"DNR\"),IF(K12=\"DNR\",B13,B12),IF(OR(ISBLANK(K12),ISBLANK(K13)),\"\",IF(O12=O13,\"TIE\",IF(O12>O13,B13,B12)))))","v":""},null,{"$f":"IF(B13=\"BYE\", B12, IF(ISERROR(J13+R13)=TRUE,\"\",IF(J13+R13=0,\"TIE - HOLD RUNOFF\",IF(J13+R13>0,B13,B12))))","v":"BYE"},""]
[25,{"$f":"IF(A3<A13,\"BYE\",IF(ISERROR(VLOOKUP(A13,'H Q 4'!AO12:'H Q 4'!AQ111,3,FALSE))=TRUE,\"BYE\",VLOOKUP(A13,'H Q 4'!AO12:'H Q 4'!AQ111,3,FALSE)))","v":"BYE"},null,null,null,null,"","",{"$f":"IF(AND(LEFT(C12,1)=\"D\",LEFT(C13,1)=\"D\"),\"\",IF(OR(C12=\"DNR\",C13=\"DNR\"),\"by \"&ABS(J13)&\" seconds\",IF(OR(ISBLANK(C12),ISBLANK(C13),G12=G13),\"\",\"by \"&ABS(J13)&\" seconds\")))","v":""},{"$f":"IF(AND(LEFT(C12,1)=\"D\",LEFT(C13,1)=\"D\"),\"0\",IF(OR(C12=\"DNR\",C13=\"DNR\"),IF(C12=\"DNR\",1,-1)*'H Q 4'!A8,IF(OR(ISBLANK(C12),ISBLANK(C13)),\"\",IF(OR(G12=\"-\",G13=\"-\"),IF(G12=\"-\",1,-1)*'H Q 4'!A8,IF(ABS(G12-G13)>'H Q 4'!A9,IF(G12-G13>'H Q 4'!A9,1,-1)*'H Q 4'!A9,ROUND(G12-G13,3))))))","v":""},null,null,null,null,"","",{"$f":"IF(AND(LEFT(K12,1)=\"D\",LEFT(K13,1)=\"D\"),\"\",IF(OR(K12=\"DNR\",K13=\"DNR\"),\"by \"&ABS(R13)&\" seconds\",IF(OR(ISBLANK(K12),ISBLANK(K13),O12=O13),\"\",\"by \"&ABS(R13)&\" seconds\")))","v":""},{"$f":"IF(AND(LEFT(K12,1)=\"D\",LEFT(K13,1)=\"D\"),\"0\",IF(OR(K12=\"DNR\",K13=\"DNR\"),IF(K12=\"DNR\",1,-1)*'H Q 4'!A8,IF(OR(ISBLANK(K12),ISBLANK(K13)),\"\",IF(OR(O12=\"-\",O13=\"-\"),IF(O12=\"-\",1,-1)*'H Q 4'!A8,IF(ABS(O12-O13)>'H Q 4'!A9,IF(O12-O13>'H Q 4'!A9,1,-1)*'H Q 4'!A9,ROUND(O12-O13,3))))))","v":""},{"$f":"IF(B13=\"BYE\",\"(BYE)\",IF(ISERROR(J13+R13)=TRUE,\"\",IF(J13+R13=0,\"\",\"by \"&ABS(J13+R13)&\" seconds\")))","v":"(BYE)"},"",{"$f":"IF(B13=\"BYE\", B13, IF(ISERROR(J13+R13)=TRUE,\"\",IF(J13+R13>0,B12,B13)))","v":"BYE"},{"$f":"IF(ISERROR(VLOOKUP(U13,'H Q 4'!U12:V111,2,FALSE))=TRUE,\"\",VLOOKUP(U13,'H Q 4'!U12:V111,2,FALSE))","v":""},{"$f":"IF(ISERROR(VLOOKUP(U13,'H Q 4'!AL12:AO111,4,FALSE))=TRUE,\"\",VLOOKUP(U13,'H Q 4'!AL12:AO111,4,FALSE))","v":""}]
[9,{"$f":"IF(A3<A14,\"BYE\",IF(ISERROR(VLOOKUP(A14,'H Q 4'!AO12:'H Q 4'!AQ111,3,FALSE))=TRUE,\"BYE\",VLOOKUP(A14,'H Q 4'!AO12:'H Q 4'!AQ111,3,FALSE)))","v":"BYE"},null,null,null,null,"","",{"$f":"IF(AND(LEFT(C14,1)=\"D\",LEFT(C15,1)=\"D\"),\"\",IF(OR(C14=\"DNR\",C15=\"DNR\"),IF(C14=\"DNR\",B15,B14),IF(OR(ISBLANK(C14),ISBLANK(C15)),\"\",IF(G14=G15,\"TIE\",IF(G14>G15,B15,B14)))))","v":""},null,null,null,null,null,"","",{"$f":"IF(AND(LEFT(K14,1)=\"D\",LEFT(K15,1)=\"D\"),\"\",IF(OR(K14=\"DNR\",K15=\"DNR\"),IF(K14=\"DNR\",B15,B14),IF(OR(ISBLANK(K14),ISBLANK(K15)),\"\",IF(O14=O15,\"TIE\",IF(O14>O15,B15,B14)))))","v":""},null,{"$f":"IF(B15=\"BYE\", B14, IF(ISERROR(J15+R15)=TRUE,\"\",IF(J15+R15=0,\"TIE - HOLD RUNOFF\",IF(J15+R15>0,B15,B14))))","v":"BYE"},""]
[24,{"$f":"IF(A3<A15,\"BYE\",IF(ISERROR(VLOOKUP(A15,'H Q 4'!AO12:'H Q 4'!AQ111,3,FALSE))=TRUE,\"BYE\",VLOOKUP(A15,'H Q 4'!AO12:'H Q 4'!AQ111,3,FALSE)))","v":"BYE"},null,null,null,null,"","",{"$f":"IF(AND(LEFT(C14,1)=\"D\",LEFT(C15,1)=\"D\"),\"\",IF(OR(C14=\"DNR\",C15=\"DNR\"),\"by \"&ABS(J15)&\" seconds\",IF(OR(ISBLANK(C14),ISBLANK(C15),G14=G15),\"\",\"by \"&ABS(J15)&\" seconds\")))","v":""},{"$f":"IF(AND(LEFT(C14,1)=\"D\",LEFT(C15,1)=\"D\"),\"0\",IF(OR(C14=\"DNR\",C15=\"DNR\"),IF(C14=\"DNR\",1,-1)*'H Q 4'!A8,IF(OR(ISBLANK(C14),ISBLANK(C15)),\"\",IF(OR(G14=\"-\",G15=\"-\",),IF(G14=\"-\",1,-1)*'H Q 4'!A8,IF(ABS(G14-G15)>'H Q 4'!A9,IF(G14-G15>'H Q 4'!A9,1,-1)*'H Q 4'!A9,ROUND(G14-G15,3))))))","v":""},null,null,null,null,"","",{"$f":"IF(AND(LEFT(K14,1)=\"D\",LEFT(K15,1)=\"D\"),\"\",IF(OR(K14=\"DNR\",K15=\"DNR\"),\"by \"&ABS(R15)&\" seconds\",IF(OR(ISBLANK(K14),ISBLANK(K15),O14=O15),\"\",\"by \"&ABS(R15)&\" seconds\")))","v":""},{"$f":"IF(AND(LEFT(K14,1)=\"D\",LEFT(K15,1)=\"D\"),\"0\",IF(OR(K14=\"DNR\",K15=\"DNR\"),IF(K14=\"DNR\",1,-1)*'H Q 4'!A8,IF(OR(ISBLANK(K14),ISBLANK(K15)),\"\",IF(OR(O14=\"-\",O15=\"-\"),IF(O14=\"-\",1,-1)*'H Q 4'!A8,IF(ABS(O14-O15)>'H Q 4'!A9,IF(O14-O15>'H Q 4'!A9,1,-1)*'H Q 4'!A9,ROUND(O14-O15,3))))))","v":""},{"$f":"IF(B15=\"BYE\",\"(BYE)\",IF(ISERROR(J15+R15)=TRUE,\"\",IF(J15+R15=0,\"\",\"by \"&ABS(J15+R15)&\" seconds\")))","v":"(BYE)"},"",{"$f":"IF(B15=\"BYE\", B15, IF(ISERROR(J15+R15)=TRUE,\"\",IF(J15+R15>0,B14,B15)))","v":"BYE"},{"$f":"IF(ISERROR(VLOOKUP(U15,'H Q 4'!U12:V111,2,FALSE))=TRUE,\"\",VLOOKUP(U15,'H Q 4'!U12:V111,2,FALSE))","v":""},{"$f":"IF(ISERROR(VLOOKUP(U15,'H Q 4'!AL12:AO111,4,FALSE))=TRUE,\"\",VLOOKUP(U15,'H Q 4'!AL12:AO111,4,FALSE))","v":""}]
[4,{"$f":"IF(A3<A16,\"BYE\",IF(ISERROR(VLOOKUP(A16,'H Q 4'!AO12:'H Q 4'!AQ111,3,FALSE))=TRUE,\"BYE\",VLOOKUP(A16,'H Q 4'!AO12:'H Q 4'!AQ111,3,FALSE)))","v":""},null,null,null,null,"","",{"$f":"IF(AND(LEFT(C16,1)=\"D\",LEFT(C17,1)=\"D\"),\"\",IF(OR(C16=\"DNR\",C17=\"DNR\"),IF(C16=\"DNR\",B17,B16),IF(OR(ISBLANK(C16),ISBLANK(C17)),\"\",IF(G16=G17,\"TIE\",IF(G16>G17,B17,B16)))))","v":""},null,null,null,null,null,"","",{"$f":"IF(AND(LEFT(K16,1)=\"D\",LEFT(K17,1)=\"D\"),\"\",IF(OR(K16=\"DNR\",K17=\"DNR\"),IF(K16=\"DNR\",B17,B16),IF(OR(ISBLANK(K16),ISBLANK(K17)),\"\",IF(O16=O17,\"TIE\",IF(O16>O17,B17,B16)))))","v":""},null,{"$f":"IF(B17=\"BYE\", B16, IF(ISERROR(J17+R17)=TRUE,\"\",IF(J17+R17=0,\"TIE - HOLD RUNOFF\",IF(J17+R17>0,B17,B16))))","v":""},""]
[29,{"$f":"IF(A3<A17,\"BYE\",IF(ISERROR(VLOOKUP(A17,'H Q 4'!AO12:'H Q 4'!AQ111,3,FALSE))=TRUE,\"BYE\",VLOOKUP(A17,'H Q 4'!AO12:'H Q 4'!AQ111,3,FALSE)))","v":"BYE"},null,null,null,null,"","",{"$f":"IF(AND(LEFT(C16,1)=\"D\",LEFT(C17,1)=\"D\"),\"\",IF(OR(C16=\"DNR\",C17=\"DNR\"),\"by \"&ABS(J17)&\" seconds\",IF(OR(ISBLANK(C16),ISBLANK(C17),G16=G17),\"\",\"by \"&ABS(J17)&\" seconds\")))","v":""},{"$f":"IF(AND(LEFT(C16,1)=\"D\",LEFT(C17,1)=\"D\"),\"0\",IF(OR(C16=\"DNR\",C17=\"DNR\"),IF(C16=\"DNR\",1,-1)*'H Q 4'!A8,IF(OR(ISBLANK(C16),ISBLANK(C17)),\"\",IF(OR(G16=\"-\",G17=\"-\"),IF(G16=\"-\",1,-1)*'H Q 4'!A8,IF(ABS(G16-G17)>'H Q 4'!A9,IF(G16-G17>'H Q 4'!A9,1,-1)*'H Q 4'!A9,ROUND(G16-G17,3))))))","v":""},null,null,null,null,"","",{"$f":"IF(AND(LEFT(K16,1)=\"D\",LEFT(K17,1)=\"D\"),\"\",IF(OR(K16=\"DNR\",K17=\"DNR\"),\"by \"&ABS(R17)&\" seconds\",IF(OR(ISBLANK(K16),ISBLANK(K17),O16=O17),\"\",\"by \"&ABS(R17)&\" seconds\")))","v":""},{"$f":"IF(AND(LEFT(K16,1)=\"D\",LEFT(K17,1)=\"D\"),\"0\",IF(OR(K16=\"DNR\",K17=\"DNR\"),IF(K16=\"DNR\",1,-1)*'H Q 4'!A8,IF(OR(ISBLANK(K16),ISBLANK(K17)),\"\",IF(OR(O16=\"-\",O17=\"-\"),IF(O16=\"-\",1,-1)*'H Q 4'!A8,IF(ABS(O16-O17)>'H Q 4'!A9,IF(O16-O17>'H Q 4'!A9,1,-1)*'H Q 4'!A9,ROUND(O16-O17,3))))))","v":""},{"$f":"IF(B17=\"BYE\",\"(BYE)\",IF(ISERROR(J17+R17)=TRUE,\"\",IF(J17+R17=0,\"\",\"by \"&ABS(J17+R17)&\" seconds\")))","v":"(BYE)"},"",{"$f":"IF(B17=\"BYE\", B17, IF(ISERROR(J17+R17)=TRUE,\"\",IF(J17+R17>0,B16,B17)))","v":"BYE"},{"$f":"IF(ISERROR(VLOOKUP(U17,'H Q 4'!U12:V111,2,FALSE))=TRUE,\"\",VLOOKUP(U17,'H Q 4'!U12:V111,2,FALSE))","v":""},{"$f":"IF(ISERROR(VLOOKUP(U17,'H Q 4'!AL12:AO111,4,FALSE))=TRUE,\"\",VLOOKUP(U17,'H Q 4'!AL12:AO111,4,FALSE))","v":""}]
[13,{"$f":"IF(A3<A18,\"BYE\",IF(ISERROR(VLOOKUP(A18,'H Q 4'!AO12:'H Q 4'!AQ111,3,FALSE))=TRUE,\"BYE\",VLOOKUP(A18,'H Q 4'!AO12:'H Q 4'!AQ111,3,FALSE)))","v":"BYE"},null,null,null,null,"","",{"$f":"IF(AND(LEFT(C18,1)=\"D\",LEFT(C19,1)=\"D\"),\"\",IF(OR(C18=\"DNR\",C19=\"DNR\"),IF(C18=\"DNR\",B19,B18),IF(OR(ISBLANK(C18),ISBLANK(C19)),\"\",IF(G18=G19,\"TIE\",IF(G18>G19,B19,B18)))))","v":""},null,null,null,null,null,"","",{"$f":"IF(AND(LEFT(K18,1)=\"D\",LEFT(K19,1)=\"D\"),\"\",IF(OR(K18=\"DNR\",K19=\"DNR\"),IF(K18=\"DNR\",B19,B18),IF(OR(ISBLANK(K18),ISBLANK(K19)),\"\",IF(O18=O19,\"TIE\",IF(O18>O19,B19,B18)))))","v":""},null,{"$f":"IF(B19=\"BYE\", B18, IF(ISERROR(J19+R19)=TRUE,\"\",IF(J19+R19=0,\"TIE - HOLD RUNOFF\",IF(J19+R19>0,B19,B18))))","v":"BYE"},""]
[20,{"$f":"IF(A3<A19,\"BYE\",IF(ISERROR(VLOOKUP(A19,'H Q 4'!AO12:'H Q 4'!AQ111,3,FALSE))=TRUE,\"BYE\",VLOOKUP(A19,'H Q 4'!AO12:'H Q 4'!AQ111,3,FALSE)))","v":"BYE"},null,null,null,null,"","",{"$f":"IF(AND(LEFT(C18,1)=\"D\",LEFT(C19,1)=\"D\"),\"\",IF(OR(C18=\"DNR\",C19=\"DNR\"),\"by \"&ABS(J19)&\" seconds\",IF(OR(ISBLANK(C18),ISBLANK(C19),G18=G19),\"\",\"by \"&ABS(J19)&\" seconds\")))","v":""},{"$f":"IF(AND(LEFT(C18,1)=\"D\",LEFT(C19,1)=\"D\"),\"0\",IF(OR(C18=\"DNR\",C19=\"DNR\"),IF(C18=\"DNR\",1,-1)*'H Q 4'!A8,IF(OR(ISBLANK(C18),ISBLANK(C19)),\"\",IF(OR(G18=\"-\",G19=\"-\"),IF(G18=\"-\",1,-1)*'H Q 4'!A8,IF(ABS(G18-G19)>'H Q 4'!A9,IF(G18-G19>'H Q 4'!A9,1,-1)*'H Q 4'!A9,ROUND(G18-G19,3))))))","v":""},null,null,null,null,"","",{"$f":"IF(AND(LEFT(K18,1)=\"D\",LEFT(K19,1)=\"D\"),\"\",IF(OR(K18=\"DNR\",K19=\"DNR\"),\"by \"&ABS(R19)&\" seconds\",IF(OR(ISBLANK(K18),ISBLANK(K19),O18=O19),\"\",\"by \"&ABS(R19)&\" seconds\")))","v":""},{"$f":"IF(AND(LEFT(K18,1)=\"D\",LEFT(K19,1)=\"D\"),\"0\",IF(OR(K18=\"DNR\",K19=\"DNR\"),IF(K18=\"DNR\",1,-1)*'H Q 4'!A8,IF(OR(ISBLANK(K18),ISBLANK(K19)),\"\",IF(OR(O18=\"-\",O19=\"-\"),IF(O18=\"-\",1,-1)*'H Q 4'!A8,IF(ABS(O18-O19)>'H Q 4'!A9,IF(O18-O19>'H Q 4'!A9,1,-1)*'H Q 4'!A9,ROUND(O18-O19,3))))))","v":""},{"$f":"IF(B19=\"BYE\",\"(BYE)\",IF(ISERROR(J19+R19)=TRUE,\"\",IF(J19+R19=0,\"\",\"by \"&ABS(J19+R19)&\" seconds\")))","v":"(BYE)"},"",{"$f":"IF(B19=\"BYE\", B19, IF(ISERROR(J19+R19)=TRUE,\"\",IF(J19+R19>0,B18,B19)))","v":"BYE"},{"$f":"IF(ISERROR(VLOOKUP(U19,'H Q 4'!U12:V111,2,FALSE))=TRUE,\"\",VLOOKUP(U19,'H Q 4'!U12:V111,2,FALSE))","v":""},{"$f":"IF(ISERROR(VLOOKUP(U19,'H Q 4'!AL12:AO111,4,FALSE))=TRUE,\"\",VLOOKUP(U19,'H Q 4'!AL12:AO111,4,FALSE))","v":""}]
[5,{"$f":"IF(A3<A20,\"BYE\",IF(ISERROR(VLOOKUP(A20,'H Q 4'!AO12:'H Q 4'!AQ111,3,FALSE))=TRUE,\"BYE\",VLOOKUP(A20,'H Q 4'!AO12:'H Q 4'!AQ111,3,FALSE)))","v":"BYE"},null,null,null,null,"","",{"$f":"IF(AND(LEFT(C20,1)=\"D\",LEFT(C21,1)=\"D\"),\"\",IF(OR(C20=\"DNR\",C21=\"DNR\"),IF(C20=\"DNR\",B21,B20),IF(OR(ISBLANK(C20),ISBLANK(C21)),\"\",IF(G20=G21,\"TIE\",IF(G20>G21,B21,B20)))))","v":""},null,null,null,null,null,"","",{"$f":"IF(AND(LEFT(K20,1)=\"D\",LEFT(K21,1)=\"D\"),\"\",IF(OR(K20=\"DNR\",K21=\"DNR\"),IF(K20=\"DNR\",B21,B20),IF(OR(ISBLANK(K20),ISBLANK(K21)),\"\",IF(O20=O21,\"TIE\",IF(O20>O21,B21,B20)))))","v":""},null,{"$f":"IF(B21=\"BYE\", B20, IF(ISERROR(J21+R21)=TRUE,\"\",IF(J21+R21=0,\"TIE - HOLD RUNOFF\",IF(J21+R21>0,B21,B20))))","v":"BYE"},""]
[28,{"$f":"IF(A3<A21,\"BYE\",IF(ISERROR(VLOOKUP(A21,'H Q 4'!AO12:'H Q 4'!AQ111,3,FALSE))=TRUE,\"BYE\",VLOOKUP(A21,'H Q 4'!AO12:'H Q 4'!AQ111,3,FALSE)))","v":"BYE"},null,null,null,null,"","",{"$f":"IF(AND(LEFT(C20,1)=\"D\",LEFT(C21,1)=\"D\"),\"\",IF(OR(C20=\"DNR\",C21=\"DNR\"),\"by \"&ABS(J21)&\" seconds\",IF(OR(ISBLANK(C20),ISBLANK(C21),G20=G21),\"\",\"by \"&ABS(J21)&\" seconds\")))","v":""},{"$f":"IF(AND(LEFT(C20,1)=\"D\",LEFT(C21,1)=\"D\"),\"0\",IF(OR(C20=\"DNR\",C21=\"DNR\"),IF(C20=\"DNR\",1,-1)*'H Q 4'!A8,IF(OR(ISBLANK(C20),ISBLANK(C21)),\"\",IF(OR(G20=\"-\",G21=\"-\"),IF(G20=\"-\",1,-1)*'H Q 4'!A8,IF(ABS(G20-G21)>'H Q 4'!A9,IF(G20-G21>'H Q 4'!A9,1,-1)*'H Q 4'!A9,ROUND(G20-G21,3))))))","v":""},null,null,null,null,"","",{"$f":"IF(AND(LEFT(K20,1)=\"D\",LEFT(K21,1)=\"D\"),\"\",IF(OR(K20=\"DNR\",K21=\"DNR\"),\"by \"&ABS(R21)&\" seconds\",IF(OR(ISBLANK(K20),ISBLANK(K21),O20=O21),\"\",\"by \"&ABS(R21)&\" seconds\")))","v":""},{"$f":"IF(AND(LEFT(K20,1)=\"D\",LEFT(K21,1)=\"D\"),\"0\",IF(OR(K20=\"DNR\",K21=\"DNR\"),IF(K20=\"DNR\",1,-1)*'H Q 4'!A8,IF(OR(ISBLANK(K20),ISBLANK(K21)),\"\",IF(OR(O20=\"-\",O21=\"-\"),IF(O20=\"-\",1,-1)*'H Q 4'!A8,IF(ABS(O20-O21)>'H Q 4'!A9,IF(O20-O21>'H Q 4'!A9,1,-1)*'H Q 4'!A9,ROUND(O20-O21,3))))))","v":""},{"$f":"IF(B21=\"BYE\",\"(BYE)\",IF(ISERROR(J21+R21)=TRUE,\"\",IF(J21+R21=0,\"\",\"by \"&ABS(J21+R21)&\" seconds\")))","v":"(BYE)"},"",{"$f":"IF(B21=\"BYE\", B21, IF(ISERROR(J21+R21)=TRUE,\"\",IF(J21+R21>0,B20,B21)))","v":"BYE"},{"$f":"IF(ISERROR(VLOOKUP(U21,'H Q 4'!U12:V111,2,FALSE))=TRUE,\"\",VLOOKUP(U21,'H Q 4'!U12:V111,2,FALSE))","v":""},{"$f":"IF(ISERROR(VLOOKUP(U21,'H Q 4'!AL12:AO111,4,FALSE))=TRUE,\"\",VLOOKUP(U21,'H Q 4'!AL12:AO111,4,FALSE))","v":""}]
[12,{"$f":"IF(A3<A22,\"BYE\",IF(ISERROR(VLOOKUP(A22,'H Q 4'!AO12:'H Q 4'!AQ111,3,FALSE))=TRUE,\"BYE\",VLOOKUP(A22,'H Q 4'!AO12:'H Q 4'!AQ111,3,FALSE)))","v":"BYE"},null,null,null,null,"","",{"$f":"IF(AND(LEFT(C22,1)=\"D\",LEFT(C23,1)=\"D\"),\"\",IF(OR(C22=\"DNR\",C23=\"DNR\"),IF(C22=\"DNR\",B23,B22),IF(OR(ISBLANK(C22),ISBLANK(C23)),\"\",IF(G22=G23,\"TIE\",IF(G22>G23,B23,B22)))))","v":""},null,null,null,null,null,"","",{"$f":"IF(AND(LEFT(K22,1)=\"D\",LEFT(K23,1)=\"D\"),\"\",IF(OR(K22=\"DNR\",K23=\"DNR\"),IF(K22=\"DNR\",B23,B22),IF(OR(ISBLANK(K22),ISBLANK(K23)),\"\",IF(O22=O23,\"TIE\",IF(O22>O23,B23,B22)))))","v":""},null,{"$f":"IF(B23=\"BYE\", B22, IF(ISERROR(J23+R23)=TRUE,\"\",IF(J23+R23=0,\"TIE - HOLD RUNOFF\",IF(J23+R23>0,B23,B22))))","v":"BYE"},""]
[21,{"$f":"IF(A3<A23,\"BYE\",IF(ISERROR(VLOOKUP(A23,'H Q 4'!AO12:'H Q 4'!AQ111,3,FALSE))=TRUE,\"BYE\",VLOOKUP(A23,'H Q 4'!AO12:'H Q 4'!AQ111,3,FALSE)))","v":"BYE"},null,null,null,null,"","",{"$f":"IF(AND(LEFT(C22,1)=\"D\",LEFT(C23,1)=\"D\"),\"\",IF(OR(C22=\"DNR\",C23=\"DNR\"),\"by \"&ABS(J23)&\" seconds\",IF(OR(ISBLANK(C22),ISBLANK(C23),G22=G23),\"\",\"by \"&ABS(J23)&\" seconds\")))","v":""},{"$f":"IF(AND(LEFT(C22,1)=\"D\",LEFT(C23,1)=\"D\"),\"0\",IF(OR(C22=\"DNR\",C23=\"DNR\"),IF(C22=\"DNR\",1,-1)*'H Q 4'!A8,IF(OR(ISBLANK(C22),ISBLANK(C23)),\"\",IF(OR(G22=\"-\",G23=\"-\"),IF(G22=\"-\",1,-1)*'H Q 4'!A8,IF(ABS(G22-G23)>'H Q 4'!A9,IF(G22-G23>'H Q 4'!A9,1,-1)*'H Q 4'!A9,ROUND(G22-G23,3))))))","v":""},null,null,null,null,"","",{"$f":"IF(AND(LEFT(K22,1)=\"D\",LEFT(K23,1)=\"D\"),\"\",IF(OR(K22=\"DNR\",K23=\"DNR\"),\"by \"&ABS(R23)&\" seconds\",IF(OR(ISBLANK(K22),ISBLANK(K23),O22=O23),\"\",\"by \"&ABS(R23)&\" seconds\")))","v":""},{"$f":"IF(AND(LEFT(K22,1)=\"D\",LEFT(K23,1)=\"D\"),\"0\",IF(OR(K22=\"DNR\",K23=\"DNR\"),IF(K22=\"DNR\",1,-1)*'H Q 4'!A8,IF(OR(ISBLANK(K22),ISBLANK(K23)),\"\",IF(OR(O22=\"-\",O23=\"-\"),IF(O22=\"-\",1,-1)*'H Q 4'!A8,IF(ABS(O22-O23)>'H Q 4'!A9,IF(O22-O23>'H Q 4'!A9,1,-1)*'H Q 4'!A9,ROUND(O22-O23,3))))))","v":""},{"$f":"IF(B23=\"BYE\",\"(BYE)\",IF(ISERROR(J23+R23)=TRUE,\"\",IF(J23+R23=0,\"\",\"by \"&ABS(J23+R23)&\" seconds\")))","v":"(BYE)"},"",{"$f":"IF(B23=\"BYE\", B23, IF(ISERROR(J23+R23)=TRUE,\"\",IF(J23+R23>0,B22,B23)))","v":"BYE"},{"$f":"IF(ISERROR(VLOOKUP(U23,'H Q 4'!U12:V111,2,FALSE))=TRUE,\"\",VLOOKUP(U23,'H Q 4'!U12:V111,2,FALSE))","v":""},{"$f":"IF(ISERROR(VLOOKUP(U23,'H Q 4'!AL12:AO111,4,FALSE))=TRUE,\"\",VLOOKUP(U23,'H Q 4'!AL12:AO111,4,FALSE))","v":""}]
[2,{"$f":"IF(A3<A24,\"BYE\",IF(ISERROR(VLOOKUP(A24,'H Q 4'!AO12:'H Q 4'!AQ111,3,FALSE))=TRUE,\"BYE\",VLOOKUP(A24,'H Q 4'!AO12:'H Q 4'!AQ111,3,FALSE)))","v":"Voves  Jindřich  [CZE] "},null,null,null,null,"","",{"$f":"IF(AND(LEFT(C24,1)=\"D\",LEFT(C25,1)=\"D\"),\"\",IF(OR(C24=\"DNR\",C25=\"DNR\"),IF(C24=\"DNR\",B25,B24),IF(OR(ISBLANK(C24),ISBLANK(C25)),\"\",IF(G24=G25,\"TIE\",IF(G24>G25,B25,B24)))))","v":""},null,null,null,null,null,"","",{"$f":"IF(AND(LEFT(K24,1)=\"D\",LEFT(K25,1)=\"D\"),\"\",IF(OR(K24=\"DNR\",K25=\"DNR\"),IF(K24=\"DNR\",B25,B24),IF(OR(ISBLANK(K24),ISBLANK(K25)),\"\",IF(O24=O25,\"TIE\",IF(O24>O25,B25,B24)))))","v":""},null,{"$f":"IF(B25=\"BYE\", B24, IF(ISERROR(J25+R25)=TRUE,\"\",IF(J25+R25=0,\"TIE - HOLD RUNOFF\",IF(J25+R25>0,B25,B24))))","v":"Voves  Jindřich  [CZE] "},""]
[31,{"$f":"IF(A3<A25,\"BYE\",IF(ISERROR(VLOOKUP(A25,'H Q 4'!AO12:'H Q 4'!AQ111,3,FALSE))=TRUE,\"BYE\",VLOOKUP(A25,'H Q 4'!AO12:'H Q 4'!AQ111,3,FALSE)))","v":"BYE"},null,null,null,null,"","",{"$f":"IF(AND(LEFT(C24,1)=\"D\",LEFT(C25,1)=\"D\"),\"\",IF(OR(C24=\"DNR\",C25=\"DNR\"),\"by \"&ABS(J25)&\" seconds\",IF(OR(ISBLANK(C24),ISBLANK(C25),G24=G25),\"\",\"by \"&ABS(J25)&\" seconds\")))","v":""},{"$f":"IF(AND(LEFT(C24,1)=\"D\",LEFT(C25,1)=\"D\"),\"0\",IF(OR(C24=\"DNR\",C25=\"DNR\"),IF(C24=\"DNR\",1,-1)*'H Q 4'!A8,IF(OR(ISBLANK(C24),ISBLANK(C25)),\"\",IF(OR(G24=\"-\",G25=\"-\"),IF(G24=\"-\",1,-1)*'H Q 4'!A8,IF(ABS(G24-G25)>'H Q 4'!A9,IF(G24-G25>'H Q 4'!A9,1,-1)*'H Q 4'!A9,ROUND(G24-G25,3))))))","v":""},null,null,null,null,"","",{"$f":"IF(AND(LEFT(K24,1)=\"D\",LEFT(K25,1)=\"D\"),\"\",IF(OR(K24=\"DNR\",K25=\"DNR\"),\"by \"&ABS(R25)&\" seconds\",IF(OR(ISBLANK(K24),ISBLANK(K25),O24=O25),\"\",\"by \"&ABS(R25)&\" seconds\")))","v":""},{"$f":"IF(AND(LEFT(K24,1)=\"D\",LEFT(K25,1)=\"D\"),\"0\",IF(OR(K24=\"DNR\",K25=\"DNR\"),IF(K24=\"DNR\",1,-1)*'H Q 4'!A8,IF(OR(ISBLANK(K24),ISBLANK(K25)),\"\",IF(OR(O24=\"-\",O25=\"-\"),IF(O24=\"-\",1,-1)*'H Q 4'!A8,IF(ABS(O24-O25)>'H Q 4'!A9,IF(O24-O25>'H Q 4'!A9,1,-1)*'H Q 4'!A9,ROUND(O24-O25,3))))))","v":""},{"$f":"IF(B25=\"BYE\",\"(BYE)\",IF(ISERROR(J25+R25)=TRUE,\"\",IF(J25+R25=0,\"\",\"by \"&ABS(J25+R25)&\" seconds\")))","v":"(BYE)"},"",{"$f":"IF(B25=\"BYE\", B25, IF(ISERROR(J25+R25)=TRUE,\"\",IF(J25+R25>0,B24,B25)))","v":"BYE"},{"$f":"IF(ISERROR(VLOOKUP(U25,'H Q 4'!U12:V111,2,FALSE))=TRUE,\"\",VLOOKUP(U25,'H Q 4'!U12:V111,2,FALSE))","v":""},{"$f":"IF(ISERROR(VLOOKUP(U25,'H Q 4'!AL12:AO111,4,FALSE))=TRUE,\"\",VLOOKUP(U25,'H Q 4'!AL12:AO111,4,FALSE))","v":""}]
[15,{"$f":"IF(A3<A26,\"BYE\",IF(ISERROR(VLOOKUP(A26,'H Q 4'!AO12:'H Q 4'!AQ111,3,FALSE))=TRUE,\"BYE\",VLOOKUP(A26,'H Q 4'!AO12:'H Q 4'!AQ111,3,FALSE)))","v":"BYE"},null,null,null,null,"","",{"$f":"IF(AND(LEFT(C26,1)=\"D\",LEFT(C27,1)=\"D\"),\"\",IF(OR(C26=\"DNR\",C27=\"DNR\"),IF(C26=\"DNR\",B27,B26),IF(OR(ISBLANK(C26),ISBLANK(C27)),\"\",IF(G26=G27,\"TIE\",IF(G26>G27,B27,B26)))))","v":""},null,null,null,null,null,"","",{"$f":"IF(AND(LEFT(K26,1)=\"D\",LEFT(K27,1)=\"D\"),\"\",IF(OR(K26=\"DNR\",K27=\"DNR\"),IF(K26=\"DNR\",B27,B26),IF(OR(ISBLANK(K26),ISBLANK(K27)),\"\",IF(O26=O27,\"TIE\",IF(O26>O27,B27,B26)))))","v":""},null,{"$f":"IF(B27=\"BYE\", B26, IF(ISERROR(J27+R27)=TRUE,\"\",IF(J27+R27=0,\"TIE - HOLD RUNOFF\",IF(J27+R27>0,B27,B26))))","v":"BYE"},""]
[18,{"$f":"IF(A3<A27,\"BYE\",IF(ISERROR(VLOOKUP(A27,'H Q 4'!AO12:'H Q 4'!AQ111,3,FALSE))=TRUE,\"BYE\",VLOOKUP(A27,'H Q 4'!AO12:'H Q 4'!AQ111,3,FALSE)))","v":"BYE"},null,null,null,null,"","",{"$f":"IF(AND(LEFT(C26,1)=\"D\",LEFT(C27,1)=\"D\"),\"\",IF(OR(C26=\"DNR\",C27=\"DNR\"),\"by \"&ABS(J27)&\" seconds\",IF(OR(ISBLANK(C26),ISBLANK(C27),G26=G27),\"\",\"by \"&ABS(J27)&\" seconds\")))","v":""},{"$f":"IF(AND(LEFT(C26,1)=\"D\",LEFT(C27,1)=\"D\"),\"0\",IF(OR(C26=\"DNR\",C27=\"DNR\"),IF(C26=\"DNR\",1,-1)*'H Q 4'!A8,IF(OR(ISBLANK(C26),ISBLANK(C27)),\"\",IF(OR(G26=\"-\",G27=\"-\"),IF(G26=\"-\",1,-1)*'H Q 4'!A8,IF(ABS(G26-G27)>'H Q 4'!A9,IF(G26-G27>'H Q 4'!A9,1,-1)*'H Q 4'!A9,ROUND(G26-G27,3))))))","v":""},null,null,null,null,"","",{"$f":"IF(AND(LEFT(K26,1)=\"D\",LEFT(K27,1)=\"D\"),\"\",IF(OR(K26=\"DNR\",K27=\"DNR\"),\"by \"&ABS(R27)&\" seconds\",IF(OR(ISBLANK(K26),ISBLANK(K27),O26=O27),\"\",\"by \"&ABS(R27)&\" seconds\")))","v":""},{"$f":"IF(AND(LEFT(K26,1)=\"D\",LEFT(K27,1)=\"D\"),\"0\",IF(OR(K26=\"DNR\",K27=\"DNR\"),IF(K26=\"DNR\",1,-1)*'H Q 4'!A8,IF(OR(ISBLANK(K26),ISBLANK(K27)),\"\",IF(OR(O26=\"-\",O27=\"-\"),IF(O26=\"-\",1,-1)*'H Q 4'!A8,IF(ABS(O26-O27)>'H Q 4'!A9,IF(O26-O27>'H Q 4'!A9,1,-1)*'H Q 4'!A9,ROUND(O26-O27,3))))))","v":""},{"$f":"IF(B27=\"BYE\",\"(BYE)\",IF(ISERROR(J27+R27)=TRUE,\"\",IF(J27+R27=0,\"\",\"by \"&ABS(J27+R27)&\" seconds\")))","v":"(BYE)"},"",{"$f":"IF(B27=\"BYE\", B27, IF(ISERROR(J27+R27)=TRUE,\"\",IF(J27+R27>0,B26,B27)))","v":"BYE"},{"$f":"IF(ISERROR(VLOOKUP(U27,'H Q 4'!U12:V111,2,FALSE))=TRUE,\"\",VLOOKUP(U27,'H Q 4'!U12:V111,2,FALSE))","v":""},{"$f":"IF(ISERROR(VLOOKUP(U27,'H Q 4'!AL12:AO111,4,FALSE))=TRUE,\"\",VLOOKUP(U27,'H Q 4'!AL12:AO111,4,FALSE))","v":""}]
[7,{"$f":"IF(A3<A28,\"BYE\",IF(ISERROR(VLOOKUP(A28,'H Q 4'!AO12:'H Q 4'!AQ111,3,FALSE))=TRUE,\"BYE\",VLOOKUP(A28,'H Q 4'!AO12:'H Q 4'!AQ111,3,FALSE)))","v":"BYE"},null,null,null,null,"","",{"$f":"IF(AND(LEFT(C28,1)=\"D\",LEFT(C29,1)=\"D\"),\"\",IF(OR(C28=\"DNR\",C29=\"DNR\"),IF(C28=\"DNR\",B29,B28),IF(OR(ISBLANK(C28),ISBLANK(C29)),\"\",IF(G28=G29,\"TIE\",IF(G28>G29,B29,B28)))))","v":""},null,null,null,null,null,"","",{"$f":"IF(AND(LEFT(K28,1)=\"D\",LEFT(K29,1)=\"D\"),\"\",IF(OR(K28=\"DNR\",K29=\"DNR\"),IF(K28=\"DNR\",B29,B28),IF(OR(ISBLANK(K28),ISBLANK(K29)),\"\",IF(O28=O29,\"TIE\",IF(O28>O29,B29,B28)))))","v":""},null,{"$f":"IF(B29=\"BYE\", B28, IF(ISERROR(J29+R29)=TRUE,\"\",IF(J29+R29=0,\"TIE - HOLD RUNOFF\",IF(J29+R29>0,B29,B28))))","v":"BYE"},""]
[26,{"$f":"IF(A3<A29,\"BYE\",IF(ISERROR(VLOOKUP(A29,'H Q 4'!AO12:'H Q 4'!AQ111,3,FALSE))=TRUE,\"BYE\",VLOOKUP(A29,'H Q 4'!AO12:'H Q 4'!AQ111,3,FALSE)))","v":"BYE"},null,null,null,null,"","",{"$f":"IF(AND(LEFT(C28,1)=\"D\",LEFT(C29,1)=\"D\"),\"\",IF(OR(C28=\"DNR\",C29=\"DNR\"),\"by \"&ABS(J29)&\" seconds\",IF(OR(ISBLANK(C28),ISBLANK(C29),G28=G29),\"\",\"by \"&ABS(J29)&\" seconds\")))","v":""},{"$f":"IF(AND(LEFT(C28,1)=\"D\",LEFT(C29,1)=\"D\"),\"0\",IF(OR(C28=\"DNR\",C29=\"DNR\"),IF(C28=\"DNR\",1,-1)*'H Q 4'!A8,IF(OR(ISBLANK(C28),ISBLANK(C29)),\"\",IF(OR(G28=\"-\",G29=\"-\"),IF(G28=\"-\",1,-1)*'H Q 4'!A8,IF(ABS(G28-G29)>'H Q 4'!A9,IF(G28-G29>'H Q 4'!A9,1,-1)*'H Q 4'!A9,ROUND(G28-G29,3))))))","v":""},null,null,null,null,"","",{"$f":"IF(AND(LEFT(K28,1)=\"D\",LEFT(K29,1)=\"D\"),\"\",IF(OR(K28=\"DNR\",K29=\"DNR\"),\"by \"&ABS(R29)&\" seconds\",IF(OR(ISBLANK(K28),ISBLANK(K29),O28=O29),\"\",\"by \"&ABS(R29)&\" seconds\")))","v":""},{"$f":"IF(AND(LEFT(K28,1)=\"D\",LEFT(K29,1)=\"D\"),\"0\",IF(OR(K28=\"DNR\",K29=\"DNR\"),IF(K28=\"DNR\",1,-1)*'H Q 4'!A8,IF(OR(ISBLANK(K28),ISBLANK(K29)),\"\",IF(OR(O28=\"-\",O29=\"-\"),IF(O28=\"-\",1,-1)*'H Q 4'!A8,IF(ABS(O28-O29)>'H Q 4'!A9,IF(O28-O29>'H Q 4'!A9,1,-1)*'H Q 4'!A9,ROUND(O28-O29,3))))))","v":""},{"$f":"IF(B29=\"BYE\",\"(BYE)\",IF(ISERROR(J29+R29)=TRUE,\"\",IF(J29+R29=0,\"\",\"by \"&ABS(J29+R29)&\" seconds\")))","v":"(BYE)"},"",{"$f":"IF(B29=\"BYE\", B29, IF(ISERROR(J29+R29)=TRUE,\"\",IF(J29+R29>0,B28,B29)))","v":"BYE"},{"$f":"IF(ISERROR(VLOOKUP(U29,'H Q 4'!U12:V111,2,FALSE))=TRUE,\"\",VLOOKUP(U29,'H Q 4'!U12:V111,2,FALSE))","v":""},{"$f":"IF(ISERROR(VLOOKUP(U29,'H Q 4'!AL12:AO111,4,FALSE))=TRUE,\"\",VLOOKUP(U29,'H Q 4'!AL12:AO111,4,FALSE))","v":""}]
[10,{"$f":"IF(A3<A30,\"BYE\",IF(ISERROR(VLOOKUP(A30,'H Q 4'!AO12:'H Q 4'!AQ111,3,FALSE))=TRUE,\"BYE\",VLOOKUP(A30,'H Q 4'!AO12:'H Q 4'!AQ111,3,FALSE)))","v":"BYE"},null,null,null,null,"","",{"$f":"IF(AND(LEFT(C30,1)=\"D\",LEFT(C31,1)=\"D\"),\"\",IF(OR(C30=\"DNR\",C31=\"DNR\"),IF(C30=\"DNR\",B31,B30),IF(OR(ISBLANK(C30),ISBLANK(C31)),\"\",IF(G30=G31,\"TIE\",IF(G30>G31,B31,B30)))))","v":""},null,null,null,null,null,"","",{"$f":"IF(AND(LEFT(K30,1)=\"D\",LEFT(K31,1)=\"D\"),\"\",IF(OR(K30=\"DNR\",K31=\"DNR\"),IF(K30=\"DNR\",B31,B30),IF(OR(ISBLANK(K30),ISBLANK(K31)),\"\",IF(O30=O31,\"TIE\",IF(O30>O31,B31,B30)))))","v":""},null,{"$f":"IF(B31=\"BYE\", B30, IF(ISERROR(J31+R31)=TRUE,\"\",IF(J31+R31=0,\"TIE - HOLD RUNOFF\",IF(J31+R31>0,B31,B30))))","v":"BYE"},""]
[23,{"$f":"IF(A3<A31,\"BYE\",IF(ISERROR(VLOOKUP(A31,'H Q 4'!AO12:'H Q 4'!AQ111,3,FALSE))=TRUE,\"BYE\",VLOOKUP(A31,'H Q 4'!AO12:'H Q 4'!AQ111,3,FALSE)))","v":"BYE"},null,null,null,null,"","",{"$f":"IF(AND(LEFT(C30,1)=\"D\",LEFT(C31,1)=\"D\"),\"\",IF(OR(C30=\"DNR\",C31=\"DNR\"),\"by \"&ABS(J31)&\" seconds\",IF(OR(ISBLANK(C30),ISBLANK(C31),G30=G31),\"\",\"by \"&ABS(J31)&\" seconds\")))","v":""},{"$f":"IF(AND(LEFT(C30,1)=\"D\",LEFT(C31,1)=\"D\"),\"0\",IF(OR(C30=\"DNR\",C31=\"DNR\"),IF(C30=\"DNR\",1,-1)*'H Q 4'!A8,IF(OR(ISBLANK(C30),ISBLANK(C31)),\"\",IF(OR(G30=\"-\",G31=\"-\"),IF(G30=\"-\",1,-1)*'H Q 4'!A8,IF(ABS(G30-G31)>'H Q 4'!A9,IF(G30-G31>'H Q 4'!A9,1,-1)*'H Q 4'!A9,ROUND(G30-G31,3))))))","v":""},null,null,null,null,"","",{"$f":"IF(AND(LEFT(K30,1)=\"D\",LEFT(K31,1)=\"D\"),\"\",IF(OR(K30=\"DNR\",K31=\"DNR\"),\"by \"&ABS(R31)&\" seconds\",IF(OR(ISBLANK(K30),ISBLANK(K31),O30=O31),\"\",\"by \"&ABS(R31)&\" seconds\")))","v":""},{"$f":"IF(AND(LEFT(K30,1)=\"D\",LEFT(K31,1)=\"D\"),\"0\",IF(OR(K30=\"DNR\",K31=\"DNR\"),IF(K30=\"DNR\",1,-1)*'H Q 4'!A8,IF(OR(ISBLANK(K30),ISBLANK(K31)),\"\",IF(OR(O30=\"-\",O31=\"-\"),IF(O30=\"-\",1,-1)*'H Q 4'!A8,IF(ABS(O30-O31)>'H Q 4'!A9,IF(O30-O31>'H Q 4'!A9,1,-1)*'H Q 4'!A9,ROUND(O30-O31,3))))))","v":""},{"$f":"IF(B31=\"BYE\",\"(BYE)\",IF(ISERROR(J31+R31)=TRUE,\"\",IF(J31+R31=0,\"\",\"by \"&ABS(J31+R31)&\" seconds\")))","v":"(BYE)"},"",{"$f":"IF(B31=\"BYE\", B31, IF(ISERROR(J31+R31)=TRUE,\"\",IF(J31+R31>0,B30,B31)))","v":"BYE"},{"$f":"IF(ISERROR(VLOOKUP(U31,'H Q 4'!U12:V111,2,FALSE))=TRUE,\"\",VLOOKUP(U31,'H Q 4'!U12:V111,2,FALSE))","v":""},{"$f":"IF(ISERROR(VLOOKUP(U31,'H Q 4'!AL12:AO111,4,FALSE))=TRUE,\"\",VLOOKUP(U31,'H Q 4'!AL12:AO111,4,FALSE))","v":""}]
[3,{"$f":"IF(A3<A32,\"BYE\",IF(ISERROR(VLOOKUP(A32,'H Q 4'!AO12:'H Q 4'!AQ111,3,FALSE))=TRUE,\"BYE\",VLOOKUP(A32,'H Q 4'!AO12:'H Q 4'!AQ111,3,FALSE)))","v":""},null,null,null,null,"","",{"$f":"IF(AND(LEFT(C32,1)=\"D\",LEFT(C33,1)=\"D\"),\"\",IF(OR(C32=\"DNR\",C33=\"DNR\"),IF(C32=\"DNR\",B33,B32),IF(OR(ISBLANK(C32),ISBLANK(C33)),\"\",IF(G32=G33,\"TIE\",IF(G32>G33,B33,B32)))))","v":""},null,null,null,null,null,"","",{"$f":"IF(AND(LEFT(K32,1)=\"D\",LEFT(K33,1)=\"D\"),\"\",IF(OR(K32=\"DNR\",K33=\"DNR\"),IF(K32=\"DNR\",B33,B32),IF(OR(ISBLANK(K32),ISBLANK(K33)),\"\",IF(O32=O33,\"TIE\",IF(O32>O33,B33,B32)))))","v":""},null,{"$f":"IF(B33=\"BYE\", B32, IF(ISERROR(J33+R33)=TRUE,\"\",IF(J33+R33=0,\"TIE - HOLD RUNOFF\",IF(J33+R33>0,B33,B32))))","v":""},""]
[30,{"$f":"IF(A3<A33,\"BYE\",IF(ISERROR(VLOOKUP(A33,'H Q 4'!AO12:'H Q 4'!AQ111,3,FALSE))=TRUE,\"BYE\",VLOOKUP(A33,'H Q 4'!AO12:'H Q 4'!AQ111,3,FALSE)))","v":"BYE"},null,null,null,null,"","",{"$f":"IF(AND(LEFT(C32,1)=\"D\",LEFT(C33,1)=\"D\"),\"\",IF(OR(C32=\"DNR\",C33=\"DNR\"),\"by \"&ABS(J33)&\" seconds\",IF(OR(ISBLANK(C32),ISBLANK(C33),G32=G33),\"\",\"by \"&ABS(J33)&\" seconds\")))","v":""},{"$f":"IF(AND(LEFT(C32,1)=\"D\",LEFT(C33,1)=\"D\"),\"0\",IF(OR(C32=\"DNR\",C33=\"DNR\"),IF(C32=\"DNR\",1,-1)*'H Q 4'!A8,IF(OR(ISBLANK(C32),ISBLANK(C33)),\"\",IF(OR(G32=\"-\",G33=\"-\"),IF(G32=\"-\",1,-1)*'H Q 4'!A8,IF(ABS(G32-G33)>'H Q 4'!A9,IF(G32-G33>'H Q 4'!A9,1,-1)*'H Q 4'!A9,ROUND(G32-G33,3))))))","v":""},null,null,null,null,"","",{"$f":"IF(AND(LEFT(K32,1)=\"D\",LEFT(K33,1)=\"D\"),\"\",IF(OR(K32=\"DNR\",K33=\"DNR\"),\"by \"&ABS(R33)&\" seconds\",IF(OR(ISBLANK(K32),ISBLANK(K33),O32=O33),\"\",\"by \"&ABS(R33)&\" seconds\")))","v":""},{"$f":"IF(AND(LEFT(K32,1)=\"D\",LEFT(K33,1)=\"D\"),\"0\",IF(OR(K32=\"DNR\",K33=\"DNR\"),IF(K32=\"DNR\",1,-1)*'H Q 4'!A8,IF(OR(ISBLANK(K32),ISBLANK(K33)),\"\",IF(OR(O32=\"-\",O33=\"-\"),IF(O32=\"-\",1,-1)*'H Q 4'!A8,IF(ABS(O32-O33)>'H Q 4'!A9,IF(O32-O33>'H Q 4'!A9,1,-1)*'H Q 4'!A9,ROUND(O32-O33,3))))))","v":""},{"$f":"IF(B33=\"BYE\",\"(BYE)\",IF(ISERROR(J33+R33)=TRUE,\"\",IF(J33+R33=0,\"\",\"by \"&ABS(J33+R33)&\" seconds\")))","v":"(BYE)"},"",{"$f":"IF(B33=\"BYE\", B33, IF(ISERROR(J33+R33)=TRUE,\"\",IF(J33+R33>0,B32,B33)))","v":"BYE"},{"$f":"IF(ISERROR(VLOOKUP(U33,'H Q 4'!U12:V111,2,FALSE))=TRUE,\"\",VLOOKUP(U33,'H Q 4'!U12:V111,2,FALSE))","v":""},{"$f":"IF(ISERROR(VLOOKUP(U33,'H Q 4'!AL12:AO111,4,FALSE))=TRUE,\"\",VLOOKUP(U33,'H Q 4'!AL12:AO111,4,FALSE))","v":""}]
[14,{"$f":"IF(A3<A34,\"BYE\",IF(ISERROR(VLOOKUP(A34,'H Q 4'!AO12:'H Q 4'!AQ111,3,FALSE))=TRUE,\"BYE\",VLOOKUP(A34,'H Q 4'!AO12:'H Q 4'!AQ111,3,FALSE)))","v":"BYE"},null,null,null,null,"","",{"$f":"IF(AND(LEFT(C34,1)=\"D\",LEFT(C35,1)=\"D\"),\"\",IF(OR(C34=\"DNR\",C35=\"DNR\"),IF(C34=\"DNR\",B35,B34),IF(OR(ISBLANK(C34),ISBLANK(C35)),\"\",IF(G34=G35,\"TIE\",IF(G34>G35,B35,B34)))))","v":""},null,null,null,null,null,"","",{"$f":"IF(AND(LEFT(K34,1)=\"D\",LEFT(K35,1)=\"D\"),\"\",IF(OR(K34=\"DNR\",K35=\"DNR\"),IF(K34=\"DNR\",B35,B34),IF(OR(ISBLANK(K34),ISBLANK(K35)),\"\",IF(O34=O35,\"TIE\",IF(O34>O35,B35,B34)))))","v":""},null,{"$f":"IF(B35=\"BYE\", B34, IF(ISERROR(J35+R35)=TRUE,\"\",IF(J35+R35=0,\"TIE - HOLD RUNOFF\",IF(J35+R35>0,B35,B34))))","v":"BYE"},""]
[19,{"$f":"IF(A3<A35,\"BYE\",IF(ISERROR(VLOOKUP(A35,'H Q 4'!AO12:'H Q 4'!AQ111,3,FALSE))=TRUE,\"BYE\",VLOOKUP(A35,'H Q 4'!AO12:'H Q 4'!AQ111,3,FALSE)))","v":"BYE"},null,null,null,null,"","",{"$f":"IF(AND(LEFT(C34,1)=\"D\",LEFT(C35,1)=\"D\"),\"\",IF(OR(C34=\"DNR\",C35=\"DNR\"),\"by \"&ABS(J35)&\" seconds\",IF(OR(ISBLANK(C34),ISBLANK(C35),G34=G35),\"\",\"by \"&ABS(J35)&\" seconds\")))","v":""},{"$f":"IF(AND(LEFT(C34,1)=\"D\",LEFT(C35,1)=\"D\"),\"0\",IF(OR(C34=\"DNR\",C35=\"DNR\"),IF(C34=\"DNR\",1,-1)*'H Q 4'!A8,IF(OR(ISBLANK(C34),ISBLANK(C35)),\"\",IF(OR(G34=\"-\",G35=\"-\"),IF(G34=\"-\",1,-1)*'H Q 4'!A8,IF(ABS(G34-G35)>'H Q 4'!A9,IF(G34-G35>'H Q 4'!A9,1,-1)*'H Q 4'!A9,ROUND(G34-G35,3))))))","v":""},null,null,null,null,"","",{"$f":"IF(AND(LEFT(K34,1)=\"D\",LEFT(K35,1)=\"D\"),\"\",IF(OR(K34=\"DNR\",K35=\"DNR\"),\"by \"&ABS(R35)&\" seconds\",IF(OR(ISBLANK(K34),ISBLANK(K35),O34=O35),\"\",\"by \"&ABS(R35)&\" seconds\")))","v":""},{"$f":"IF(AND(LEFT(K34,1)=\"D\",LEFT(K35,1)=\"D\"),\"0\",IF(OR(K34=\"DNR\",K35=\"DNR\"),IF(K34=\"DNR\",1,-1)*'H Q 4'!A8,IF(OR(ISBLANK(K34),ISBLANK(K35)),\"\",IF(OR(O34=\"-\",O35=\"-\"),IF(O34=\"-\",1,-1)*'H Q 4'!A8,IF(ABS(O34-O35)>'H Q 4'!A9,IF(O34-O35>'H Q 4'!A9,1,-1)*'H Q 4'!A9,ROUND(O34-O35,3))))))","v":""},{"$f":"IF(B35=\"BYE\",\"(BYE)\",IF(ISERROR(J35+R35)=TRUE,\"\",IF(J35+R35=0,\"\",\"by \"&ABS(J35+R35)&\" seconds\")))","v":"(BYE)"},"",{"$f":"IF(B35=\"BYE\", B35, IF(ISERROR(J35+R35)=TRUE,\"\",IF(J35+R35>0,B34,B35)))","v":"BYE"},{"$f":"IF(ISERROR(VLOOKUP(U35,'H Q 4'!U12:V111,2,FALSE))=TRUE,\"\",VLOOKUP(U35,'H Q 4'!U12:V111,2,FALSE))","v":""},{"$f":"IF(ISERROR(VLOOKUP(U35,'H Q 4'!AL12:AO111,4,FALSE))=TRUE,\"\",VLOOKUP(U35,'H Q 4'!AL12:AO111,4,FALSE))","v":""}]
[6,{"$f":"IF(A3<A36,\"BYE\",IF(ISERROR(VLOOKUP(A36,'H Q 4'!AO12:'H Q 4'!AQ111,3,FALSE))=TRUE,\"BYE\",VLOOKUP(A36,'H Q 4'!AO12:'H Q 4'!AQ111,3,FALSE)))","v":"BYE"},null,null,null,null,"","",{"$f":"IF(AND(LEFT(C36,1)=\"D\",LEFT(C37,1)=\"D\"),\"\",IF(OR(C36=\"DNR\",C37=\"DNR\"),IF(C36=\"DNR\",B37,B36),IF(OR(ISBLANK(C36),ISBLANK(C37)),\"\",IF(G36=G37,\"TIE\",IF(G36>G37,B37,B36)))))","v":""},null,null,null,null,null,"","",{"$f":"IF(AND(LEFT(K36,1)=\"D\",LEFT(K37,1)=\"D\"),\"\",IF(OR(K36=\"DNR\",K37=\"DNR\"),IF(K36=\"DNR\",B37,B36),IF(OR(ISBLANK(K36),ISBLANK(K37)),\"\",IF(O36=O37,\"TIE\",IF(O36>O37,B37,B36)))))","v":""},null,{"$f":"IF(B37=\"BYE\", B36, IF(ISERROR(J37+R37)=TRUE,\"\",IF(J37+R37=0,\"TIE - HOLD RUNOFF\",IF(J37+R37>0,B37,B36))))","v":"BYE"},""]
[27,{"$f":"IF(A3<A37,\"BYE\",IF(ISERROR(VLOOKUP(A37,'H Q 4'!AO12:'H Q 4'!AQ111,3,FALSE))=TRUE,\"BYE\",VLOOKUP(A37,'H Q 4'!AO12:'H Q 4'!AQ111,3,FALSE)))","v":"BYE"},null,null,null,null,"","",{"$f":"IF(AND(LEFT(C36,1)=\"D\",LEFT(C37,1)=\"D\"),\"\",IF(OR(C36=\"DNR\",C37=\"DNR\"),\"by \"&ABS(J37)&\" seconds\",IF(OR(ISBLANK(C36),ISBLANK(C37),G36=G37),\"\",\"by \"&ABS(J37)&\" seconds\")))","v":""},{"$f":"IF(AND(LEFT(C36,1)=\"D\",LEFT(C37,1)=\"D\"),\"0\",IF(OR(C36=\"DNR\",C37=\"DNR\"),IF(C36=\"DNR\",1,-1)*'H Q 4'!A8,IF(OR(ISBLANK(C36),ISBLANK(C37)),\"\",IF(OR(G36=\"-\",G37=\"-\"),IF(G36=\"-\",1,-1)*'H Q 4'!A8,IF(ABS(G36-G37)>'H Q 4'!A9,IF(G36-G37>'H Q 4'!A9,1,-1)*'H Q 4'!A9,ROUND(G36-G37,3))))))","v":""},null,null,null,null,"","",{"$f":"IF(AND(LEFT(K36,1)=\"D\",LEFT(K37,1)=\"D\"),\"\",IF(OR(K36=\"DNR\",K37=\"DNR\"),\"by \"&ABS(R37)&\" seconds\",IF(OR(ISBLANK(K36),ISBLANK(K37),O36=O37),\"\",\"by \"&ABS(R37)&\" seconds\")))","v":""},{"$f":"IF(AND(LEFT(K36,1)=\"D\",LEFT(K37,1)=\"D\"),\"0\",IF(OR(K36=\"DNR\",K37=\"DNR\"),IF(K36=\"DNR\",1,-1)*'H Q 4'!A8,IF(OR(ISBLANK(K36),ISBLANK(K37)),\"\",IF(OR(O36=\"-\",O37=\"-\"),IF(O36=\"-\",1,-1)*'H Q 4'!A8,IF(ABS(O36-O37)>'H Q 4'!A9,IF(O36-O37>'H Q 4'!A9,1,-1)*'H Q 4'!A9,ROUND(O36-O37,3))))))","v":""},{"$f":"IF(B37=\"BYE\",\"(BYE)\",IF(ISERROR(J37+R37)=TRUE,\"\",IF(J37+R37=0,\"\",\"by \"&ABS(J37+R37)&\" seconds\")))","v":"(BYE)"},"",{"$f":"IF(B37=\"BYE\", B37, IF(ISERROR(J37+R37)=TRUE,\"\",IF(J37+R37>0,B36,B37)))","v":"BYE"},{"$f":"IF(ISERROR(VLOOKUP(U37,'H Q 4'!U12:V111,2,FALSE))=TRUE,\"\",VLOOKUP(U37,'H Q 4'!U12:V111,2,FALSE))","v":""},{"$f":"IF(ISERROR(VLOOKUP(U37,'H Q 4'!AL12:AO111,4,FALSE))=TRUE,\"\",VLOOKUP(U37,'H Q 4'!AL12:AO111,4,FALSE))","v":""}]
[11,{"$f":"IF(A3<A38,\"BYE\",IF(ISERROR(VLOOKUP(A38,'H Q 4'!AO12:'H Q 4'!AQ111,3,FALSE))=TRUE,\"BYE\",VLOOKUP(A38,'H Q 4'!AO12:'H Q 4'!AQ111,3,FALSE)))","v":"BYE"},null,null,null,null,"","",{"$f":"IF(AND(LEFT(C38,1)=\"D\",LEFT(C39,1)=\"D\"),\"\",IF(OR(C38=\"DNR\",C39=\"DNR\"),IF(C38=\"DNR\",B39,B38),IF(OR(ISBLANK(C38),ISBLANK(C39)),\"\",IF(G38=G39,\"TIE\",IF(G38>G39,B39,B38)))))","v":""},null,null,null,null,null,"","",{"$f":"IF(AND(LEFT(K38,1)=\"D\",LEFT(K39,1)=\"D\"),\"\",IF(OR(K38=\"DNR\",K39=\"DNR\"),IF(K38=\"DNR\",B39,B38),IF(OR(ISBLANK(K38),ISBLANK(K39)),\"\",IF(O38=O39,\"TIE\",IF(O38>O39,B39,B38)))))","v":""},null,{"$f":"IF(B39=\"BYE\", B38, IF(ISERROR(J39+R39)=TRUE,\"\",IF(J39+R39=0,\"TIE - HOLD RUNOFF\",IF(J39+R39>0,B39,B38))))","v":"BYE"},""]
[22,{"$f":"IF(A3<A39,\"BYE\",IF(ISERROR(VLOOKUP(A39,'H Q 4'!AO12:'H Q 4'!AQ111,3,FALSE))=TRUE,\"BYE\",VLOOKUP(A39,'H Q 4'!AO12:'H Q 4'!AQ111,3,FALSE)))","v":"BYE"},null,null,null,null,"","",{"$f":"IF(AND(LEFT(C38,1)=\"D\",LEFT(C39,1)=\"D\"),\"\",IF(OR(C38=\"DNR\",C39=\"DNR\"),\"by \"&ABS(J39)&\" seconds\",IF(OR(ISBLANK(C38),ISBLANK(C39),G38=G39),\"\",\"by \"&ABS(J39)&\" seconds\")))","v":""},{"$f":"IF(AND(LEFT(C38,1)=\"D\",LEFT(C39,1)=\"D\"),\"0\",IF(OR(C38=\"DNR\",C39=\"DNR\"),IF(C38=\"DNR\",1,-1)*'H Q 4'!A8,IF(OR(ISBLANK(C38),ISBLANK(C39)),\"\",IF(OR(G38=\"-\",G39=\"-\"),IF(G38=\"-\",1,-1)*'H Q 4'!A8,IF(ABS(G38-G39)>'H Q 4'!A9,IF(G38-G39>'H Q 4'!A9,1,-1)*'H Q 4'!A9,ROUND(G38-G39,3))))))","v":""},null,null,null,null,"","",{"$f":"IF(AND(LEFT(K38,1)=\"D\",LEFT(K39,1)=\"D\"),\"\",IF(OR(K38=\"DNR\",K39=\"DNR\"),\"by \"&ABS(R39)&\" seconds\",IF(OR(ISBLANK(K38),ISBLANK(K39),O38=O39),\"\",\"by \"&ABS(R39)&\" seconds\")))","v":""},{"$f":"IF(AND(LEFT(K38,1)=\"D\",LEFT(K39,1)=\"D\"),\"0\",IF(OR(K38=\"DNR\",K39=\"DNR\"),IF(K38=\"DNR\",1,-1)*'H Q 4'!A8,IF(OR(ISBLANK(K38),ISBLANK(K39)),\"\",IF(OR(O38=\"-\",O39=\"-\"),IF(O38=\"-\",1,-1)*'H Q 4'!A8,IF(ABS(O38-O39)>'H Q 4'!A9,IF(O38-O39>'H Q 4'!A9,1,-1)*'H Q 4'!A9,ROUND(O38-O39,3))))))","v":""},{"$f":"IF(B39=\"BYE\",\"(BYE)\",IF(ISERROR(J39+R39)=TRUE,\"\",IF(J39+R39=0,\"\",\"by \"&ABS(J39+R39)&\" seconds\")))","v":"(BYE)"},"",{"$f":"IF(B39=\"BYE\", B39, IF(ISERROR(J39+R39)=TRUE,\"\",IF(J39+R39>0,B38,B39)))","v":"BYE"},{"$f":"IF(ISERROR(VLOOKUP(U39,'H Q 4'!U12:V111,2,FALSE))=TRUE,\"\",VLOOKUP(U39,'H Q 4'!U12:V111,2,FALSE))","v":""},{"$f":"IF(ISERROR(VLOOKUP(U39,'H Q 4'!AL12:AO111,4,FALSE))=TRUE,\"\",VLOOKUP(U39,'H Q 4'!AL12:AO111,4,FALSE))","v":""}]
[]
[]
[null,"Round of 16"]
[{"$f":"IF(S8=B8, A8, A9)","v":1},{"$f":"IF(A3>16,IF(S8=\"TIE - HOLD RUNOFF\",\"\",S8),IF(A3<16,\"BYE\",IF(ISERROR(VLOOKUP(A43,'H Q 1-2'!AO12:'H Q 1-2'!AQ111,3,FALSE))=TRUE,\"BYE\",VLOOKUP(A43,'H Q 1-2'!AO12:'H Q 1-2'!AQ111,3,FALSE))))","v":"BYE"},null,null,null,null,{"$f":"IF(LEFT(C43:C58,1)=\"D\",\"-\",IF(D43:D58>'H Q 1-2'!A6,\"-\",IF(C43:C58>0,C43:C58+D43:D58*'H Q 1-2'!A5+F43:F58*'H Q 1-2'!A7,\"\")))","v":""},{"$f":"IF(G43:G58=\"\",\"\",IF(G43:G58=\"-\",\"\",RANK(G43:G58,G43:G58,1)))","v":""},{"$f":"IF(AND(LEFT(C43,1)=\"D\",LEFT(C44,1)=\"D\"),\"\",IF(OR(C43=\"DNR\",C44=\"DNR\"),IF(C43=\"DNR\",B44,B43),IF(OR(ISBLANK(C43),ISBLANK(C44)),\"\",IF(G43=G44,\"TIE\",IF(G43>G44,B44,B43)))))","v":""},null,null,null,null,null,null,null,{"$f":"IF(AND(LEFT(K43,1)=\"D\",LEFT(K44,1)=\"D\"),\"\",IF(OR(K43=\"DNR\",K44=\"DNR\"),IF(K43=\"DNR\",B44,B43),IF(OR(ISBLANK(K43),ISBLANK(K44)),\"\",IF(O43=O44,\"TIE\",IF(O43>O44,B44,B43)))))","v":""},null,{"$f":"IF(B44=\"BYE\", B43, IF(ISERROR(J44+R44)=TRUE,\"\",IF(J44+R44=0,\"TIE - HOLD RUNOFF\",IF(J44+R44>0,B44,B43))))","v":"BYE"}]
[{"$f":"IF(S10=B10, A10, A11)","v":16},{"$f":"IF(A3>16,IF(S10=\"TIE - HOLD RUNOFF\",\"\",S10),IF(A3<16,\"BYE\",IF(ISERROR(VLOOKUP(A44,'H Q 1-2'!AO12:'H Q 1-2'!AQ111,3,FALSE))=TRUE,\"BYE\",VLOOKUP(A44,'H Q 1-2'!AO12:'H Q 1-2'!AQ111,3,FALSE))))","v":"BYE"},null,null,null,null,"","",{"$f":"IF(AND(LEFT(C43,1)=\"D\",LEFT(C44,1)=\"D\"),\"\",IF(OR(C43=\"DNR\",C44=\"DNR\"),\"by \"&ABS(J44)&\" seconds\",IF(OR(ISBLANK(C43),ISBLANK(C44),G43=G44),\"\",\"by \"&ABS(J44)&\" seconds\")))","v":""},{"$f":"IF(AND(LEFT(C43,1)=\"D\",LEFT(C44,1)=\"D\"),\"0\",IF(OR(C43=\"DNR\",C44=\"DNR\"),IF(C43=\"DNR\",1,-1)*'H Q 1-2'!A8,IF(OR(ISBLANK(C43),ISBLANK(C44)),\"\",IF(OR(G43=\"-\",G44=\"-\"),IF(G43=\"-\",1,-1)*'H Q 1-2'!A8,IF(ABS(G43-G44)>'H Q 1-2'!A9,IF(G43-G44>'H Q 1-2'!A9,1,-1)*'H Q 1-2'!A9,ROUND(G43-G44,3))))))","v":""},null,null,null,null,null,null,{"$f":"IF(AND(LEFT(K43,1)=\"D\",LEFT(K44,1)=\"D\"),\"\",IF(OR(K43=\"DNR\",K44=\"DNR\"),\"by \"&ABS(R44)&\" seconds\",IF(OR(ISBLANK(K43),ISBLANK(K44),O43=O44),\"\",\"by \"&ABS(R44)&\" seconds\")))","v":""},{"$f":"IF(AND(LEFT(K43,1)=\"D\",LEFT(K44,1)=\"D\"),\"0\",IF(OR(K43=\"DNR\",K44=\"DNR\"),IF(K43=\"DNR\",1,-1)*'H Q 1-2'!A8,IF(OR(ISBLANK(K43),ISBLANK(K44)),\"\",IF(OR(O43=\"-\",O44=\"-\"),IF(O43=\"-\",1,-1)*'H Q 1-2'!A8,IF(ABS(O43-O44)>'H Q 1-2'!A9,IF(O43-O44>'H Q 1-2'!A9,1,-1)*'H Q 1-2'!A9,ROUND(O43-O44,3))))))","v":""},{"$f":"IF(B44=\"BYE\",\"(BYE)\",IF(ISERROR(J44+R44)=TRUE,\"\",IF(J44+R44=0,\"\",\"by \"&ABS(J44+R44)&\" seconds\")))","v":"(BYE)"},{"$f":"IF(W44:W58=\"\",\"\",IF(ISERROR(W44:W58)=TRUE,\"\",8+RANK(W44:W58,W44:W58,1)))","v":""},{"$f":"IF(B44=\"BYE\", B44, IF(ISERROR(J44+R44)=TRUE,\"\",IF(J44+R44>0,B43,B44)))","v":"BYE"},{"$f":"IF(ISERROR(VLOOKUP(U44,'H Q 1-2'!U12:V111,2,FALSE))=TRUE,\"\",VLOOKUP(U44,'H Q 1-2'!U12:V111,2,FALSE))","v":""},{"$f":"IF(ISERROR(VLOOKUP(U44,'H Q 1-2'!AL12:AO111,4,FALSE))=TRUE,\"\",VLOOKUP(U44,'H Q 1-2'!AL12:AO111,4,FALSE))","v":""}]
[{"$f":"IF(S12=B12, A12, A13)","v":8},{"$f":"IF(A3>16,IF(S12=\"TIE - HOLD RUNOFF\",\"\",S12),IF(A3<16,\"BYE\",IF(ISERROR(VLOOKUP(A45,'H Q 1-2'!AO12:'H Q 1-2'!AQ111,3,FALSE))=TRUE,\"BYE\",VLOOKUP(A45,'H Q 1-2'!AO12:'H Q 1-2'!AQ111,3,FALSE))))","v":"BYE"},null,null,null,null,"","",{"$f":"IF(AND(LEFT(C45,1)=\"D\",LEFT(C46,1)=\"D\"),\"\",IF(OR(C45=\"DNR\",C46=\"DNR\"),IF(C45=\"DNR\",B46,B45),IF(OR(ISBLANK(C45),ISBLANK(C46)),\"\",IF(G45=G46,\"TIE\",IF(G45>G46,B46,B45)))))","v":""},null,null,null,null,null,null,null,{"$f":"IF(AND(LEFT(K45,1)=\"D\",LEFT(K46,1)=\"D\"),\"\",IF(OR(K45=\"DNR\",K46=\"DNR\"),IF(K45=\"DNR\",B46,B45),IF(OR(ISBLANK(K45),ISBLANK(K46)),\"\",IF(O45=O46,\"TIE\",IF(O45>O46,B46,B45)))))","v":""},null,{"$f":"IF(B46=\"BYE\", B45, IF(ISERROR(J46+R46)=TRUE,\"\",IF(J46+R46=0,\"TIE - HOLD RUNOFF\",IF(J46+R46>0,B46,B45))))","v":"BYE"},""]
[{"$f":"IF(S14=B14, A14, A15)","v":9},{"$f":"IF(A3>16,IF(S14=\"TIE - HOLD RUNOFF\",\"\",S14),IF(A3<16,\"BYE\",IF(ISERROR(VLOOKUP(A46,'H Q 1-2'!AO12:'H Q 1-2'!AQ111,3,FALSE))=TRUE,\"BYE\",VLOOKUP(A46,'H Q 1-2'!AO12:'H Q 1-2'!AQ111,3,FALSE))))","v":"BYE"},null,null,null,null,"","",{"$f":"IF(AND(LEFT(C45,1)=\"D\",LEFT(C46,1)=\"D\"),\"\",IF(OR(C45=\"DNR\",C46=\"DNR\"),\"by \"&ABS(J46)&\" seconds\",IF(OR(ISBLANK(C45),ISBLANK(C46),G45=G46),\"\",\"by \"&ABS(J46)&\" seconds\")))","v":""},{"$f":"IF(AND(LEFT(C45,1)=\"D\",LEFT(C46,1)=\"D\"),\"0\",IF(OR(C45=\"DNR\",C46=\"DNR\"),IF(C45=\"DNR\",1,-1)*'H Q 1-2'!A8,IF(OR(ISBLANK(C45),ISBLANK(C46)),\"\",IF(OR(G45=\"-\",G46=\"-\"),IF(G45=\"-\",1,-1)*'H Q 1-2'!A8,IF(ABS(G45-G46)>'H Q 1-2'!A9,IF(G45-G46>'H Q 1-2'!A9,1,-1)*'H Q 1-2'!A9,ROUND(G45-G46,3))))))","v":""},null,null,null,null,null,null,{"$f":"IF(AND(LEFT(K45,1)=\"D\",LEFT(K46,1)=\"D\"),\"\",IF(OR(K45=\"DNR\",K46=\"DNR\"),\"by \"&ABS(R46)&\" seconds\",IF(OR(ISBLANK(K45),ISBLANK(K46),O45=O46),\"\",\"by \"&ABS(R46)&\" seconds\")))","v":""},{"$f":"IF(AND(LEFT(K45,1)=\"D\",LEFT(K46,1)=\"D\"),\"0\",IF(OR(K45=\"DNR\",K46=\"DNR\"),IF(K45=\"DNR\",1,-1)*'H Q 1-2'!A8,IF(OR(ISBLANK(K45),ISBLANK(K46)),\"\",IF(OR(O45=\"-\",O46=\"-\"),IF(O45=\"-\",1,-1)*'H Q 1-2'!A8,IF(ABS(O45-O46)>'H Q 1-2'!A9,IF(O45-O46>'H Q 1-2'!A9,1,-1)*'H Q 1-2'!A9,ROUND(O45-O46,3))))))","v":""},{"$f":"IF(B46=\"BYE\",\"(BYE)\",IF(ISERROR(J46+R46)=TRUE,\"\",IF(J46+R46=0,\"\",\"by \"&ABS(J46+R46)&\" seconds\")))","v":"(BYE)"},"",{"$f":"IF(B46=\"BYE\", B46, IF(ISERROR(J46+R46)=TRUE,\"\",IF(J46+R46>0,B45,B46)))","v":"BYE"},{"$f":"IF(ISERROR(VLOOKUP(U46,'H Q 1-2'!U12:V111,2,FALSE))=TRUE,\"\",VLOOKUP(U46,'H Q 1-2'!U12:V111,2,FALSE))","v":""},{"$f":"IF(ISERROR(VLOOKUP(U46,'H Q 1-2'!AL12:AO111,4,FALSE))=TRUE,\"\",VLOOKUP(U46,'H Q 1-2'!AL12:AO111,4,FALSE))","v":""}]
[{"$f":"IF(S16=B16, A16, A17)","v":4},{"$f":"IF(A3>16,IF(S16=\"TIE - HOLD RUNOFF\",\"\",S16),IF(A3<16,\"BYE\",IF(ISERROR(VLOOKUP(A47,'H Q 1-2'!AO12:'H Q 1-2'!AQ111,3,FALSE))=TRUE,\"BYE\",VLOOKUP(A47,'H Q 1-2'!AO12:'H Q 1-2'!AQ111,3,FALSE))))","v":"BYE"},null,null,null,null,"","",{"$f":"IF(AND(LEFT(C47,1)=\"D\",LEFT(C48,1)=\"D\"),\"\",IF(OR(C47=\"DNR\",C48=\"DNR\"),IF(C47=\"DNR\",B48,B47),IF(OR(ISBLANK(C47),ISBLANK(C48)),\"\",IF(G47=G48,\"TIE\",IF(G47>G48,B48,B47)))))","v":""},null,null,null,null,null,null,null,{"$f":"IF(AND(LEFT(K47,1)=\"D\",LEFT(K48,1)=\"D\"),\"\",IF(OR(K47=\"DNR\",K48=\"DNR\"),IF(K47=\"DNR\",B48,B47),IF(OR(ISBLANK(K47),ISBLANK(K48)),\"\",IF(O47=O48,\"TIE\",IF(O47>O48,B48,B47)))))","v":""},null,{"$f":"IF(B48=\"BYE\", B47, IF(ISERROR(J48+R48)=TRUE,\"\",IF(J48+R48=0,\"TIE - HOLD RUNOFF\",IF(J48+R48>0,B48,B47))))","v":"BYE"},""]
[{"$f":"IF(S18=B18, A18, A19)","v":13},{"$f":"IF(A3>16,IF(S18=\"TIE - HOLD RUNOFF\",\"\",S18),IF(A3<16,\"BYE\",IF(ISERROR(VLOOKUP(A48,'H Q 1-2'!AO12:'H Q 1-2'!AQ111,3,FALSE))=TRUE,\"BYE\",VLOOKUP(A48,'H Q 1-2'!AO12:'H Q 1-2'!AQ111,3,FALSE))))","v":"BYE"},null,null,null,null,"","",{"$f":"IF(AND(LEFT(C47,1)=\"D\",LEFT(C48,1)=\"D\"),\"\",IF(OR(C47=\"DNR\",C48=\"DNR\"),\"by \"&ABS(J48)&\" seconds\",IF(OR(ISBLANK(C47),ISBLANK(C48),G47=G48),\"\",\"by \"&ABS(J48)&\" seconds\")))","v":""},{"$f":"IF(AND(LEFT(C47,1)=\"D\",LEFT(C48,1)=\"D\"),\"0\",IF(OR(C47=\"DNR\",C48=\"DNR\"),IF(C47=\"DNR\",1,-1)*'H Q 1-2'!A8,IF(OR(ISBLANK(C47),ISBLANK(C48)),\"\",IF(OR(G47=\"-\",G48=\"-\"),IF(G47=\"-\",1,-1)*'H Q 1-2'!A8,IF(ABS(G47-G48)>'H Q 1-2'!A9,IF(G47-G48>'H Q 1-2'!A9,1,-1)*'H Q 1-2'!A9,ROUND(G47-G48,3))))))","v":""},null,null,null,null,null,null,{"$f":"IF(AND(LEFT(K47,1)=\"D\",LEFT(K48,1)=\"D\"),\"\",IF(OR(K47=\"DNR\",K48=\"DNR\"),\"by \"&ABS(R48)&\" seconds\",IF(OR(ISBLANK(K47),ISBLANK(K48),O47=O48),\"\",\"by \"&ABS(R48)&\" seconds\")))","v":""},{"$f":"IF(AND(LEFT(K47,1)=\"D\",LEFT(K48,1)=\"D\"),\"0\",IF(OR(K47=\"DNR\",K48=\"DNR\"),IF(K47=\"DNR\",1,-1)*'H Q 1-2'!A8,IF(OR(ISBLANK(K47),ISBLANK(K48)),\"\",IF(OR(O47=\"-\",O48=\"-\"),IF(O47=\"-\",1,-1)*'H Q 1-2'!A8,IF(ABS(O47-O48)>'H Q 1-2'!A9,IF(O47-O48>'H Q 1-2'!A9,1,-1)*'H Q 1-2'!A9,ROUND(O47-O48,3))))))","v":""},{"$f":"IF(B48=\"BYE\",\"(BYE)\",IF(ISERROR(J48+R48)=TRUE,\"\",IF(J48+R48=0,\"\",\"by \"&ABS(J48+R48)&\" seconds\")))","v":"(BYE)"},"",{"$f":"IF(B48=\"BYE\", B48, IF(ISERROR(J48+R48)=TRUE,\"\",IF(J48+R48>0,B47,B48)))","v":"BYE"},{"$f":"IF(ISERROR(VLOOKUP(U48,'H Q 1-2'!U12:V111,2,FALSE))=TRUE,\"\",VLOOKUP(U48,'H Q 1-2'!U12:V111,2,FALSE))","v":""},{"$f":"IF(ISERROR(VLOOKUP(U48,'H Q 1-2'!AL12:AO111,4,FALSE))=TRUE,\"\",VLOOKUP(U48,'H Q 1-2'!AL12:AO111,4,FALSE))","v":""}]
[{"$f":"IF(S20=B20, A20, A21)","v":5},{"$f":"IF(A3>16,IF(S20=\"TIE - HOLD RUNOFF\",\"\",S20),IF(A3<16,\"BYE\",IF(ISERROR(VLOOKUP(A49,'H Q 1-2'!AO12:'H Q 1-2'!AQ111,3,FALSE))=TRUE,\"BYE\",VLOOKUP(A49,'H Q 1-2'!AO12:'H Q 1-2'!AQ111,3,FALSE))))","v":"BYE"},null,null,null,null,"","",{"$f":"IF(AND(LEFT(C49,1)=\"D\",LEFT(C50,1)=\"D\"),\"\",IF(OR(C49=\"DNR\",C50=\"DNR\"),IF(C49=\"DNR\",B50,B49),IF(OR(ISBLANK(C49),ISBLANK(C50)),\"\",IF(G49=G50,\"TIE\",IF(G49>G50,B50,B49)))))","v":""},null,null,null,null,null,null,null,{"$f":"IF(AND(LEFT(K49,1)=\"D\",LEFT(K50,1)=\"D\"),\"\",IF(OR(K49=\"DNR\",K50=\"DNR\"),IF(K49=\"DNR\",B50,B49),IF(OR(ISBLANK(K49),ISBLANK(K50)),\"\",IF(O49=O50,\"TIE\",IF(O49>O50,B50,B49)))))","v":""},null,{"$f":"IF(B50=\"BYE\", B49, IF(ISERROR(J50+R50)=TRUE,\"\",IF(J50+R50=0,\"TIE - HOLD RUNOFF\",IF(J50+R50>0,B50,B49))))","v":"BYE"},""]
[{"$f":"IF(S22=B22, A22, A23)","v":12},{"$f":"IF(A3>16,IF(S22=\"TIE - HOLD RUNOFF\",\"\",S22),IF(A3<16,\"BYE\",IF(ISERROR(VLOOKUP(A50,'H Q 1-2'!AO12:'H Q 1-2'!AQ111,3,FALSE))=TRUE,\"BYE\",VLOOKUP(A50,'H Q 1-2'!AO12:'H Q 1-2'!AQ111,3,FALSE))))","v":"BYE"},null,null,null,null,"","",{"$f":"IF(AND(LEFT(C49,1)=\"D\",LEFT(C50,1)=\"D\"),\"\",IF(OR(C49=\"DNR\",C50=\"DNR\"),\"by \"&ABS(J50)&\" seconds\",IF(OR(ISBLANK(C49),ISBLANK(C50),G49=G50),\"\",\"by \"&ABS(J50)&\" seconds\")))","v":""},{"$f":"IF(AND(LEFT(C49,1)=\"D\",LEFT(C50,1)=\"D\"),\"0\",IF(OR(C49=\"DNR\",C50=\"DNR\"),IF(C49=\"DNR\",1,-1)*'H Q 1-2'!A8,IF(OR(ISBLANK(C49),ISBLANK(C50)),\"\",IF(OR(G49=\"-\",G50=\"-\"),IF(G49=\"-\",1,-1)*'H Q 1-2'!A8,IF(ABS(G49-G50)>'H Q 1-2'!A9,IF(G49-G50>'H Q 1-2'!A9,1,-1)*'H Q 1-2'!A9,ROUND(G49-G50,3))))))","v":""},null,null,null,null,null,null,{"$f":"IF(AND(LEFT(K49,1)=\"D\",LEFT(K50,1)=\"D\"),\"\",IF(OR(K49=\"DNR\",K50=\"DNR\"),\"by \"&ABS(R50)&\" seconds\",IF(OR(ISBLANK(K49),ISBLANK(K50),O49=O50),\"\",\"by \"&ABS(R50)&\" seconds\")))","v":""},{"$f":"IF(AND(LEFT(K49,1)=\"D\",LEFT(K50,1)=\"D\"),\"0\",IF(OR(K49=\"DNR\",K50=\"DNR\"),IF(K49=\"DNR\",1,-1)*'H Q 1-2'!A8,IF(OR(ISBLANK(K49),ISBLANK(K50)),\"\",IF(OR(O49=\"-\",O50=\"-\"),IF(O49=\"-\",1,-1)*'H Q 1-2'!A8,IF(ABS(O49-O50)>'H Q 1-2'!A9,IF(O49-O50>'H Q 1-2'!A9,1,-1)*'H Q 1-2'!A9,ROUND(O49-O50,3))))))","v":""},{"$f":"IF(B50=\"BYE\",\"(BYE)\",IF(ISERROR(J50+R50)=TRUE,\"\",IF(J50+R50=0,\"\",\"by \"&ABS(J50+R50)&\" seconds\")))","v":"(BYE)"},"",{"$f":"IF(B50=\"BYE\", B50, IF(ISERROR(J50+R50)=TRUE,\"\",IF(J50+R50>0,B49,B50)))","v":"BYE"},{"$f":"IF(ISERROR(VLOOKUP(U50,'H Q 1-2'!U12:V111,2,FALSE))=TRUE,\"\",VLOOKUP(U50,'H Q 1-2'!U12:V111,2,FALSE))","v":""},{"$f":"IF(ISERROR(VLOOKUP(U50,'H Q 1-2'!AL12:AO111,4,FALSE))=TRUE,\"\",VLOOKUP(U50,'H Q 1-2'!AL12:AO111,4,FALSE))","v":""}]
[{"$f":"IF(S24=B24, A24, A25)","v":2},{"$f":"IF(A3>16,IF(S24=\"TIE - HOLD RUNOFF\",\"\",S24),IF(A3<16,\"BYE\",IF(ISERROR(VLOOKUP(A51,'H Q 1-2'!AO12:'H Q 1-2'!AQ111,3,FALSE))=TRUE,\"BYE\",VLOOKUP(A51,'H Q 1-2'!AO12:'H Q 1-2'!AQ111,3,FALSE))))","v":"BYE"},null,null,null,null,"","",{"$f":"IF(AND(LEFT(C51,1)=\"D\",LEFT(C52,1)=\"D\"),\"\",IF(OR(C51=\"DNR\",C52=\"DNR\"),IF(C51=\"DNR\",B52,B51),IF(OR(ISBLANK(C51),ISBLANK(C52)),\"\",IF(G51=G52,\"TIE\",IF(G51>G52,B52,B51)))))","v":""},null,null,null,null,null,null,null,{"$f":"IF(AND(LEFT(K51,1)=\"D\",LEFT(K52,1)=\"D\"),\"\",IF(OR(K51=\"DNR\",K52=\"DNR\"),IF(K51=\"DNR\",B52,B51),IF(OR(ISBLANK(K51),ISBLANK(K52)),\"\",IF(O51=O52,\"TIE\",IF(O51>O52,B52,B51)))))","v":""},null,{"$f":"IF(B52=\"BYE\", B51, IF(ISERROR(J52+R52)=TRUE,\"\",IF(J52+R52=0,\"TIE - HOLD RUNOFF\",IF(J52+R52>0,B52,B51))))","v":"BYE"},""]
[{"$f":"IF(S26=B26, A26, A27)","v":15},{"$f":"IF(A3>16,IF(S26=\"TIE - HOLD RUNOFF\",\"\",S26),IF(A3<16,\"BYE\",IF(ISERROR(VLOOKUP(A52,'H Q 1-2'!AO12:'H Q 1-2'!AQ111,3,FALSE))=TRUE,\"BYE\",VLOOKUP(A52,'H Q 1-2'!AO12:'H Q 1-2'!AQ111,3,FALSE))))","v":"BYE"},null,null,null,null,"","",{"$f":"IF(AND(LEFT(C51,1)=\"D\",LEFT(C52,1)=\"D\"),\"\",IF(OR(C51=\"DNR\",C52=\"DNR\"),\"by \"&ABS(J52)&\" seconds\",IF(OR(ISBLANK(C51),ISBLANK(C52),G51=G52),\"\",\"by \"&ABS(J52)&\" seconds\")))","v":""},{"$f":"IF(AND(LEFT(C51,1)=\"D\",LEFT(C52,1)=\"D\"),\"0\",IF(OR(C51=\"DNR\",C52=\"DNR\"),IF(C51=\"DNR\",1,-1)*'H Q 1-2'!A8,IF(OR(ISBLANK(C51),ISBLANK(C52)),\"\",IF(OR(G51=\"-\",G52=\"-\"),IF(G51=\"-\",1,-1)*'H Q 1-2'!A8,IF(ABS(G51-G52)>'H Q 1-2'!A9,IF(G51-G52>'H Q 1-2'!A9,1,-1)*'H Q 1-2'!A9,ROUND(G51-G52,3))))))","v":""},null,null,null,null,null,null,{"$f":"IF(AND(LEFT(K51,1)=\"D\",LEFT(K52,1)=\"D\"),\"\",IF(OR(K51=\"DNR\",K52=\"DNR\"),\"by \"&ABS(R52)&\" seconds\",IF(OR(ISBLANK(K51),ISBLANK(K52),O51=O52),\"\",\"by \"&ABS(R52)&\" seconds\")))","v":""},{"$f":"IF(AND(LEFT(K51,1)=\"D\",LEFT(K52,1)=\"D\"),\"0\",IF(OR(K51=\"DNR\",K52=\"DNR\"),IF(K51=\"DNR\",1,-1)*'H Q 1-2'!A8,IF(OR(ISBLANK(K51),ISBLANK(K52)),\"\",IF(OR(O51=\"-\",O52=\"-\"),IF(O51=\"-\",1,-1)*'H Q 1-2'!A8,IF(ABS(O51-O52)>'H Q 1-2'!A9,IF(O51-O52>'H Q 1-2'!A9,1,-1)*'H Q 1-2'!A9,ROUND(O51-O52,3))))))","v":""},{"$f":"IF(B52=\"BYE\",\"(BYE)\",IF(ISERROR(J52+R52)=TRUE,\"\",IF(J52+R52=0,\"\",\"by \"&ABS(J52+R52)&\" seconds\")))","v":"(BYE)"},"",{"$f":"IF(B52=\"BYE\", B52, IF(ISERROR(J52+R52)=TRUE,\"\",IF(J52+R52>0,B51,B52)))","v":"BYE"},{"$f":"IF(ISERROR(VLOOKUP(U52,'H Q 1-2'!U12:V111,2,FALSE))=TRUE,\"\",VLOOKUP(U52,'H Q 1-2'!U12:V111,2,FALSE))","v":""},{"$f":"IF(ISERROR(VLOOKUP(U52,'H Q 1-2'!AL12:AO111,4,FALSE))=TRUE,\"\",VLOOKUP(U52,'H Q 1-2'!AL12:AO111,4,FALSE))","v":""}]
[{"$f":"IF(S28=B28, A28, A29)","v":7},{"$f":"IF(A3>16,IF(S28=\"TIE - HOLD RUNOFF\",\"\",S28),IF(A3<16,\"BYE\",IF(ISERROR(VLOOKUP(A53,'H Q 1-2'!AO12:'H Q 1-2'!AQ111,3,FALSE))=TRUE,\"BYE\",VLOOKUP(A53,'H Q 1-2'!AO12:'H Q 1-2'!AQ111,3,FALSE))))","v":"BYE"},null,null,null,null,"","",{"$f":"IF(AND(LEFT(C53,1)=\"D\",LEFT(C54,1)=\"D\"),\"\",IF(OR(C53=\"DNR\",C54=\"DNR\"),IF(C53=\"DNR\",B54,B53),IF(OR(ISBLANK(C53),ISBLANK(C54)),\"\",IF(G53=G54,\"TIE\",IF(G53>G54,B54,B53)))))","v":""},null,null,null,null,null,null,null,{"$f":"IF(AND(LEFT(K53,1)=\"D\",LEFT(K54,1)=\"D\"),\"\",IF(OR(K53=\"DNR\",K54=\"DNR\"),IF(K53=\"DNR\",B54,B53),IF(OR(ISBLANK(K53),ISBLANK(K54)),\"\",IF(O53=O54,\"TIE\",IF(O53>O54,B54,B53)))))","v":""},null,{"$f":"IF(B54=\"BYE\", B53, IF(ISERROR(J54+R54)=TRUE,\"\",IF(J54+R54=0,\"TIE - HOLD RUNOFF\",IF(J54+R54>0,B54,B53))))","v":"BYE"},""]
[{"$f":"IF(S30=B30, A30, A31)","v":10},{"$f":"IF(A3>16,IF(S30=\"TIE - HOLD RUNOFF\",\"\",S30),IF(A3<16,\"BYE\",IF(ISERROR(VLOOKUP(A54,'H Q 1-2'!AO12:'H Q 1-2'!AQ111,3,FALSE))=TRUE,\"BYE\",VLOOKUP(A54,'H Q 1-2'!AO12:'H Q 1-2'!AQ111,3,FALSE))))","v":"BYE"},null,null,null,null,"","",{"$f":"IF(AND(LEFT(C53,1)=\"D\",LEFT(C54,1)=\"D\"),\"\",IF(OR(C53=\"DNR\",C54=\"DNR\"),\"by \"&ABS(J54)&\" seconds\",IF(OR(ISBLANK(C53),ISBLANK(C54),G53=G54),\"\",\"by \"&ABS(J54)&\" seconds\")))","v":""},{"$f":"IF(AND(LEFT(C53,1)=\"D\",LEFT(C54,1)=\"D\"),\"0\",IF(OR(C53=\"DNR\",C54=\"DNR\"),IF(C53=\"DNR\",1,-1)*'H Q 1-2'!A8,IF(OR(ISBLANK(C53),ISBLANK(C54)),\"\",IF(OR(G53=\"-\",G54=\"-\"),IF(G53=\"-\",1,-1)*'H Q 1-2'!A8,IF(ABS(G53-G54)>'H Q 1-2'!A9,IF(G53-G54>'H Q 1-2'!A9,1,-1)*'H Q 1-2'!A9,ROUND(G53-G54,3))))))","v":""},null,null,null,null,null,null,{"$f":"IF(AND(LEFT(K53,1)=\"D\",LEFT(K54,1)=\"D\"),\"\",IF(OR(K53=\"DNR\",K54=\"DNR\"),\"by \"&ABS(R54)&\" seconds\",IF(OR(ISBLANK(K53),ISBLANK(K54),O53=O54),\"\",\"by \"&ABS(R54)&\" seconds\")))","v":""},{"$f":"IF(AND(LEFT(K53,1)=\"D\",LEFT(K54,1)=\"D\"),\"0\",IF(OR(K53=\"DNR\",K54=\"DNR\"),IF(K53=\"DNR\",1,-1)*'H Q 1-2'!A8,IF(OR(ISBLANK(K53),ISBLANK(K54)),\"\",IF(OR(O53=\"-\",O54=\"-\"),IF(O53=\"-\",1,-1)*'H Q 1-2'!A8,IF(ABS(O53-O54)>'H Q 1-2'!A9,IF(O53-O54>'H Q 1-2'!A9,1,-1)*'H Q 1-2'!A9,ROUND(O53-O54,3))))))","v":""},{"$f":"IF(B54=\"BYE\",\"(BYE)\",IF(ISERROR(J54+R54)=TRUE,\"\",IF(J54+R54=0,\"\",\"by \"&ABS(J54+R54)&\" seconds\")))","v":"(BYE)"},"",{"$f":"IF(B54=\"BYE\", B54, IF(ISERROR(J54+R54)=TRUE,\"\",IF(J54+R54>0,B53,B54)))","v":"BYE"},{"$f":"IF(ISERROR(VLOOKUP(U54,'H Q 1-2'!U12:V111,2,FALSE))=TRUE,\"\",VLOOKUP(U54,'H Q 1-2'!U12:V111,2,FALSE))","v":""},{"$f":"IF(ISERROR(VLOOKUP(U54,'H Q 1-2'!AL12:AO111,4,FALSE))=TRUE,\"\",VLOOKUP(U54,'H Q 1-2'!AL12:AO111,4,FALSE))","v":""}]
[{"$f":"IF(S32=B32, A32, A33)","v":3},{"$f":"IF(A3>16,IF(S32=\"TIE - HOLD RUNOFF\",\"\",S32),IF(A3<16,\"BYE\",IF(ISERROR(VLOOKUP(A55,'H Q 1-2'!AO12:'H Q 1-2'!AQ111,3,FALSE))=TRUE,\"BYE\",VLOOKUP(A55,'H Q 1-2'!AO12:'H Q 1-2'!AQ111,3,FALSE))))","v":"BYE"},null,null,null,null,"","",{"$f":"IF(AND(LEFT(C55,1)=\"D\",LEFT(C56,1)=\"D\"),\"\",IF(OR(C55=\"DNR\",C56=\"DNR\"),IF(C55=\"DNR\",B56,B55),IF(OR(ISBLANK(C55),ISBLANK(C56)),\"\",IF(G55=G56,\"TIE\",IF(G55>G56,B56,B55)))))","v":""},null,null,null,null,null,null,null,{"$f":"IF(AND(LEFT(K55,1)=\"D\",LEFT(K56,1)=\"D\"),\"\",IF(OR(K55=\"DNR\",K56=\"DNR\"),IF(K55=\"DNR\",B56,B55),IF(OR(ISBLANK(K55),ISBLANK(K56)),\"\",IF(O55=O56,\"TIE\",IF(O55>O56,B56,B55)))))","v":""},null,{"$f":"IF(B56=\"BYE\", B55, IF(ISERROR(J56+R56)=TRUE,\"\",IF(J56+R56=0,\"TIE - HOLD RUNOFF\",IF(J56+R56>0,B56,B55))))","v":"BYE"},""]
[{"$f":"IF(S34=B34, A34, A35)","v":14},{"$f":"IF(A3>16,IF(S34=\"TIE - HOLD RUNOFF\",\"\",S34),IF(A3<16,\"BYE\",IF(ISERROR(VLOOKUP(A56,'H Q 1-2'!AO12:'H Q 1-2'!AQ111,3,FALSE))=TRUE,\"BYE\",VLOOKUP(A56,'H Q 1-2'!AO12:'H Q 1-2'!AQ111,3,FALSE))))","v":"BYE"},null,null,null,null,"","",{"$f":"IF(AND(LEFT(C55,1)=\"D\",LEFT(C56,1)=\"D\"),\"\",IF(OR(C55=\"DNR\",C56=\"DNR\"),\"by \"&ABS(J56)&\" seconds\",IF(OR(ISBLANK(C55),ISBLANK(C56),G55=G56),\"\",\"by \"&ABS(J56)&\" seconds\")))","v":""},{"$f":"IF(AND(LEFT(C55,1)=\"D\",LEFT(C56,1)=\"D\"),\"0\",IF(OR(C55=\"DNR\",C56=\"DNR\"),IF(C55=\"DNR\",1,-1)*'H Q 1-2'!A8,IF(OR(ISBLANK(C55),ISBLANK(C56)),\"\",IF(OR(G55=\"-\",G56=\"-\"),IF(G55=\"-\",1,-1)*'H Q 1-2'!A8,IF(ABS(G55-G56)>'H Q 1-2'!A9,IF(G55-G56>'H Q 1-2'!A9,1,-1)*'H Q 1-2'!A9,ROUND(G55-G56,3))))))","v":""},null,null,null,null,null,null,{"$f":"IF(AND(LEFT(K55,1)=\"D\",LEFT(K56,1)=\"D\"),\"\",IF(OR(K55=\"DNR\",K56=\"DNR\"),\"by \"&ABS(R56)&\" seconds\",IF(OR(ISBLANK(K55),ISBLANK(K56),O55=O56),\"\",\"by \"&ABS(R56)&\" seconds\")))","v":""},{"$f":"IF(AND(LEFT(K55,1)=\"D\",LEFT(K56,1)=\"D\"),\"0\",IF(OR(K55=\"DNR\",K56=\"DNR\"),IF(K55=\"DNR\",1,-1)*'H Q 1-2'!A8,IF(OR(ISBLANK(K55),ISBLANK(K56)),\"\",IF(OR(O55=\"-\",O56=\"-\"),IF(O55=\"-\",1,-1)*'H Q 1-2'!A8,IF(ABS(O55-O56)>'H Q 1-2'!A9,IF(O55-O56>'H Q 1-2'!A9,1,-1)*'H Q 1-2'!A9,ROUND(O55-O56,3))))))","v":""},{"$f":"IF(B56=\"BYE\",\"(BYE)\",IF(ISERROR(J56+R56)=TRUE,\"\",IF(J56+R56=0,\"\",\"by \"&ABS(J56+R56)&\" seconds\")))","v":"(BYE)"},"",{"$f":"IF(B56=\"BYE\", B56, IF(ISERROR(J56+R56)=TRUE,\"\",IF(J56+R56>0,B55,B56)))","v":"BYE"},{"$f":"IF(ISERROR(VLOOKUP(U56,'H Q 1-2'!U12:V111,2,FALSE))=TRUE,\"\",VLOOKUP(U56,'H Q 1-2'!U12:V111,2,FALSE))","v":""},{"$f":"IF(ISERROR(VLOOKUP(U56,'H Q 1-2'!AL12:AO111,4,FALSE))=TRUE,\"\",VLOOKUP(U56,'H Q 1-2'!AL12:AO111,4,FALSE))","v":""}]
[{"$f":"IF(S36=B36, A36, A37)","v":6},{"$f":"IF(A3>16,IF(S36=\"TIE - HOLD RUNOFF\",\"\",S36),IF(A3<16,\"BYE\",IF(ISERROR(VLOOKUP(A57,'H Q 1-2'!AO12:'H Q 1-2'!AQ111,3,FALSE))=TRUE,\"BYE\",VLOOKUP(A57,'H Q 1-2'!AO12:'H Q 1-2'!AQ111,3,FALSE))))","v":"BYE"},null,null,null,null,"","",{"$f":"IF(AND(LEFT(C57,1)=\"D\",LEFT(C58,1)=\"D\"),\"\",IF(OR(C57=\"DNR\",C58=\"DNR\"),IF(C57=\"DNR\",B58,B57),IF(OR(ISBLANK(C57),ISBLANK(C58)),\"\",IF(G57=G58,\"TIE\",IF(G57>G58,B58,B57)))))","v":""},null,null,null,null,null,null,null,{"$f":"IF(AND(LEFT(K57,1)=\"D\",LEFT(K58,1)=\"D\"),\"\",IF(OR(K57=\"DNR\",K58=\"DNR\"),IF(K57=\"DNR\",B58,B57),IF(OR(ISBLANK(K57),ISBLANK(K58)),\"\",IF(O57=O58,\"TIE\",IF(O57>O58,B58,B57)))))","v":""},null,{"$f":"IF(B58=\"BYE\", B57, IF(ISERROR(J58+R58)=TRUE,\"\",IF(J58+R58=0,\"TIE - HOLD RUNOFF\",IF(J58+R58>0,B58,B57))))","v":"BYE"},""]
[{"$f":"IF(S38=B38, A38, A39)","v":11},{"$f":"IF(A3>16,IF(S38=\"TIE - HOLD RUNOFF\",\"\",S38),IF(A3<16,\"BYE\",IF(ISERROR(VLOOKUP(A58,'H Q 1-2'!AO12:'H Q 1-2'!AQ111,3,FALSE))=TRUE,\"BYE\",VLOOKUP(A58,'H Q 1-2'!AO12:'H Q 1-2'!AQ111,3,FALSE))))","v":"BYE"},null,null,null,null,"","",{"$f":"IF(AND(LEFT(C57,1)=\"D\",LEFT(C58,1)=\"D\"),\"\",IF(OR(C57=\"DNR\",C58=\"DNR\"),\"by \"&ABS(J58)&\" seconds\",IF(OR(ISBLANK(C57),ISBLANK(C58),G57=G58),\"\",\"by \"&ABS(J58)&\" seconds\")))","v":""},{"$f":"IF(AND(LEFT(C57,1)=\"D\",LEFT(C58,1)=\"D\"),\"0\",IF(OR(C57=\"DNR\",C58=\"DNR\"),IF(C57=\"DNR\",1,-1)*'H Q 1-2'!A8,IF(OR(ISBLANK(C57),ISBLANK(C58)),\"\",IF(OR(G57=\"-\",G58=\"-\"),IF(G57=\"-\",1,-1)*'H Q 1-2'!A8,IF(ABS(G57-G58)>'H Q 1-2'!A9,IF(G57-G58>'H Q 1-2'!A9,1,-1)*'H Q 1-2'!A9,ROUND(G57-G58,3))))))","v":""},null,null,null,null,null,null,{"$f":"IF(AND(LEFT(K57,1)=\"D\",LEFT(K58,1)=\"D\"),\"\",IF(OR(K57=\"DNR\",K58=\"DNR\"),\"by \"&ABS(R58)&\" seconds\",IF(OR(ISBLANK(K57),ISBLANK(K58),O57=O58),\"\",\"by \"&ABS(R58)&\" seconds\")))","v":""},{"$f":"IF(AND(LEFT(K57,1)=\"D\",LEFT(K58,1)=\"D\"),\"0\",IF(OR(K57=\"DNR\",K58=\"DNR\"),IF(K57=\"DNR\",1,-1)*'H Q 1-2'!A8,IF(OR(ISBLANK(K57),ISBLANK(K58)),\"\",IF(OR(O57=\"-\",O58=\"-\"),IF(O57=\"-\",1,-1)*'H Q 1-2'!A8,IF(ABS(O57-O58)>'H Q 1-2'!A9,IF(O57-O58>'H Q 1-2'!A9,1,-1)*'H Q 1-2'!A9,ROUND(O57-O58,3))))))","v":""},{"$f":"IF(B58=\"BYE\",\"(BYE)\",IF(ISERROR(J58+R58)=TRUE,\"\",IF(J58+R58=0,\"\",\"by \"&ABS(J58+R58)&\" seconds\")))","v":"(BYE)"},"",{"$f":"IF(B58=\"BYE\", B58, IF(ISERROR(J58+R58)=TRUE,\"\",IF(J58+R58>0,B57,B58)))","v":"BYE"},{"$f":"IF(ISERROR(VLOOKUP(U58,'H Q 1-2'!U12:V111,2,FALSE))=TRUE,\"\",VLOOKUP(U58,'H Q 1-2'!U12:V111,2,FALSE))","v":""},{"$f":"IF(ISERROR(VLOOKUP(U58,'H Q 1-2'!AL12:AO111,4,FALSE))=TRUE,\"\",VLOOKUP(U58,'H Q 1-2'!AL12:AO111,4,FALSE))","v":""}]
[]
[]
[null,"Round of 8"]
[{"$f":"IF(S43=B43, A43, A44)","v":1},{"$f":"IF(A3>8,IF(S43=\"TIE - HOLD RUNOFF\",\"\",S43),IF(A3<8,\"BYE\",IF(ISERROR(VLOOKUP(A62,'H Q 1-2'!AO12:'H Q 1-2'!AQ111,3,FALSE))=TRUE,\"BYE\",VLOOKUP(A62,'H Q 1-2'!AO12:'H Q 1-2'!AQ111,3,FALSE))))","v":"BYE"},null,null,null,null,{"$f":"IF(LEFT(C62:C69,1)=\"D\",\"-\",IF(D62:D69>'H Q 1-2'!A6,\"-\",IF(C62:C69>0,C62:C69+D62:D69*'H Q 1-2'!A5+F62:F69*'H Q 1-2'!A7,\"\")))","v":""},{"$f":"IF(G62:G69=\"\",\"\",IF(G62:G69=\"-\",\"\",RANK(G62:G69,G62:G69,1)))","v":""},{"$f":"IF(AND(LEFT(C62,1)=\"D\",LEFT(C63,1)=\"D\"),\"\",IF(OR(C62=\"DNR\",C63=\"DNR\"),IF(C62=\"DNR\",B63,B62),IF(OR(ISBLANK(C62),ISBLANK(C63)),\"\",IF(G62=G63,\"TIE\",IF(G62>G63,B63,B62)))))","v":""},null,null,null,null,null,{"$f":"IF(LEFT(K62:K69,1)=\"D\",\"-\",IF(L62:L69>'H Q 1-2'!A6,\"-\",IF(K62:K69>0,K62:K69+L62:L69*'H Q 1-2'!A5+N62:N69*'H Q 1-2'!A7,\"\")))","v":""},{"$f":"IF(O62:O69=\"\",\"\",IF(O62:O69=\"-\",\"\",RANK(O62:O69,O62:O69,1)))","v":""},{"$f":"IF(AND(LEFT(K62,1)=\"D\",LEFT(K63,1)=\"D\"),\"\",IF(OR(K62=\"DNR\",K63=\"DNR\"),IF(K62=\"DNR\",B63,B62),IF(OR(ISBLANK(K62),ISBLANK(K63)),\"\",IF(O62=O63,\"TIE\",IF(O62>O63,B63,B62)))))","v":""},null,{"$f":"IF(B63=\"BYE\", B62, IF(ISERROR(J63+R63)=TRUE,\"\",IF(J63+R63=0,\"TIE - HOLD RUNOFF\",IF(J63+R63>0,B63,B62))))","v":"BYE"}]
[{"$f":"IF(S45=B45, A45, A46)","v":8},{"$f":"IF(A3>8,IF(S45=\"TIE - HOLD RUNOFF\",\"\",S45),IF(A3<8,\"BYE\",IF(ISERROR(VLOOKUP(A63,'H Q 1-2'!AO12:'H Q 1-2'!AQ111,3,FALSE))=TRUE,\"BYE\",VLOOKUP(A63,'H Q 1-2'!AO12:'H Q 1-2'!AQ111,3,FALSE))))","v":"BYE"},null,null,null,null,"","",{"$f":"IF(AND(LEFT(C62,1)=\"D\",LEFT(C63,1)=\"D\"),\"\",IF(OR(C62=\"DNR\",C63=\"DNR\"),\"by \"&ABS(J63)&\" seconds\",IF(OR(ISBLANK(C62),ISBLANK(C63),G62=G63),\"\",\"by \"&ABS(J63)&\" seconds\")))","v":""},{"$f":"IF(AND(LEFT(C62,1)=\"D\",LEFT(C63,1)=\"D\"),\"0\",IF(OR(C62=\"DNR\",C63=\"DNR\"),IF(C62=\"DNR\",1,-1)*'H Q 1-2'!A8,IF(OR(ISBLANK(C62),ISBLANK(C63)),\"\",IF(OR(G62=\"-\",G63=\"-\"),IF(G62=\"-\",1,-1)*'H Q 1-2'!A8,IF(ABS(G62-G63)>'H Q 1-2'!A9,IF(G62-G63>'H Q 1-2'!A9,1,-1)*'H Q 1-2'!A9,ROUND(G62-G63,3))))))","v":""},null,null,null,null,"","",{"$f":"IF(AND(LEFT(K62,1)=\"D\",LEFT(K63,1)=\"D\"),\"\",IF(OR(K62=\"DNR\",K63=\"DNR\"),\"by \"&ABS(R63)&\" seconds\",IF(OR(ISBLANK(K62),ISBLANK(K63),O62=O63),\"\",\"by \"&ABS(R63)&\" seconds\")))","v":""},{"$f":"IF(AND(LEFT(K62,1)=\"D\",LEFT(K63,1)=\"D\"),\"0\",IF(OR(K62=\"DNR\",K63=\"DNR\"),IF(K62=\"DNR\",1,-1)*'H Q 1-2'!A8,IF(OR(ISBLANK(K62),ISBLANK(K63)),\"\",IF(OR(O62=\"-\",O63=\"-\"),IF(O62=\"-\",1,-1)*'H Q 1-2'!A8,IF(ABS(O62-O63)>'H Q 1-2'!A9,IF(O62-O63>'H Q 1-2'!A9,1,-1)*'H Q 1-2'!A9,ROUND(O62-O63,3))))))","v":""},{"$f":"IF(B63=\"BYE\",\"(BYE)\",IF(ISERROR(J63+R63)=TRUE,\"\",IF(J63+R63=0,\"\",\"by \"&ABS(J63+R63)&\" seconds\")))","v":"(BYE)"},{"$f":"IF(W63:W69=\"\",\"\",IF(ISERROR(W63:W69)=TRUE,\"\",4+RANK(W63:W69,W63:W69,1)))","v":""},{"$f":"IF(B63=\"BYE\", B63, IF(ISERROR(J63+R63)=TRUE,\"\",IF(J63+R63>0,B62,B63)))","v":"BYE"},{"$f":"IF(ISERROR(VLOOKUP(U63,'H Q 1-2'!U12:V111,2,FALSE))=TRUE,\"\",VLOOKUP(U63,'H Q 1-2'!U12:V111,2,FALSE))","v":""},{"$f":"IF(ISERROR(VLOOKUP(U63,'H Q 1-2'!AL12:AO111,4,FALSE))=TRUE,\"\",VLOOKUP(U63,'H Q 1-2'!AL12:AO111,4,FALSE))","v":""}]
[{"$f":"IF(S47=B47, A47, A48)","v":4},{"$f":"IF(A3>8,IF(S47=\"TIE - HOLD RUNOFF\",\"\",S47),IF(A3<8,\"BYE\",IF(ISERROR(VLOOKUP(A64,'H Q 1-2'!AO12:'H Q 1-2'!AQ111,3,FALSE))=TRUE,\"BYE\",VLOOKUP(A64,'H Q 1-2'!AO12:'H Q 1-2'!AQ111,3,FALSE))))","v":"BYE"},null,null,null,null,"","",{"$f":"IF(AND(LEFT(C64,1)=\"D\",LEFT(C65,1)=\"D\"),\"\",IF(OR(C64=\"DNR\",C65=\"DNR\"),IF(C64=\"DNR\",B65,B64),IF(OR(ISBLANK(C64),ISBLANK(C65)),\"\",IF(G64=G65,\"TIE\",IF(G64>G65,B65,B64)))))","v":""},null,null,null,null,null,"","",{"$f":"IF(AND(LEFT(K64,1)=\"D\",LEFT(K65,1)=\"D\"),\"\",IF(OR(K64=\"DNR\",K65=\"DNR\"),IF(K64=\"DNR\",B65,B64),IF(OR(ISBLANK(K64),ISBLANK(K65)),\"\",IF(O64=O65,\"TIE\",IF(O64>O65,B65,B64)))))","v":""},null,{"$f":"IF(B65=\"BYE\", B64, IF(ISERROR(J65+R65)=TRUE,\"\",IF(J65+R65=0,\"TIE - HOLD RUNOFF\",IF(J65+R65>0,B65,B64))))","v":"BYE"},""]
[{"$f":"IF(S49=B49, A49, A50)","v":5},{"$f":"IF(A3>8,IF(S49=\"TIE - HOLD RUNOFF\",\"\",S49),IF(A3<8,\"BYE\",IF(ISERROR(VLOOKUP(A65,'H Q 1-2'!AO12:'H Q 1-2'!AQ111,3,FALSE))=TRUE,\"BYE\",VLOOKUP(A65,'H Q 1-2'!AO12:'H Q 1-2'!AQ111,3,FALSE))))","v":"BYE"},null,null,null,null,"","",{"$f":"IF(AND(LEFT(C64,1)=\"D\",LEFT(C65,1)=\"D\"),\"\",IF(OR(C64=\"DNR\",C65=\"DNR\"),\"by \"&ABS(J65)&\" seconds\",IF(OR(ISBLANK(C64),ISBLANK(C65),G64=G65),\"\",\"by \"&ABS(J65)&\" seconds\")))","v":""},{"$f":"IF(AND(LEFT(C64,1)=\"D\",LEFT(C65,1)=\"D\"),\"0\",IF(OR(C64=\"DNR\",C65=\"DNR\"),IF(C64=\"DNR\",1,-1)*'H Q 1-2'!A8,IF(OR(ISBLANK(C64),ISBLANK(C65)),\"\",IF(OR(G64=\"-\",G65=\"-\"),IF(G64=\"-\",1,-1)*'H Q 1-2'!A8,IF(ABS(G64-G65)>'H Q 1-2'!A9,IF(G64-G65>'H Q 1-2'!A9,1,-1)*'H Q 1-2'!A9,ROUND(G64-G65,3))))))","v":""},null,null,null,null,"","",{"$f":"IF(AND(LEFT(K64,1)=\"D\",LEFT(K65,1)=\"D\"),\"\",IF(OR(K64=\"DNR\",K65=\"DNR\"),\"by \"&ABS(R65)&\" seconds\",IF(OR(ISBLANK(K64),ISBLANK(K65),O64=O65),\"\",\"by \"&ABS(R65)&\" seconds\")))","v":""},{"$f":"IF(AND(LEFT(K64,1)=\"D\",LEFT(K65,1)=\"D\"),\"0\",IF(OR(K64=\"DNR\",K65=\"DNR\"),IF(K64=\"DNR\",1,-1)*'H Q 1-2'!A8,IF(OR(ISBLANK(K64),ISBLANK(K65)),\"\",IF(OR(O64=\"-\",O65=\"-\"),IF(O64=\"-\",1,-1)*'H Q 1-2'!A8,IF(ABS(O64-O65)>'H Q 1-2'!A9,IF(O64-O65>'H Q 1-2'!A9,1,-1)*'H Q 1-2'!A9,ROUND(O64-O65,3))))))","v":""},{"$f":"IF(B65=\"BYE\",\"(BYE)\",IF(ISERROR(J65+R65)=TRUE,\"\",IF(J65+R65=0,\"\",\"by \"&ABS(J65+R65)&\" seconds\")))","v":"(BYE)"},"",{"$f":"IF(B65=\"BYE\", B65, IF(ISERROR(J65+R65)=TRUE,\"\",IF(J65+R65>0,B64,B65)))","v":"BYE"},{"$f":"IF(ISERROR(VLOOKUP(U65,'H Q 1-2'!U12:V111,2,FALSE))=TRUE,\"\",VLOOKUP(U65,'H Q 1-2'!U12:V111,2,FALSE))","v":""},{"$f":"IF(ISERROR(VLOOKUP(U65,'H Q 1-2'!AL12:AO111,4,FALSE))=TRUE,\"\",VLOOKUP(U65,'H Q 1-2'!AL12:AO111,4,FALSE))","v":""}]
[{"$f":"IF(S51=B51, A51, A52)","v":2},{"$f":"IF(A3>8,IF(S51=\"TIE - HOLD RUNOFF\",\"\",S51),IF(A3<8,\"BYE\",IF(ISERROR(VLOOKUP(A66,'H Q 1-2'!AO12:'H Q 1-2'!AQ111,3,FALSE))=TRUE,\"BYE\",VLOOKUP(A66,'H Q 1-2'!AO12:'H Q 1-2'!AQ111,3,FALSE))))","v":"BYE"},null,null,null,null,"","",{"$f":"IF(AND(LEFT(C66,1)=\"D\",LEFT(C67,1)=\"D\"),\"\",IF(OR(C66=\"DNR\",C67=\"DNR\"),IF(C66=\"DNR\",B67,B66),IF(OR(ISBLANK(C66),ISBLANK(C67)),\"\",IF(G66=G67,\"TIE\",IF(G66>G67,B67,B66)))))","v":""},null,null,null,null,null,"","",{"$f":"IF(AND(LEFT(K66,1)=\"D\",LEFT(K67,1)=\"D\"),\"\",IF(OR(K66=\"DNR\",K67=\"DNR\"),IF(K66=\"DNR\",B67,B66),IF(OR(ISBLANK(K66),ISBLANK(K67)),\"\",IF(O66=O67,\"TIE\",IF(O66>O67,B67,B66)))))","v":""},null,{"$f":"IF(B67=\"BYE\", B66, IF(ISERROR(J67+R67)=TRUE,\"\",IF(J67+R67=0,\"TIE - HOLD RUNOFF\",IF(J67+R67>0,B67,B66))))","v":"BYE"},""]
[{"$f":"IF(S53=B53, A53, A54)","v":7},{"$f":"IF(A3>8,IF(S53=\"TIE - HOLD RUNOFF\",\"\",S53),IF(A3<8,\"BYE\",IF(ISERROR(VLOOKUP(A67,'H Q 1-2'!AO12:'H Q 1-2'!AQ111,3,FALSE))=TRUE,\"BYE\",VLOOKUP(A67,'H Q 1-2'!AO12:'H Q 1-2'!AQ111,3,FALSE))))","v":"BYE"},null,null,null,null,"","",{"$f":"IF(AND(LEFT(C66,1)=\"D\",LEFT(C67,1)=\"D\"),\"\",IF(OR(C66=\"DNR\",C67=\"DNR\"),\"by \"&ABS(J67)&\" seconds\",IF(OR(ISBLANK(C66),ISBLANK(C67),G66=G67),\"\",\"by \"&ABS(J67)&\" seconds\")))","v":""},{"$f":"IF(AND(LEFT(C66,1)=\"D\",LEFT(C67,1)=\"D\"),\"0\",IF(OR(C66=\"DNR\",C67=\"DNR\"),IF(C66=\"DNR\",1,-1)*'H Q 1-2'!A8,IF(OR(ISBLANK(C66),ISBLANK(C67)),\"\",IF(OR(G66=\"-\",G67=\"-\"),IF(G66=\"-\",1,-1)*'H Q 1-2'!A8,IF(ABS(G66-G67)>'H Q 1-2'!A9,IF(G66-G67>'H Q 1-2'!A9,1,-1)*'H Q 1-2'!A9,ROUND(G66-G67,3))))))","v":""},null,null,null,null,"","",{"$f":"IF(AND(LEFT(K66,1)=\"D\",LEFT(K67,1)=\"D\"),\"\",IF(OR(K66=\"DNR\",K67=\"DNR\"),\"by \"&ABS(R67)&\" seconds\",IF(OR(ISBLANK(K66),ISBLANK(K67),O66=O67),\"\",\"by \"&ABS(R67)&\" seconds\")))","v":""},{"$f":"IF(AND(LEFT(K66,1)=\"D\",LEFT(K67,1)=\"D\"),\"0\",IF(OR(K66=\"DNR\",K67=\"DNR\"),IF(K66=\"DNR\",1,-1)*'H Q 1-2'!A8,IF(OR(ISBLANK(K66),ISBLANK(K67)),\"\",IF(OR(O66=\"-\",O67=\"-\"),IF(O66=\"-\",1,-1)*'H Q 1-2'!A8,IF(ABS(O66-O67)>'H Q 1-2'!A9,IF(O66-O67>'H Q 1-2'!A9,1,-1)*'H Q 1-2'!A9,ROUND(O66-O67,3))))))","v":""},{"$f":"IF(B67=\"BYE\",\"(BYE)\",IF(ISERROR(J67+R67)=TRUE,\"\",IF(J67+R67=0,\"\",\"by \"&ABS(J67+R67)&\" seconds\")))","v":"(BYE)"},"",{"$f":"IF(B67=\"BYE\", B67, IF(ISERROR(J67+R67)=TRUE,\"\",IF(J67+R67>0,B66,B67)))","v":"BYE"},{"$f":"IF(ISERROR(VLOOKUP(U67,'H Q 1-2'!U12:V111,2,FALSE))=TRUE,\"\",VLOOKUP(U67,'H Q 1-2'!U12:V111,2,FALSE))","v":""},{"$f":"IF(ISERROR(VLOOKUP(U67,'H Q 1-2'!AL12:AO111,4,FALSE))=TRUE,\"\",VLOOKUP(U67,'H Q 1-2'!AL12:AO111,4,FALSE))","v":""}]
[{"$f":"IF(S55=B55, A55, A56)","v":3},{"$f":"IF(A3>8,IF(S55=\"TIE - HOLD RUNOFF\",\"\",S55),IF(A3<8,\"BYE\",IF(ISERROR(VLOOKUP(A68,'H Q 1-2'!AO12:'H Q 1-2'!AQ111,3,FALSE))=TRUE,\"BYE\",VLOOKUP(A68,'H Q 1-2'!AO12:'H Q 1-2'!AQ111,3,FALSE))))","v":"BYE"},null,null,null,null,"","",{"$f":"IF(AND(LEFT(C68,1)=\"D\",LEFT(C69,1)=\"D\"),\"\",IF(OR(C68=\"DNR\",C69=\"DNR\"),IF(C68=\"DNR\",B69,B68),IF(OR(ISBLANK(C68),ISBLANK(C69)),\"\",IF(G68=G69,\"TIE\",IF(G68>G69,B69,B68)))))","v":""},null,null,null,null,null,"","",{"$f":"IF(AND(LEFT(K68,1)=\"D\",LEFT(K69,1)=\"D\"),\"\",IF(OR(K68=\"DNR\",K69=\"DNR\"),IF(K68=\"DNR\",B69,B68),IF(OR(ISBLANK(K68),ISBLANK(K69)),\"\",IF(O68=O69,\"TIE\",IF(O68>O69,B69,B68)))))","v":""},null,{"$f":"IF(B69=\"BYE\", B68, IF(ISERROR(J69+R69)=TRUE,\"\",IF(J69+R69=0,\"TIE - HOLD RUNOFF\",IF(J69+R69>0,B69,B68))))","v":"BYE"},""]
[{"$f":"IF(S57=B57, A57, A58)","v":6},{"$f":"IF(A3>8,IF(S57=\"TIE - HOLD RUNOFF\",\"\",S57),IF(A3<8,\"BYE\",IF(ISERROR(VLOOKUP(A69,'H Q 1-2'!AO12:'H Q 1-2'!AQ111,3,FALSE))=TRUE,\"BYE\",VLOOKUP(A69,'H Q 1-2'!AO12:'H Q 1-2'!AQ111,3,FALSE))))","v":"BYE"},null,null,null,null,"","",{"$f":"IF(AND(LEFT(C68,1)=\"D\",LEFT(C69,1)=\"D\"),\"\",IF(OR(C68=\"DNR\",C69=\"DNR\"),\"by \"&ABS(J69)&\" seconds\",IF(OR(ISBLANK(C68),ISBLANK(C69),G68=G69),\"\",\"by \"&ABS(J69)&\" seconds\")))","v":""},{"$f":"IF(AND(LEFT(C68,1)=\"D\",LEFT(C69,1)=\"D\"),\"0\",IF(OR(C68=\"DNR\",C69=\"DNR\"),IF(C68=\"DNR\",1,-1)*'H Q 1-2'!A8,IF(OR(ISBLANK(C68),ISBLANK(C69)),\"\",IF(OR(G68=\"-\",G69=\"-\"),IF(G68=\"-\",1,-1)*'H Q 1-2'!A8,IF(ABS(G68-G69)>'H Q 1-2'!A9,IF(G68-G69>'H Q 1-2'!A9,1,-1)*'H Q 1-2'!A9,ROUND(G68-G69,3))))))","v":""},null,null,null,null,"","",{"$f":"IF(AND(LEFT(K68,1)=\"D\",LEFT(K69,1)=\"D\"),\"\",IF(OR(K68=\"DNR\",K69=\"DNR\"),\"by \"&ABS(R69)&\" seconds\",IF(OR(ISBLANK(K68),ISBLANK(K69),O68=O69),\"\",\"by \"&ABS(R69)&\" seconds\")))","v":""},{"$f":"IF(AND(LEFT(K68,1)=\"D\",LEFT(K69,1)=\"D\"),\"0\",IF(OR(K68=\"DNR\",K69=\"DNR\"),IF(K68=\"DNR\",1,-1)*'H Q 1-2'!A8,IF(OR(ISBLANK(K68),ISBLANK(K69)),\"\",IF(OR(O68=\"-\",O69=\"-\"),IF(O68=\"-\",1,-1)*'H Q 1-2'!A8,IF(ABS(O68-O69)>'H Q 1-2'!A9,IF(O68-O69>'H Q 1-2'!A9,1,-1)*'H Q 1-2'!A9,ROUND(O68-O69,3))))))","v":""},{"$f":"IF(B69=\"BYE\",\"(BYE)\",IF(ISERROR(J69+R69)=TRUE,\"\",IF(J69+R69=0,\"\",\"by \"&ABS(J69+R69)&\" seconds\")))","v":"(BYE)"},"",{"$f":"IF(B69=\"BYE\", B69, IF(ISERROR(J69+R69)=TRUE,\"\",IF(J69+R69>0,B68,B69)))","v":"BYE"},{"$f":"IF(ISERROR(VLOOKUP(U69,'H Q 1-2'!U12:V111,2,FALSE))=TRUE,\"\",VLOOKUP(U69,'H Q 1-2'!U12:V111,2,FALSE))","v":""},{"$f":"IF(ISERROR(VLOOKUP(U69,'H Q 1-2'!AL12:AO111,4,FALSE))=TRUE,\"\",VLOOKUP(U69,'H Q 1-2'!AL12:AO111,4,FALSE))","v":""}]
[]
[]
[null,"Round of 4"]
[{"$f":"IF(S62=B62, A62, A63)","v":1},{"$f":"IF(A3>4,IF(S62=\"TIE - HOLD RUNOFF\",\"\",S62),IF(A3<4,\"BYE\",IF(ISERROR(VLOOKUP(A73,'H Q 1-2'!AO12:'H Q 1-2'!AQ111,3,FALSE))=TRUE,\"BYE\",VLOOKUP(A73,'H Q 1-2'!AO12:'H Q 1-2'!AQ111,3,FALSE))))","v":"Rezková  Anna  [CZE] "},null,null,null,null,{"$f":"IF(LEFT(C73:C76,1)=\"D\",\"-\",IF(D73:D76>'H Q 1-2'!A6,\"-\",IF(C73:C76>0,C73:C76+D73:D76*'H Q 1-2'!A5+F73:F76*'H Q 1-2'!A7,\"\")))","v":""},{"$f":"IF(G73:G76=\"\",\"\",IF(G73:G76=\"-\",\"\",RANK(G73:G76,G73:G76,1)))","v":""},{"$f":"IF(AND(LEFT(C73,1)=\"D\",LEFT(C74,1)=\"D\"),\"\",IF(OR(C73=\"DNR\",C74=\"DNR\"),IF(C73=\"DNR\",B74,B73),IF(OR(ISBLANK(C73),ISBLANK(C74)),\"\",IF(G73=G74,\"TIE\",IF(G73>G74,B74,B73)))))","v":""},null,null,null,null,null,{"$f":"IF(LEFT(K73:K76,1)=\"D\",\"-\",IF(L73:L76>'H Q 1-2'!A6,\"-\",IF(K73:K76>0,K73:K76+L73:L76*'H Q 1-2'!A5+N73:N76*'H Q 1-2'!A7,\"\")))","v":""},{"$f":"IF(O73:O76=\"\",\"\",IF(O73:O76=\"-\",\"\",RANK(O73:O76,O73:O76,1)))","v":""},{"$f":"IF(AND(LEFT(K73,1)=\"D\",LEFT(K74,1)=\"D\"),\"\",IF(OR(K73=\"DNR\",K74=\"DNR\"),IF(K73=\"DNR\",B74,B73),IF(OR(ISBLANK(K73),ISBLANK(K74)),\"\",IF(O73=O74,\"TIE\",IF(O73>O74,B74,B73)))))","v":""},null,{"$f":"IF(B74=\"BYE\", B73, IF(ISERROR(J74+R74)=TRUE,\"\",IF(J74+R74=0,\"TIE - HOLD RUNOFF\",IF(J74+R74>0,B74,B73))))","v":"Rezková  Anna  [CZE] "}]
[{"$f":"IF(S64=B64, A64, A65)","v":4},{"$f":"IF(A3>4,IF(S64=\"TIE - HOLD RUNOFF\",\"\",S64),IF(A3<4,\"BYE\",IF(ISERROR(VLOOKUP(A74,'H Q 1-2'!AO12:'H Q 1-2'!AQ111,3,FALSE))=TRUE,\"BYE\",VLOOKUP(A74,'H Q 1-2'!AO12:'H Q 1-2'!AQ111,3,FALSE))))","v":"BYE"},null,null,null,null,"","",{"$f":"IF(AND(LEFT(C73,1)=\"D\",LEFT(C74,1)=\"D\"),\"\",IF(OR(C73=\"DNR\",C74=\"DNR\"),\"by \"&ABS(J74)&\" seconds\",IF(OR(ISBLANK(C73),ISBLANK(C74),G73=G74),\"\",\"by \"&ABS(J74)&\" seconds\")))","v":""},{"$f":"IF(AND(LEFT(C73,1)=\"D\",LEFT(C74,1)=\"D\"),\"0\",IF(OR(C73=\"DNR\",C74=\"DNR\"),IF(C73=\"DNR\",1,-1)*'H Q 1-2'!A8,IF(OR(ISBLANK(C73),ISBLANK(C74)),\"\",IF(OR(G73=\"-\",G74=\"-\"),IF(G73=\"-\",1,-1)*'H Q 1-2'!A8,IF(ABS(G73-G74)>'H Q 1-2'!A9,IF(G73-G74>'H Q 1-2'!A9,1,-1)*'H Q 1-2'!A9,ROUND(G73-G74,3))))))","v":""},null,null,null,null,"","",{"$f":"IF(AND(LEFT(K73,1)=\"D\",LEFT(K74,1)=\"D\"),\"\",IF(OR(K73=\"DNR\",K74=\"DNR\"),\"by \"&ABS(R74)&\" seconds\",IF(OR(ISBLANK(K73),ISBLANK(K74),O73=O74),\"\",\"by \"&ABS(R74)&\" seconds\")))","v":""},{"$f":"IF(AND(LEFT(K73,1)=\"D\",LEFT(K74,1)=\"D\"),\"0\",IF(OR(K73=\"DNR\",K74=\"DNR\"),IF(K73=\"DNR\",1,-1)*'H Q 1-2'!A8,IF(OR(ISBLANK(K73),ISBLANK(K74)),\"\",IF(OR(O73=\"-\",O74=\"-\"),IF(O73=\"-\",1,-1)*'H Q 1-2'!A8,IF(ABS(O73-O74)>'H Q 1-2'!A9,IF(O73-O74>'H Q 1-2'!A9,1,-1)*'H Q 1-2'!A9,ROUND(O73-O74,3))))))","v":""},{"$f":"IF(B74=\"BYE\",\"(BYE)\",IF(ISERROR(J74+R74)=TRUE,\"\",IF(J74+R74=0,\"\",\"by \"&ABS(J74+R74)&\" seconds\")))","v":"(BYE)"},null,{"$f":"IF(B74=\"BYE\", B74, IF(ISERROR(J74+R74)=TRUE,\"\",IF(J74+R74>0,B73,B74)))","v":"BYE"}]
[{"$f":"IF(S66=B66, A66, A67)","v":2},{"$f":"IF(A3>4,IF(S66=\"TIE - HOLD RUNOFF\",\"\",S66),IF(A3<4,\"BYE\",IF(ISERROR(VLOOKUP(A75,'H Q 1-2'!AO12:'H Q 1-2'!AQ111,3,FALSE))=TRUE,\"BYE\",VLOOKUP(A75,'H Q 1-2'!AO12:'H Q 1-2'!AQ111,3,FALSE))))","v":"Voves  Jindřich  [CZE] "},null,null,null,null,"","",{"$f":"IF(AND(LEFT(C75,1)=\"D\",LEFT(C76,1)=\"D\"),\"\",IF(OR(C75=\"DNR\",C76=\"DNR\"),IF(C75=\"DNR\",B76,B75),IF(OR(ISBLANK(C75),ISBLANK(C76)),\"\",IF(G75=G76,\"TIE\",IF(G75>G76,B76,B75)))))","v":""},null,null,null,null,null,"","",{"$f":"IF(AND(LEFT(K75,1)=\"D\",LEFT(K76,1)=\"D\"),\"\",IF(OR(K75=\"DNR\",K76=\"DNR\"),IF(K75=\"DNR\",B76,B75),IF(OR(ISBLANK(K75),ISBLANK(K76)),\"\",IF(O75=O76,\"TIE\",IF(O75>O76,B76,B75)))))","v":""},null,{"$f":"IF(B76=\"BYE\", B75, IF(ISERROR(J76+R76)=TRUE,\"\",IF(J76+R76=0,\"TIE - HOLD RUNOFF\",IF(J76+R76>0,B76,B75))))","v":"Voves  Jindřich  [CZE] "}]
[{"$f":"IF(S68=B68, A68, A69)","v":3},{"$f":"IF(A3>4,IF(S68=\"TIE - HOLD RUNOFF\",\"\",S68),IF(A3<4,\"BYE\",IF(ISERROR(VLOOKUP(A76,'H Q 1-2'!AO12:'H Q 1-2'!AQ111,3,FALSE))=TRUE,\"BYE\",VLOOKUP(A76,'H Q 1-2'!AO12:'H Q 1-2'!AQ111,3,FALSE))))","v":"BYE"},null,null,null,null,"","",{"$f":"IF(AND(LEFT(C75,1)=\"D\",LEFT(C76,1)=\"D\"),\"\",IF(OR(C75=\"DNR\",C76=\"DNR\"),\"by \"&ABS(J76)&\" seconds\",IF(OR(ISBLANK(C75),ISBLANK(C76),G75=G76),\"\",\"by \"&ABS(J76)&\" seconds\")))","v":""},{"$f":"IF(AND(LEFT(C75,1)=\"D\",LEFT(C76,1)=\"D\"),\"0\",IF(OR(C75=\"DNR\",C76=\"DNR\"),IF(C75=\"DNR\",1,-1)*'H Q 1-2'!A8,IF(OR(ISBLANK(C75),ISBLANK(C76)),\"\",IF(OR(G75=\"-\",G76=\"-\"),IF(G75=\"-\",1,-1)*'H Q 1-2'!A8,IF(ABS(G75-G76)>'H Q 1-2'!A9,IF(G75-G76>'H Q 1-2'!A9,1,-1)*'H Q 1-2'!A9,ROUND(G75-G76,3))))))","v":""},null,null,null,null,"","",{"$f":"IF(AND(LEFT(K75,1)=\"D\",LEFT(K76,1)=\"D\"),\"\",IF(OR(K75=\"DNR\",K76=\"DNR\"),\"by \"&ABS(R76)&\" seconds\",IF(OR(ISBLANK(K75),ISBLANK(K76),O75=O76),\"\",\"by \"&ABS(R76)&\" seconds\")))","v":""},{"$f":"IF(AND(LEFT(K75,1)=\"D\",LEFT(K76,1)=\"D\"),\"0\",IF(OR(K75=\"DNR\",K76=\"DNR\"),IF(K75=\"DNR\",1,-1)*'H Q 1-2'!A8,IF(OR(ISBLANK(K75),ISBLANK(K76)),\"\",IF(OR(O75=\"-\",O76=\"-\"),IF(O75=\"-\",1,-1)*'H Q 1-2'!A8,IF(ABS(O75-O76)>'H Q 1-2'!A9,IF(O75-O76>'H Q 1-2'!A9,1,-1)*'H Q 1-2'!A9,ROUND(O75-O76,3))))))","v":""},{"$f":"IF(B76=\"BYE\",\"(BYE)\",IF(ISERROR(J76+R76)=TRUE,\"\",IF(J76+R76=0,\"\",\"by \"&ABS(J76+R76)&\" seconds\")))","v":"(BYE)"},null,{"$f":"IF(B76=\"BYE\", B76, IF(ISERROR(J76+R76)=TRUE,\"\",IF(J76+R76>0,B75,B76)))","v":"BYE"}]
[]
[]
[null,"Consolation Round"]
[{"$f":"IF(B74=\"BYE\",IF(S75=B75,A76,A75),IF(S73=B73, A74, A73))","v":3},{"$f":"IF(A3>2,IF(B74=\"BYE\",\"BYE\",IF(U74=\"\",\"\",U74)),IF(ISERROR(VLOOKUP(A80,'H Q 1-2'!AO12:'H Q 1-2'!AQ111,3,FALSE))=TRUE,\"BYE\",VLOOKUP(A80,'H Q 1-2'!AO12:'H Q 1-2'!AQ111,3,FALSE)))","v":"BYE"},null,null,null,null,{"$f":"IF(LEFT(C80:C81,1)=\"D\",\"-\",IF(D80:D81>'H Q 1-2'!A6,\"-\",IF(C80:C81>0,C80:C81+D80:D81*'H Q 1-2'!A5+F80:F81*'H Q 1-2'!A7,\"\")))","v":""},{"$f":"IF(G80:G81=\"\",\"\",IF(G80:G81=\"-\",\"\",RANK(G80:G81,G80:G81,1)))","v":""},{"$f":"IF(AND(LEFT(C80,1)=\"D\",LEFT(C81,1)=\"D\"),\"\",IF(OR(C80=\"DNR\",C81=\"DNR\"),IF(C80=\"DNR\",B81,B80),IF(OR(ISBLANK(C80),ISBLANK(C81)),\"\",IF(G80=G81,\"TIE\",IF(G80>G81,B81,B80)))))","v":""},null,null,null,null,null,{"$f":"IF(LEFT(K80:K81,1)=\"D\",\"-\",IF(L80:L81>'H Q 1-2'!A6,\"-\",IF(K80:K81>0,K80:K81+L80:L81*'H Q 1-2'!A5+N80:N81*'H Q 1-2'!A7,\"\")))","v":""},{"$f":"IF(O80:O81=\"\",\"\",IF(O80:O81=\"-\",\"\",RANK(O80:O81,O80:O81,1)))","v":""},{"$f":"IF(AND(LEFT(K80,1)=\"D\",LEFT(K81,1)=\"D\"),\"\",IF(OR(K80=\"DNR\",K81=\"DNR\"),IF(K80=\"DNR\",B81,B80),IF(OR(ISBLANK(K80),ISBLANK(K81)),\"\",IF(O80=O81,\"TIE\",IF(O80>O81,B81,B80)))))","v":""},null,{"$f":"IF(B80=\"BYE\", B81, IF(ISERROR(J81+R81)=TRUE,\"\",IF(J81+R81=0,\"TIE - HOLD RUNOFF\",IF(J81+R81>0,B81,B80))))","v":"BYE"},{"$f":"IF(W80:W81=\"\",\"\",IF(ISERROR(W80:W81)=TRUE,\"\",2+RANK(W80:W81,W80:W81,1)))","v":""},{"$f":"IF(B81=\"BYE\", B80, IF(ISERROR(J81+R81)=TRUE,\"\",IF(J81+R81>0,B81,B80)))","v":"BYE"},{"$f":"IF(ISERROR(VLOOKUP(U80,'H Q 1-2'!U12:V111,2,FALSE))=TRUE,\"\",VLOOKUP(U80,'H Q 1-2'!U12:V111,2,FALSE))","v":""},{"$f":"IF(ISERROR(VLOOKUP(U80,'H Q 1-2'!AL12:AO111,4,FALSE))=TRUE,\"\",VLOOKUP(U80,'H Q 1-2'!AL12:AO111,4,FALSE))","v":""}]
[{"$f":"IF(B74=\"BYE\",A74,IF(S75=B75, A76, A75))","v":4},{"$f":"IF(A3>2,IF(B76=\"BYE\",\"BYE\",IF(U76=\"\",\"\",U76)),IF(ISERROR(VLOOKUP(A81,'H Q 1-2'!AO12:'H Q 1-2'!AQ111,3,FALSE))=TRUE,\"BYE\",VLOOKUP(A81,'H Q 1-2'!AO12:'H Q 1-2'!AQ111,3,FALSE)))","v":"BYE"},null,null,null,null,"","",{"$f":"IF(AND(LEFT(C80,1)=\"D\",LEFT(C81,1)=\"D\"),\"\",IF(OR(C80=\"DNR\",C81=\"DNR\"),\"by \"&ABS(J81)&\" seconds\",IF(OR(ISBLANK(C80),ISBLANK(C81),G80=G81),\"\",\"by \"&ABS(J81)&\" seconds\")))","v":""},{"$f":"IF(AND(LEFT(C80,1)=\"D\",LEFT(C81,1)=\"D\"),\"0\",IF(OR(C80=\"DNR\",C81=\"DNR\"),IF(C80=\"DNR\",1,-1)*'H Q 1-2'!A8,IF(OR(ISBLANK(C80),ISBLANK(C81)),\"\",IF(OR(G80=\"-\",G81=\"-\"),IF(G80=\"-\",1,-1)*'H Q 1-2'!A8,IF(ABS(G80-G81)>'H Q 1-2'!A9,IF(G80-G81>'H Q 1-2'!A9,1,-1)*'H Q 1-2'!A9,ROUND(G80-G81,3))))))","v":""},null,null,null,null,"","",{"$f":"IF(AND(LEFT(K80,1)=\"D\",LEFT(K81,1)=\"D\"),\"\",IF(OR(K80=\"DNR\",K81=\"DNR\"),\"by \"&ABS(R81)&\" seconds\",IF(OR(ISBLANK(K80),ISBLANK(K81),O80=O81),\"\",\"by \"&ABS(R81)&\" seconds\")))","v":""},{"$f":"IF(AND(LEFT(K80,1)=\"D\",LEFT(K81,1)=\"D\"),\"0\",IF(OR(K80=\"DNR\",K81=\"DNR\"),IF(K80=\"DNR\",1,-1)*'H Q 1-2'!A8,IF(OR(ISBLANK(K80),ISBLANK(K81)),\"\",IF(OR(O80=\"-\",O81=\"-\"),IF(O80=\"-\",1,-1)*'H Q 1-2'!A8,IF(ABS(O80-O81)>'H Q 1-2'!A9,IF(O80-O81>'H Q 1-2'!A9,1,-1)*'H Q 1-2'!A9,ROUND(O80-O81,3))))))","v":""},{"$f":"IF(B81=\"BYE\",\"(BYE)\",IF(ISERROR(J81+R81)=TRUE,\"\",IF(J81+R81=0,\"\",\"by \"&ABS(J81+R81)&\" seconds\")))","v":"(BYE)"},"",{"$f":"IF(B81=\"BYE\", B81, IF(ISERROR(J81+R81)=TRUE,\"\",IF(J81+R81>0,B80,B81)))","v":"BYE"},{"$f":"IF(ISERROR(VLOOKUP(U81,'H Q 1-2'!U12:V111,2,FALSE))=TRUE,\"\",VLOOKUP(U81,'H Q 1-2'!U12:V111,2,FALSE))","v":""},{"$f":"IF(ISERROR(VLOOKUP(U81,'H Q 1-2'!AL12:AO111,4,FALSE))=TRUE,\"\",VLOOKUP(U81,'H Q 1-2'!AL12:AO111,4,FALSE))","v":""}]
[]
[]
[null,"Final Round"]
[{"$f":"IF(S73=B73, A73, A74)","v":1},{"$f":"IF(A3>2,IF(S73=\"TIE - HOLD RUNOFF\",\"\",S73),IF(ISERROR(VLOOKUP(A85,'H Q 1-2'!AO12:'H Q 1-2'!AQ111,3,FALSE))=TRUE,\"BYE\",VLOOKUP(A85,'H Q 1-2'!AO12:'H Q 1-2'!AQ111,3,FALSE)))","v":"Rezková  Anna  [CZE] "},null,null,null,null,{"$f":"IF(LEFT(C85:C86,1)=\"D\",\"-\",IF(D85:D86>'H Q 1-2'!A6,\"-\",IF(C85:C86>0,C85:C86+D85:D86*'H Q 1-2'!A5+F85:F86*'H Q 1-2'!A7,\"\")))","v":""},{"$f":"IF(G85:G86=\"\",\"\",IF(G85:G86=\"-\",\"\",RANK(G85:G86,G85:G86,1)))","v":""},{"$f":"IF(AND(LEFT(C85,1)=\"D\",LEFT(C86,1)=\"D\"),\"\",IF(OR(C85=\"DNR\",C86=\"DNR\"),IF(C85=\"DNR\",B86,B85),IF(OR(ISBLANK(C85),ISBLANK(C86)),\"\",IF(G85=G86,\"TIE\",IF(G85>G86,B86,B85)))))","v":""},null,null,null,null,null,{"$f":"IF(LEFT(K85:K86,1)=\"D\",\"-\",IF(L85:L86>'H Q 1-2'!A6,\"-\",IF(K85:K86>0,K85:K86+L85:L86*'H Q 1-2'!A5+N85:N86*'H Q 1-2'!A7,\"\")))","v":""},{"$f":"IF(O85:O86=\"\",\"\",IF(O85:O86=\"-\",\"\",RANK(O85:O86,O85:O86,1)))","v":""},{"$f":"IF(AND(LEFT(K85,1)=\"D\",LEFT(K86,1)=\"D\"),\"\",IF(OR(K85=\"DNR\",K86=\"DNR\"),IF(K85=\"DNR\",B86,B85),IF(OR(ISBLANK(K85),ISBLANK(K86)),\"\",IF(O85=O86,\"TIE\",IF(O85>O86,B86,B85)))))","v":""},null,{"$f":"IF(B86=\"BYE\", B85, IF(ISERROR(J86+R86)=TRUE,\"\",IF(J86+R86=0,\"TIE - HOLD RUNOFF\",IF(J86+R86>0,B86,B85))))","v":""},{"$f":"IF(W85:W86=\"\",\"\",IF(ISERROR(W85:W86)=TRUE,\"\",RANK(W85:W86,W85:W86,1)))","v":""},{"$f":"IF(B86=\"BYE\", B85, IF(ISERROR(J86+R86)=TRUE,\"\",IF(J86+R86>0,B86,B85)))","v":""},{"$f":"IF(ISERROR(VLOOKUP(U85,'H Q 1-2'!U12:V111,2,FALSE))=TRUE,\"\",VLOOKUP(U85,'H Q 1-2'!U12:V111,2,FALSE))","v":""},{"$f":"IF(ISERROR(VLOOKUP(U85,'H Q 1-2'!AL12:AO111,4,FALSE))=TRUE,\"\",VLOOKUP(U85,'H Q 1-2'!AL12:AO111,4,FALSE))","v":""}]
[{"$f":"IF(S75=B75, A75, A76)","v":2},{"$f":"IF(A3>2,IF(S75=\"TIE - HOLD RUNOFF\",\"\",S75),IF(ISERROR(VLOOKUP(A86,'H Q 1-2'!AO12:'H Q 1-2'!AQ111,3,FALSE))=TRUE,\"BYE\",VLOOKUP(A86,'H Q 1-2'!AO12:'H Q 1-2'!AQ111,3,FALSE)))","v":"Voves  Jindřich  [CZE] "},null,null,null,null,"","",{"$f":"IF(AND(LEFT(C85,1)=\"D\",LEFT(C86,1)=\"D\"),\"\",IF(OR(C85=\"DNR\",C86=\"DNR\"),\"by \"&ABS(J86)&\" seconds\",IF(OR(ISBLANK(C85),ISBLANK(C86),G85=G86),\"\",\"by \"&ABS(J86)&\" seconds\")))","v":""},{"$f":"IF(AND(LEFT(C85,1)=\"D\",LEFT(C86,1)=\"D\"),\"0\",IF(OR(C85=\"DNR\",C86=\"DNR\"),IF(C85=\"DNR\",1,-1)*'H Q 1-2'!A8,IF(OR(ISBLANK(C85),ISBLANK(C86)),\"\",IF(OR(G85=\"-\",G86=\"-\"),IF(G85=\"-\",1,-1)*'H Q 1-2'!A8,IF(ABS(G85-G86)>'H Q 1-2'!A9,IF(G85-G86>'H Q 1-2'!A9,1,-1)*'H Q 1-2'!A9,ROUND(G85-G86,3))))))","v":""},null,null,null,null,"","",{"$f":"IF(AND(LEFT(K85,1)=\"D\",LEFT(K86,1)=\"D\"),\"\",IF(OR(K85=\"DNR\",K86=\"DNR\"),\"by \"&ABS(R86)&\" seconds\",IF(OR(ISBLANK(K85),ISBLANK(K86),O85=O86),\"\",\"by \"&ABS(R86)&\" seconds\")))","v":""},{"$f":"IF(AND(LEFT(K85,1)=\"D\",LEFT(K86,1)=\"D\"),\"0\",IF(OR(K85=\"DNR\",K86=\"DNR\"),IF(K85=\"DNR\",1,-1)*'H Q 1-2'!A8,IF(OR(ISBLANK(K85),ISBLANK(K86)),\"\",IF(OR(O85=\"-\",O86=\"-\"),IF(O85=\"-\",1,-1)*'H Q 1-2'!A8,IF(ABS(O85-O86)>'H Q 1-2'!A9,IF(O85-O86>'H Q 1-2'!A9,1,-1)*'H Q 1-2'!A9,ROUND(O85-O86,3))))))","v":""},{"$f":"IF(B86=\"BYE\",\"(BYE)\",IF(ISERROR(J86+R86)=TRUE,\"\",IF(J86+R86=0,\"\",\"by \"&ABS(J86+R86)&\" seconds\")))","v":""},"",{"$f":"IF(B86=\"BYE\", B86, IF(ISERROR(J86+R86)=TRUE,\"\",IF(J86+R86>0,B85,B86)))","v":""},{"$f":"IF(ISERROR(VLOOKUP(U86,'H Q 1-2'!U12:V111,2,FALSE))=TRUE,\"\",VLOOKUP(U86,'H Q 1-2'!U12:V111,2,FALSE))","v":""},{"$f":"IF(ISERROR(VLOOKUP(U86,'H Q 1-2'!AL12:AO111,4,FALSE))=TRUE,\"\",VLOOKUP(U86,'H Q 1-2'!AL12:AO111,4,FALSE))","v":""}]
[]
[null,{"$f":"+C3","v":"HYBRID SLALOM /  Eliminations / TEEN 12-14"}]
["Final Results",null,null,null,null,null,null,null,"Final Results"]
["Final Position","Racer No. & Name","Qualifying Time","Qualifying Position",null,null,"Points Earned","Final Position","Racer No. & Name"]
[1,{"$f":"IF(S85=\"BYE\",\"\",S85)","v":""},{"$f":"V85","v":""},{"$f":"W85","v":""},null,null,null,1,{"$f":"IF(B91<>\"\",B91,'H Q 4'!AQ12)","v":"Rezková  Anna  [CZE] "}]
[2,{"$f":"IF(U86=\"BYE\",\"\",U86)","v":""},{"$f":"V86","v":""},{"$f":"W86","v":""},null,null,null,2,{"$f":"IF(B92<>\"\",B92,'H Q 4'!AQ13)","v":"Voves  Jindřich  [CZE] "}]
[3,{"$f":"IF(S80=\"BYE\",\"\",S80)","v":""},{"$f":"V80","v":""},{"$f":"W80","v":""},null,null,null,3,{"$f":"IF(B93<>\"\",B93,'H Q 4'!AQ14)","v":""}]
[4,{"$f":"IF(U81=\"BYE\",\"\",U81)","v":""},{"$f":"V81","v":""},{"$f":"W81","v":""},null,null,null,4,{"$f":"IF(B94<>\"\",B94,'H Q 4'!AQ15)","v":""}]
[5,{"$f":"IF(ISERROR(VLOOKUP(5,T63:V69,2,FALSE))=TRUE,\"\",VLOOKUP(5,T63:V69,2,FALSE))","v":""},{"$f":"IF(ISERROR(ROUND(VLOOKUP(5,T63:V69,3,FALSE),3))=TRUE,\"\",ROUND(VLOOKUP(5,T63:V69,3,FALSE),3))","v":""},{"$f":"IF(ISERROR(VLOOKUP(5,T63:W69,4,FALSE))=TRUE,\"\",VLOOKUP(5,T63:W69,4,FALSE))","v":""},null,null,null,5,{"$f":"IF(B95<>\"\",B95,'H Q 4'!AQ16)","v":""}]
[6,{"$f":"IF(ISERROR(VLOOKUP(6,T63:V69,2,FALSE))=TRUE,\"\",VLOOKUP(6,T63:V69,2,FALSE))","v":""},{"$f":"IF(ISERROR(ROUND(VLOOKUP(6,T63:V69,3,FALSE),3))=TRUE,\"\",ROUND(VLOOKUP(6,T63:V69,3,FALSE),3))","v":""},{"$f":"IF(ISERROR(VLOOKUP(6,T63:W69,4,FALSE))=TRUE,\"\",VLOOKUP(6,T63:W69,4,FALSE))","v":""},null,null,null,6,{"$f":"IF(B96<>\"\",B96,'H Q 4'!AQ17)","v":""}]
[7,{"$f":"IF(ISERROR(VLOOKUP(7,T63:V69,2,FALSE))=TRUE,\"\",VLOOKUP(7,T63:V69,2,FALSE))","v":""},{"$f":"IF(ISERROR(ROUND(VLOOKUP(7,T63:V69,3,FALSE),3))=TRUE,\"\",ROUND(VLOOKUP(7,T63:V69,3,FALSE),3))","v":""},{"$f":"IF(ISERROR(VLOOKUP(7,T63:W69,4,FALSE))=TRUE,\"\",VLOOKUP(7,T63:W69,4,FALSE))","v":""},null,null,null,7,{"$f":"IF(B97<>\"\",B97,'H Q 4'!AQ18)","v":""}]
[8,{"$f":"IF(ISERROR(VLOOKUP(8,T63:V69,2,FALSE))=TRUE,\"\",VLOOKUP(8,T63:V69,2,FALSE))","v":""},{"$f":"IF(ISERROR(ROUND(VLOOKUP(8,T63:V69,3,FALSE),3))=TRUE,\"\",ROUND(VLOOKUP(8,T63:V69,3,FALSE),3))","v":""},{"$f":"IF(ISERROR(VLOOKUP(8,T63:W69,4,FALSE))=TRUE,\"\",VLOOKUP(8,T63:W69,4,FALSE))","v":""},null,null,null,8,{"$f":"IF(B98<>\"\",B98,'H Q 4'!AQ19)","v":""}]
[9,{"$f":"IF(ISERROR(VLOOKUP(9,T44:V58,2,FALSE))=TRUE,\"\",VLOOKUP(9,T44:V58,2,FALSE))","v":""},{"$f":"IF(ISERROR(ROUND(VLOOKUP(9,T44:V58,3,FALSE),3))=TRUE,\"\",ROUND(VLOOKUP(9,T44:V58,3,FALSE),3))","v":""},{"$f":"IF(ISERROR(VLOOKUP(9,T44:W58,4,FALSE))=TRUE,\"\",VLOOKUP(9,T44:W58,4,FALSE))","v":""},null,null,null,9,{"$f":"IF(B99<>\"\",B99,'H Q 4'!AQ20)","v":""}]
[10,{"$f":"IF(ISERROR(VLOOKUP(10,T44:V58,2,FALSE))=TRUE,\"\",VLOOKUP(10,T44:V58,2,FALSE))","v":""},{"$f":"IF(ISERROR(ROUND(VLOOKUP(10,T44:V58,3,FALSE),3))=TRUE,\"\",ROUND(VLOOKUP(10,T44:V58,3,FALSE),3))","v":""},{"$f":"IF(ISERROR(VLOOKUP(10,T44:W58,4,FALSE))=TRUE,\"\",VLOOKUP(10,T44:W58,4,FALSE))","v":""},null,null,null,10,{"$f":"IF(B100<>\"\",B100,'H Q 4'!AQ21)","v":""}]
[11,{"$f":"IF(ISERROR(VLOOKUP(11,T44:V58,2,FALSE))=TRUE,\"\",VLOOKUP(11,T44:V58,2,FALSE))","v":""},{"$f":"IF(ISERROR(ROUND(VLOOKUP(11,T44:V58,3,FALSE),3))=TRUE,\"\",ROUND(VLOOKUP(11,T44:V58,3,FALSE),3))","v":""},{"$f":"IF(ISERROR(VLOOKUP(11,T44:W58,4,FALSE))=TRUE,\"\",VLOOKUP(11,T44:W58,4,FALSE))","v":""},null,null,null,11,{"$f":"IF(B101<>\"\",B101,'H Q 4'!AQ22)","v":""}]
[12,{"$f":"IF(ISERROR(VLOOKUP(12,T44:V58,2,FALSE))=TRUE,\"\",VLOOKUP(12,T44:V58,2,FALSE))","v":""},{"$f":"IF(ISERROR(ROUND(VLOOKUP(12,T44:V58,3,FALSE),3))=TRUE,\"\",ROUND(VLOOKUP(12,T44:V58,3,FALSE),3))","v":""},{"$f":"IF(ISERROR(VLOOKUP(12,T44:W58,4,FALSE))=TRUE,\"\",VLOOKUP(12,T44:W58,4,FALSE))","v":""},null,null,null,12,{"$f":"IF(B102<>\"\",B102,'H Q 4'!AQ23)","v":""}]
[13,{"$f":"IF(ISERROR(VLOOKUP(13,T44:V58,2,FALSE))=TRUE,\"\",VLOOKUP(13,T44:V58,2,FALSE))","v":""},{"$f":"IF(ISERROR(ROUND(VLOOKUP(13,T44:V58,3,FALSE),3))=TRUE,\"\",ROUND(VLOOKUP(13,T44:V58,3,FALSE),3))","v":""},{"$f":"IF(ISERROR(VLOOKUP(13,T44:W58,4,FALSE))=TRUE,\"\",VLOOKUP(13,T44:W58,4,FALSE))","v":""},null,null,null,13,{"$f":"IF(B103<>\"\",B103,'H Q 4'!AQ24)","v":""}]
[14,{"$f":"IF(ISERROR(VLOOKUP(14,T44:V58,2,FALSE))=TRUE,\"\",VLOOKUP(14,T44:V58,2,FALSE))","v":""},{"$f":"IF(ISERROR(ROUND(VLOOKUP(14,T44:V58,3,FALSE),3)),\"\",ROUND(VLOOKUP(14,T44:V58,3,FALSE),3))","v":""},{"$f":"IF(ISERROR(VLOOKUP(14,T44:W58,4,FALSE)),\"\",VLOOKUP(14,T44:W58,4,FALSE))","v":""},null,null,null,14,{"$f":"IF(B104<>\"\",B104,'H Q 4'!AQ25)","v":""}]
[15,{"$f":"IF(ISERROR(VLOOKUP(15,T44:V58,2,FALSE))=TRUE,\"\",VLOOKUP(15,T44:V58,2,FALSE))","v":""},{"$f":"IF(ISERROR(ROUND(VLOOKUP(15,T44:V58,3,FALSE),3))=TRUE,\"\",ROUND(VLOOKUP(15,T44:V58,3,FALSE),3))","v":""},{"$f":"IF(ISERROR(VLOOKUP(15,T44:W58,4,FALSE))=TRUE,\"\",VLOOKUP(15,T44:W58,4,FALSE))","v":""},null,null,null,15,{"$f":"IF(B105<>\"\",B105,'H Q 4'!AQ26)","v":""}]
[16,{"$f":"IF(ISERROR(VLOOKUP(16,T44:V58,2,FALSE))=TRUE,\"\",VLOOKUP(16,T44:V58,2,FALSE))","v":""},{"$f":"IF(ISERROR(ROUND(VLOOKUP(16,T44:V58,3,FALSE),3))=TRUE,\"\",ROUND(VLOOKUP(16,T44:V58,3,FALSE),3))","v":""},{"$f":"IF(ISERROR(VLOOKUP(16,T44:W58,4,FALSE))=TRUE,\"\",VLOOKUP(16,T44:W58,4,FALSE))","v":""},null,null,null,16,{"$f":"IF(B106<>\"\",B106,'H Q 4'!AQ27)","v":""}]
[17,{"$f":"IF(ISERROR(VLOOKUP(17,T9:V39,2,FALSE))=TRUE,\"\",VLOOKUP(17,T9:V39,2,FALSE))","v":""},{"$f":"IF(ISERROR(ROUND(VLOOKUP(17,T9:V39,3,FALSE),3))=TRUE,\"\",ROUND(VLOOKUP(17,T9:V39,3,FALSE),3))","v":""},{"$f":"IF(ISERROR(VLOOKUP(17,T9:W39,4,FALSE))=TRUE,\"\",VLOOKUP(17,T9:W39,4,FALSE))","v":""},null,null,null,17,{"$f":"IF(B107<>\"\",B107,'H Q 4'!AQ28)","v":""}]
[18,{"$f":"IF(ISERROR(VLOOKUP(18,T9:V39,2,FALSE))=TRUE,\"\",VLOOKUP(18,T9:V39,2,FALSE))","v":""},{"$f":"IF(ISERROR(ROUND(VLOOKUP(18,T9:V39,3,FALSE),3))=TRUE,\"\",ROUND(VLOOKUP(18,T9:V39,3,FALSE),3))","v":""},{"$f":"IF(ISERROR(VLOOKUP(18,T9:W39,4,FALSE))=TRUE,\"\",VLOOKUP(18,T9:W39,4,FALSE))","v":""},null,null,null,18,{"$f":"IF(B108<>\"\",B108,'H Q 4'!AQ29)","v":""}]
[19,{"$f":"IF(ISERROR(VLOOKUP(19,T9:V39,2,FALSE))=TRUE,\"\",VLOOKUP(19,T9:V39,2,FALSE))","v":""},{"$f":"IF(ISERROR(ROUND(VLOOKUP(19,T9:V39,3,FALSE),3))=TRUE,\"\",ROUND(VLOOKUP(19,T9:V39,3,FALSE),3))","v":""},{"$f":"IF(ISERROR(VLOOKUP(19,T9:W39,4,FALSE))=TRUE,\"\",VLOOKUP(19,T9:W39,4,FALSE))","v":""},null,null,null,19,{"$f":"IF(B109<>\"\",B109,'H Q 4'!AQ30)","v":""}]
[20,{"$f":"IF(ISERROR(VLOOKUP(20,T9:V39,2,FALSE))=TRUE,\"\",VLOOKUP(20,T9:V39,2,FALSE))","v":""},{"$f":"IF(ISERROR(ROUND(VLOOKUP(20,T9:V39,3,FALSE),3))=TRUE,\"\",ROUND(VLOOKUP(20,T9:V39,3,FALSE),3))","v":""},{"$f":"IF(ISERROR(VLOOKUP(20,T9:W39,4,FALSE))=TRUE,\"\",VLOOKUP(20,T9:W39,4,FALSE))","v":""},null,null,null,20,{"$f":"IF(B110<>\"\",B110,'H Q 4'!AQ31)","v":""}]
[21,{"$f":"IF(ISERROR(VLOOKUP(21,T9:V39,2,FALSE))=TRUE,\"\",VLOOKUP(21,T9:V39,2,FALSE))","v":""},{"$f":"IF(ISERROR(ROUND(VLOOKUP(21,T9:V39,3,FALSE),3))=TRUE,\"\",ROUND(VLOOKUP(21,T9:V39,3,FALSE),3))","v":""},{"$f":"IF(ISERROR(VLOOKUP(21,T9:W39,4,FALSE))=TRUE,\"\",VLOOKUP(21,T9:W39,4,FALSE))","v":""},null,null,null,21,{"$f":"IF(B111<>\"\",B111,'H Q 4'!AQ32)","v":""}]
[22,{"$f":"IF(ISERROR(VLOOKUP(22,T9:V39,2,FALSE))=TRUE,\"\",VLOOKUP(22,T9:V39,2,FALSE))","v":""},{"$f":"IF(ISERROR(ROUND(VLOOKUP(22,T9:V39,3,FALSE),3))=TRUE,\"\",ROUND(VLOOKUP(22,T9:V39,3,FALSE),3))","v":""},{"$f":"IF(ISERROR(VLOOKUP(22,T9:W39,4,FALSE))=TRUE,\"\",VLOOKUP(22,T9:W39,4,FALSE))","v":""},null,null,null,22,{"$f":"IF(B112<>\"\",B112,'H Q 4'!AQ33)","v":""}]
[23,{"$f":"IF(ISERROR(VLOOKUP(23,T9:V39,2,FALSE))=TRUE,\"\",VLOOKUP(23,T9:V39,2,FALSE))","v":""},{"$f":"IF(ISERROR(ROUND(VLOOKUP(23,T9:V39,3,FALSE),3))=TRUE,\"\",ROUND(VLOOKUP(23,T9:V39,3,FALSE),3))","v":""},{"$f":"IF(ISERROR(VLOOKUP(23,T9:W39,4,FALSE))=TRUE,\"\",VLOOKUP(23,T9:W39,4,FALSE))","v":""},null,null,null,23,{"$f":"IF(B113<>\"\",B113,'H Q 4'!AQ34)","v":""}]
[24,{"$f":"IF(ISERROR(VLOOKUP(24,T9:V39,2,FALSE))=TRUE,\"\",VLOOKUP(24,T9:V39,2,FALSE))","v":""},{"$f":"IF(ISERROR(ROUND(VLOOKUP(24,T9:V39,3,FALSE),3))=TRUE,\"\",ROUND(VLOOKUP(24,T9:V39,3,FALSE),3))","v":""},{"$f":"IF(ISERROR(VLOOKUP(24,T9:W39,4,FALSE))=TRUE,\"\",VLOOKUP(24,T9:W39,4,FALSE))","v":""},null,null,null,24,{"$f":"IF(B114<>\"\",B114,'H Q 4'!AQ35)","v":""}]
[25,{"$f":"IF(ISERROR(VLOOKUP(25,T9:V39,2,FALSE))=TRUE,\"\",VLOOKUP(25,T9:V39,2,FALSE))","v":""},{"$f":"IF(ISERROR(ROUND(VLOOKUP(25,T9:V39,3,FALSE),3))=TRUE,\"\",ROUND(VLOOKUP(25,T9:V39,3,FALSE),3))","v":""},{"$f":"IF(ISERROR(VLOOKUP(25,T9:W39,4,FALSE))=TRUE,\"\",VLOOKUP(25,T9:W39,4,FALSE))","v":""},null,null,null,25,{"$f":"IF(B115<>\"\",B115,'H Q 4'!AQ36)","v":""}]
[26,{"$f":"IF(ISERROR(VLOOKUP(26,T9:V39,2,FALSE))=TRUE,\"\",VLOOKUP(26,T9:V39,2,FALSE))","v":""},{"$f":"IF(ISERROR(ROUND(VLOOKUP(26,T9:V39,3,FALSE),3))=TRUE,\"\",ROUND(VLOOKUP(26,T9:V39,3,FALSE),3))","v":""},{"$f":"IF(ISERROR(VLOOKUP(26,T9:W39,4,FALSE))=TRUE,\"\",VLOOKUP(26,T9:W39,4,FALSE))","v":""},null,null,null,26,{"$f":"IF(B116<>\"\",B116,'H Q 4'!AQ37)","v":""}]
[27,{"$f":"IF(ISERROR(VLOOKUP(27,T9:V39,2,FALSE))=TRUE,\"\",VLOOKUP(27,T9:V39,2,FALSE))","v":""},{"$f":"IF(ISERROR(ROUND(VLOOKUP(27,T9:V39,3,FALSE),3))=TRUE,\"\",ROUND(VLOOKUP(27,T9:V39,3,FALSE),3))","v":""},{"$f":"IF(ISERROR(VLOOKUP(27,T9:W39,4,FALSE))=TRUE,\"\",VLOOKUP(27,T9:W39,4,FALSE))","v":""},null,null,null,27,{"$f":"IF(B117<>\"\",B117,'H Q 4'!AQ38)","v":""}]
[28,{"$f":"IF(ISERROR(VLOOKUP(28,T9:V39,2,FALSE))=TRUE,\"\",VLOOKUP(28,T9:V39,2,FALSE))","v":""},{"$f":"IF(ISERROR(ROUND(VLOOKUP(28,T9:V39,3,FALSE),3))=TRUE,\"\",ROUND(VLOOKUP(28,T9:V39,3,FALSE),3))","v":""},{"$f":"IF(ISERROR(VLOOKUP(28,T9:W39,4,FALSE))=TRUE,\"\",VLOOKUP(28,T9:W39,4,FALSE))","v":""},null,null,null,28,{"$f":"IF(B118<>\"\",B118,'H Q 4'!AQ39)","v":""}]
[29,{"$f":"IF(ISERROR(VLOOKUP(29,T9:V39,2,FALSE))=TRUE,\"\",VLOOKUP(29,T9:V39,2,FALSE))","v":""},{"$f":"IF(ISERROR(ROUND(VLOOKUP(29,T9:V39,3,FALSE),3))=TRUE,\"\",ROUND(VLOOKUP(29,T9:V39,3,FALSE),3))","v":""},{"$f":"IF(ISERROR(VLOOKUP(29,T9:W39,4,FALSE))=TRUE,\"\",VLOOKUP(29,T9:W39,4,FALSE))","v":""},null,null,null,29,{"$f":"IF(B119<>\"\",B119,'H Q 4'!AQ40)","v":""}]
[30,{"$f":"IF(ISERROR(VLOOKUP(30,T9:V39,2,FALSE))=TRUE,\"\",VLOOKUP(30,T9:V39,2,FALSE))","v":""},{"$f":"IF(ISERROR(ROUND(VLOOKUP(30,T9:V39,3,FALSE),3))=TRUE,\"\",ROUND(VLOOKUP(30,T9:V39,3,FALSE),3))","v":""},{"$f":"IF(ISERROR(VLOOKUP(30,T9:W39,4,FALSE))=TRUE,\"\",VLOOKUP(30,T9:W39,4,FALSE))","v":""},null,null,null,30,{"$f":"IF(B120<>\"\",B120,'H Q 4'!AQ41)","v":""}]
[31,{"$f":"IF(ISERROR(VLOOKUP(31,T9:V39,2,FALSE))=TRUE,\"\",VLOOKUP(31,T9:V39,2,FALSE))","v":""},{"$f":"IF(ISERROR(ROUND(VLOOKUP(31,T9:V39,3,FALSE),3))=TRUE,\"\",ROUND(VLOOKUP(31,T9:V39,3,FALSE),3))","v":""},{"$f":"IF(ISERROR(VLOOKUP(31,T9:W39,4,FALSE))=TRUE,\"\",VLOOKUP(31,T9:W39,4,FALSE))","v":""},null,null,null,31,{"$f":"IF(B121<>\"\",B121,'H Q 4'!AQ42)","v":""}]
[32,{"$f":"IF(ISERROR(VLOOKUP(32,T9:V39,2,FALSE))=TRUE,\"\",VLOOKUP(32,T9:V39,2,FALSE))","v":""},{"$f":"IF(ISERROR(ROUND(VLOOKUP(32,T9:V39,3,FALSE),3))=TRUE,\"\",ROUND(VLOOKUP(32,T9:V39,3,FALSE),3))","v":""},{"$f":"IF(ISERROR(VLOOKUP(32,T9:W39,4,FALSE))=TRUE,\"\",VLOOKUP(32,T9:W39,4,FALSE))","v":""},null,null,null,32,{"$f":"IF(B122<>\"\",B122,'H Q 4'!AQ43)","v":""}]
[null,null,null,null,null,null,null,33,{"$f":"IF(B123<>\"\",B123,'H Q 4'!AQ44)","v":""}]
[null,null,null,null,null,null,null,34,{"$f":"IF(B124<>\"\",B124,'H Q 4'!AQ45)","v":""}]
[null,null,null,null,null,null,null,35,{"$f":"IF(B125<>\"\",B125,'H Q 4'!AQ46)","v":""}]
[null,null,null,null,null,null,null,36,{"$f":"IF(B126<>\"\",B126,'H Q 4'!AQ47)","v":""}]
[null,null,null,null,null,null,null,37,{"$f":"IF(B127<>\"\",B127,'H Q 4'!AQ48)","v":""}]
[null,null,null,null,null,null,null,38,{"$f":"IF(B128<>\"\",B128,'H Q 4'!AQ49)","v":""}]
[null,null,null,null,null,null,null,39,{"$f":"IF(B129<>\"\",B129,'H Q 4'!AQ50)","v":""}]
[null,null,null,null,null,null,null,40,{"$f":"IF(B130<>\"\",B130,'H Q 4'!AQ51)","v":""}]
[null,null,null,null,null,null,null,41,{"$f":"IF(B131<>\"\",B131,'H Q 4'!AQ52)","v":""}]
[null,null,null,null,null,null,null,42,{"$f":"IF(B132<>\"\",B132,'H Q 4'!AQ53)","v":""}]
[null,null,null,null,null,null,null,43,{"$f":"IF(B133<>\"\",B133,'H Q 4'!AQ54)","v":""}]
[null,null,null,null,null,null,null,44,{"$f":"IF(B134<>\"\",B134,'H Q 4'!AQ55)","v":""}]
[null,null,null,null,null,null,null,45,{"$f":"IF(B135<>\"\",B135,'H Q 4'!AQ56)","v":""}]
[null,null,null,null,null,null,null,46,{"$f":"IF(B136<>\"\",B136,'H Q 4'!AQ57)","v":""}]
[null,null,null,null,null,null,null,47,{"$f":"IF(B137<>\"\",B137,'H Q 4'!AQ58)","v":""}]
[null,null,null,null,null,null,null,48,{"$f":"IF(B138<>\"\",B138,'H Q 4'!AQ59)","v":""}]
[null,null,null,null,null,null,null,49,{"$f":"IF(B139<>\"\",B139,'H Q 4'!AQ60)","v":""}]
[null,null,null,null,null,null,null,50,{"$f":"IF(B140<>\"\",B140,'H Q 4'!AQ61)","v":""}]
[null,null,null,null,null,null,null,51,{"$f":"IF(B141<>\"\",B141,'H Q 4'!AQ62)","v":""}]
[null,null,null,null,null,null,null,52,{"$f":"IF(B142<>\"\",B142,'H Q 4'!AQ63)","v":""}]
[null,null,null,null,null,null,null,53,{"$f":"IF(B143<>\"\",B143,'H Q 4'!AQ64)","v":""}]
[null,null,null,null,null,null,null,54,{"$f":"IF(B144<>\"\",B144,'H Q 4'!AQ65)","v":""}]
[null,null,null,null,null,null,null,55,{"$f":"IF(B145<>\"\",B145,'H Q 4'!AQ66)","v":""}]
[null,null,null,null,null,null,null,56,{"$f":"IF(B146<>\"\",B146,'H Q 4'!AQ67)","v":""}]
[null,null,null,null,null,null,null,57,{"$f":"IF(B147<>\"\",B147,'H Q 4'!AQ68)","v":""}]
[null,null,null,null,null,null,null,58,{"$f":"IF(B148<>\"\",B148,'H Q 4'!AQ69)","v":""}]
[null,null,null,null,null,null,null,59,{"$f":"IF(B149<>\"\",B149,'H Q 4'!AQ70)","v":""}]
[null,null,null,null,null,null,null,60,{"$f":"IF(B150<>\"\",B150,'H Q 4'!AQ71)","v":""}]
[null,null,null,null,null,null,null,61,{"$f":"IF(B151<>\"\",B151,'H Q 4'!AQ72)","v":""}]
[null,null,null,null,null,null,null,62,{"$f":"IF(B152<>\"\",B152,'H Q 4'!AQ73)","v":""}]
[null,null,null,null,null,null,null,63,{"$f":"IF(B153<>\"\",B153,'H Q 4'!AQ74)","v":""}]
[null,null,null,null,null,null,null,64,{"$f":"IF(B154<>\"\",B154,'H Q 4'!AQ75)","v":""}]
[null,null,null,null,null,null,null,65,{"$f":"IF(B155<>\"\",B155,'H Q 4'!AQ76)","v":""}]
[null,null,null,null,null,null,null,66,{"$f":"IF(B156<>\"\",B156,'H Q 4'!AQ77)","v":""}]
[null,null,null,null,null,null,null,67,{"$f":"IF(B157<>\"\",B157,'H Q 4'!AQ78)","v":""}]
[null,null,null,null,null,null,null,68,{"$f":"IF(B158<>\"\",B158,'H Q 4'!AQ79)","v":""}]
[null,null,null,null,null,null,null,69,{"$f":"IF(B159<>\"\",B159,'H Q 4'!AQ80)","v":""}]
[null,null,null,null,null,null,null,70,{"$f":"IF(B160<>\"\",B160,'H Q 4'!AQ81)","v":""}]
[null,null,null,null,null,null,null,71,{"$f":"IF(B161<>\"\",B161,'H Q 4'!AQ82)","v":""}]
[null,null,null,null,null,null,null,72,{"$f":"IF(B162<>\"\",B162,'H Q 4'!AQ83)","v":""}]
[null,null,null,null,null,null,null,73,{"$f":"IF(B163<>\"\",B163,'H Q 4'!AQ84)","v":""}]
[null,null,null,null,null,null,null,74,{"$f":"IF(B164<>\"\",B164,'H Q 4'!AQ85)","v":""}]
[null,null,null,null,null,null,null,75,{"$f":"IF(B165<>\"\",B165,'H Q 4'!AQ86)","v":""}]
[null,null,null,null,null,null,null,76,{"$f":"IF(B166<>\"\",B166,'H Q 4'!AQ87)","v":""}]
[null,null,null,null,null,null,null,77,{"$f":"IF(B167<>\"\",B167,'H Q 4'!AQ88)","v":""}]
[null,null,null,null,null,null,null,78,{"$f":"IF(B168<>\"\",B168,'H Q 4'!AQ89)","v":""}]
[null,null,null,null,null,null,null,79,{"$f":"IF(B169<>\"\",B169,'H Q 4'!AQ90)","v":""}]
[null,null,null,null,null,null,null,80,{"$f":"IF(B170<>\"\",B170,'H Q 4'!AQ91)","v":""}]
[null,null,null,null,null,null,null,81,{"$f":"IF(B171<>\"\",B171,'H Q 4'!AQ92)","v":""}]
[null,null,null,null,null,null,null,82,{"$f":"IF(B172<>\"\",B172,'H Q 4'!AQ93)","v":""}]
[null,null,null,null,null,null,null,83,{"$f":"IF(B173<>\"\",B173,'H Q 4'!AQ94)","v":""}]
[null,null,null,null,null,null,null,84,{"$f":"IF(B174<>\"\",B174,'H Q 4'!AQ95)","v":""}]
[null,null,null,null,null,null,null,85,{"$f":"IF(B175<>\"\",B175,'H Q 4'!AQ96)","v":""}]
[null,null,null,null,null,null,null,86,{"$f":"IF(B176<>\"\",B176,'H Q 4'!AQ97)","v":""}]
[null,null,null,null,null,null,null,87,{"$f":"IF(B177<>\"\",B177,'H Q 4'!AQ98)","v":""}]
[null,null,null,null,null,null,null,88,{"$f":"IF(B178<>\"\",B178,'H Q 4'!AQ99)","v":""}]
[null,null,null,null,null,null,null,89,{"$f":"IF(B179<>\"\",B179,'H Q 4'!AQ100)","v":""}]
[null,null,null,null,null,null,null,90,{"$f":"IF(B180<>\"\",B180,'H Q 4'!AQ101)","v":""}]
[null,null,null,null,null,null,null,91,{"$f":"IF(B181<>\"\",B181,'H Q 4'!AQ102)","v":""}]
[null,null,null,null,null,null,null,92,{"$f":"IF(B182<>\"\",B182,'H Q 4'!AQ103)","v":""}]
[null,null,null,null,null,null,null,93,{"$f":"IF(B183<>\"\",B183,'H Q 4'!AQ104)","v":""}]
[null,null,null,null,null,null,null,94,{"$f":"IF(B184<>\"\",B184,'H Q 4'!AQ105)","v":""}]
[null,null,null,null,null,null,null,95,{"$f":"IF(B185<>\"\",B185,'H Q 4'!AQ106)","v":""}]
[null,null,null,null,null,null,null,96,{"$f":"IF(B186<>\"\",B186,'H Q 4'!AQ107)","v":""}]
[null,null,null,null,null,null,null,97,{"$f":"IF(B187<>\"\",B187,'H Q 4'!AQ108)","v":""}]
[null,null,null,null,null,null,null,98,{"$f":"IF(B188<>\"\",B188,'H Q 4'!AQ109)","v":""}]
[null,null,null,null,null,null,null,99,{"$f":"IF(B189<>\"\",B189,'H Q 4'!AQ110)","v":""}]
[null,null,null,null,null,null,null,100,{"$f":"IF(B190<>\"\",B190,'H Q 4'!AQ111)","v":""}]

{"sheet":"T Q 1-2","index":12,"n_rows":111,"n_cols":45,"rows_kept":111,"cut":false,"hidden":false,"merged":[[9,0,10,0],[9,42,10,42],[9,38,10,38],[9,19,10,19],[9,22,10,22],[9,30,10,30],[9,20,10,20],[9,23,10,23],[9,36,10,36],[9,37,10,37],[9,2,10,2],[9,1,10,1],[9,17,10,17],[9,31,10,31],[9,26,10,26],[9,35,10,35],[6,44,7,44],[9,39,10,39],[6,41,6,43],[7,41,7,43],[9,43,10,43],[9,44,10,44],[9,40,10,40],[9,41,10,41],[9,32,10,32],[9,34,10,34],[9,3,9,8],[9,10,9,15],[9,16,10,16],[9,18,10,18],[9,25,10,25],[9,27,10,27],[9,21,10,21],[9,29,10,29],[9,28,10,28],[9,24,10,24],[9,33,10,33],[7,1,7,2],[6,3,6,18],[7,3,7,18],[8,1,8,2],[0,41,0,42],[1,41,1,42],[4,1,4,2],[6,1,6,2],[5,1,5,2],[0,3,0,18],[1,3,1,18],[2,3,2,18]]}
[null,null,null,{"$f":"CONTEST!B4","v":"Skate n Roll Polička  2022"}]
[null,null,null,{"$f":"CONTEST!B6","v":"13.8. - 14.8.2022"}]
[null,null,null,{"$f":"CONCATENATE(CONTEST!B10,\" / \",CONTEST!B16,\" / \",CONTEST!B13)","v":"TIGHT SLALOM / Qualifications / TEEN 12-14"}]
[null,null,{"$f":"_xll.iPush(\"TEEN_Tight_Q\", \"WCH_SK8_2018\", 'T Q 1-2'!$A$5:$S$111, 'T Q 1-2'!$A$5:$S$111, 'T Q 1-2'!$A$5:$S$111, 1, TRUE)","v":{"$error":"#NAME?"}}]
[0.1,"secs penalty per hit cone"]
[8,"maximum hit cones before DQ"]
[2,"false start multiplication factor",null,"Under \"Raw Time,\" enter \"DQ\" or\"DNF\" for",null,null,null,null,null,null,null,null,null,null,null,null,null,null,null,null,null,null,null,null,null,null,null,null,null,null,null,null,null,null,null,null,null,null,null,null,null,"Advance Racers who DQ",null,null,"Y"]
[{"$f":"IF(ISERROR(0.1*AR12)=TRUE,\"\",ROUND(0.1*AR12,2))","v":1.46},"secs head-to-head DQ/DNR penalty",null,"\"Disqualified\" and \"DNR\" for \"Did Not Race.\"",null,null,null,null,null,null,null,null,null,null,null,null,null,null,null,null,null,null,null,null,null,null,null,null,null,null,null,null,null,null,null,null,null,null,null,null,null,"all Qualifying Runs? (Y/N)"]
[{"$f":"IF(ISERROR(0.1*AR12)=TRUE,\"\",ROUND(0.1*AR12,2))","v":1.46},"secs max head-to-head victory margin"]
[null,"START Number","Racer Name","Run 1",null,null,null,null,null,null,"Run 2",null,null,null,null,null,"Qual Rank (w/out DQs)","Best Time","Qualifying Position","Qual Rank (w/DQs sequenced)","Racer No. & Name","Best Time","Double DQ Place Factor","No. of Ties per Best Time","Tied-at Time","Tied-at Time Rank","Run 1 Time w/DQ Adjust","Run 2 Time w/DQ Adjust","Total Time w/DQ Adjust","Total Time Rank","Total Tie Place Factor","Tie 1 Total Time Rank","Tie 1 Place Factor","Tie 2 Total Time Rank","Tie 2 Place Factor","Tie 3 Total Time Rank","Tie 3 Place Factor","Placed Racer No. & Name","Withdrawal Place Factor","Double DQ Place Factor 2","Final Spot - Withdrawals","Qualifying Position",{"$f":"CONCATENATE(+CONTEST!B4,\"                                \",+CONTEST!B8,\"                                   \",\"RUN 1-2\",\"                                     \",\"  Racer No. & Name\")","v":"Skate n Roll Polička  2022                                GIANT SLALOM                                   RUN 1-2                                       Racer No. & Name"},"Best Time","Withdraw (W)"]
[null,null,null,"Raw Time","Cones","Reaction Time","False Start","Final Time","Run Rank",null,"Raw Time","Cones","Reaction Time","False Start","Final Time","Run Rank"]
[1,{"$f":"IF(REG!B11<>\"\",REG!B11,\"\")","v":""},{"$f":"IF(REG!C11<>\"\",REG!G11,\"\")","v":"Voves  Jindřich  [CZE] "},14.404,2,0.47299999999999998,null,{"$f":"IF(LEFT(D12:D111,1)=\"D\",\"-\",IF(E12:E111>A6,\"-\",IF(D12:D111>0,D12:D111+E12:E111*A5+G12:G111*A7,\"\")))","v":14.603999999999999},{"$f":"IF(H12:H111=\"\",\"\",IF(H12:H111=\"-\",\"\",RANK(H12:H111,H12:H111,1)))","v":1},null,14.369,2,0.47099999999999997,null,{"$f":"IF(LEFT(K12:K111,1)=\"D\",\"-\",IF(L12:L111>A6,\"-\",IF(K12:K111>0,K12:K111+L12:L111*A5+N12:N111*A7,\"\")))","v":14.568999999999999},{"$f":"IF(O12:O111=\"\",\"\",IF(O12:O111=\"-\",\"\",RANK(O12:O111,O12:O111,1)))","v":1},{"$f":"IF(R12:R111=\"\",\"\",IF(R12:R111=\"-\",\"\",RANK(R12:R111,R12:R111,1)))","v":1},{"$f":"IF(AND(ISBLANK(D12),ISBLANK(K12)),\"\",IF(AND(H12=\"-\",O12=\"-\"),\"-\",IF(AND(H12=\"-\",ISBLANK(K12)),\"-\",MIN(H12,O12))))","v":14.568999999999999},{"$f":"IF(R12:R111=\"\",\"\",VLOOKUP(U12:U111,AL12:AP111,5,FALSE))","v":1},{"$f":"IF(R12:R111=\"\",\"\",IF(R12:R111=\"-\",COUNT(Q12:Q111)+W12:W111,Q12:Q111+AE12:AE111+AG12:AG111+AI12:AI111+AK12:AK111))","v":1},{"$f":"IF(B12:B111 =\"\",\"\",B12:B111 & \" \")&C12:C111","v":"Voves  Jindřich  [CZE] "},{"$f":"R12:R111","v":14.568999999999999},{"$f":"IF(R12=\"\",\"\",COUNTIF(R12:R12,\"-\"))","v":0},{"$f":"IF(Q12:Q111=\"\",\"\",COUNTIF(Q12:Q111,Q12:Q111)-1)","v":0},{"$f":"IF(R12:R111=\"-\",\"\",IF(X12:X111=0,\"\",R12:R111))","v":""},{"$f":"IF(Y12:Y111=\"\",\"\",RANK(Y12:Y111,Y12:Y111,1))","v":""},{"$f":"IF(X12:X111=\"\",\"\",IF(X12:X111=0,\"\",IF(LEFT(H12:H111,1)=\"-\",\"199\",H12:H111)))","v":""},{"$f":"IF(X12:X111=\"\",\"\",IF(X12:X111=0,\"\",IF(LEFT(O12:O111,1)=\"-\",\"199\",O12:O111)))","v":""},{"$f":"IF(ISERROR(AA12:AA111+AB12:AB111)=TRUE,AA12:AA111,AA12:AA111+AB12:AB111)","v":""},{"$f":"IF(R12:R111=\"\",\"\",IF(X12:X111=0,\"0\",IF(ISERROR(RANK(AC12:AC111,AC12:AC111,1))=TRUE,\"0\",RANK(AC12:AC111,AC12:AC111,1))))","v":"0"},0,{"$f":"IF(ISERROR(X12:X111)=TRUE,\"\",IF(Z12:Z111=1,AD12:AD111,\"\"))","v":""},{"$f":"IF(R12:R111=\"\",\"\",IF(AF12:AF111=\"\",\"0\",RANK(AF12:AF111,AF12:AF111,1)-1))","v":"0"},{"$f":"IF(ISERROR(X12:X111)=TRUE,\"\",IF(Z12:Z111=COUNT(AF12:AF111)+1,AD12:AD111,\"\"))","v":""},{"$f":"IF(R12:R111=\"\",\"\",IF(AH12:AH111=\"\",\"0\",RANK(AH12:AH111,AH12:AH111,1)-1))","v":"0"},{"$f":"IF(ISERROR(X12:X111)=TRUE,\"\",IF(Z12:Z111=COUNT(AF12:AF111)+COUNT(AH12:AH111)+1,AD12:AD111,\"\"))","v":""},{"$f":"IF(R12:R111=\"\",\"\",IF(AJ12:AJ111=\"\",\"0\",RANK(AJ12:AJ111,AJ12:AJ111,1)-1))","v":"0"},{"$f":"AQ12:AQ111","v":"Voves  Jindřich  [CZE] "},{"$f":"COUNTIF(AS12:AS12,\"W\")","v":0},{"$f":"IF(AR12=\"\",\"\",COUNTIF(AR12:AR12,\"-\"))","v":0},{"$f":"IF(AQ12:AQ111=\"BYE\",\"\",IF(AS12:AS111=\"W\",\"\",IF(AS7=\"N\",IF(AP12:AP111<=COUNT(Q12:Q111),AP12:AP111-AM12:AM111,\"\"),IF(AP12:AP111<=COUNT(Q12:Q111),AP12:AP111-AM12:AM111,AP12:AP111-AM12:AM111+AN12:AN111-1))))","v":1},{"$f":"IF(R12:R111=\"\",\"\",IF(AP11:AP110+1<=COUNT(Q12:Q111),AP11:AP110+1,COUNT(Q12:Q111)+1))","v":1},{"$f":"IF(R12:R111=\"\",\"BYE\",IF(ISERROR(VLOOKUP(A12:A111,T12:U111,2,FALSE))=TRUE,\"\",VLOOKUP(A12:A111,T12:U111,2,FALSE)))","v":"Voves  Jindřich  [CZE] "},{"$f":"IF(C12:C111=\"BYE\", \"\",IF(A12:A111=\"\",\"\",IF(ISERROR(VLOOKUP(A12:A111,T12:V111,3,FALSE))=TRUE,\"\",VLOOKUP(A12:A111,T12:V111,3,FALSE))))","v":14.568999999999999}]
[2,{"$f":"IF(REG!B12<>\"\",REG!B12,\"\")","v":""},{"$f":"IF(REG!C12<>\"\",REG!G12,\"\")","v":"Rezková  Anna  [CZE] "},15.122,1,0.51200000000000001,null,15.222,2,null,15.529,6,0.52300000000000002,null,16.129000000000001,2,2,15.222,2,2,"Rezková  Anna  [CZE] ",15.222,{"$f":"IF(R13=\"\",\"\",COUNTIF(R12:R13,\"-\"))","v":0},0,"","","","","","0",{"$f":"IF(R13=\"\",\"\",IF(AD13=\"0\",\"0\",COUNTIF(AD12:AD12,AD13)))","v":"0"},"","0","","0","","0","Rezková  Anna  [CZE] ",{"$f":"COUNTIF(AS12:AS13,\"W\")","v":0},{"$f":"IF(AR13=\"\",\"\",COUNTIF(AR12:AR13,\"-\"))","v":0},2,2,"Rezková  Anna  [CZE] ",15.222]
[3,{"$f":"IF(REG!B13<>\"\",REG!B13,\"\")","v":""},{"$f":"IF(REG!C13<>\"\",REG!G13,\"\")","v":""},null,null,null,null,"","",null,null,null,null,null,"","","","","","","","",{"$f":"IF(R14=\"\",\"\",COUNTIF(R12:R14,\"-\"))","v":""},"","","","","","","",{"$f":"IF(R14=\"\",\"\",IF(AD14=\"0\",\"0\",COUNTIF(AD12:AD13,AD14)))","v":""},"","","","","","","BYE",{"$f":"COUNTIF(AS12:AS14,\"W\")","v":0},{"$f":"IF(AR14=\"\",\"\",COUNTIF(AR12:AR14,\"-\"))","v":""},"","","BYE",""]
[4,{"$f":"IF(REG!B14<>\"\",REG!B14,\"\")","v":""},{"$f":"IF(REG!C14<>\"\",REG!G14,\"\")","v":""},null,null,null,null,"","",null,null,null,null,null,"","","","","","","","",{"$f":"IF(R15=\"\",\"\",COUNTIF(R12:R15,\"-\"))","v":""},"","","","","","","",{"$f":"IF(R15=\"\",\"\",IF(AD15=\"0\",\"0\",COUNTIF(AD12:AD14,AD15)))","v":""},"","","","","","","BYE",{"$f":"COUNTIF(AS12:AS15,\"W\")","v":0},{"$f":"IF(AR15=\"\",\"\",COUNTIF(AR12:AR15,\"-\"))","v":""},"","","BYE",""]
[5,{"$f":"IF(REG!B15<>\"\",REG!B15,\"\")","v":""},{"$f":"IF(REG!C15<>\"\",REG!G15,\"\")","v":""},null,null,null,null,"","",null,null,null,null,null,"","","","","","","","",{"$f":"IF(R16=\"\",\"\",COUNTIF(R12:R16,\"-\"))","v":""},"","","","","","","",{"$f":"IF(R16=\"\",\"\",IF(AD16=\"0\",\"0\",COUNTIF(AD12:AD15,AD16)))","v":""},"","","","","","","BYE",{"$f":"COUNTIF(AS12:AS16,\"W\")","v":0},{"$f":"IF(AR16=\"\",\"\",COUNTIF(AR12:AR16,\"-\"))","v":""},"","","BYE",""]
[6,{"$f":"IF(REG!B16<>\"\",REG!B16,\"\")","v":""},{"$f":"IF(REG!C16<>\"\",REG!G16,\"\")","v":""},null,null,null,null,"","",null,null,null,null,null,"","","","","","","","",{"$f":"IF(R17=\"\",\"\",COUNTIF(R12:R17,\"-\"))","v":""},"","","","","","","",{"$f":"IF(R17=\"\",\"\",IF(AD17=\"0\",\"0\",COUNTIF(AD12:AD16,AD17)))","v":""},"","","","","","","BYE",{"$f":"COUNTIF(AS12:AS17,\"W\")","v":0},{"$f":"IF(AR17=\"\",\"\",COUNTIF(AR12:AR17,\"-\"))","v":""},"","","BYE",""]
[7,{"$f":"IF(REG!B17<>\"\",REG!B17,\"\")","v":""},{"$f":"IF(REG!C17<>\"\",REG!G17,\"\")","v":""},null,null,null,null,"","",null,null,null,null,null,"","","","","","","","",{"$f":"IF(R18=\"\",\"\",COUNTIF(R12:R18,\"-\"))","v":""},"","","","","","","",{"$f":"IF(R18=\"\",\"\",IF(R18=\"\",\"\",IF(AD18=\"0\",\"0\",COUNTIF(AD12:AD17,AD18))))","v":""},"","","","","","","BYE",{"$f":"COUNTIF(AS12:AS18,\"W\")","v":0},{"$f":"IF(AR18=\"\",\"\",COUNTIF(AR12:AR18,\"-\"))","v":""},"","","BYE",""]
[8,{"$f":"IF(REG!B18<>\"\",REG!B18,\"\")","v":""},{"$f":"IF(REG!C18<>\"\",REG!G18,\"\")","v":""},null,null,null,null,"","",null,null,null,null,null,"","","","","","","","",{"$f":"IF(R19=\"\",\"\",COUNTIF(R12:R19,\"-\"))","v":""},"","","","","","","",{"$f":"IF(R19=\"\",\"\",IF(R19=\"\",\"\",IF(AD19=\"0\",\"0\",COUNTIF(AD12:AD18,AD19))))","v":""},"","","","","","","BYE",{"$f":"COUNTIF(AS12:AS19,\"W\")","v":0},{"$f":"IF(AR19=\"\",\"\",COUNTIF(AR12:AR19,\"-\"))","v":""},"","","BYE",""]
[9,{"$f":"IF(REG!B19<>\"\",REG!B19,\"\")","v":""},{"$f":"IF(REG!C19<>\"\",REG!G19,\"\")","v":""},null,null,null,null,"","",null,null,null,null,null,"","","","","","","","",{"$f":"IF(R20=\"\",\"\",COUNTIF(R12:R20,\"-\"))","v":""},"","","","","","","",{"$f":"IF(R20=\"\",\"\",IF(R20=\"\",\"\",IF(AD20=\"0\",\"0\",COUNTIF(AD12:AD19,AD20))))","v":""},"","","","","","","BYE",{"$f":"COUNTIF(AS12:AS20,\"W\")","v":0},{"$f":"IF(AR20=\"\",\"\",COUNTIF(AR12:AR20,\"-\"))","v":""},"","","BYE",""]
[10,{"$f":"IF(REG!B20<>\"\",REG!B20,\"\")","v":""},{"$f":"IF(REG!C20<>\"\",REG!G20,\"\")","v":""},null,null,null,null,"","",null,null,null,null,null,"","","","","","","","",{"$f":"IF(R21=\"\",\"\",COUNTIF(R12:R21,\"-\"))","v":""},"","","","","","","",{"$f":"IF(R21=\"\",\"\",IF(AD21=\"0\",\"0\",COUNTIF(AD12:AD20,AD21)))","v":""},"","","","","","","BYE",{"$f":"COUNTIF(AS12:AS21,\"W\")","v":0},{"$f":"IF(AR21=\"\",\"\",COUNTIF(AR12:AR21,\"-\"))","v":""},"","","BYE",""]
[11,{"$f":"IF(REG!B21<>\"\",REG!B21,\"\")","v":""},{"$f":"IF(REG!C21<>\"\",REG!G21,\"\")","v":""},null,null,null,null,"","",null,null,null,null,null,"","","","","","","","",{"$f":"IF(R22=\"\",\"\",COUNTIF(R12:R22,\"-\"))","v":""},"","","","","","","",{"$f":"IF(R22=\"\",\"\",IF(AD22=\"0\",\"0\",COUNTIF(AD1:AD21,AD22)))","v":""},"","","","","","","BYE",{"$f":"COUNTIF(AS12:AS22,\"W\")","v":0},{"$f":"IF(AR22=\"\",\"\",COUNTIF(AR12:AR22,\"-\"))","v":""},"","","BYE",""]
[12,{"$f":"IF(REG!B22<>\"\",REG!B22,\"\")","v":""},{"$f":"IF(REG!C22<>\"\",REG!G22,\"\")","v":""},null,null,null,null,"","",null,null,null,null,null,"","","","","","","","",{"$f":"IF(R23=\"\",\"\",COUNTIF(R12:R23,\"-\"))","v":""},"","","","","","","",{"$f":"IF(R23=\"\",\"\",IF(AD23=\"0\",\"0\",COUNTIF(AD12:AD22,AD23)))","v":""},"","","","","","","BYE",{"$f":"COUNTIF(AS12:AS23,\"W\")","v":0},{"$f":"IF(AR23=\"\",\"\",COUNTIF(AR12:AR23,\"-\"))","v":""},"","","BYE",""]
[13,{"$f":"IF(REG!B23<>\"\",REG!B23,\"\")","v":""},{"$f":"IF(REG!C23<>\"\",REG!G23,\"\")","v":""},null,null,null,null,"","",null,null,null,null,null,"","","","","","","","",{"$f":"IF(R24=\"\",\"\",COUNTIF(R12:R24,\"-\"))","v":""},"","","","","","","",{"$f":"IF(R24=\"\",\"\",IF(AD24=\"0\",\"0\",COUNTIF(AD12:AD23,AD24)))","v":""},"","","","","","","BYE",{"$f":"COUNTIF(AS12:AS24,\"W\")","v":0},{"$f":"IF(AR24=\"\",\"\",COUNTIF(AR12:AR24,\"-\"))","v":""},"","","BYE",""]
[14,{"$f":"IF(REG!B24<>\"\",REG!B24,\"\")","v":""},{"$f":"IF(REG!C24<>\"\",REG!G24,\"\")","v":""},null,null,null,null,"","",null,null,null,null,null,"","","","","","","","",{"$f":"IF(R25=\"\",\"\",COUNTIF(R12:R25,\"-\"))","v":""},"","","","","","","",{"$f":"IF(R25=\"\",\"\",IF(AD25=\"0\",\"0\",COUNTIF(AD12:AD24,AD25)))","v":""},"","","","","","","BYE",{"$f":"COUNTIF(AS12:AS25,\"W\")","v":0},{"$f":"IF(AR25=\"\",\"\",COUNTIF(AR12:AR25,\"-\"))","v":""},"","","BYE",""]
[15,{"$f":"IF(REG!B25<>\"\",REG!B25,\"\")","v":""},{"$f":"IF(REG!C25<>\"\",REG!G25,\"\")","v":""},null,null,null,null,"","",null,null,null,null,null,"","","","","","","","",{"$f":"IF(R26=\"\",\"\",COUNTIF(R12:R26,\"-\"))","v":""},"","","","","","","",{"$f":"IF(R26=\"\",\"\",IF(AD26=\"0\",\"0\",COUNTIF(AD12:AD25,AD26)))","v":""},"","","","","","","BYE",{"$f":"COUNTIF(AS12:AS26,\"W\")","v":0},{"$f":"IF(AR26=\"\",\"\",COUNTIF(AR12:AR26,\"-\"))","v":""},"","","BYE",""]
[16,{"$f":"IF(REG!B26<>\"\",REG!B26,\"\")","v":""},{"$f":"IF(REG!C26<>\"\",REG!G26,\"\")","v":""},null,null,null,null,"","",null,null,null,null,null,"","","","","","","","",{"$f":"IF(R27=\"\",\"\",COUNTIF(R12:R27,\"-\"))","v":""},"","","","","","","",{"$f":"IF(R27=\"\",\"\",IF(AD27=\"0\",\"0\",COUNTIF(AD12:AD26,AD27)))","v":""},"","","","","","","BYE",{"$f":"COUNTIF(AS12:AS27,\"W\")","v":0},{"$f":"IF(AR27=\"\",\"\",COUNTIF(AR12:AR27,\"-\"))","v":""},"","","BYE",""]
[17,{"$f":"IF(REG!B27<>\"\",REG!B27,\"\")","v":""},{"$f":"IF(REG!C27<>\"\",REG!G27,\"\")","v":""},null,null,null,null,"","",null,null,null,null,null,"","","","","","","","",{"$f":"IF(R28=\"\",\"\",COUNTIF(R12:R28,\"-\"))","v":""},"","","","","","","",{"$f":"IF(R28=\"\",\"\",IF(AD28=\"0\",\"0\",COUNTIF(AD12:AD27,AD28)))","v":""},"","","","","","","BYE",{"$f":"COUNTIF(AS12:AS28,\"W\")","v":0},{"$f":"IF(AR28=\"\",\"\",COUNTIF(AR12:AR28,\"-\"))","v":""},"","","BYE",""]
[18,{"$f":"IF(REG!B28<>\"\",REG!B28,\"\")","v":""},{"$f":"IF(REG!C28<>\"\",REG!G28,\"\")","v":""},null,null,null,null,"","",null,null,null,null,null,"","","","","","","","",{"$f":"IF(R29=\"\",\"\",COUNTIF(R12:R29,\"-\"))","v":""},"","","","","","","",{"$f":"IF(R29=\"\",\"\",IF(AD29=\"0\",\"0\",COUNTIF(AD12:AD28,AD29)))","v":""},"","","","","","","BYE",{"$f":"COUNTIF(AS12:AS29,\"W\")","v":0},{"$f":"IF(AR29=\"\",\"\",COUNTIF(AR12:AR29,\"-\"))","v":""},"","","BYE",""]
[19,{"$f":"IF(REG!B29<>\"\",REG!B29,\"\")","v":""},{"$f":"IF(REG!C29<>\"\",REG!G29,\"\")","v":""},null,null,null,null,"","",null,null,null,null,null,"","","","","","","","",{"$f":"IF(R30=\"\",\"\",COUNTIF(R12:R30,\"-\"))","v":""},"","","","","","","",{"$f":"IF(R30=\"\",\"\",IF(AD30=\"0\",\"0\",COUNTIF(AD12:AD29,AD30)))","v":""},"","","","","","","BYE",{"$f":"COUNTIF(AS12:AS30,\"W\")","v":0},{"$f":"IF(AR30=\"\",\"\",COUNTIF(AR12:AR30,\"-\"))","v":""},"","","BYE",""]
[20,{"$f":"IF(REG!B30<>\"\",REG!B30,\"\")","v":""},{"$f":"IF(REG!C30<>\"\",REG!G30,\"\")","v":""},null,null,null,null,"","",null,null,null,null,null,"","","","","","","","",{"$f":"IF(R31=\"\",\"\",COUNTIF(R12:R31,\"-\"))","v":""},"","","","","","","",{"$f":"IF(R31=\"\",\"\",IF(AD31=\"0\",\"0\",COUNTIF(AD12:AD30,AD31)))","v":""},"","","","","","","BYE",{"$f":"COUNTIF(AS12:AS31,\"W\")","v":0},{"$f":"IF(AR31=\"\",\"\",COUNTIF(AR12:AR31,\"-\"))","v":""},"","","BYE",""]
[21,{"$f":"IF(REG!B31<>\"\",REG!B31,\"\")","v":""},{"$f":"IF(REG!C31<>\"\",REG!G31,\"\")","v":""},null,null,null,null,"","",null,null,null,null,null,"","","","","","","","",{"$f":"IF(R32=\"\",\"\",COUNTIF(R12:R32,\"-\"))","v":""},"","","","","","","",{"$f":"IF(R32=\"\",\"\",IF(AD32=\"0\",\"0\",COUNTIF(AD12:AD31,AD32)))","v":""},"","","","","","","BYE",{"$f":"COUNTIF(AS12:AS32,\"W\")","v":0},{"$f":"IF(AR32=\"\",\"\",COUNTIF(AR12:AR32,\"-\"))","v":""},"","","BYE",""]
[22,{"$f":"IF(REG!B32<>\"\",REG!B32,\"\")","v":""},{"$f":"IF(REG!C32<>\"\",REG!G32,\"\")","v":""},null,null,null,null,"","",null,null,null,null,null,"","","","","","","","",{"$f":"IF(R33=\"\",\"\",COUNTIF(R12:R33,\"-\"))","v":""},"","","","","","","",{"$f":"IF(R33=\"\",\"\",IF(AD33=\"0\",\"0\",COUNTIF(AD12:AD32,AD33)))","v":""},"","","","","","","BYE",{"$f":"COUNTIF(AS12:AS33,\"W\")","v":0},{"$f":"IF(AR33=\"\",\"\",COUNTIF(AR12:AR33,\"-\"))","v":""},"","","BYE",""]
[23,{"$f":"IF(REG!B33<>\"\",REG!B33,\"\")","v":""},{"$f":"IF(REG!C33<>\"\",REG!G33,\"\")","v":""},null,null,null,null,"","",null,null,null,null,null,"","","","","","","","",{"$f":"IF(R34=\"\",\"\",COUNTIF(R12:R34,\"-\"))","v":""},"","","","","","","",{"$f":"IF(R34=\"\",\"\",IF(AD34=\"0\",\"0\",COUNTIF(AD12:AD33,AD34)))","v":""},"","","","","","","BYE",{"$f":"COUNTIF(AS12:AS34,\"W\")","v":0},{"$f":"IF(AR34=\"\",\"\",COUNTIF(AR12:AR34,\"-\"))","v":""},"","","BYE",""]
[24,{"$f":"IF(REG!B34<>\"\",REG!B34,\"\")","v":""},{"$f":"IF(REG!C34<>\"\",REG!G34,\"\")","v":""},null,null,null,null,"","",null,null,null,null,null,"","","","","","","","",{"$f":"IF(R35=\"\",\"\",COUNTIF(R12:R35,\"-\"))","v":""},"","","","","","","",{"$f":"IF(R35=\"\",\"\",IF(AD35=\"0\",\"0\",COUNTIF(AD12:AD34,AD35)))","v":""},"","","","","","","BYE",{"$f":"COUNTIF(AS12:AS35,\"W\")","v":0},{"$f":"IF(AR35=\"\",\"\",COUNTIF(AR12:AR35,\"-\"))","v":""},"","","BYE",""]
[25,{"$f":"IF(REG!B35<>\"\",REG!B35,\"\")","v":""},{"$f":"IF(REG!C35<>\"\",REG!G35,\"\")","v":""},null,null,null,null,"","",null,null,null,null,null,"","","","","","","","",{"$f":"IF(R36=\"\",\"\",COUNTIF(R12:R36,\"-\"))","v":""},"","","","","","","",{"$f":"IF(R36=\"\",\"\",IF(AD36=\"0\",\"0\",COUNTIF(AD12:AD35,AD36)))","v":""},"","","","","","","BYE",{"$f":"COUNTIF(AS12:AS36,\"W\")","v":0},{"$f":"IF(AR36=\"\",\"\",COUNTIF(AR12:AR36,\"-\"))","v":""},"","","BYE",""]
[26,{"$f":"IF(REG!B36<>\"\",REG!B36,\"\")","v":""},{"$f":"IF(REG!C36<>\"\",REG!G36,\"\")","v":""},null,null,null,null,"","",null,null,null,null,null,"","","","","","","","",{"$f":"IF(R37=\"\",\"\",COUNTIF(R12:R37,\"-\"))","v":""},"","","","","","","",{"$f":"IF(R37=\"\",\"\",IF(AD37=\"0\",\"0\",COUNTIF(AD12:AD36,AD37)))","v":""},"","","","","","","BYE",{"$f":"COUNTIF(AS12:AS37,\"W\")","v":0},{"$f":"IF(AR37=\"\",\"\",COUNTIF(AR12:AR37,\"-\"))","v":""},"","","BYE",""]
[27,{"$f":"IF(REG!B37<>\"\",REG!B37,\"\")","v":""},{"$f":"IF(REG!C37<>\"\",REG!G37,\"\")","v":""},null,null,null,null,"","",null,null,null,null,null,"","","","","","","","",{"$f":"IF(R38=\"\",\"\",COUNTIF(R12:R38,\"-\"))","v":""},"","","","","","","",{"$f":"IF(R38=\"\",\"\",IF(AD38=\"0\",\"0\",COUNTIF(AD12:AD37,AD38)))","v":""},"","","","","","","BYE",{"$f":"COUNTIF(AS12:AS38,\"W\")","v":0},{"$f":"IF(AR38=\"\",\"\",COUNTIF(AR12:AR38,\"-\"))","v":""},"","","BYE",""]
[28,{"$f":"IF(REG!B38<>\"\",REG!B38,\"\")","v":""},{"$f":"IF(REG!C38<>\"\",REG!G38,\"\")","v":""},null,null,null,null,"","",null,null,null,null,null,"","","","","","","","",{"$f":"IF(R39=\"\",\"\",COUNTIF(R12:R39,\"-\"))","v":""},"","","","","","","",{"$f":"IF(R39=\"\",\"\",IF(AD39=\"0\",\"0\",COUNTIF(AD12:AD38,AD39)))","v":""},"","","","","","","BYE",{"$f":"COUNTIF(AS12:AS39,\"W\")","v":0},{"$f":"IF(AR39=\"\",\"\",COUNTIF(AR12:AR39,\"-\"))","v":""},"","","BYE",""]
[29,{"$f":"IF(REG!B39<>\"\",REG!B39,\"\")","v":""},{"$f":"IF(REG!C39<>\"\",REG!G39,\"\")","v":""},null,null,null,null,"","",null,null,null,null,null,"","","","","","","","",{"$f":"IF(R40=\"\",\"\",COUNTIF(R12:R40,\"-\"))","v":""},"","","","","","","",{"$f":"IF(R40=\"\",\"\",IF(AD40=\"0\",\"0\",COUNTIF(AD12:AD39,AD40)))","v":""},"","","","","","","BYE",{"$f":"COUNTIF(AS12:AS40,\"W\")","v":0},{"$f":"IF(AR40=\"\",\"\",COUNTIF(AR12:AR40,\"-\"))","v":""},"","","BYE",""]
[30,{"$f":"IF(REG!B40<>\"\",REG!B40,\"\")","v":""},{"$f":"IF(REG!C40<>\"\",REG!G40,\"\")","v":""},null,null,null,null,"","",null,null,null,null,null,"","","","","","","","",{"$f":"IF(R41=\"\",\"\",COUNTIF(R12:R41,\"-\"))","v":""},"","","","","","","",{"$f":"IF(R41=\"\",\"\",IF(AD41=\"0\",\"0\",COUNTIF(AD12:AD40,AD41)))","v":""},"","","","","","","BYE",{"$f":"COUNTIF(AS12:AS41,\"W\")","v":0},{"$f":"IF(AR41=\"\",\"\",COUNTIF(AR12:AR41,\"-\"))","v":""},"","","BYE",""]
[31,{"$f":"IF(REG!B41<>\"\",REG!B41,\"\")","v":""},{"$f":"IF(REG!C41<>\"\",REG!G41,\"\")","v":""},null,null,null,null,"","",null,null,null,null,null,"","","","","","","","",{"$f":"IF(R42=\"\",\"\",COUNTIF(R12:R42,\"-\"))","v":""},"","","","","","","",{"$f":"IF(R42=\"\",\"\",IF(AD42=\"0\",\"0\",COUNTIF(AD12:AD41,AD42)))","v":""},"","","","","","","BYE",{"$f":"COUNTIF(AS12:AS42,\"W\")","v":0},{"$f":"IF(AR42=\"\",\"\",COUNTIF(AR12:AR42,\"-\"))","v":""},"","","BYE",""]
[32,{"$f":"IF(REG!B42<>\"\",REG!B42,\"\")","v":""},{"$f":"IF(REG!C42<>\"\",REG!G42,\"\")","v":""},null,null,null,null,"","",null,null,null,null,null,"","","","","","","","",{"$f":"IF(R43=\"\",\"\",COUNTIF(R12:R43,\"-\"))","v":""},"","","","","","","",{"$f":"IF(R43=\"\",\"\",IF(AD43=\"0\",\"0\",COUNTIF(AD12:AD42,AD43)))","v":""},"","","","","","","BYE",{"$f":"COUNTIF(AS12:AS43,\"W\")","v":0},{"$f":"IF(AR43=\"\",\"\",COUNTIF(AR12:AR43,\"-\"))","v":""},"","","BYE",""]
[33,{"$f":"IF(REG!B43<>\"\",REG!B43,\"\")","v":""},{"$f":"IF(REG!C43<>\"\",REG!G43,\"\")","v":""},null,null,null,null,"","",null,null,null,null,null,"","","",{"$f":"IF(AND(ISBLANK(D44),ISBLANK(K44)),\"\",IF(AND(H44=\"-\",O44=\"-\"),\"-\",IF(AND(H44=\"-\",ISBLANK(K44)),\"-\",MIN(H44,O44))))","v":""},"","","","",{"$f":"IF(R44=\"\",\"\",COUNTIF(R12:R44,\"-\"))","v":""},"","","","","","","",{"$f":"IF(R44=\"\",\"\",IF(AD44=\"0\",\"0\",COUNTIF(AD12:AD43,AD44)))","v":""},"","","","","","","BYE",{"$f":"COUNTIF(AS12:AS44,\"W\")","v":0},{"$f":"IF(AR44=\"\",\"\",COUNTIF(AR12:AR44,\"-\"))","v":""},"","","BYE",""]
[34,{"$f":"IF(REG!B44<>\"\",REG!B44,\"\")","v":""},{"$f":"IF(REG!C44<>\"\",REG!G44,\"\")","v":""},null,null,null,null,"","",null,null,null,null,null,"","","","","","","","",{"$f":"IF(R45=\"\",\"\",COUNTIF(R12:R45,\"-\"))","v":""},"","","","","","","",{"$f":"IF(R45=\"\",\"\",IF(AD45=\"0\",\"0\",COUNTIF(AD12:AD44,AD45)))","v":""},"","","","","","","BYE",{"$f":"COUNTIF(AS12:AS45,\"W\")","v":0},{"$f":"IF(AR45=\"\",\"\",COUNTIF(AR12:AR45,\"-\"))","v":""},"","","BYE",""]
[35,{"$f":"IF(REG!B45<>\"\",REG!B45,\"\")","v":""},{"$f":"IF(REG!C45<>\"\",REG!G45,\"\")","v":""},null,null,null,null,"","",null,null,null,null,null,"","","","","","","","",{"$f":"IF(R46=\"\",\"\",COUNTIF(R12:R46,\"-\"))","v":""},"","","","","","","",{"$f":"IF(R46=\"\",\"\",IF(AD46=\"0\",\"0\",COUNTIF(AD12:AD45,AD46)))","v":""},"","","","","","","BYE",{"$f":"COUNTIF(AS12:AS46,\"W\")","v":0},{"$f":"IF(AR46=\"\",\"\",COUNTIF(AR12:AR46,\"-\"))","v":""},"","","BYE",""]
[36,{"$f":"IF(REG!B46<>\"\",REG!B46,\"\")","v":""},{"$f":"IF(REG!C46<>\"\",REG!G46,\"\")","v":""},null,null,null,null,"","",null,null,null,null,null,"","","","","","","","",{"$f":"IF(R47=\"\",\"\",COUNTIF(R12:R47,\"-\"))","v":""},"","","","","","","",{"$f":"IF(R47=\"\",\"\",IF(AD47=\"0\",\"0\",COUNTIF(AD12:AD46,AD47)))","v":""},"","","","","","","BYE",{"$f":"COUNTIF(AS12:AS47,\"W\")","v":0},{"$f":"IF(AR47=\"\",\"\",COUNTIF(AR12:AR47,\"-\"))","v":""},"","","BYE",""]
[37,{"$f":"IF(REG!B47<>\"\",REG!B47,\"\")","v":""},{"$f":"IF(REG!C47<>\"\",REG!G47,\"\")","v":""},null,null,null,null,"","",null,null,null,null,null,"","","","","","","","",{"$f":"IF(R48=\"\",\"\",COUNTIF(R12:R48,\"-\"))","v":""},"","","","","","","",{"$f":"IF(R48=\"\",\"\",IF(AD48=\"0\",\"0\",COUNTIF(AD12:AD47,AD48)))","v":""},"","","","","","","BYE",{"$f":"COUNTIF(AS12:AS48,\"W\")","v":0},{"$f":"IF(AR48=\"\",\"\",COUNTIF(AR12:AR48,\"-\"))","v":""},"","","BYE",""]
[38,{"$f":"IF(REG!B48<>\"\",REG!B48,\"\")","v":""},{"$f":"IF(REG!C48<>\"\",REG!G48,\"\")","v":""},null,null,null,null,"","",null,null,null,null,null,"","","","","","","","",{"$f":"IF(R49=\"\",\"\",COUNTIF(R12:R49,\"-\"))","v":""},"","","","","","","",{"$f":"IF(R49=\"\",\"\",IF(AD49=\"0\",\"0\",COUNTIF(AD12:AD48,AD49)))","v":""},"","","","","","","BYE",{"$f":"COUNTIF(AS12:AS49,\"W\")","v":0},{"$f":"IF(AR49=\"\",\"\",COUNTIF(AR12:AR49,\"-\"))","v":""},"","","BYE",""]
[39,{"$f":"IF(REG!B49<>\"\",REG!B49,\"\")","v":""},{"$f":"IF(REG!C49<>\"\",REG!G49,\"\")","v":""},null,null,null,null,"","",null,null,null,null,null,"","","","","","","","",{"$f":"IF(R50=\"\",\"\",COUNTIF(R12:R50,\"-\"))","v":""},"","","","","","","",{"$f":"IF(R50=\"\",\"\",IF(AD50=\"0\",\"0\",COUNTIF(AD12:AD49,AD50)))","v":""},"","","","","","","BYE",{"$f":"COUNTIF(AS12:AS50,\"W\")","v":0},{"$f":"IF(AR50=\"\",\"\",COUNTIF(AR12:AR50,\"-\"))","v":""},"","","BYE",""]
[40,{"$f":"IF(REG!B50<>\"\",REG!B50,\"\")","v":""},{"$f":"IF(REG!C50<>\"\",REG!G50,\"\")","v":""},null,null,null,null,"","",null,null,null,null,null,"","","","","","","","",{"$f":"IF(R51=\"\",\"\",COUNTIF(R12:R51,\"-\"))","v":""},"","","","","","","",{"$f":"IF(R51=\"\",\"\",IF(AD51=\"0\",\"0\",COUNTIF(AD12:AD50,AD51)))","v":""},"","","","","","","BYE",{"$f":"COUNTIF(AS12:AS51,\"W\")","v":0},{"$f":"IF(AR51=\"\",\"\",COUNTIF(AR12:AR51,\"-\"))","v":""},"","","BYE",""]
[41,{"$f":"IF(REG!B51<>\"\",REG!B51,\"\")","v":""},{"$f":"IF(REG!C51<>\"\",REG!G51,\"\")","v":""},null,null,null,null,"","",null,null,null,null,null,"","","","","","","","",{"$f":"IF(R52=\"\",\"\",COUNTIF(R12:R52,\"-\"))","v":""},"","","","","","","",{"$f":"IF(R52=\"\",\"\",IF(AD52=\"0\",\"0\",COUNTIF(AD12:AD51,AD52)))","v":""},"","","","","","","BYE",{"$f":"COUNTIF(AS12:AS52,\"W\")","v":0},{"$f":"IF(AR52=\"\",\"\",COUNTIF(AR12:AR52,\"-\"))","v":""},"","","BYE",""]
[42,{"$f":"IF(REG!B52<>\"\",REG!B52,\"\")","v":""},{"$f":"IF(REG!C52<>\"\",REG!G52,\"\")","v":""},null,null,null,null,"","",null,null,null,null,null,"","","","","","","","",{"$f":"IF(R53=\"\",\"\",COUNTIF(R12:R53,\"-\"))","v":""},"","","","","","","",{"$f":"IF(R53=\"\",\"\",IF(AD53=\"0\",\"0\",COUNTIF(AD12:AD52,AD53)))","v":""},"","","","","","","BYE",{"$f":"COUNTIF(AS12:AS53,\"W\")","v":0},{"$f":"IF(AR53=\"\",\"\",COUNTIF(AR12:AR53,\"-\"))","v":""},"","","BYE",""]
[43,{"$f":"IF(REG!B53<>\"\",REG!B53,\"\")","v":""},{"$f":"IF(REG!C53<>\"\",REG!G53,\"\")","v":""},null,null,null,null,"","",null,null,null,null,null,"","","","","","","","",{"$f":"IF(R54=\"\",\"\",COUNTIF(R12:R54,\"-\"))","v":""},"","","","","","","",{"$f":"IF(R54=\"\",\"\",IF(AD54=\"0\",\"0\",COUNTIF(AD12:AD53,AD54)))","v":""},"","","","","","","BYE",{"$f":"COUNTIF(AS12:AS54,\"W\")","v":0},{"$f":"IF(AR54=\"\",\"\",COUNTIF(AR12:AR54,\"-\"))","v":""},"","","BYE",""]
[44,{"$f":"IF(REG!B54<>\"\",REG!B54,\"\")","v":""},{"$f":"IF(REG!C54<>\"\",REG!G54,\"\")","v":""},null,null,null,null,"","",null,null,null,null,null,"","","","","","","","",{"$f":"IF(R55=\"\",\"\",COUNTIF(R12:R55,\"-\"))","v":""},"","","","","","","",{"$f":"IF(R55=\"\",\"\",IF(AD55=\"0\",\"0\",COUNTIF(AD12:AD54,AD55)))","v":""},"","","","","","","BYE",{"$f":"COUNTIF(AS12:AS55,\"W\")","v":0},{"$f":"IF(AR55=\"\",\"\",COUNTIF(AR12:AR55,\"-\"))","v":""},"","","BYE",""]
[45,{"$f":"IF(REG!B55<>\"\",REG!B55,\"\")","v":""},{"$f":"IF(REG!C55<>\"\",REG!G55,\"\")","v":""},null,null,null,null,"","",null,null,null,null,null,"","","","","","","","",{"$f":"IF(R56=\"\",\"\",COUNTIF(R12:R56,\"-\"))","v":""},"","","","","","","",{"$f":"IF(R56=\"\",\"\",IF(AD56=\"0\",\"0\",COUNTIF(AD12:AD55,AD56)))","v":""},"","","","","","","BYE",{"$f":"COUNTIF(AS12:AS56,\"W\")","v":0},{"$f":"IF(AR56=\"\",\"\",COUNTIF(AR12:AR56,\"-\"))","v":""},"","","BYE",""]
[46,{"$f":"IF(REG!B56<>\"\",REG!B56,\"\")","v":""},{"$f":"IF(REG!C56<>\"\",REG!G56,\"\")","v":""},null,null,null,null,"","",null,null,null,null,null,"","","","","","","","",{"$f":"IF(R57=\"\",\"\",COUNTIF(R12:R57,\"-\"))","v":""},"","","","","","","",{"$f":"IF(R57=\"\",\"\",IF(AD57=\"0\",\"0\",COUNTIF(AD12:AD56,AD57)))","v":""},"","","","","","","BYE",{"$f":"COUNTIF(AS12:AS57,\"W\")","v":0},{"$f":"IF(AR57=\"\",\"\",COUNTIF(AR12:AR57,\"-\"))","v":""},"","","BYE",""]
[47,{"$f":"IF(REG!B57<>\"\",REG!B57,\"\")","v":""},{"$f":"IF(REG!C57<>\"\",REG!G57,\"\")","v":""},null,null,null,null,"","",null,null,null,null,null,"","","","","","","","",{"$f":"IF(R58=\"\",\"\",COUNTIF(R12:R58,\"-\"))","v":""},"","","","","","","",{"$f":"IF(R58=\"\",\"\",IF(AD58=\"0\",\"0\",COUNTIF(AD12:AD57,AD58)))","v":""},"","","","","","","BYE",{"$f":"COUNTIF(AS12:AS58,\"W\")","v":0},{"$f":"IF(AR58=\"\",\"\",COUNTIF(AR12:AR58,\"-\"))","v":""},"","","BYE",""]
[48,{"$f":"IF(REG!B58<>\"\",REG!B58,\"\")","v":""},{"$f":"IF(REG!C58<>\"\",REG!G58,\"\")","v":""},null,null,null,null,"","",null,null,null,null,null,"","","","","","","","",{"$f":"IF(R59=\"\",\"\",COUNTIF(R12:R59,\"-\"))","v":""},"","","","","","","",{"$f":"IF(R59=\"\",\"\",IF(AD59=\"0\",\"0\",COUNTIF(AD12:AD58,AD59)))","v":""},"","","","","","","BYE",{"$f":"COUNTIF(AS12:AS59,\"W\")","v":0},{"$f":"IF(AR59=\"\",\"\",COUNTIF(AR12:AR59,\"-\"))","v":""},"","","BYE",""]
[49,{"$f":"IF(REG!B59<>\"\",REG!B59,\"\")","v":""},{"$f":"IF(REG!C59<>\"\",REG!G59,\"\")","v":""},null,null,null,null,"","",null,null,null,null,null,"","","","","","","","",{"$f":"IF(R60=\"\",\"\",COUNTIF(R12:R60,\"-\"))","v":""},"","","","","","","",{"$f":"IF(R60=\"\",\"\",IF(AD60=\"0\",\"0\",COUNTIF(AD12:AD59,AD60)))","v":""},"","","","","","","BYE",{"$f":"COUNTIF(AS12:AS60,\"W\")","v":0},{"$f":"IF(AR60=\"\",\"\",COUNTIF(AR12:AR60,\"-\"))","v":""},"","","BYE",""]
[50,{"$f":"IF(REG!B60<>\"\",REG!B60,\"\")","v":""},{"$f":"IF(REG!C60<>\"\",REG!G60,\"\")","v":""},null,null,null,null,"","",null,null,null,null,null,"","","","","","","","",{"$f":"IF(R61=\"\",\"\",COUNTIF(R12:R61,\"-\"))","v":""},"","","","","","","",{"$f":"IF(R61=\"\",\"\",IF(AD61=\"0\",\"0\",COUNTIF(AD12:AD60,AD61)))","v":""},"","","","","","","BYE",{"$f":"COUNTIF(AS12:AS61,\"W\")","v":0},{"$f":"IF(AR61=\"\",\"\",COUNTIF(AR12:AR61,\"-\"))","v":""},"","","BYE",""]
[51,{"$f":"IF(REG!B61<>\"\",REG!B61,\"\")","v":""},{"$f":"IF(REG!C61<>\"\",REG!G61,\"\")","v":""},null,null,null,null,"","",null,null,null,null,null,"","","","","","","","",{"$f":"IF(R62=\"\",\"\",COUNTIF(R12:R62,\"-\"))","v":""},"","","","","","","",{"$f":"IF(R62=\"\",\"\",IF(AD62=\"0\",\"0\",COUNTIF(AD12:AD61,AD62)))","v":""},"","","","","","","BYE",{"$f":"COUNTIF(AS12:AS62,\"W\")","v":0},{"$f":"IF(AR62=\"\",\"\",COUNTIF(AR12:AR62,\"-\"))","v":""},"","","BYE",""]
[52,{"$f":"IF(REG!B62<>\"\",REG!B62,\"\")","v":""},{"$f":"IF(REG!C62<>\"\",REG!G62,\"\")","v":""},null,null,null,null,"","",null,null,null,null,null,"","","","","","","","",{"$f":"IF(R63=\"\",\"\",COUNTIF(R12:R63,\"-\"))","v":""},"","","","","","","",{"$f":"IF(R63=\"\",\"\",IF(AD63=\"0\",\"0\",COUNTIF(AD12:AD62,AD63)))","v":""},"","","","","","","BYE",{"$f":"COUNTIF(AS12:AS63,\"W\")","v":0},{"$f":"IF(AR63=\"\",\"\",COUNTIF(AR12:AR63,\"-\"))","v":""},"","","BYE",""]
[53,{"$f":"IF(REG!B63<>\"\",REG!B63,\"\")","v":""},{"$f":"IF(REG!C63<>\"\",REG!G63,\"\")","v":""},null,null,null,null,"","",null,null,null,null,null,"","","","","","","","",{"$f":"IF(R64=\"\",\"\",COUNTIF(R12:R64,\"-\"))","v":""},"","","","","","","",{"$f":"IF(R64=\"\",\"\",IF(AD64=\"0\",\"0\",COUNTIF(AD12:AD63,AD64)))","v":""},"","","","","","","BYE",{"$f":"COUNTIF(AS12:AS64,\"W\")","v":0},{"$f":"IF(AR64=\"\",\"\",COUNTIF(AR12:AR64,\"-\"))","v":""},"","","BYE",""]
[54,{"$f":"IF(REG!B64<>\"\",REG!B64,\"\")","v":""},{"$f":"IF(REG!C64<>\"\",REG!G64,\"\")","v":""},null,null,null,null,"","",null,null,null,null,null,"","","","","","","","",{"$f":"IF(R65=\"\",\"\",COUNTIF(R12:R65,\"-\"))","v":""},"","","","","","","",{"$f":"IF(R65=\"\",\"\",IF(AD65=\"0\",\"0\",COUNTIF(AD12:AD64,AD65)))","v":""},"","","","","","","BYE",{"$f":"COUNTIF(AS12:AS65,\"W\")","v":0},{"$f":"IF(AR65=\"\",\"\",COUNTIF(AR12:AR65,\"-\"))","v":""},"","","BYE",""]
[55,{"$f":"IF(REG!B65<>\"\",REG!B65,\"\")","v":""},{"$f":"IF(REG!C65<>\"\",REG!G65,\"\")","v":""},null,null,null,null,"","",null,null,null,null,null,"","","","","","","","",{"$f":"IF(R66=\"\",\"\",COUNTIF(R12:R66,\"-\"))","v":""},"","","","","","","",{"$f":"IF(R66=\"\",\"\",IF(AD66=\"0\",\"0\",COUNTIF(AD12:AD65,AD66)))","v":""},"","","","","","","BYE",{"$f":"COUNTIF(AS12:AS66,\"W\")","v":0},{"$f":"IF(AR66=\"\",\"\",COUNTIF(AR12:AR66,\"-\"))","v":""},"","","BYE",""]
[56,{"$f":"IF(REG!B66<>\"\",REG!B66,\"\")","v":""},{"$f":"IF(REG!C66<>\"\",REG!G66,\"\")","v":""},null,null,null,null,"","",null,null,null,null,null,"","","","","","","","",{"$f":"IF(R67=\"\",\"\",COUNTIF(R12:R67,\"-\"))","v":""},"","","","","","","",{"$f":"IF(R67=\"\",\"\",IF(AD67=\"0\",\"0\",COUNTIF(AD12:AD66,AD67)))","v":""},"","","","","","","BYE",{"$f":"COUNTIF(AS12:AS67,\"W\")","v":0},{"$f":"IF(AR67=\"\",\"\",COUNTIF(AR12:AR67,\"-\"))","v":""},"","","BYE",""]
[57,{"$f":"IF(REG!B67<>\"\",REG!B67,\"\")","v":""},{"$f":"IF(REG!C67<>\"\",REG!G67,\"\")","v":""},null,null,null,null,"","",null,null,null,null,null,"","","","","","","","",{"$f":"IF(R68=\"\",\"\",COUNTIF(R12:R68,\"-\"))","v":""},"","","","","","","",{"$f":"IF(R68=\"\",\"\",IF(R68=\"\",\"\",IF(AD68=\"0\",\"0\",COUNTIF(AD12:AD67,AD68))))","v":""},"","","","","","","BYE",{"$f":"COUNTIF(AS12:AS68,\"W\")","v":0},{"$f":"IF(AR68=\"\",\"\",COUNTIF(AR12:AR68,\"-\"))","v":""},"","","BYE",""]
[58,{"$f":"IF(REG!B68<>\"\",REG!B68,\"\")","v":""},{"$f":"IF(REG!C68<>\"\",REG!G68,\"\")","v":""},null,null,null,null,"","",null,null,null,null,null,"","","","","","","","",{"$f":"IF(R69=\"\",\"\",COUNTIF(R12:R69,\"-\"))","v":""},"","","","","","","",{"$f":"IF(R69=\"\",\"\",IF(R69=\"\",\"\",IF(AD69=\"0\",\"0\",COUNTIF(AD12:AD68,AD69))))","v":""},"","","","","","","BYE",{"$f":"COUNTIF(AS12:AS69,\"W\")","v":0},{"$f":"IF(AR69=\"\",\"\",COUNTIF(AR12:AR69,\"-\"))","v":""},"","","BYE",""]
[59,{"$f":"IF(REG!B69<>\"\",REG!B69,\"\")","v":""},{"$f":"IF(REG!C69<>\"\",REG!G69,\"\")","v":""},null,null,null,null,"","",null,null,null,null,null,"","","","","","","","",{"$f":"IF(R70=\"\",\"\",COUNTIF(R12:R70,\"-\"))","v":""},"","","","","","","",{"$f":"IF(R70=\"\",\"\",IF(R70=\"\",\"\",IF(AD70=\"0\",\"0\",COUNTIF(AD12:AD69,AD70))))","v":""},"","","","","","","BYE",{"$f":"COUNTIF(AS12:AS70,\"W\")","v":0},{"$f":"IF(AR70=\"\",\"\",COUNTIF(AR12:AR70,\"-\"))","v":""},"","","BYE",""]
[60,{"$f":"IF(REG!B70<>\"\",REG!B70,\"\")","v":""},{"$f":"IF(REG!C70<>\"\",REG!G70,\"\")","v":""},null,null,null,null,"","",null,null,null,null,null,"","","","","","","","",{"$f":"IF(R71=\"\",\"\",COUNTIF(R12:R71,\"-\"))","v":""},"","","","","","","",{"$f":"IF(R71=\"\",\"\",IF(AD71=\"0\",\"0\",COUNTIF(AD12:AD70,AD71)))","v":""},"","","","","","","BYE",{"$f":"COUNTIF(AS12:AS71,\"W\")","v":0},{"$f":"IF(AR71=\"\",\"\",COUNTIF(AR12:AR71,\"-\"))","v":""},"","","BYE",""]
[61,{"$f":"IF(REG!B71<>\"\",REG!B71,\"\")","v":""},{"$f":"IF(REG!C71<>\"\",REG!G71,\"\")","v":""},null,null,null,null,"","",null,null,null,null,null,"","","","","","","","",{"$f":"IF(R72=\"\",\"\",COUNTIF(R12:R72,\"-\"))","v":""},"","","","","","","",{"$f":"IF(R72=\"\",\"\",IF(AD72=\"0\",\"0\",COUNTIF(AD52:AD71,AD72)))","v":""},"","","","","","","BYE",{"$f":"COUNTIF(AS12:AS72,\"W\")","v":0},{"$f":"IF(AR72=\"\",\"\",COUNTIF(AR12:AR72,\"-\"))","v":""},"","","BYE",""]
[62,{"$f":"IF(REG!B72<>\"\",REG!B72,\"\")","v":""},{"$f":"IF(REG!C72<>\"\",REG!G72,\"\")","v":""},null,null,null,null,"","",null,null,null,null,null,"","","","","","","","",{"$f":"IF(R73=\"\",\"\",COUNTIF(R12:R73,\"-\"))","v":""},"","","","","","","",{"$f":"IF(R73=\"\",\"\",IF(AD73=\"0\",\"0\",COUNTIF(AD12:AD72,AD73)))","v":""},"","","","","","","BYE",{"$f":"COUNTIF(AS12:AS73,\"W\")","v":0},{"$f":"IF(AR73=\"\",\"\",COUNTIF(AR12:AR73,\"-\"))","v":""},"","","BYE",""]
[63,{"$f":"IF(REG!B73<>\"\",REG!B73,\"\")","v":""},{"$f":"IF(REG!C73<>\"\",REG!G73,\"\")","v":""},null,null,null,null,"","",null,null,null,null,null,"","","","","","","","",{"$f":"IF(R74=\"\",\"\",COUNTIF(R12:R74,\"-\"))","v":""},"","","","","","","",{"$f":"IF(R74=\"\",\"\",IF(AD74=\"0\",\"0\",COUNTIF(AD12:AD73,AD74)))","v":""},"","","","","","","BYE",{"$f":"COUNTIF(AS12:AS74,\"W\")","v":0},{"$f":"IF(AR74=\"\",\"\",COUNTIF(AR12:AR74,\"-\"))","v":""},"","","BYE",""]
[64,{"$f":"IF(REG!B74<>\"\",REG!B74,\"\")","v":""},{"$f":"IF(REG!C74<>\"\",REG!G74,\"\")","v":""},null,null,null,null,"","",null,null,null,null,null,"","","","","","","","",{"$f":"IF(R75=\"\",\"\",COUNTIF(R12:R75,\"-\"))","v":""},"","","","","","","",{"$f":"IF(R75=\"\",\"\",IF(AD75=\"0\",\"0\",COUNTIF(AD12:AD74,AD75)))","v":""},"","","","","","","BYE",{"$f":"COUNTIF(AS12:AS75,\"W\")","v":0},{"$f":"IF(AR75=\"\",\"\",COUNTIF(AR12:AR75,\"-\"))","v":""},"","","BYE",""]
[65,{"$f":"IF(REG!B75<>\"\",REG!B75,\"\")","v":""},{"$f":"IF(REG!C75<>\"\",REG!G75,\"\")","v":""},null,null,null,null,"","",null,null,null,null,null,"","","",{"$f":"IF(AND(ISBLANK(D76),ISBLANK(K76)),\"\",IF(AND(H76=\"-\",O76=\"-\"),\"-\",IF(AND(H76=\"-\",ISBLANK(K76)),\"-\",MIN(H76,O76))))","v":""},"","","","",{"$f":"IF(R76=\"\",\"\",COUNTIF(R12:R76,\"-\"))","v":""},"","","","","","","",{"$f":"IF(R76=\"\",\"\",IF(AD76=\"0\",\"0\",COUNTIF(AD12:AD75,AD76)))","v":""},"","","","","","","BYE",{"$f":"COUNTIF(AS12:AS76,\"W\")","v":0},{"$f":"IF(AR76=\"\",\"\",COUNTIF(AR12:AR76,\"-\"))","v":""},"","","BYE",""]
[66,{"$f":"IF(REG!B76<>\"\",REG!B76,\"\")","v":""},{"$f":"IF(REG!C76<>\"\",REG!G76,\"\")","v":""},null,null,null,null,"","",null,null,null,null,null,"","","","","","","","",{"$f":"IF(R77=\"\",\"\",COUNTIF(R12:R77,\"-\"))","v":""},"","","","","","","",{"$f":"IF(R77=\"\",\"\",IF(AD77=\"0\",\"0\",COUNTIF(AD12:AD76,AD77)))","v":""},"","","","","","","BYE",{"$f":"COUNTIF(AS12:AS77,\"W\")","v":0},{"$f":"IF(AR77=\"\",\"\",COUNTIF(AR12:AR77,\"-\"))","v":""},"","","BYE",""]
[67,{"$f":"IF(REG!B77<>\"\",REG!B77,\"\")","v":""},{"$f":"IF(REG!C77<>\"\",REG!G77,\"\")","v":""},null,null,null,null,"","",null,null,null,null,null,"","","","","","","","",{"$f":"IF(R78=\"\",\"\",COUNTIF(R12:R78,\"-\"))","v":""},"","","","","","","",{"$f":"IF(R78=\"\",\"\",IF(AD78=\"0\",\"0\",COUNTIF(AD12:AD77,AD78)))","v":""},"","","","","","","BYE",{"$f":"COUNTIF(AS12:AS78,\"W\")","v":0},{"$f":"IF(AR78=\"\",\"\",COUNTIF(AR12:AR78,\"-\"))","v":""},"","","BYE",""]
[68,{"$f":"IF(REG!B78<>\"\",REG!B78,\"\")","v":""},{"$f":"IF(REG!C78<>\"\",REG!G78,\"\")","v":""},null,null,null,null,"","",null,null,null,null,null,"","","","","","","","",{"$f":"IF(R79=\"\",\"\",COUNTIF(R12:R79,\"-\"))","v":""},"","","","","","","",{"$f":"IF(R79=\"\",\"\",IF(AD79=\"0\",\"0\",COUNTIF(AD12:AD78,AD79)))","v":""},"","","","","","","BYE",{"$f":"COUNTIF(AS12:AS79,\"W\")","v":0},{"$f":"IF(AR79=\"\",\"\",COUNTIF(AR12:AR79,\"-\"))","v":""},"","","BYE",""]
[69,{"$f":"IF(REG!B79<>\"\",REG!B79,\"\")","v":""},{"$f":"IF(REG!C79<>\"\",REG!G79,\"\")","v":""},null,null,null,null,"","",null,null,null,null,null,"","","","","","","","",{"$f":"IF(R80=\"\",\"\",COUNTIF(R12:R80,\"-\"))","v":""},"","","","","","","",{"$f":"IF(R80=\"\",\"\",IF(AD80=\"0\",\"0\",COUNTIF(AD12:AD79,AD80)))","v":""},"","","","","","","BYE",{"$f":"COUNTIF(AS12:AS80,\"W\")","v":0},{"$f":"IF(AR80=\"\",\"\",COUNTIF(AR12:AR80,\"-\"))","v":""},"","","BYE",""]
[70,{"$f":"IF(REG!B80<>\"\",REG!B80,\"\")","v":""},{"$f":"IF(REG!C80<>\"\",REG!G80,\"\")","v":""},null,null,null,null,"","",null,null,null,null,null,"","","","","","","","",{"$f":"IF(R81=\"\",\"\",COUNTIF(R12:R81,\"-\"))","v":""},"","","","","","","",{"$f":"IF(R81=\"\",\"\",IF(AD81=\"0\",\"0\",COUNTIF(AD12:AD80,AD81)))","v":""},"","","","","","","BYE",{"$f":"COUNTIF(AS12:AS81,\"W\")","v":0},{"$f":"IF(AR81=\"\",\"\",COUNTIF(AR12:AR81,\"-\"))","v":""},"","","BYE",""]
[71,{"$f":"IF(REG!B81<>\"\",REG!B81,\"\")","v":""},{"$f":"IF(REG!C81<>\"\",REG!G81,\"\")","v":""},null,null,null,null,"","",null,null,null,null,null,"","","","","","","","",{"$f":"IF(R82=\"\",\"\",COUNTIF(R12:R82,\"-\"))","v":""},"","","","","","","",{"$f":"IF(R82=\"\",\"\",IF(AD82=\"0\",\"0\",COUNTIF(AD12:AD81,AD82)))","v":""},"","","","","","","BYE",{"$f":"COUNTIF(AS12:AS82,\"W\")","v":0},{"$f":"IF(AR82=\"\",\"\",COUNTIF(AR12:AR82,\"-\"))","v":""},"","","BYE",""]
[72,{"$f":"IF(REG!B82<>\"\",REG!B82,\"\")","v":""},{"$f":"IF(REG!C82<>\"\",REG!G82,\"\")","v":""},null,null,null,null,"","",null,null,null,null,null,"","","","","","","","",{"$f":"IF(R83=\"\",\"\",COUNTIF(R12:R83,\"-\"))","v":""},"","","","","","","",{"$f":"IF(R83=\"\",\"\",IF(AD83=\"0\",\"0\",COUNTIF(AD12:AD82,AD83)))","v":""},"","","","","","","BYE",{"$f":"COUNTIF(AS12:AS83,\"W\")","v":0},{"$f":"IF(AR83=\"\",\"\",COUNTIF(AR12:AR83,\"-\"))","v":""},"","","BYE",""]
[73,{"$f":"IF(REG!B83<>\"\",REG!B83,\"\")","v":""},{"$f":"IF(REG!C83<>\"\",REG!G83,\"\")","v":""},null,null,null,null,"","",null,null,null,null,null,"","","","","","","","",{"$f":"IF(R84=\"\",\"\",COUNTIF(R12:R84,\"-\"))","v":""},"","","","","","","",{"$f":"IF(R84=\"\",\"\",IF(AD84=\"0\",\"0\",COUNTIF(AD12:AD83,AD84)))","v":""},"","","","","","","BYE",{"$f":"COUNTIF(AS12:AS84,\"W\")","v":0},{"$f":"IF(AR84=\"\",\"\",COUNTIF(AR12:AR84,\"-\"))","v":""},"","","BYE",""]
[74,{"$f":"IF(REG!B84<>\"\",REG!B84,\"\")","v":""},{"$f":"IF(REG!C84<>\"\",REG!G84,\"\")","v":""},null,null,null,null,"","",null,null,null,null,null,"","","","","","","","",{"$f":"IF(R85=\"\",\"\",COUNTIF(R12:R85,\"-\"))","v":""},"","","","","","","",{"$f":"IF(R85=\"\",\"\",IF(AD85=\"0\",\"0\",COUNTIF(AD12:AD84,AD85)))","v":""},"","","","","","","BYE",{"$f":"COUNTIF(AS12:AS85,\"W\")","v":0},{"$f":"IF(AR85=\"\",\"\",COUNTIF(AR12:AR85,\"-\"))","v":""},"","","BYE",""]
[75,{"$f":"IF(REG!B85<>\"\",REG!B85,\"\")","v":""},{"$f":"IF(REG!C85<>\"\",REG!G85,\"\")","v":""},null,null,null,null,"","",null,null,null,null,null,"","","","","","","","",{"$f":"IF(R86=\"\",\"\",COUNTIF(R12:R86,\"-\"))","v":""},"","","","","","","",{"$f":"IF(R86=\"\",\"\",IF(AD86=\"0\",\"0\",COUNTIF(AD12:AD85,AD86)))","v":""},"","","","","","","BYE",{"$f":"COUNTIF(AS12:AS86,\"W\")","v":0},{"$f":"IF(AR86=\"\",\"\",COUNTIF(AR12:AR86,\"-\"))","v":""},"","","BYE",""]
[76,{"$f":"IF(REG!B86<>\"\",REG!B86,\"\")","v":""},{"$f":"IF(REG!C86<>\"\",REG!G86,\"\")","v":""},null,null,null,null,"","",null,null,null,null,null,"","","","","","","","",{"$f":"IF(R87=\"\",\"\",COUNTIF(R12:R87,\"-\"))","v":""},"","","","","","","",{"$f":"IF(R87=\"\",\"\",IF(AD87=\"0\",\"0\",COUNTIF(AD12:AD86,AD87)))","v":""},"","","","","","","BYE",{"$f":"COUNTIF(AS12:AS87,\"W\")","v":0},{"$f":"IF(AR87=\"\",\"\",COUNTIF(AR12:AR87,\"-\"))","v":""},"","","BYE",""]
[77,{"$f":"IF(REG!B87<>\"\",REG!B87,\"\")","v":""},{"$f":"IF(REG!C87<>\"\",REG!G87,\"\")","v":""},null,null,null,null,"","",null,null,null,null,null,"","","","","","","","",{"$f":"IF(R88=\"\",\"\",COUNTIF(R12:R88,\"-\"))","v":""},"","","","","","","",{"$f":"IF(R88=\"\",\"\",IF(AD88=\"0\",\"0\",COUNTIF(AD12:AD87,AD88)))","v":""},"","","","","","","BYE",{"$f":"COUNTIF(AS12:AS88,\"W\")","v":0},{"$f":"IF(AR88=\"\",\"\",COUNTIF(AR12:AR88,\"-\"))","v":""},"","","BYE",""]
[78,{"$f":"IF(REG!B88<>\"\",REG!B88,\"\")","v":""},{"$f":"IF(REG!C88<>\"\",REG!G88,\"\")","v":""},null,null,null,null,"","",null,null,null,null,null,"","","","","","","","",{"$f":"IF(R89=\"\",\"\",COUNTIF(R12:R89,\"-\"))","v":""},"","","","","","","",{"$f":"IF(R89=\"\",\"\",IF(AD89=\"0\",\"0\",COUNTIF(AD12:AD88,AD89)))","v":""},"","","","","","","BYE",{"$f":"COUNTIF(AS12:AS89,\"W\")","v":0},{"$f":"IF(AR89=\"\",\"\",COUNTIF(AR12:AR89,\"-\"))","v":""},"","","BYE",""]
[79,{"$f":"IF(REG!B89<>\"\",REG!B89,\"\")","v":""},{"$f":"IF(REG!C89<>\"\",REG!G89,\"\")","v":""},null,null,null,null,"","",null,null,null,null,null,"","","","","","","","",{"$f":"IF(R90=\"\",\"\",COUNTIF(R12:R90,\"-\"))","v":""},"","","","","","","",{"$f":"IF(R90=\"\",\"\",IF(AD90=\"0\",\"0\",COUNTIF(AD12:AD89,AD90)))","v":""},"","","","","","","BYE",{"$f":"COUNTIF(AS12:AS90,\"W\")","v":0},{"$f":"IF(AR90=\"\",\"\",COUNTIF(AR12:AR90,\"-\"))","v":""},"","","BYE",""]
[80,{"$f":"IF(REG!B90<>\"\",REG!B90,\"\")","v":""},{"$f":"IF(REG!C90<>\"\",REG!G90,\"\")","v":""},null,null,null,null,"","",null,null,null,null,null,"","","","","","","","",{"$f":"IF(R91=\"\",\"\",COUNTIF(R12:R91,\"-\"))","v":""},"","","","","","","",{"$f":"IF(R91=\"\",\"\",IF(AD91=\"0\",\"0\",COUNTIF(AD12:AD90,AD91)))","v":""},"","","","","","","BYE",{"$f":"COUNTIF(AS12:AS91,\"W\")","v":0},{"$f":"IF(AR91=\"\",\"\",COUNTIF(AR12:AR91,\"-\"))","v":""},"","","BYE",""]
[81,{"$f":"IF(REG!B91<>\"\",REG!B91,\"\")","v":""},{"$f":"IF(REG!C91<>\"\",REG!G91,\"\")","v":""},null,null,null,null,"","",null,null,null,null,null,"","","","","","","","",{"$f":"IF(R92=\"\",\"\",COUNTIF(R12:R92,\"-\"))","v":""},"","","","","","","",{"$f":"IF(R92=\"\",\"\",IF(AD92=\"0\",\"0\",COUNTIF(AD12:AD91,AD92)))","v":""},"","","","","","","BYE",{"$f":"COUNTIF(AS12:AS92,\"W\")","v":0},{"$f":"IF(AR92=\"\",\"\",COUNTIF(AR12:AR92,\"-\"))","v":""},"","","BYE",""]
[82,{"$f":"IF(REG!B92<>\"\",REG!B92,\"\")","v":""},{"$f":"IF(REG!C92<>\"\",REG!G92,\"\")","v":""},null,null,null,null,"","",null,null,null,null,null,"","","","","","","","",{"$f":"IF(R93=\"\",\"\",COUNTIF(R12:R93,\"-\"))","v":""},"","","","","","","",{"$f":"IF(R93=\"\",\"\",IF(AD93=\"0\",\"0\",COUNTIF(AD12:AD92,AD93)))","v":""},"","","","","","","BYE",{"$f":"COUNTIF(AS12:AS93,\"W\")","v":0},{"$f":"IF(AR93=\"\",\"\",COUNTIF(AR12:AR93,\"-\"))","v":""},"","","BYE",""]
[83,{"$f":"IF(REG!B93<>\"\",REG!B93,\"\")","v":""},{"$f":"IF(REG!C93<>\"\",REG!G93,\"\")","v":""},null,null,null,null,"","",null,null,null,null,null,"","","","","","","","",{"$f":"IF(R94=\"\",\"\",COUNTIF(R12:R94,\"-\"))","v":""},"","","","","","","",{"$f":"IF(R94=\"\",\"\",IF(AD94=\"0\",\"0\",COUNTIF(AD12:AD93,AD94)))","v":""},"","","","","","","BYE",{"$f":"COUNTIF(AS12:AS94,\"W\")","v":0},{"$f":"IF(AR94=\"\",\"\",COUNTIF(AR12:AR94,\"-\"))","v":""},"","","BYE",""]
[84,{"$f":"IF(REG!B94<>\"\",REG!B94,\"\")","v":""},{"$f":"IF(REG!C94<>\"\",REG!G94,\"\")","v":""},null,null,null,null,"","",null,null,null,null,null,"","","","","","","","",{"$f":"IF(R95=\"\",\"\",COUNTIF(R12:R95,\"-\"))","v":""},"","","","","","","",{"$f":"IF(R95=\"\",\"\",IF(AD95=\"0\",\"0\",COUNTIF(AD12:AD94,AD95)))","v":""},"","","","","","","BYE",{"$f":"COUNTIF(AS12:AS95,\"W\")","v":0},{"$f":"IF(AR95=\"\",\"\",COUNTIF(AR12:AR95,\"-\"))","v":""},"","","BYE",""]
[85,{"$f":"IF(REG!B95<>\"\",REG!B95,\"\")","v":""},{"$f":"IF(REG!C95<>\"\",REG!G95,\"\")","v":""},null,null,null,null,"","",null,null,null,null,null,"","","","","","","","",{"$f":"IF(R96=\"\",\"\",COUNTIF(R12:R96,\"-\"))","v":""},"","","","","","","",{"$f":"IF(R96=\"\",\"\",IF(AD96=\"0\",\"0\",COUNTIF(AD12:AD95,AD96)))","v":""},"","","","","","","BYE",{"$f":"COUNTIF(AS12:AS96,\"W\")","v":0},{"$f":"IF(AR96=\"\",\"\",COUNTIF(AR12:AR96,\"-\"))","v":""},"","","BYE",""]
[86,{"$f":"IF(REG!B96<>\"\",REG!B96,\"\")","v":""},{"$f":"IF(REG!C96<>\"\",REG!G96,\"\")","v":""},null,null,null,null,"","",null,null,null,null,null,"","","","","","","","",{"$f":"IF(R97=\"\",\"\",COUNTIF(R12:R97,\"-\"))","v":""},"","","","","","","",{"$f":"IF(R97=\"\",\"\",IF(AD97=\"0\",\"0\",COUNTIF(AD12:AD96,AD97)))","v":""},"","","","","","","BYE",{"$f":"COUNTIF(AS12:AS97,\"W\")","v":0},{"$f":"IF(AR97=\"\",\"\",COUNTIF(AR12:AR97,\"-\"))","v":""},"","","BYE",""]
[87,{"$f":"IF(REG!B97<>\"\",REG!B97,\"\")","v":""},{"$f":"IF(REG!C97<>\"\",REG!G97,\"\")","v":""},null,null,null,null,"","",null,null,null,null,null,"","","","","","","","",{"$f":"IF(R98=\"\",\"\",COUNTIF(R12:R98,\"-\"))","v":""},"","","","","","","",{"$f":"IF(R98=\"\",\"\",IF(AD98=\"0\",\"0\",COUNTIF(AD12:AD97,AD98)))","v":""},"","","","","","","BYE",{"$f":"COUNTIF(AS12:AS98,\"W\")","v":0},{"$f":"IF(AR98=\"\",\"\",COUNTIF(AR12:AR98,\"-\"))","v":""},"","","BYE",""]
[88,{"$f":"IF(REG!B98<>\"\",REG!B98,\"\")","v":""},{"$f":"IF(REG!C98<>\"\",REG!G98,\"\")","v":""},null,null,null,null,"","",null,null,null,null,null,"","","","","","","","",{"$f":"IF(R99=\"\",\"\",COUNTIF(R12:R99,\"-\"))","v":""},"","","","","","","",{"$f":"IF(R99=\"\",\"\",IF(AD99=\"0\",\"0\",COUNTIF(AD12:AD98,AD99)))","v":""},"","","","","","","BYE",{"$f":"COUNTIF(AS12:AS99,\"W\")","v":0},{"$f":"IF(AR99=\"\",\"\",COUNTIF(AR12:AR99,\"-\"))","v":""},"","","BYE",""]
[89,{"$f":"IF(REG!B99<>\"\",REG!B99,\"\")","v":""},{"$f":"IF(REG!C99<>\"\",REG!G99,\"\")","v":""},null,null,null,null,"","",null,null,null,null,null,"","","","","","","","",{"$f":"IF(R100=\"\",\"\",COUNTIF(R12:R100,\"-\"))","v":""},"","","","","","","",{"$f":"IF(R100=\"\",\"\",IF(AD100=\"0\",\"0\",COUNTIF(AD12:AD99,AD100)))","v":""},"","","","","","","BYE",{"$f":"COUNTIF(AS12:AS100,\"W\")","v":0},{"$f":"IF(AR100=\"\",\"\",COUNTIF(AR12:AR100,\"-\"))","v":""},"","","BYE",""]
[90,{"$f":"IF(REG!B100<>\"\",REG!B100,\"\")","v":""},{"$f":"IF(REG!C100<>\"\",REG!G100,\"\")","v":""},null,null,null,null,"","",null,null,null,null,null,"","","","","","","","",{"$f":"IF(R101=\"\",\"\",COUNTIF(R12:R101,\"-\"))","v":""},"","","","","","","",{"$f":"IF(R101=\"\",\"\",IF(AD101=\"0\",\"0\",COUNTIF(AD12:AD100,AD101)))","v":""},"","","","","","","BYE",{"$f":"COUNTIF(AS12:AS101,\"W\")","v":0},{"$f":"IF(AR101=\"\",\"\",COUNTIF(AR12:AR101,\"-\"))","v":""},"","","BYE",""]
[91,{"$f":"IF(REG!B101<>\"\",REG!B101,\"\")","v":""},{"$f":"IF(REG!C101<>\"\",REG!G101,\"\")","v":""},null,null,null,null,"","",null,null,null,null,null,"","","","","","","","",{"$f":"IF(R102=\"\",\"\",COUNTIF(R12:R102,\"-\"))","v":""},"","","","","","","",{"$f":"IF(R102=\"\",\"\",IF(AD102=\"0\",\"0\",COUNTIF(AD12:AD101,AD102)))","v":""},"","","","","","","BYE",{"$f":"COUNTIF(AS12:AS102,\"W\")","v":0},{"$f":"IF(AR102=\"\",\"\",COUNTIF(AR12:AR102,\"-\"))","v":""},"","","BYE",""]
[92,{"$f":"IF(REG!B102<>\"\",REG!B102,\"\")","v":""},{"$f":"IF(REG!C102<>\"\",REG!G102,\"\")","v":""},null,null,null,null,"","",null,null,null,null,null,"","","","","","","","",{"$f":"IF(R103=\"\",\"\",COUNTIF(R12:R103,\"-\"))","v":""},"","","","","","","",{"$f":"IF(R103=\"\",\"\",IF(AD103=\"0\",\"0\",COUNTIF(AD12:AD102,AD103)))","v":""},"","","","","","","BYE",{"$f":"COUNTIF(AS12:AS103,\"W\")","v":0},{"$f":"IF(AR103=\"\",\"\",COUNTIF(AR12:AR103,\"-\"))","v":""},"","","BYE",""]
[93,{"$f":"IF(REG!B103<>\"\",REG!B103,\"\")","v":""},{"$f":"IF(REG!C103<>\"\",REG!G103,\"\")","v":""},null,null,null,null,"","",null,null,null,null,null,"","","","","","","","",{"$f":"IF(R104=\"\",\"\",COUNTIF(R12:R104,\"-\"))","v":""},"","","","","","","",{"$f":"IF(R104=\"\",\"\",IF(AD104=\"0\",\"0\",COUNTIF(AD12:AD103,AD104)))","v":""},"","","","","","","BYE",{"$f":"COUNTIF(AS12:AS104,\"W\")","v":0},{"$f":"IF(AR104=\"\",\"\",COUNTIF(AR12:AR104,\"-\"))","v":""},"","","BYE",""]
[94,{"$f":"IF(REG!B104<>\"\",REG!B104,\"\")","v":""},{"$f":"IF(REG!C104<>\"\",REG!G104,\"\")","v":""},null,null,null,null,"","",null,null,null,null,null,"","","","","","","","",{"$f":"IF(R105=\"\",\"\",COUNTIF(R12:R105,\"-\"))","v":""},"","","","","","","",{"$f":"IF(R105=\"\",\"\",IF(AD105=\"0\",\"0\",COUNTIF(AD12:AD104,AD105)))","v":""},"","","","","","","BYE",{"$f":"COUNTIF(AS12:AS105,\"W\")","v":0},{"$f":"IF(AR105=\"\",\"\",COUNTIF(AR12:AR105,\"-\"))","v":""},"","","BYE",""]
[95,{"$f":"IF(REG!B105<>\"\",REG!B105,\"\")","v":""},{"$f":"IF(REG!C105<>\"\",REG!G105,\"\")","v":""},null,null,null,null,"","",null,null,null,null,null,"","","","","","","","",{"$f":"IF(R106=\"\",\"\",COUNTIF(R12:R106,\"-\"))","v":""},"","","","","","","",{"$f":"IF(R106=\"\",\"\",IF(AD106=\"0\",\"0\",COUNTIF(AD12:AD105,AD106)))","v":""},"","","","","","","BYE",{"$f":"COUNTIF(AS12:AS106,\"W\")","v":0},{"$f":"IF(AR106=\"\",\"\",COUNTIF(AR12:AR106,\"-\"))","v":""},"","","BYE",""]
[96,{"$f":"IF(REG!B106<>\"\",REG!B106,\"\")","v":""},{"$f":"IF(REG!C106<>\"\",REG!G106,\"\")","v":""},null,null,null,null,"","",null,null,null,null,null,"","","","","","","","",{"$f":"IF(R107=\"\",\"\",COUNTIF(R12:R107,\"-\"))","v":""},"","","","","","","",{"$f":"IF(R107=\"\",\"\",IF(AD107=\"0\",\"0\",COUNTIF(AD12:AD106,AD107)))","v":""},"","","","","","","BYE",{"$f":"COUNTIF(AS12:AS107,\"W\")","v":0},{"$f":"IF(AR107=\"\",\"\",COUNTIF(AR12:AR107,\"-\"))","v":""},"","","BYE",""]
[97,{"$f":"IF(REG!B107<>\"\",REG!B107,\"\")","v":""},{"$f":"IF(REG!C107<>\"\",REG!G107,\"\")","v":""},null,null,null,null,"","",null,null,null,null,null,"","","","","","","","",{"$f":"IF(R108=\"\",\"\",COUNTIF(R12:R108,\"-\"))","v":""},"","","","","","","",{"$f":"IF(R108=\"\",\"\",IF(AD108=\"0\",\"0\",COUNTIF(AD12:AD107,AD108)))","v":""},"","","","","","","BYE",{"$f":"COUNTIF(AS12:AS108,\"W\")","v":0},{"$f":"IF(AR108=\"\",\"\",COUNTIF(AR12:AR108,\"-\"))","v":""},"","","BYE",""]
[98,{"$f":"IF(REG!B108<>\"\",REG!B108,\"\")","v":""},{"$f":"IF(REG!C108<>\"\",REG!G108,\"\")","v":""},null,null,null,null,"","",null,null,null,null,null,"","","","","","","","",{"$f":"IF(R109=\"\",\"\",COUNTIF(R12:R109,\"-\"))","v":""},"","","","","","","",{"$f":"IF(R109=\"\",\"\",IF(AD109=\"0\",\"0\",COUNTIF(AD12:AD108,AD109)))","v":""},"","","","","","","BYE",{"$f":"COUNTIF(AS12:AS109,\"W\")","v":0},{"$f":"IF(AR109=\"\",\"\",COUNTIF(AR12:AR109,\"-\"))","v":""},"","","BYE",""]
[99,{"$f":"IF(REG!B109<>\"\",REG!B109,\"\")","v":""},{"$f":"IF(REG!C109<>\"\",REG!G109,\"\")","v":""},null,null,null,null,"","",null,null,null,null,null,"","","","","","","","",{"$f":"IF(R110=\"\",\"\",COUNTIF(R12:R110,\"-\"))","v":""},"","","","","","","",{"$f":"IF(R110=\"\",\"\",IF(AD110=\"0\",\"0\",COUNTIF(AD12:AD109,AD110)))","v":""},"","","","","","","BYE",{"$f":"COUNTIF(AS12:AS110,\"W\")","v":0},{"$f":"IF(AR110=\"\",\"\",COUNTIF(AR12:AR110,\"-\"))","v":""},"","","BYE",""]
[100,{"$f":"IF(REG!B110<>\"\",REG!B110,\"\")","v":""},{"$f":"IF(REG!C110<>\"\",REG!G110,\"\")","v":""},null,null,null,null,"","",null,null,null,null,null,"","","","","","","","",{"$f":"IF(R111=\"\",\"\",COUNTIF(R12:R111,\"-\"))","v":""},"","","","","","","",{"$f":"IF(R111=\"\",\"\",IF(AD111=\"0\",\"0\",COUNTIF(AD12:AD110,AD111)))","v":""},"","","","","","","BYE",{"$f":"COUNTIF(AS12:AS111,\"W\")","v":0},{"$f":"IF(AR111=\"\",\"\",COUNTIF(AR12:AR111,\"-\"))","v":""},"","","BYE",""]

{"sheet":"T Q 3","index":13,"n_rows":111,"n_cols":45,"rows_kept":111,"cut":false,"hidden":false,"merged":[[9,42,10,42],[9,43,10,43],[9,44,10,44],[9,38,10,38],[9,39,10,39],[9,40,10,40],[9,41,10,41],[9,30,10,30],[9,31,10,31],[9,32,10,32],[9,33,10,33],[9,34,10,34],[9,25,10,25],[9,26,10,26],[9,27,10,27],[9,28,10,28],[9,29,10,29],[9,19,10,19],[6,1,6,2],[9,20,10,20],[9,21,10,21],[6,41,6,43],[9,3,9,8],[9,10,9,15],[9,16,10,16],[9,17,10,17],[9,18,10,18],[9,35,10,35],[9,36,10,36],[9,37,10,37],[9,22,10,22],[9,23,10,23],[9,24,10,24],[6,44,7,44],[7,1,7,2],[7,3,7,18],[7,41,7,43],[8,1,8,2],[6,3,6,18],[0,41,0,42],[1,3,1,18],[1,41,1,42],[2,3,2,18],[0,3,0,18],[9,0,10,0],[9,1,10,1],[9,2,10,2],[4,1,4,2],[5,1,5,2]]}
[null,null,null,{"$f":"CONTEST!B4","v":"Skate n Roll Polička  2022"}]
[null,null,null,{"$f":"CONTEST!B6","v":"13.8. - 14.8.2022"}]
[null,null,null,{"$f":"CONCATENATE(CONTEST!B10,\" / \",CONTEST!B16,\" / \",CONTEST!B13)","v":"TIGHT SLALOM / Qualifications / TEEN 12-14"}]
[]
[{"$f":"+'T Q 1-2'!A5","v":0.1},"secs penalty per hit cone"]
[{"$f":"+'T Q 1-2'!A6","v":8},"maximum hit cones before DQ"]
[{"$f":"+'T Q 1-2'!A8","v":1.46},"false start multiplication factor",null,"Under \"Raw Time,\" enter \"DQ\" or\"DNF\" for",null,null,null,null,null,null,null,null,null,null,null,null,null,null,null,null,null,null,null,null,null,null,null,null,null,null,null,null,null,null,null,null,null,null,null,null,null,"Advance Racers who DQ",null,null,"Y"]
[{"$f":"IF(ISERROR(0.1*AR12)=TRUE,\"\",ROUND(0.1*AR12,2))","v":1.46},"secs head-to-head DQ/DNR penalty",null,"\"Disqualified\" and \"DNR\" for \"Did Not Race.\"",null,null,null,null,null,null,null,null,null,null,null,null,null,null,null,null,null,null,null,null,null,null,null,null,null,null,null,null,null,null,null,null,null,null,null,null,null,"all Qualifying Runs? (Y/N)"]
[{"$f":"+'T Q 1-2'!A9","v":1.46},"secs max head-to-head victory margin"]
[null,"START Number","Racer Name","Run 1-2",null,null,null,null,null,null,"Run 3",null,null,null,null,null,"Qual Rank (w/out DQs)","Best Time","Qualifying Position","Qual Rank (w/DQs sequenced)","Racer No. & Name","Best Time","Double DQ Place Factor","No. of Ties per Best Time","Tied-at Time","Tied-at Time Rank","Run 1 Time w/DQ Adjust","Run 2 Time w/DQ Adjust","Total Time w/DQ Adjust","Total Time Rank","Total Tie Place Factor","Tie 1 Total Time Rank","Tie 1 Place Factor","Tie 2 Total Time Rank","Tie 2 Place Factor","Tie 3 Total Time Rank","Tie 3 Place Factor","Placed Racer No. & Name","Withdrawal Place Factor","Double DQ Place Factor 2","Final Spot - Withdrawals","Qualifying Position",{"$f":"CONCATENATE(+CONTEST!B4,\"                                \",+CONTEST!B8,\"                                   \",\"RUN 1-3\",\"                                     \",\"  Racer No. & Name\")","v":"Skate n Roll Polička  2022                                GIANT SLALOM                                   RUN 1-3                                       Racer No. & Name"},"Best Time","Withdraw (W)"]
[null,null,null,"BEST of 1-2","Cones","Reaction Time","False Start","Final Time","Run Rank",null,"Raw Time","Cones","Reaction Time","False Start","Final Time","Run Rank"]
[1,{"$f":"IF(REG!B11<>\"\",REG!B11,\"\")","v":""},{"$f":"IF(REG!C11<>\"\",REG!G11,\"\")","v":"Voves  Jindřich  [CZE] "},{"$f":"IF('T Q 1-2'!R12=\"\",\"DNR\",IF('T Q 1-2'!R12=\"-\",+'T Q 1-2'!D12,+'T Q 1-2'!R12))","v":14.568999999999999},null,null,null,{"$f":"IF(LEFT(D12:D111,1)=\"D\",\"-\",IF(E12:E111>A6,\"-\",IF(D12:D111>0,D12:D111+E12:E111*A5+G12:G111*A7,\"\")))","v":14.568999999999999},{"$f":"IF(H12:H111=\"\",\"\",IF(H12:H111=\"-\",\"\",RANK(H12:H111,H12:H111,1)))","v":1},null,null,null,null,null,{"$f":"IF(LEFT(K12:K111,1)=\"D\",\"-\",IF(L12:L111>A6,\"-\",IF(K12:K111>0,K12:K111+L12:L111*A5+N12:N111*A7,\"\")))","v":""},{"$f":"IF(O12:O111=\"\",\"\",IF(O12:O111=\"-\",\"\",RANK(O12:O111,O12:O111,1)))","v":""},{"$f":"IF(R12:R111=\"\",\"\",IF(R12:R111=\"-\",\"\",RANK(R12:R111,R12:R111,1)))","v":1},{"$f":"IF(AND(ISBLANK(D12),ISBLANK(K12)),\"\",IF(AND(H12=\"-\",O12=\"-\"),\"-\",IF(AND(H12=\"-\",ISBLANK(K12)),\"-\",MIN(H12,O12))))","v":14.568999999999999},{"$f":"IF(R12:R111=\"\",\"\",VLOOKUP(U12:U111,AL12:AP111,5,FALSE))","v":1},{"$f":"IF(R12:R111=\"\",\"\",IF(R12:R111=\"-\",COUNT(Q12:Q111)+W12:W111,Q12:Q111+AE12:AE111+AG12:AG111+AI12:AI111+AK12:AK111))","v":1},{"$f":"IF(B12:B111 =\"\",\"\",B12:B111 & \" \")&C12:C111","v":"Voves  Jindřich  [CZE] "},{"$f":"R12:R111","v":14.568999999999999},{"$f":"IF(R12=\"\",\"\",COUNTIF(R12:R12,\"-\"))","v":0},{"$f":"IF(Q12:Q111=\"\",\"\",COUNTIF(Q12:Q111,Q12:Q111)-1)","v":0},{"$f":"IF(R12:R111=\"-\",\"\",IF(X12:X111=0,\"\",R12:R111))","v":""},{"$f":"IF(Y12:Y111=\"\",\"\",RANK(Y12:Y111,Y12:Y111,1))","v":""},{"$f":"IF(X12:X111=\"\",\"\",IF(X12:X111=0,\"\",IF(LEFT(H12:H111,1)=\"-\",\"199\",H12:H111)))","v":""},{"$f":"IF(X12:X111=\"\",\"\",IF(X12:X111=0,\"\",IF(LEFT(O12:O111,1)=\"-\",\"199\",O12:O111)))","v":""},{"$f":"IF(ISERROR(AA12:AA111+AB12:AB111)=TRUE,AA12:AA111,AA12:AA111+AB12:AB111)","v":""},{"$f":"IF(R12:R111=\"\",\"\",IF(X12:X111=0,\"0\",IF(ISERROR(RANK(AC12:AC111,AC12:AC111,1))=TRUE,\"0\",RANK(AC12:AC111,AC12:AC111,1))))","v":"0"},0,{"$f":"IF(ISERROR(X12:X111)=TRUE,\"\",IF(Z12:Z111=1,AD12:AD111,\"\"))","v":""},{"$f":"IF(R12:R111=\"\",\"\",IF(AF12:AF111=\"\",\"0\",RANK(AF12:AF111,AF12:AF111,1)-1))","v":"0"},{"$f":"IF(ISERROR(X12:X111)=TRUE,\"\",IF(Z12:Z111=COUNT(AF12:AF111)+1,AD12:AD111,\"\"))","v":""},{"$f":"IF(R12:R111=\"\",\"\",IF(AH12:AH111=\"\",\"0\",RANK(AH12:AH111,AH12:AH111,1)-1))","v":"0"},{"$f":"IF(ISERROR(X12:X111)=TRUE,\"\",IF(Z12:Z111=COUNT(AF12:AF111)+COUNT(AH12:AH111)+1,AD12:AD111,\"\"))","v":""},{"$f":"IF(R12:R111=\"\",\"\",IF(AJ12:AJ111=\"\",\"0\",RANK(AJ12:AJ111,AJ12:AJ111,1)-1))","v":"0"},{"$f":"AQ12:AQ111","v":"Voves  Jindřich  [CZE] "},{"$f":"COUNTIF(AS12:AS12,\"W\")","v":0},{"$f":"IF(AR12=\"\",\"\",COUNTIF(AR12:AR12,\"-\"))","v":0},{"$f":"IF(AQ12:AQ111=\"BYE\",\"\",IF(AS12:AS111=\"W\",\"\",IF(AS7=\"N\",IF(AP12:AP111<=COUNT(Q12:Q111),AP12:AP111-AM12:AM111,\"\"),IF(AP12:AP111<=COUNT(Q12:Q111),AP12:AP111-AM12:AM111,AP12:AP111-AM12:AM111+AN12:AN111-1))))","v":1},{"$f":"IF(R12:R111=\"\",\"\",IF(AP11:AP110+1<=COUNT(Q12:Q111),AP11:AP110+1,COUNT(Q12:Q111)+1))","v":1},{"$f":"IF(R12:R111=\"\",\"BYE\",IF(ISERROR(VLOOKUP(A12:A111,T12:U111,2,FALSE))=TRUE,\"\",VLOOKUP(A12:A111,T12:U111,2,FALSE)))","v":"Voves  Jindřich  [CZE] "},{"$f":"IF(C12:C111=\"BYE\", \"\",IF(A12:A111=\"\",\"\",IF(ISERROR(VLOOKUP(A12:A111,T12:V111,3,FALSE))=TRUE,\"\",VLOOKUP(A12:A111,T12:V111,3,FALSE))))","v":14.568999999999999}]
[2,{"$f":"IF(REG!B12<>\"\",REG!B12,\"\")","v":""},{"$f":"IF(REG!C12<>\"\",REG!G12,\"\")","v":"Rezková  Anna  [CZE] "},{"$f":"IF('T Q 1-2'!R13=\"\",\"DNR\",IF('T Q 1-2'!R13=\"-\",+'T Q 1-2'!D13,+'T Q 1-2'!R13))","v":15.222},null,null,null,15.222,2,null,null,null,null,null,"","",2,15.222,2,2,"Rezková  Anna  [CZE] ",15.222,{"$f":"IF(R13=\"\",\"\",COUNTIF(R12:R13,\"-\"))","v":0},0,"","","","","","0",{"$f":"IF(R13=\"\",\"\",IF(AD13=\"0\",\"0\",COUNTIF(AD12:AD12,AD13)))","v":"0"},"","0","","0","","0","Rezková  Anna  [CZE] ",{"$f":"COUNTIF(AS12:AS13,\"W\")","v":0},{"$f":"IF(AR13=\"\",\"\",COUNTIF(AR12:AR13,\"-\"))","v":0},2,2,"Rezková  Anna  [CZE] ",15.222]
[3,{"$f":"IF(REG!B13<>\"\",REG!B13,\"\")","v":""},{"$f":"IF(REG!C13<>\"\",REG!G13,\"\")","v":""},{"$f":"IF('T Q 1-2'!R14=\"\",\"DNR\",IF('T Q 1-2'!R14=\"-\",+'T Q 1-2'!D14,+'T Q 1-2'!R14))","v":"DNR"},null,null,null,"-","",null,null,null,null,null,"","","","-",3,3,"","-",{"$f":"IF(R14=\"\",\"\",COUNTIF(R12:R14,\"-\"))","v":1},"","","","","","","0",{"$f":"IF(R14=\"\",\"\",IF(AD14=\"0\",\"0\",COUNTIF(AD12:AD13,AD14)))","v":"0"},"","0","","0","","0","",{"$f":"COUNTIF(AS12:AS14,\"W\")","v":0},{"$f":"IF(AR14=\"\",\"\",COUNTIF(AR12:AR14,\"-\"))","v":1},3,3,"","-"]
[4,{"$f":"IF(REG!B14<>\"\",REG!B14,\"\")","v":""},{"$f":"IF(REG!C14<>\"\",REG!G14,\"\")","v":""},{"$f":"IF('T Q 1-2'!R15=\"\",\"DNR\",IF('T Q 1-2'!R15=\"-\",+'T Q 1-2'!D15,+'T Q 1-2'!R15))","v":"DNR"},null,null,null,"-","",null,null,null,null,null,"","","","-",3,4,"","-",{"$f":"IF(R15=\"\",\"\",COUNTIF(R12:R15,\"-\"))","v":2},"","","","","","","0",{"$f":"IF(R15=\"\",\"\",IF(AD15=\"0\",\"0\",COUNTIF(AD12:AD14,AD15)))","v":"0"},"","0","","0","","0","",{"$f":"COUNTIF(AS12:AS15,\"W\")","v":0},{"$f":"IF(AR15=\"\",\"\",COUNTIF(AR12:AR15,\"-\"))","v":2},4,3,"","-"]
[5,{"$f":"IF(REG!B15<>\"\",REG!B15,\"\")","v":""},{"$f":"IF(REG!C15<>\"\",REG!G15,\"\")","v":""},{"$f":"IF('T Q 1-2'!R16=\"\",\"DNR\",IF('T Q 1-2'!R16=\"-\",+'T Q 1-2'!D16,+'T Q 1-2'!R16))","v":"DNR"},null,null,null,"-","",null,null,null,null,null,"","","","-",3,5,"","-",{"$f":"IF(R16=\"\",\"\",COUNTIF(R12:R16,\"-\"))","v":3},"","","","","","","0",{"$f":"IF(R16=\"\",\"\",IF(AD16=\"0\",\"0\",COUNTIF(AD12:AD15,AD16)))","v":"0"},"","0","","0","","0","",{"$f":"COUNTIF(AS12:AS16,\"W\")","v":0},{"$f":"IF(AR16=\"\",\"\",COUNTIF(AR12:AR16,\"-\"))","v":3},5,3,"","-"]
[6,{"$f":"IF(REG!B16<>\"\",REG!B16,\"\")","v":""},{"$f":"IF(REG!C16<>\"\",REG!G16,\"\")","v":""},{"$f":"IF('T Q 1-2'!R17=\"\",\"DNR\",IF('T Q 1-2'!R17=\"-\",+'T Q 1-2'!D17,+'T Q 1-2'!R17))","v":"DNR"},null,null,null,"-","",null,null,null,null,null,"","","","-",3,6,"","-",{"$f":"IF(R17=\"\",\"\",COUNTIF(R12:R17,\"-\"))","v":4},"","","","","","","0",{"$f":"IF(R17=\"\",\"\",IF(AD17=\"0\",\"0\",COUNTIF(AD12:AD16,AD17)))","v":"0"},"","0","","0","","0","",{"$f":"COUNTIF(AS12:AS17,\"W\")","v":0},{"$f":"IF(AR17=\"\",\"\",COUNTIF(AR12:AR17,\"-\"))","v":4},6,3,"","-"]
[7,{"$f":"IF(REG!B17<>\"\",REG!B17,\"\")","v":""},{"$f":"IF(REG!C17<>\"\",REG!G17,\"\")","v":""},{"$f":"IF('T Q 1-2'!R18=\"\",\"DNR\",IF('T Q 1-2'!R18=\"-\",+'T Q 1-2'!D18,+'T Q 1-2'!R18))","v":"DNR"},null,null,null,"-","",null,null,null,null,null,"","","","-",3,7,"","-",{"$f":"IF(R18=\"\",\"\",COUNTIF(R12:R18,\"-\"))","v":5},"","","","","","","0",{"$f":"IF(R18=\"\",\"\",IF(R18=\"\",\"\",IF(AD18=\"0\",\"0\",COUNTIF(AD12:AD17,AD18))))","v":"0"},"","0","","0","","0","",{"$f":"COUNTIF(AS12:AS18,\"W\")","v":0},{"$f":"IF(AR18=\"\",\"\",COUNTIF(AR12:AR18,\"-\"))","v":5},7,3,"","-"]
[8,{"$f":"IF(REG!B18<>\"\",REG!B18,\"\")","v":""},{"$f":"IF(REG!C18<>\"\",REG!G18,\"\")","v":""},{"$f":"IF('T Q 1-2'!R19=\"\",\"DNR\",IF('T Q 1-2'!R19=\"-\",+'T Q 1-2'!D19,+'T Q 1-2'!R19))","v":"DNR"},null,null,null,"-","",null,null,null,null,null,"","","","-",3,8,"","-",{"$f":"IF(R19=\"\",\"\",COUNTIF(R12:R19,\"-\"))","v":6},"","","","","","","0",{"$f":"IF(R19=\"\",\"\",IF(R19=\"\",\"\",IF(AD19=\"0\",\"0\",COUNTIF(AD12:AD18,AD19))))","v":"0"},"","0","","0","","0","",{"$f":"COUNTIF(AS12:AS19,\"W\")","v":0},{"$f":"IF(AR19=\"\",\"\",COUNTIF(AR12:AR19,\"-\"))","v":6},8,3,"","-"]
[9,{"$f":"IF(REG!B19<>\"\",REG!B19,\"\")","v":""},{"$f":"IF(REG!C19<>\"\",REG!G19,\"\")","v":""},{"$f":"IF('T Q 1-2'!R20=\"\",\"DNR\",IF('T Q 1-2'!R20=\"-\",+'T Q 1-2'!D20,+'T Q 1-2'!R20))","v":"DNR"},null,null,null,"-","",null,null,null,null,null,"","","","-",3,9,"","-",{"$f":"IF(R20=\"\",\"\",COUNTIF(R12:R20,\"-\"))","v":7},"","","","","","","0",{"$f":"IF(R20=\"\",\"\",IF(R20=\"\",\"\",IF(AD20=\"0\",\"0\",COUNTIF(AD12:AD19,AD20))))","v":"0"},"","0","","0","","0","",{"$f":"COUNTIF(AS12:AS20,\"W\")","v":0},{"$f":"IF(AR20=\"\",\"\",COUNTIF(AR12:AR20,\"-\"))","v":7},9,3,"","-"]
[10,{"$f":"IF(REG!B20<>\"\",REG!B20,\"\")","v":""},{"$f":"IF(REG!C20<>\"\",REG!G20,\"\")","v":""},{"$f":"IF('T Q 1-2'!R21=\"\",\"DNR\",IF('T Q 1-2'!R21=\"-\",+'T Q 1-2'!D21,+'T Q 1-2'!R21))","v":"DNR"},null,null,null,"-","",null,null,null,null,null,"","","","-",3,10,"","-",{"$f":"IF(R21=\"\",\"\",COUNTIF(R12:R21,\"-\"))","v":8},"","","","","","","0",{"$f":"IF(R21=\"\",\"\",IF(AD21=\"0\",\"0\",COUNTIF(AD12:AD20,AD21)))","v":"0"},"","0","","0","","0","",{"$f":"COUNTIF(AS12:AS21,\"W\")","v":0},{"$f":"IF(AR21=\"\",\"\",COUNTIF(AR12:AR21,\"-\"))","v":8},10,3,"","-"]
[11,{"$f":"IF(REG!B21<>\"\",REG!B21,\"\")","v":""},{"$f":"IF(REG!C21<>\"\",REG!G21,\"\")","v":""},{"$f":"IF('T Q 1-2'!R22=\"\",\"DNR\",IF('T Q 1-2'!R22=\"-\",+'T Q 1-2'!D22,+'T Q 1-2'!R22))","v":"DNR"},null,null,null,"-","",null,null,null,null,null,"","","","-",3,11,"","-",{"$f":"IF(R22=\"\",\"\",COUNTIF(R12:R22,\"-\"))","v":9},"","","","","","","0",{"$f":"IF(R22=\"\",\"\",IF(AD22=\"0\",\"0\",COUNTIF(AD1:AD21,AD22)))","v":"0"},"","0","","0","","0","",{"$f":"COUNTIF(AS12:AS22,\"W\")","v":0},{"$f":"IF(AR22=\"\",\"\",COUNTIF(AR12:AR22,\"-\"))","v":9},11,3,"","-"]
[12,{"$f":"IF(REG!B22<>\"\",REG!B22,\"\")","v":""},{"$f":"IF(REG!C22<>\"\",REG!G22,\"\")","v":""},{"$f":"IF('T Q 1-2'!R23=\"\",\"DNR\",IF('T Q 1-2'!R23=\"-\",+'T Q 1-2'!D23,+'T Q 1-2'!R23))","v":"DNR"},null,null,null,"-","",null,null,null,null,null,"","","","-",3,12,"","-",{"$f":"IF(R23=\"\",\"\",COUNTIF(R12:R23,\"-\"))","v":10},"","","","","","","0",{"$f":"IF(R23=\"\",\"\",IF(AD23=\"0\",\"0\",COUNTIF(AD12:AD22,AD23)))","v":"0"},"","0","","0","","0","",{"$f":"COUNTIF(AS12:AS23,\"W\")","v":0},{"$f":"IF(AR23=\"\",\"\",COUNTIF(AR12:AR23,\"-\"))","v":10},12,3,"","-"]
[13,{"$f":"IF(REG!B23<>\"\",REG!B23,\"\")","v":""},{"$f":"IF(REG!C23<>\"\",REG!G23,\"\")","v":""},{"$f":"IF('T Q 1-2'!R24=\"\",\"DNR\",IF('T Q 1-2'!R24=\"-\",+'T Q 1-2'!D24,+'T Q 1-2'!R24))","v":"DNR"},null,null,null,"-","",null,null,null,null,null,"","","","-",3,13,"","-",{"$f":"IF(R24=\"\",\"\",COUNTIF(R12:R24,\"-\"))","v":11},"","","","","","","0",{"$f":"IF(R24=\"\",\"\",IF(AD24=\"0\",\"0\",COUNTIF(AD12:AD23,AD24)))","v":"0"},"","0","","0","","0","",{"$f":"COUNTIF(AS12:AS24,\"W\")","v":0},{"$f":"IF(AR24=\"\",\"\",COUNTIF(AR12:AR24,\"-\"))","v":11},13,3,"","-"]
[14,{"$f":"IF(REG!B24<>\"\",REG!B24,\"\")","v":""},{"$f":"IF(REG!C24<>\"\",REG!G24,\"\")","v":""},{"$f":"IF('T Q 1-2'!R25=\"\",\"DNR\",IF('T Q 1-2'!R25=\"-\",+'T Q 1-2'!D25,+'T Q 1-2'!R25))","v":"DNR"},null,null,null,"-","",null,null,null,null,null,"","","","-",3,14,"","-",{"$f":"IF(R25=\"\",\"\",COUNTIF(R12:R25,\"-\"))","v":12},"","","","","","","0",{"$f":"IF(R25=\"\",\"\",IF(AD25=\"0\",\"0\",COUNTIF(AD12:AD24,AD25)))","v":"0"},"","0","","0","","0","",{"$f":"COUNTIF(AS12:AS25,\"W\")","v":0},{"$f":"IF(AR25=\"\",\"\",COUNTIF(AR12:AR25,\"-\"))","v":12},14,3,"","-"]
[15,{"$f":"IF(REG!B25<>\"\",REG!B25,\"\")","v":""},{"$f":"IF(REG!C25<>\"\",REG!G25,\"\")","v":""},{"$f":"IF('T Q 1-2'!R26=\"\",\"DNR\",IF('T Q 1-2'!R26=\"-\",+'T Q 1-2'!D26,+'T Q 1-2'!R26))","v":"DNR"},null,null,null,"-","",null,null,null,null,null,"","","","-",3,15,"","-",{"$f":"IF(R26=\"\",\"\",COUNTIF(R12:R26,\"-\"))","v":13},"","","","","","","0",{"$f":"IF(R26=\"\",\"\",IF(AD26=\"0\",\"0\",COUNTIF(AD12:AD25,AD26)))","v":"0"},"","0","","0","","0","",{"$f":"COUNTIF(AS12:AS26,\"W\")","v":0},{"$f":"IF(AR26=\"\",\"\",COUNTIF(AR12:AR26,\"-\"))","v":13},15,3,"","-"]
[16,{"$f":"IF(REG!B26<>\"\",REG!B26,\"\")","v":""},{"$f":"IF(REG!C26<>\"\",REG!G26,\"\")","v":""},{"$f":"IF('T Q 1-2'!R27=\"\",\"DNR\",IF('T Q 1-2'!R27=\"-\",+'T Q 1-2'!D27,+'T Q 1-2'!R27))","v":"DNR"},null,null,null,"-","",null,null,null,null,null,"","","","-",3,16,"","-",{"$f":"IF(R27=\"\",\"\",COUNTIF(R12:R27,\"-\"))","v":14},"","","","","","","0",{"$f":"IF(R27=\"\",\"\",IF(AD27=\"0\",\"0\",COUNTIF(AD12:AD26,AD27)))","v":"0"},"","0","","0","","0","",{"$f":"COUNTIF(AS12:AS27,\"W\")","v":0},{"$f":"IF(AR27=\"\",\"\",COUNTIF(AR12:AR27,\"-\"))","v":14},16,3,"","-"]
[17,{"$f":"IF(REG!B27<>\"\",REG!B27,\"\")","v":""},{"$f":"IF(REG!C27<>\"\",REG!G27,\"\")","v":""},{"$f":"IF('T Q 1-2'!R28=\"\",\"DNR\",IF('T Q 1-2'!R28=\"-\",+'T Q 1-2'!D28,+'T Q 1-2'!R28))","v":"DNR"},null,null,null,"-","",null,null,null,null,null,"","","","-",3,17,"","-",{"$f":"IF(R28=\"\",\"\",COUNTIF(R12:R28,\"-\"))","v":15},"","","","","","","0",{"$f":"IF(R28=\"\",\"\",IF(AD28=\"0\",\"0\",COUNTIF(AD12:AD27,AD28)))","v":"0"},"","0","","0","","0","",{"$f":"COUNTIF(AS12:AS28,\"W\")","v":0},{"$f":"IF(AR28=\"\",\"\",COUNTIF(AR12:AR28,\"-\"))","v":15},17,3,"","-"]
[18,{"$f":"IF(REG!B28<>\"\",REG!B28,\"\")","v":""},{"$f":"IF(REG!C28<>\"\",REG!G28,\"\")","v":""},{"$f":"IF('T Q 1-2'!R29=\"\",\"DNR\",IF('T Q 1-2'!R29=\"-\",+'T Q 1-2'!D29,+'T Q 1-2'!R29))","v":"DNR"},null,null,null,"-","",null,null,null,null,null,"","","","-",3,18,"","-",{"$f":"IF(R29=\"\",\"\",COUNTIF(R12:R29,\"-\"))","v":16},"","","","","","","0",{"$f":"IF(R29=\"\",\"\",IF(AD29=\"0\",\"0\",COUNTIF(AD12:AD28,AD29)))","v":"0"},"","0","","0","","0","",{"$f":"COUNTIF(AS12:AS29,\"W\")","v":0},{"$f":"IF(AR29=\"\",\"\",COUNTIF(AR12:AR29,\"-\"))","v":16},18,3,"","-"]
[19,{"$f":"IF(REG!B29<>\"\",REG!B29,\"\")","v":""},{"$f":"IF(REG!C29<>\"\",REG!G29,\"\")","v":""},{"$f":"IF('T Q 1-2'!R30=\"\",\"DNR\",IF('T Q 1-2'!R30=\"-\",+'T Q 1-2'!D30,+'T Q 1-2'!R30))","v":"DNR"},null,null,null,"-","",null,null,null,null,null,"","","","-",3,19,"","-",{"$f":"IF(R30=\"\",\"\",COUNTIF(R12:R30,\"-\"))","v":17},"","","","","","","0",{"$f":"IF(R30=\"\",\"\",IF(AD30=\"0\",\"0\",COUNTIF(AD12:AD29,AD30)))","v":"0"},"","0","","0","","0","",{"$f":"COUNTIF(AS12:AS30,\"W\")","v":0},{"$f":"IF(AR30=\"\",\"\",COUNTIF(AR12:AR30,\"-\"))","v":17},19,3,"","-"]
[20,{"$f":"IF(REG!B30<>\"\",REG!B30,\"\")","v":""},{"$f":"IF(REG!C30<>\"\",REG!G30,\"\")","v":""},{"$f":"IF('T Q 1-2'!R31=\"\",\"DNR\",IF('T Q 1-2'!R31=\"-\",+'T Q 1-2'!D31,+'T Q 1-2'!R31))","v":"DNR"},null,null,null,"-","",null,null,null,null,null,"","","","-",3,20,"","-",{"$f":"IF(R31=\"\",\"\",COUNTIF(R12:R31,\"-\"))","v":18},"","","","","","","0",{"$f":"IF(R31=\"\",\"\",IF(AD31=\"0\",\"0\",COUNTIF(AD12:AD30,AD31)))","v":"0"},"","0","","0","","0","",{"$f":"COUNTIF(AS12:AS31,\"W\")","v":0},{"$f":"IF(AR31=\"\",\"\",COUNTIF(AR12:AR31,\"-\"))","v":18},20,3,"","-"]
[21,{"$f":"IF(REG!B31<>\"\",REG!B31,\"\")","v":""},{"$f":"IF(REG!C31<>\"\",REG!G31,\"\")","v":""},{"$f":"IF('T Q 1-2'!R32=\"\",\"DNR\",IF('T Q 1-2'!R32=\"-\",+'T Q 1-2'!D32,+'T Q 1-2'!R32))","v":"DNR"},null,null,null,"-","",null,null,null,null,null,"","","","-",3,21,"","-",{"$f":"IF(R32=\"\",\"\",COUNTIF(R12:R32,\"-\"))","v":19},"","","","","","","0",{"$f":"IF(R32=\"\",\"\",IF(AD32=\"0\",\"0\",COUNTIF(AD12:AD31,AD32)))","v":"0"},"","0","","0","","0","",{"$f":"COUNTIF(AS12:AS32,\"W\")","v":0},{"$f":"IF(AR32=\"\",\"\",COUNTIF(AR12:AR32,\"-\"))","v":19},21,3,"","-"]
[22,{"$f":"IF(REG!B32<>\"\",REG!B32,\"\")","v":""},{"$f":"IF(REG!C32<>\"\",REG!G32,\"\")","v":""},{"$f":"IF('T Q 1-2'!R33=\"\",\"DNR\",IF('T Q 1-2'!R33=\"-\",+'T Q 1-2'!D33,+'T Q 1-2'!R33))","v":"DNR"},null,null,null,"-","",null,null,null,null,null,"","","","-",3,22,"","-",{"$f":"IF(R33=\"\",\"\",COUNTIF(R12:R33,\"-\"))","v":20},"","","","","","","0",{"$f":"IF(R33=\"\",\"\",IF(AD33=\"0\",\"0\",COUNTIF(AD12:AD32,AD33)))","v":"0"},"","0","","0","","0","",{"$f":"COUNTIF(AS12:AS33,\"W\")","v":0},{"$f":"IF(AR33=\"\",\"\",COUNTIF(AR12:AR33,\"-\"))","v":20},22,3,"","-"]
[23,{"$f":"IF(REG!B33<>\"\",REG!B33,\"\")","v":""},{"$f":"IF(REG!C33<>\"\",REG!G33,\"\")","v":""},{"$f":"IF('T Q 1-2'!R34=\"\",\"DNR\",IF('T Q 1-2'!R34=\"-\",+'T Q 1-2'!D34,+'T Q 1-2'!R34))","v":"DNR"},null,null,null,"-","",null,null,null,null,null,"","","","-",3,23,"","-",{"$f":"IF(R34=\"\",\"\",COUNTIF(R12:R34,\"-\"))","v":21},"","","","","","","0",{"$f":"IF(R34=\"\",\"\",IF(AD34=\"0\",\"0\",COUNTIF(AD12:AD33,AD34)))","v":"0"},"","0","","0","","0","",{"$f":"COUNTIF(AS12:AS34,\"W\")","v":0},{"$f":"IF(AR34=\"\",\"\",COUNTIF(AR12:AR34,\"-\"))","v":21},23,3,"","-"]
[24,{"$f":"IF(REG!B34<>\"\",REG!B34,\"\")","v":""},{"$f":"IF(REG!C34<>\"\",REG!G34,\"\")","v":""},{"$f":"IF('T Q 1-2'!R35=\"\",\"DNR\",IF('T Q 1-2'!R35=\"-\",+'T Q 1-2'!D35,+'T Q 1-2'!R35))","v":"DNR"},null,null,null,"-","",null,null,null,null,null,"","","","-",3,24,"","-",{"$f":"IF(R35=\"\",\"\",COUNTIF(R12:R35,\"-\"))","v":22},"","","","","","","0",{"$f":"IF(R35=\"\",\"\",IF(AD35=\"0\",\"0\",COUNTIF(AD12:AD34,AD35)))","v":"0"},"","0","","0","","0","",{"$f":"COUNTIF(AS12:AS35,\"W\")","v":0},{"$f":"IF(AR35=\"\",\"\",COUNTIF(AR12:AR35,\"-\"))","v":22},24,3,"","-"]
[25,{"$f":"IF(REG!B35<>\"\",REG!B35,\"\")","v":""},{"$f":"IF(REG!C35<>\"\",REG!G35,\"\")","v":""},{"$f":"IF('T Q 1-2'!R36=\"\",\"DNR\",IF('T Q 1-2'!R36=\"-\",+'T Q 1-2'!D36,+'T Q 1-2'!R36))","v":"DNR"},null,null,null,"-","",null,null,null,null,null,"","","","-",3,25,"","-",{"$f":"IF(R36=\"\",\"\",COUNTIF(R12:R36,\"-\"))","v":23},"","","","","","","0",{"$f":"IF(R36=\"\",\"\",IF(AD36=\"0\",\"0\",COUNTIF(AD12:AD35,AD36)))","v":"0"},"","0","","0","","0","",{"$f":"COUNTIF(AS12:AS36,\"W\")","v":0},{"$f":"IF(AR36=\"\",\"\",COUNTIF(AR12:AR36,\"-\"))","v":23},25,3,"","-"]
[26,{"$f":"IF(REG!B36<>\"\",REG!B36,\"\")","v":""},{"$f":"IF(REG!C36<>\"\",REG!G36,\"\")","v":""},{"$f":"IF('T Q 1-2'!R37=\"\",\"DNR\",IF('T Q 1-2'!R37=\"-\",+'T Q 1-2'!D37,+'T Q 1-2'!R37))","v":"DNR"},null,null,null,"-","",null,null,null,null,null,"","","","-",3,26,"","-",{"$f":"IF(R37=\"\",\"\",COUNTIF(R12:R37,\"-\"))","v":24},"","","","","","","0",{"$f":"IF(R37=\"\",\"\",IF(AD37=\"0\",\"0\",COUNTIF(AD12:AD36,AD37)))","v":"0"},"","0","","0","","0","",{"$f":"COUNTIF(AS12:AS37,\"W\")","v":0},{"$f":"IF(AR37=\"\",\"\",COUNTIF(AR12:AR37,\"-\"))","v":24},26,3,"","-"]
[27,{"$f":"IF(REG!B37<>\"\",REG!B37,\"\")","v":""},{"$f":"IF(REG!C37<>\"\",REG!G37,\"\")","v":""},{"$f":"IF('T Q 1-2'!R38=\"\",\"DNR\",IF('T Q 1-2'!R38=\"-\",+'T Q 1-2'!D38,+'T Q 1-2'!R38))","v":"DNR"},null,null,null,"-","",null,null,null,null,null,"","","","-",3,27,"","-",{"$f":"IF(R38=\"\",\"\",COUNTIF(R12:R38,\"-\"))","v":25},"","","","","","","0",{"$f":"IF(R38=\"\",\"\",IF(AD38=\"0\",\"0\",COUNTIF(AD12:AD37,AD38)))","v":"0"},"","0","","0","","0","",{"$f":"COUNTIF(AS12:AS38,\"W\")","v":0},{"$f":"IF(AR38=\"\",\"\",COUNTIF(AR12:AR38,\"-\"))","v":25},27,3,"","-"]
[28,{"$f":"IF(REG!B38<>\"\",REG!B38,\"\")","v":""},{"$f":"IF(REG!C38<>\"\",REG!G38,\"\")","v":""},{"$f":"IF('T Q 1-2'!R39=\"\",\"DNR\",IF('T Q 1-2'!R39=\"-\",+'T Q 1-2'!D39,+'T Q 1-2'!R39))","v":"DNR"},null,null,null,"-","",null,null,null,null,null,"","","","-",3,28,"","-",{"$f":"IF(R39=\"\",\"\",COUNTIF(R12:R39,\"-\"))","v":26},"","","","","","","0",{"$f":"IF(R39=\"\",\"\",IF(AD39=\"0\",\"0\",COUNTIF(AD12:AD38,AD39)))","v":"0"},"","0","","0","","0","",{"$f":"COUNTIF(AS12:AS39,\"W\")","v":0},{"$f":"IF(AR39=\"\",\"\",COUNTIF(AR12:AR39,\"-\"))","v":26},28,3,"","-"]
[29,{"$f":"IF(REG!B39<>\"\",REG!B39,\"\")","v":""},{"$f":"IF(REG!C39<>\"\",REG!G39,\"\")","v":""},{"$f":"IF('T Q 1-2'!R40=\"\",\"DNR\",IF('T Q 1-2'!R40=\"-\",+'T Q 1-2'!D40,+'T Q 1-2'!R40))","v":"DNR"},null,null,null,"-","",null,null,null,null,null,"","","","-",3,29,"","-",{"$f":"IF(R40=\"\",\"\",COUNTIF(R12:R40,\"-\"))","v":27},"","","","","","","0",{"$f":"IF(R40=\"\",\"\",IF(AD40=\"0\",\"0\",COUNTIF(AD12:AD39,AD40)))","v":"0"},"","0","","0","","0","",{"$f":"COUNTIF(AS12:AS40,\"W\")","v":0},{"$f":"IF(AR40=\"\",\"\",COUNTIF(AR12:AR40,\"-\"))","v":27},29,3,"","-"]
[30,{"$f":"IF(REG!B40<>\"\",REG!B40,\"\")","v":""},{"$f":"IF(REG!C40<>\"\",REG!G40,\"\")","v":""},{"$f":"IF('T Q 1-2'!R41=\"\",\"DNR\",IF('T Q 1-2'!R41=\"-\",+'T Q 1-2'!D41,+'T Q 1-2'!R41))","v":"DNR"},null,null,null,"-","",null,null,null,null,null,"","","","-",3,30,"","-",{"$f":"IF(R41=\"\",\"\",COUNTIF(R12:R41,\"-\"))","v":28},"","","","","","","0",{"$f":"IF(R41=\"\",\"\",IF(AD41=\"0\",\"0\",COUNTIF(AD12:AD40,AD41)))","v":"0"},"","0","","0","","0","",{"$f":"COUNTIF(AS12:AS41,\"W\")","v":0},{"$f":"IF(AR41=\"\",\"\",COUNTIF(AR12:AR41,\"-\"))","v":28},30,3,"","-"]
[31,{"$f":"IF(REG!B41<>\"\",REG!B41,\"\")","v":""},{"$f":"IF(REG!C41<>\"\",REG!G41,\"\")","v":""},{"$f":"IF('T Q 1-2'!R42=\"\",\"DNR\",IF('T Q 1-2'!R42=\"-\",+'T Q 1-2'!D42,+'T Q 1-2'!R42))","v":"DNR"},null,null,null,"-","",null,null,null,null,null,"","","","-",3,31,"","-",{"$f":"IF(R42=\"\",\"\",COUNTIF(R12:R42,\"-\"))","v":29},"","","","","","","0",{"$f":"IF(R42=\"\",\"\",IF(AD42=\"0\",\"0\",COUNTIF(AD12:AD41,AD42)))","v":"0"},"","0","","0","","0","",{"$f":"COUNTIF(AS12:AS42,\"W\")","v":0},{"$f":"IF(AR42=\"\",\"\",COUNTIF(AR12:AR42,\"-\"))","v":29},31,3,"","-"]
[32,{"$f":"IF(REG!B42<>\"\",REG!B42,\"\")","v":""},{"$f":"IF(REG!C42<>\"\",REG!G42,\"\")","v":""},{"$f":"IF('T Q 1-2'!R43=\"\",\"DNR\",IF('T Q 1-2'!R43=\"-\",+'T Q 1-2'!D43,+'T Q 1-2'!R43))","v":"DNR"},null,null,null,"-","",null,null,null,null,null,"","","","-",3,32,"","-",{"$f":"IF(R43=\"\",\"\",COUNTIF(R12:R43,\"-\"))","v":30},"","","","","","","0",{"$f":"IF(R43=\"\",\"\",IF(AD43=\"0\",\"0\",COUNTIF(AD12:AD42,AD43)))","v":"0"},"","0","","0","","0","",{"$f":"COUNTIF(AS12:AS43,\"W\")","v":0},{"$f":"IF(AR43=\"\",\"\",COUNTIF(AR12:AR43,\"-\"))","v":30},32,3,"","-"]
[33,{"$f":"IF(REG!B43<>\"\",REG!B43,\"\")","v":""},{"$f":"IF(REG!C43<>\"\",REG!G43,\"\")","v":""},{"$f":"IF('T Q 1-2'!R44=\"\",\"DNR\",IF('T Q 1-2'!R44=\"-\",+'T Q 1-2'!D44,+'T Q 1-2'!R44))","v":"DNR"},null,null,null,"-","",null,null,null,null,null,"","","",{"$f":"IF(AND(ISBLANK(D44),ISBLANK(K44)),\"\",IF(AND(H44=\"-\",O44=\"-\"),\"-\",IF(AND(H44=\"-\",ISBLANK(K44)),\"-\",MIN(H44,O44))))","v":"-"},3,33,"","-",{"$f":"IF(R44=\"\",\"\",COUNTIF(R12:R44,\"-\"))","v":31},"","","","","","","0",{"$f":"IF(R44=\"\",\"\",IF(AD44=\"0\",\"0\",COUNTIF(AD12:AD43,AD44)))","v":"0"},"","0","","0","","0","",{"$f":"COUNTIF(AS12:AS44,\"W\")","v":0},{"$f":"IF(AR44=\"\",\"\",COUNTIF(AR12:AR44,\"-\"))","v":31},33,3,"","-"]
[34,{"$f":"IF(REG!B44<>\"\",REG!B44,\"\")","v":""},{"$f":"IF(REG!C44<>\"\",REG!G44,\"\")","v":""},{"$f":"IF('T Q 1-2'!R45=\"\",\"DNR\",IF('T Q 1-2'!R45=\"-\",+'T Q 1-2'!D45,+'T Q 1-2'!R45))","v":"DNR"},null,null,null,"-","",null,null,null,null,null,"","","","-",3,34,"","-",{"$f":"IF(R45=\"\",\"\",COUNTIF(R12:R45,\"-\"))","v":32},"","","","","","","0",{"$f":"IF(R45=\"\",\"\",IF(AD45=\"0\",\"0\",COUNTIF(AD12:AD44,AD45)))","v":"0"},"","0","","0","","0","",{"$f":"COUNTIF(AS12:AS45,\"W\")","v":0},{"$f":"IF(AR45=\"\",\"\",COUNTIF(AR12:AR45,\"-\"))","v":32},34,3,"","-"]
[35,{"$f":"IF(REG!B45<>\"\",REG!B45,\"\")","v":""},{"$f":"IF(REG!C45<>\"\",REG!G45,\"\")","v":""},{"$f":"IF('T Q 1-2'!R46=\"\",\"DNR\",IF('T Q 1-2'!R46=\"-\",+'T Q 1-2'!D46,+'T Q 1-2'!R46))","v":"DNR"},null,null,null,"-","",null,null,null,null,null,"","","","-",3,35,"","-",{"$f":"IF(R46=\"\",\"\",COUNTIF(R12:R46,\"-\"))","v":33},"","","","","","","0",{"$f":"IF(R46=\"\",\"\",IF(AD46=\"0\",\"0\",COUNTIF(AD12:AD45,AD46)))","v":"0"},"","0","","0","","0","",{"$f":"COUNTIF(AS12:AS46,\"W\")","v":0},{"$f":"IF(AR46=\"\",\"\",COUNTIF(AR12:AR46,\"-\"))","v":33},35,3,"","-"]
[36,{"$f":"IF(REG!B46<>\"\",REG!B46,\"\")","v":""},{"$f":"IF(REG!C46<>\"\",REG!G46,\"\")","v":""},{"$f":"IF('T Q 1-2'!R47=\"\",\"DNR\",IF('T Q 1-2'!R47=\"-\",+'T Q 1-2'!D47,+'T Q 1-2'!R47))","v":"DNR"},null,null,null,"-","",null,null,null,null,null,"","","","-",3,36,"","-",{"$f":"IF(R47=\"\",\"\",COUNTIF(R12:R47,\"-\"))","v":34},"","","","","","","0",{"$f":"IF(R47=\"\",\"\",IF(AD47=\"0\",\"0\",COUNTIF(AD12:AD46,AD47)))","v":"0"},"","0","","0","","0","",{"$f":"COUNTIF(AS12:AS47,\"W\")","v":0},{"$f":"IF(AR47=\"\",\"\",COUNTIF(AR12:AR47,\"-\"))","v":34},36,3,"","-"]
[37,{"$f":"IF(REG!B47<>\"\",REG!B47,\"\")","v":""},{"$f":"IF(REG!C47<>\"\",REG!G47,\"\")","v":""},{"$f":"IF('T Q 1-2'!R48=\"\",\"DNR\",IF('T Q 1-2'!R48=\"-\",+'T Q 1-2'!D48,+'T Q 1-2'!R48))","v":"DNR"},null,null,null,"-","",null,null,null,null,null,"","","","-",3,37,"","-",{"$f":"IF(R48=\"\",\"\",COUNTIF(R12:R48,\"-\"))","v":35},"","","","","","","0",{"$f":"IF(R48=\"\",\"\",IF(AD48=\"0\",\"0\",COUNTIF(AD12:AD47,AD48)))","v":"0"},"","0","","0","","0","",{"$f":"COUNTIF(AS12:AS48,\"W\")","v":0},{"$f":"IF(AR48=\"\",\"\",COUNTIF(AR12:AR48,\"-\"))","v":35},37,3,"","-"]
[38,{"$f":"IF(REG!B48<>\"\",REG!B48,\"\")","v":""},{"$f":"IF(REG!C48<>\"\",REG!G48,\"\")","v":""},{"$f":"IF('T Q 1-2'!R49=\"\",\"DNR\",IF('T Q 1-2'!R49=\"-\",+'T Q 1-2'!D49,+'T Q 1-2'!R49))","v":"DNR"},null,null,null,"-","",null,null,null,null,null,"","","","-",3,38,"","-",{"$f":"IF(R49=\"\",\"\",COUNTIF(R12:R49,\"-\"))","v":36},"","","","","","","0",{"$f":"IF(R49=\"\",\"\",IF(AD49=\"0\",\"0\",COUNTIF(AD12:AD48,AD49)))","v":"0"},"","0","","0","","0","",{"$f":"COUNTIF(AS12:AS49,\"W\")","v":0},{"$f":"IF(AR49=\"\",\"\",COUNTIF(AR12:AR49,\"-\"))","v":36},38,3,"","-"]
[39,{"$f":"IF(REG!B49<>\"\",REG!B49,\"\")","v":""},{"$f":"IF(REG!C49<>\"\",REG!G49,\"\")","v":""},{"$f":"IF('T Q 1-2'!R50=\"\",\"DNR\",IF('T Q 1-2'!R50=\"-\",+'T Q 1-2'!D50,+'T Q 1-2'!R50))","v":"DNR"},null,null,null,"-","",null,null,null,null,null,"","","","-",3,39,"","-",{"$f":"IF(R50=\"\",\"\",COUNTIF(R12:R50,\"-\"))","v":37},"","","","","","","0",{"$f":"IF(R50=\"\",\"\",IF(AD50=\"0\",\"0\",COUNTIF(AD12:AD49,AD50)))","v":"0"},"","0","","0","","0","",{"$f":"COUNTIF(AS12:AS50,\"W\")","v":0},{"$f":"IF(AR50=\"\",\"\",COUNTIF(AR12:AR50,\"-\"))","v":37},39,3,"","-"]
[40,{"$f":"IF(REG!B50<>\"\",REG!B50,\"\")","v":""},{"$f":"IF(REG!C50<>\"\",REG!G50,\"\")","v":""},{"$f":"IF('T Q 1-2'!R51=\"\",\"DNR\",IF('T Q 1-2'!R51=\"-\",+'T Q 1-2'!D51,+'T Q 1-2'!R51))","v":"DNR"},null,null,null,"-","",null,null,null,null,null,"","","","-",3,40,"","-",{"$f":"IF(R51=\"\",\"\",COUNTIF(R12:R51,\"-\"))","v":38},"","","","","","","0",{"$f":"IF(R51=\"\",\"\",IF(AD51=\"0\",\"0\",COUNTIF(AD12:AD50,AD51)))","v":"0"},"","0","","0","","0","",{"$f":"COUNTIF(AS12:AS51,\"W\")","v":0},{"$f":"IF(AR51=\"\",\"\",COUNTIF(AR12:AR51,\"-\"))","v":38},40,3,"","-"]
[41,{"$f":"IF(REG!B51<>\"\",REG!B51,\"\")","v":""},{"$f":"IF(REG!C51<>\"\",REG!G51,\"\")","v":""},{"$f":"IF('T Q 1-2'!R52=\"\",\"DNR\",IF('T Q 1-2'!R52=\"-\",+'T Q 1-2'!D52,+'T Q 1-2'!R52))","v":"DNR"},null,null,null,"-","",null,null,null,null,null,"","","","-",3,41,"","-",{"$f":"IF(R52=\"\",\"\",COUNTIF(R12:R52,\"-\"))","v":39},"","","","","","","0",{"$f":"IF(R52=\"\",\"\",IF(AD52=\"0\",\"0\",COUNTIF(AD12:AD51,AD52)))","v":"0"},"","0","","0","","0","",{"$f":"COUNTIF(AS12:AS52,\"W\")","v":0},{"$f":"IF(AR52=\"\",\"\",COUNTIF(AR12:AR52,\"-\"))","v":39},41,3,"","-"]
[42,{"$f":"IF(REG!B52<>\"\",REG!B52,\"\")","v":""},{"$f":"IF(REG!C52<>\"\",REG!G52,\"\")","v":""},{"$f":"IF('T Q 1-2'!R53=\"\",\"DNR\",IF('T Q 1-2'!R53=\"-\",+'T Q 1-2'!D53,+'T Q 1-2'!R53))","v":"DNR"},null,null,null,"-","",null,null,null,null,null,"","","","-",3,42,"","-",{"$f":"IF(R53=\"\",\"\",COUNTIF(R12:R53,\"-\"))","v":40},"","","","","","","0",{"$f":"IF(R53=\"\",\"\",IF(AD53=\"0\",\"0\",COUNTIF(AD12:AD52,AD53)))","v":"0"},"","0","","0","","0","",{"$f":"COUNTIF(AS12:AS53,\"W\")","v":0},{"$f":"IF(AR53=\"\",\"\",COUNTIF(AR12:AR53,\"-\"))","v":40},42,3,"","-"]
[43,{"$f":"IF(REG!B53<>\"\",REG!B53,\"\")","v":""},{"$f":"IF(REG!C53<>\"\",REG!G53,\"\")","v":""},{"$f":"IF('T Q 1-2'!R54=\"\",\"DNR\",IF('T Q 1-2'!R54=\"-\",+'T Q 1-2'!D54,+'T Q 1-2'!R54))","v":"DNR"},null,null,null,"-","",null,null,null,null,null,"","","","-",3,43,"","-",{"$f":"IF(R54=\"\",\"\",COUNTIF(R12:R54,\"-\"))","v":41},"","","","","","","0",{"$f":"IF(R54=\"\",\"\",IF(AD54=\"0\",\"0\",COUNTIF(AD12:AD53,AD54)))","v":"0"},"","0","","0","","0","",{"$f":"COUNTIF(AS12:AS54,\"W\")","v":0},{"$f":"IF(AR54=\"\",\"\",COUNTIF(AR12:AR54,\"-\"))","v":41},43,3,"","-"]
[44,{"$f":"IF(REG!B54<>\"\",REG!B54,\"\")","v":""},{"$f":"IF(REG!C54<>\"\",REG!G54,\"\")","v":""},{"$f":"IF('T Q 1-2'!R55=\"\",\"DNR\",IF('T Q 1-2'!R55=\"-\",+'T Q 1-2'!D55,+'T Q 1-2'!R55))","v":"DNR"},null,null,null,"-","",null,null,null,null,null,"","","","-",3,44,"","-",{"$f":"IF(R55=\"\",\"\",COUNTIF(R12:R55,\"-\"))","v":42},"","","","","","","0",{"$f":"IF(R55=\"\",\"\",IF(AD55=\"0\",\"0\",COUNTIF(AD12:AD54,AD55)))","v":"0"},"","0","","0","","0","",{"$f":"COUNTIF(AS12:AS55,\"W\")","v":0},{"$f":"IF(AR55=\"\",\"\",COUNTIF(AR12:AR55,\"-\"))","v":42},44,3,"","-"]
[45,{"$f":"IF(REG!B55<>\"\",REG!B55,\"\")","v":""},{"$f":"IF(REG!C55<>\"\",REG!G55,\"\")","v":""},{"$f":"IF('T Q 1-2'!R56=\"\",\"DNR\",IF('T Q 1-2'!R56=\"-\",+'T Q 1-2'!D56,+'T Q 1-2'!R56))","v":"DNR"},null,null,null,"-","",null,null,null,null,null,"","","","-",3,45,"","-",{"$f":"IF(R56=\"\",\"\",COUNTIF(R12:R56,\"-\"))","v":43},"","","","","","","0",{"$f":"IF(R56=\"\",\"\",IF(AD56=\"0\",\"0\",COUNTIF(AD12:AD55,AD56)))","v":"0"},"","0","","0","","0","",{"$f":"COUNTIF(AS12:AS56,\"W\")","v":0},{"$f":"IF(AR56=\"\",\"\",COUNTIF(AR12:AR56,\"-\"))","v":43},45,3,"","-"]
[46,{"$f":"IF(REG!B56<>\"\",REG!B56,\"\")","v":""},{"$f":"IF(REG!C56<>\"\",REG!G56,\"\")","v":""},{"$f":"IF('T Q 1-2'!R57=\"\",\"DNR\",IF('T Q 1-2'!R57=\"-\",+'T Q 1-2'!D57,+'T Q 1-2'!R57))","v":"DNR"},null,null,null,"-","",null,null,null,null,null,"","","","-",3,46,"","-",{"$f":"IF(R57=\"\",\"\",COUNTIF(R12:R57,\"-\"))","v":44},"","","","","","","0",{"$f":"IF(R57=\"\",\"\",IF(AD57=\"0\",\"0\",COUNTIF(AD12:AD56,AD57)))","v":"0"},"","0","","0","","0","",{"$f":"COUNTIF(AS12:AS57,\"W\")","v":0},{"$f":"IF(AR57=\"\",\"\",COUNTIF(AR12:AR57,\"-\"))","v":44},46,3,"","-"]
[47,{"$f":"IF(REG!B57<>\"\",REG!B57,\"\")","v":""},{"$f":"IF(REG!C57<>\"\",REG!G57,\"\")","v":""},{"$f":"IF('T Q 1-2'!R58=\"\",\"DNR\",IF('T Q 1-2'!R58=\"-\",+'T Q 1-2'!D58,+'T Q 1-2'!R58))","v":"DNR"},null,null,null,"-","",null,null,null,null,null,"","","","-",3,47,"","-",{"$f":"IF(R58=\"\",\"\",COUNTIF(R12:R58,\"-\"))","v":45},"","","","","","","0",{"$f":"IF(R58=\"\",\"\",IF(AD58=\"0\",\"0\",COUNTIF(AD12:AD57,AD58)))","v":"0"},"","0","","0","","0","",{"$f":"COUNTIF(AS12:AS58,\"W\")","v":0},{"$f":"IF(AR58=\"\",\"\",COUNTIF(AR12:AR58,\"-\"))","v":45},47,3,"","-"]
[48,{"$f":"IF(REG!B58<>\"\",REG!B58,\"\")","v":""},{"$f":"IF(REG!C58<>\"\",REG!G58,\"\")","v":""},{"$f":"IF('T Q 1-2'!R59=\"\",\"DNR\",IF('T Q 1-2'!R59=\"-\",+'T Q 1-2'!D59,+'T Q 1-2'!R59))","v":"DNR"},null,null,null,"-","",null,null,null,null,null,"","","","-",3,48,"","-",{"$f":"IF(R59=\"\",\"\",COUNTIF(R12:R59,\"-\"))","v":46},"","","","","","","0",{"$f":"IF(R59=\"\",\"\",IF(AD59=\"0\",\"0\",COUNTIF(AD12:AD58,AD59)))","v":"0"},"","0","","0","","0","",{"$f":"COUNTIF(AS12:AS59,\"W\")","v":0},{"$f":"IF(AR59=\"\",\"\",COUNTIF(AR12:AR59,\"-\"))","v":46},48,3,"","-"]
[49,{"$f":"IF(REG!B59<>\"\",REG!B59,\"\")","v":""},{"$f":"IF(REG!C59<>\"\",REG!G59,\"\")","v":""},{"$f":"IF('T Q 1-2'!R60=\"\",\"DNR\",IF('T Q 1-2'!R60=\"-\",+'T Q 1-2'!D60,+'T Q 1-2'!R60))","v":"DNR"},null,null,null,"-","",null,null,null,null,null,"","","","-",3,49,"","-",{"$f":"IF(R60=\"\",\"\",COUNTIF(R12:R60,\"-\"))","v":47},"","","","","","","0",{"$f":"IF(R60=\"\",\"\",IF(AD60=\"0\",\"0\",COUNTIF(AD12:AD59,AD60)))","v":"0"},"","0","","0","","0","",{"$f":"COUNTIF(AS12:AS60,\"W\")","v":0},{"$f":"IF(AR60=\"\",\"\",COUNTIF(AR12:AR60,\"-\"))","v":47},49,3,"","-"]
[50,{"$f":"IF(REG!B60<>\"\",REG!B60,\"\")","v":""},{"$f":"IF(REG!C60<>\"\",REG!G60,\"\")","v":""},{"$f":"IF('T Q 1-2'!R61=\"\",\"DNR\",IF('T Q 1-2'!R61=\"-\",+'T Q 1-2'!D61,+'T Q 1-2'!R61))","v":"DNR"},null,null,null,"-","",null,null,null,null,null,"","","","-",3,50,"","-",{"$f":"IF(R61=\"\",\"\",COUNTIF(R12:R61,\"-\"))","v":48},"","","","","","","0",{"$f":"IF(R61=\"\",\"\",IF(AD61=\"0\",\"0\",COUNTIF(AD12:AD60,AD61)))","v":"0"},"","0","","0","","0","",{"$f":"COUNTIF(AS12:AS61,\"W\")","v":0},{"$f":"IF(AR61=\"\",\"\",COUNTIF(AR12:AR61,\"-\"))","v":48},50,3,"","-"]
[51,{"$f":"IF(REG!B61<>\"\",REG!B61,\"\")","v":""},{"$f":"IF(REG!C61<>\"\",REG!G61,\"\")","v":""},{"$f":"IF('T Q 1-2'!R62=\"\",\"DNR\",IF('T Q 1-2'!R62=\"-\",+'T Q 1-2'!D62,+'T Q 1-2'!R62))","v":"DNR"},null,null,null,"-","",null,null,null,null,null,"","","","-",3,51,"","-",{"$f":"IF(R62=\"\",\"\",COUNTIF(R12:R62,\"-\"))","v":49},"","","","","","","0",{"$f":"IF(R62=\"\",\"\",IF(AD62=\"0\",\"0\",COUNTIF(AD12:AD61,AD62)))","v":"0"},"","0","","0","","0","",{"$f":"COUNTIF(AS12:AS62,\"W\")","v":0},{"$f":"IF(AR62=\"\",\"\",COUNTIF(AR12:AR62,\"-\"))","v":49},51,3,"","-"]
[52,{"$f":"IF(REG!B62<>\"\",REG!B62,\"\")","v":""},{"$f":"IF(REG!C62<>\"\",REG!G62,\"\")","v":""},{"$f":"IF('T Q 1-2'!R63=\"\",\"DNR\",IF('T Q 1-2'!R63=\"-\",+'T Q 1-2'!D63,+'T Q 1-2'!R63))","v":"DNR"},null,null,null,"-","",null,null,null,null,null,"","","","-",3,52,"","-",{"$f":"IF(R63=\"\",\"\",COUNTIF(R12:R63,\"-\"))","v":50},"","","","","","","0",{"$f":"IF(R63=\"\",\"\",IF(AD63=\"0\",\"0\",COUNTIF(AD12:AD62,AD63)))","v":"0"},"","0","","0","","0","",{"$f":"COUNTIF(AS12:AS63,\"W\")","v":0},{"$f":"IF(AR63=\"\",\"\",COUNTIF(AR12:AR63,\"-\"))","v":50},52,3,"","-"]
[53,{"$f":"IF(REG!B63<>\"\",REG!B63,\"\")","v":""},{"$f":"IF(REG!C63<>\"\",REG!G63,\"\")","v":""},{"$f":"IF('T Q 1-2'!R64=\"\",\"DNR\",IF('T Q 1-2'!R64=\"-\",+'T Q 1-2'!D64,+'T Q 1-2'!R64))","v":"DNR"},null,null,null,"-","",null,null,null,null,null,"","","","-",3,53,"","-",{"$f":"IF(R64=\"\",\"\",COUNTIF(R12:R64,\"-\"))","v":51},"","","","","","","0",{"$f":"IF(R64=\"\",\"\",IF(AD64=\"0\",\"0\",COUNTIF(AD12:AD63,AD64)))","v":"0"},"","0","","0","","0","",{"$f":"COUNTIF(AS12:AS64,\"W\")","v":0},{"$f":"IF(AR64=\"\",\"\",COUNTIF(AR12:AR64,\"-\"))","v":51},53,3,"","-"]
[54,{"$f":"IF(REG!B64<>\"\",REG!B64,\"\")","v":""},{"$f":"IF(REG!C64<>\"\",REG!G64,\"\")","v":""},{"$f":"IF('T Q 1-2'!R65=\"\",\"DNR\",IF('T Q 1-2'!R65=\"-\",+'T Q 1-2'!D65,+'T Q 1-2'!R65))","v":"DNR"},null,null,null,"-","",null,null,null,null,null,"","","","-",3,54,"","-",{"$f":"IF(R65=\"\",\"\",COUNTIF(R12:R65,\"-\"))","v":52},"","","","","","","0",{"$f":"IF(R65=\"\",\"\",IF(AD65=\"0\",\"0\",COUNTIF(AD12:AD64,AD65)))","v":"0"},"","0","","0","","0","",{"$f":"COUNTIF(AS12:AS65,\"W\")","v":0},{"$f":"IF(AR65=\"\",\"\",COUNTIF(AR12:AR65,\"-\"))","v":52},54,3,"","-"]
[55,{"$f":"IF(REG!B65<>\"\",REG!B65,\"\")","v":""},{"$f":"IF(REG!C65<>\"\",REG!G65,\"\")","v":""},{"$f":"IF('T Q 1-2'!R66=\"\",\"DNR\",IF('T Q 1-2'!R66=\"-\",+'T Q 1-2'!D66,+'T Q 1-2'!R66))","v":"DNR"},null,null,null,"-","",null,null,null,null,null,"","","","-",3,55,"","-",{"$f":"IF(R66=\"\",\"\",COUNTIF(R12:R66,\"-\"))","v":53},"","","","","","","0",{"$f":"IF(R66=\"\",\"\",IF(AD66=\"0\",\"0\",COUNTIF(AD12:AD65,AD66)))","v":"0"},"","0","","0","","0","",{"$f":"COUNTIF(AS12:AS66,\"W\")","v":0},{"$f":"IF(AR66=\"\",\"\",COUNTIF(AR12:AR66,\"-\"))","v":53},55,3,"","-"]
[56,{"$f":"IF(REG!B66<>\"\",REG!B66,\"\")","v":""},{"$f":"IF(REG!C66<>\"\",REG!G66,\"\")","v":""},{"$f":"IF('T Q 1-2'!R67=\"\",\"DNR\",IF('T Q 1-2'!R67=\"-\",+'T Q 1-2'!D67,+'T Q 1-2'!R67))","v":"DNR"},null,null,null,"-","",null,null,null,null,null,"","","","-",3,56,"","-",{"$f":"IF(R67=\"\",\"\",COUNTIF(R12:R67,\"-\"))","v":54},"","","","","","","0",{"$f":"IF(R67=\"\",\"\",IF(AD67=\"0\",\"0\",COUNTIF(AD12:AD66,AD67)))","v":"0"},"","0","","0","","0","",{"$f":"COUNTIF(AS12:AS67,\"W\")","v":0},{"$f":"IF(AR67=\"\",\"\",COUNTIF(AR12:AR67,\"-\"))","v":54},56,3,"","-"]
[57,{"$f":"IF(REG!B67<>\"\",REG!B67,\"\")","v":""},{"$f":"IF(REG!C67<>\"\",REG!G67,\"\")","v":""},{"$f":"IF('T Q 1-2'!R68=\"\",\"DNR\",IF('T Q 1-2'!R68=\"-\",+'T Q 1-2'!D68,+'T Q 1-2'!R68))","v":"DNR"},null,null,null,"-","",null,null,null,null,null,"","","","-",3,57,"","-",{"$f":"IF(R68=\"\",\"\",COUNTIF(R12:R68,\"-\"))","v":55},"","","","","","","0",{"$f":"IF(R68=\"\",\"\",IF(R68=\"\",\"\",IF(AD68=\"0\",\"0\",COUNTIF(AD12:AD67,AD68))))","v":"0"},"","0","","0","","0","",{"$f":"COUNTIF(AS12:AS68,\"W\")","v":0},{"$f":"IF(AR68=\"\",\"\",COUNTIF(AR12:AR68,\"-\"))","v":55},57,3,"","-"]
[58,{"$f":"IF(REG!B68<>\"\",REG!B68,\"\")","v":""},{"$f":"IF(REG!C68<>\"\",REG!G68,\"\")","v":""},{"$f":"IF('T Q 1-2'!R69=\"\",\"DNR\",IF('T Q 1-2'!R69=\"-\",+'T Q 1-2'!D69,+'T Q 1-2'!R69))","v":"DNR"},null,null,null,"-","",null,null,null,null,null,"","","","-",3,58,"","-",{"$f":"IF(R69=\"\",\"\",COUNTIF(R12:R69,\"-\"))","v":56},"","","","","","","0",{"$f":"IF(R69=\"\",\"\",IF(R69=\"\",\"\",IF(AD69=\"0\",\"0\",COUNTIF(AD12:AD68,AD69))))","v":"0"},"","0","","0","","0","",{"$f":"COUNTIF(AS12:AS69,\"W\")","v":0},{"$f":"IF(AR69=\"\",\"\",COUNTIF(AR12:AR69,\"-\"))","v":56},58,3,"","-"]
[59,{"$f":"IF(REG!B69<>\"\",REG!B69,\"\")","v":""},{"$f":"IF(REG!C69<>\"\",REG!G69,\"\")","v":""},{"$f":"IF('T Q 1-2'!R70=\"\",\"DNR\",IF('T Q 1-2'!R70=\"-\",+'T Q 1-2'!D70,+'T Q 1-2'!R70))","v":"DNR"},null,null,null,"-","",null,null,null,null,null,"","","","-",3,59,"","-",{"$f":"IF(R70=\"\",\"\",COUNTIF(R12:R70,\"-\"))","v":57},"","","","","","","0",{"$f":"IF(R70=\"\",\"\",IF(R70=\"\",\"\",IF(AD70=\"0\",\"0\",COUNTIF(AD12:AD69,AD70))))","v":"0"},"","0","","0","","0","",{"$f":"COUNTIF(AS12:AS70,\"W\")","v":0},{"$f":"IF(AR70=\"\",\"\",COUNTIF(AR12:AR70,\"-\"))","v":57},59,3,"","-"]
[60,{"$f":"IF(REG!B70<>\"\",REG!B70,\"\")","v":""},{"$f":"IF(REG!C70<>\"\",REG!G70,\"\")","v":""},{"$f":"IF('T Q 1-2'!R71=\"\",\"DNR\",IF('T Q 1-2'!R71=\"-\",+'T Q 1-2'!D71,+'T Q 1-2'!R71))","v":"DNR"},null,null,null,"-","",null,null,null,null,null,"","","","-",3,60,"","-",{"$f":"IF(R71=\"\",\"\",COUNTIF(R12:R71,\"-\"))","v":58},"","","","","","","0",{"$f":"IF(R71=\"\",\"\",IF(AD71=\"0\",\"0\",COUNTIF(AD12:AD70,AD71)))","v":"0"},"","0","","0","","0","",{"$f":"COUNTIF(AS12:AS71,\"W\")","v":0},{"$f":"IF(AR71=\"\",\"\",COUNTIF(AR12:AR71,\"-\"))","v":58},60,3,"","-"]
[61,{"$f":"IF(REG!B71<>\"\",REG!B71,\"\")","v":""},{"$f":"IF(REG!C71<>\"\",REG!G71,\"\")","v":""},{"$f":"IF('T Q 1-2'!R72=\"\",\"DNR\",IF('T Q 1-2'!R72=\"-\",+'T Q 1-2'!D72,+'T Q 1-2'!R72))","v":"DNR"},null,null,null,"-","",null,null,null,null,null,"","","","-",3,61,"","-",{"$f":"IF(R72=\"\",\"\",COUNTIF(R12:R72,\"-\"))","v":59},"","","","","","","0",{"$f":"IF(R72=\"\",\"\",IF(AD72=\"0\",\"0\",COUNTIF(AD52:AD71,AD72)))","v":"0"},"","0","","0","","0","",{"$f":"COUNTIF(AS12:AS72,\"W\")","v":0},{"$f":"IF(AR72=\"\",\"\",COUNTIF(AR12:AR72,\"-\"))","v":59},61,3,"","-"]
[62,{"$f":"IF(REG!B72<>\"\",REG!B72,\"\")","v":""},{"$f":"IF(REG!C72<>\"\",REG!G72,\"\")","v":""},{"$f":"IF('T Q 1-2'!R73=\"\",\"DNR\",IF('T Q 1-2'!R73=\"-\",+'T Q 1-2'!D73,+'T Q 1-2'!R73))","v":"DNR"},null,null,null,"-","",null,null,null,null,null,"","","","-",3,62,"","-",{"$f":"IF(R73=\"\",\"\",COUNTIF(R12:R73,\"-\"))","v":60},"","","","","","","0",{"$f":"IF(R73=\"\",\"\",IF(AD73=\"0\",\"0\",COUNTIF(AD12:AD72,AD73)))","v":"0"},"","0","","0","","0","",{"$f":"COUNTIF(AS12:AS73,\"W\")","v":0},{"$f":"IF(AR73=\"\",\"\",COUNTIF(AR12:AR73,\"-\"))","v":60},62,3,"","-"]
[63,{"$f":"IF(REG!B73<>\"\",REG!B73,\"\")","v":""},{"$f":"IF(REG!C73<>\"\",REG!G73,\"\")","v":""},{"$f":"IF('T Q 1-2'!R74=\"\",\"DNR\",IF('T Q 1-2'!R74=\"-\",+'T Q 1-2'!D74,+'T Q 1-2'!R74))","v":"DNR"},null,null,null,"-","",null,null,null,null,null,"","","","-",3,63,"","-",{"$f":"IF(R74=\"\",\"\",COUNTIF(R12:R74,\"-\"))","v":61},"","","","","","","0",{"$f":"IF(R74=\"\",\"\",IF(AD74=\"0\",\"0\",COUNTIF(AD12:AD73,AD74)))","v":"0"},"","0","","0","","0","",{"$f":"COUNTIF(AS12:AS74,\"W\")","v":0},{"$f":"IF(AR74=\"\",\"\",COUNTIF(AR12:AR74,\"-\"))","v":61},63,3,"","-"]
[64,{"$f":"IF(REG!B74<>\"\",REG!B74,\"\")","v":""},{"$f":"IF(REG!C74<>\"\",REG!G74,\"\")","v":""},{"$f":"IF('T Q 1-2'!R75=\"\",\"DNR\",IF('T Q 1-2'!R75=\"-\",+'T Q 1-2'!D75,+'T Q 1-2'!R75))","v":"DNR"},null,null,null,"-","",null,null,null,null,null,"","","","-",3,64,"","-",{"$f":"IF(R75=\"\",\"\",COUNTIF(R12:R75,\"-\"))","v":62},"","","","","","","0",{"$f":"IF(R75=\"\",\"\",IF(AD75=\"0\",\"0\",COUNTIF(AD12:AD74,AD75)))","v":"0"},"","0","","0","","0","",{"$f":"COUNTIF(AS12:AS75,\"W\")","v":0},{"$f":"IF(AR75=\"\",\"\",COUNTIF(AR12:AR75,\"-\"))","v":62},64,3,"","-"]
[65,{"$f":"IF(REG!B75<>\"\",REG!B75,\"\")","v":""},{"$f":"IF(REG!C75<>\"\",REG!G75,\"\")","v":""},{"$f":"IF('T Q 1-2'!R76=\"\",\"DNR\",IF('T Q 1-2'!R76=\"-\",+'T Q 1-2'!D76,+'T Q 1-2'!R76))","v":"DNR"},null,null,null,"-","",null,null,null,null,null,"","","",{"$f":"IF(AND(ISBLANK(D76),ISBLANK(K76)),\"\",IF(AND(H76=\"-\",O76=\"-\"),\"-\",IF(AND(H76=\"-\",ISBLANK(K76)),\"-\",MIN(H76,O76))))","v":"-"},3,65,"","-",{"$f":"IF(R76=\"\",\"\",COUNTIF(R12:R76,\"-\"))","v":63},"","","","","","","0",{"$f":"IF(R76=\"\",\"\",IF(AD76=\"0\",\"0\",COUNTIF(AD12:AD75,AD76)))","v":"0"},"","0","","0","","0","",{"$f":"COUNTIF(AS12:AS76,\"W\")","v":0},{"$f":"IF(AR76=\"\",\"\",COUNTIF(AR12:AR76,\"-\"))","v":63},65,3,"","-"]
[66,{"$f":"IF(REG!B76<>\"\",REG!B76,\"\")","v":""},{"$f":"IF(REG!C76<>\"\",REG!G76,\"\")","v":""},{"$f":"IF('T Q 1-2'!R77=\"\",\"DNR\",IF('T Q 1-2'!R77=\"-\",+'T Q 1-2'!D77,+'T Q 1-2'!R77))","v":"DNR"},null,null,null,"-","",null,null,null,null,null,"","","","-",3,66,"","-",{"$f":"IF(R77=\"\",\"\",COUNTIF(R12:R77,\"-\"))","v":64},"","","","","","","0",{"$f":"IF(R77=\"\",\"\",IF(AD77=\"0\",\"0\",COUNTIF(AD12:AD76,AD77)))","v":"0"},"","0","","0","","0","",{"$f":"COUNTIF(AS12:AS77,\"W\")","v":0},{"$f":"IF(AR77=\"\",\"\",COUNTIF(AR12:AR77,\"-\"))","v":64},66,3,"","-"]
[67,{"$f":"IF(REG!B77<>\"\",REG!B77,\"\")","v":""},{"$f":"IF(REG!C77<>\"\",REG!G77,\"\")","v":""},{"$f":"IF('T Q 1-2'!R78=\"\",\"DNR\",IF('T Q 1-2'!R78=\"-\",+'T Q 1-2'!D78,+'T Q 1-2'!R78))","v":"DNR"},null,null,null,"-","",null,null,null,null,null,"","","","-",3,67,"","-",{"$f":"IF(R78=\"\",\"\",COUNTIF(R12:R78,\"-\"))","v":65},"","","","","","","0",{"$f":"IF(R78=\"\",\"\",IF(AD78=\"0\",\"0\",COUNTIF(AD12:AD77,AD78)))","v":"0"},"","0","","0","","0","",{"$f":"COUNTIF(AS12:AS78,\"W\")","v":0},{"$f":"IF(AR78=\"\",\"\",COUNTIF(AR12:AR78,\"-\"))","v":65},67,3,"","-"]
[68,{"$f":"IF(REG!B78<>\"\",REG!B78,\"\")","v":""},{"$f":"IF(REG!C78<>\"\",REG!G78,\"\")","v":""},{"$f":"IF('T Q 1-2'!R79=\"\",\"DNR\",IF('T Q 1-2'!R79=\"-\",+'T Q 1-2'!D79,+'T Q 1-2'!R79))","v":"DNR"},null,null,null,"-","",null,null,null,null,null,"","","","-",3,68,"","-",{"$f":"IF(R79=\"\",\"\",COUNTIF(R12:R79,\"-\"))","v":66},"","","","","","","0",{"$f":"IF(R79=\"\",\"\",IF(AD79=\"0\",\"0\",COUNTIF(AD12:AD78,AD79)))","v":"0"},"","0","","0","","0","",{"$f":"COUNTIF(AS12:AS79,\"W\")","v":0},{"$f":"IF(AR79=\"\",\"\",COUNTIF(AR12:AR79,\"-\"))","v":66},68,3,"","-"]
[69,{"$f":"IF(REG!B79<>\"\",REG!B79,\"\")","v":""},{"$f":"IF(REG!C79<>\"\",REG!G79,\"\")","v":""},{"$f":"IF('T Q 1-2'!R80=\"\",\"DNR\",IF('T Q 1-2'!R80=\"-\",+'T Q 1-2'!D80,+'T Q 1-2'!R80))","v":"DNR"},null,null,null,"-","",null,null,null,null,null,"","","","-",3,69,"","-",{"$f":"IF(R80=\"\",\"\",COUNTIF(R12:R80,\"-\"))","v":67},"","","","","","","0",{"$f":"IF(R80=\"\",\"\",IF(AD80=\"0\",\"0\",COUNTIF(AD12:AD79,AD80)))","v":"0"},"","0","","0","","0","",{"$f":"COUNTIF(AS12:AS80,\"W\")","v":0},{"$f":"IF(AR80=\"\",\"\",COUNTIF(AR12:AR80,\"-\"))","v":67},69,3,"","-"]
[70,{"$f":"IF(REG!B80<>\"\",REG!B80,\"\")","v":""},{"$f":"IF(REG!C80<>\"\",REG!G80,\"\")","v":""},{"$f":"IF('T Q 1-2'!R81=\"\",\"DNR\",IF('T Q 1-2'!R81=\"-\",+'T Q 1-2'!D81,+'T Q 1-2'!R81))","v":"DNR"},null,null,null,"-","",null,null,null,null,null,"","","","-",3,70,"","-",{"$f":"IF(R81=\"\",\"\",COUNTIF(R12:R81,\"-\"))","v":68},"","","","","","","0",{"$f":"IF(R81=\"\",\"\",IF(AD81=\"0\",\"0\",COUNTIF(AD12:AD80,AD81)))","v":"0"},"","0","","0","","0","",{"$f":"COUNTIF(AS12:AS81,\"W\")","v":0},{"$f":"IF(AR81=\"\",\"\",COUNTIF(AR12:AR81,\"-\"))","v":68},70,3,"","-"]
[71,{"$f":"IF(REG!B81<>\"\",REG!B81,\"\")","v":""},{"$f":"IF(REG!C81<>\"\",REG!G81,\"\")","v":""},{"$f":"IF('T Q 1-2'!R82=\"\",\"DNR\",IF('T Q 1-2'!R82=\"-\",+'T Q 1-2'!D82,+'T Q 1-2'!R82))","v":"DNR"},null,null,null,"-","",null,null,null,null,null,"","","","-",3,71,"","-",{"$f":"IF(R82=\"\",\"\",COUNTIF(R12:R82,\"-\"))","v":69},"","","","","","","0",{"$f":"IF(R82=\"\",\"\",IF(AD82=\"0\",\"0\",COUNTIF(AD12:AD81,AD82)))","v":"0"},"","0","","0","","0","",{"$f":"COUNTIF(AS12:AS82,\"W\")","v":0},{"$f":"IF(AR82=\"\",\"\",COUNTIF(AR12:AR82,\"-\"))","v":69},71,3,"","-"]
[72,{"$f":"IF(REG!B82<>\"\",REG!B82,\"\")","v":""},{"$f":"IF(REG!C82<>\"\",REG!G82,\"\")","v":""},{"$f":"IF('T Q 1-2'!R83=\"\",\"DNR\",IF('T Q 1-2'!R83=\"-\",+'T Q 1-2'!D83,+'T Q 1-2'!R83))","v":"DNR"},null,null,null,"-","",null,null,null,null,null,"","","","-",3,72,"","-",{"$f":"IF(R83=\"\",\"\",COUNTIF(R12:R83,\"-\"))","v":70},"","","","","","","0",{"$f":"IF(R83=\"\",\"\",IF(AD83=\"0\",\"0\",COUNTIF(AD12:AD82,AD83)))","v":"0"},"","0","","0","","0","",{"$f":"COUNTIF(AS12:AS83,\"W\")","v":0},{"$f":"IF(AR83=\"\",\"\",COUNTIF(AR12:AR83,\"-\"))","v":70},72,3,"","-"]
[73,{"$f":"IF(REG!B83<>\"\",REG!B83,\"\")","v":""},{"$f":"IF(REG!C83<>\"\",REG!G83,\"\")","v":""},{"$f":"IF('T Q 1-2'!R84=\"\",\"DNR\",IF('T Q 1-2'!R84=\"-\",+'T Q 1-2'!D84,+'T Q 1-2'!R84))","v":"DNR"},null,null,null,"-","",null,null,null,null,null,"","","","-",3,73,"","-",{"$f":"IF(R84=\"\",\"\",COUNTIF(R12:R84,\"-\"))","v":71},"","","","","","","0",{"$f":"IF(R84=\"\",\"\",IF(AD84=\"0\",\"0\",COUNTIF(AD12:AD83,AD84)))","v":"0"},"","0","","0","","0","",{"$f":"COUNTIF(AS12:AS84,\"W\")","v":0},{"$f":"IF(AR84=\"\",\"\",COUNTIF(AR12:AR84,\"-\"))","v":71},73,3,"","-"]
[74,{"$f":"IF(REG!B84<>\"\",REG!B84,\"\")","v":""},{"$f":"IF(REG!C84<>\"\",REG!G84,\"\")","v":""},{"$f":"IF('T Q 1-2'!R85=\"\",\"DNR\",IF('T Q 1-2'!R85=\"-\",+'T Q 1-2'!D85,+'T Q 1-2'!R85))","v":"DNR"},null,null,null,"-","",null,null,null,null,null,"","","","-",3,74,"","-",{"$f":"IF(R85=\"\",\"\",COUNTIF(R12:R85,\"-\"))","v":72},"","","","","","","0",{"$f":"IF(R85=\"\",\"\",IF(AD85=\"0\",\"0\",COUNTIF(AD12:AD84,AD85)))","v":"0"},"","0","","0","","0","",{"$f":"COUNTIF(AS12:AS85,\"W\")","v":0},{"$f":"IF(AR85=\"\",\"\",COUNTIF(AR12:AR85,\"-\"))","v":72},74,3,"","-"]
[75,{"$f":"IF(REG!B85<>\"\",REG!B85,\"\")","v":""},{"$f":"IF(REG!C85<>\"\",REG!G85,\"\")","v":""},{"$f":"IF('T Q 1-2'!R86=\"\",\"DNR\",IF('T Q 1-2'!R86=\"-\",+'T Q 1-2'!D86,+'T Q 1-2'!R86))","v":"DNR"},null,null,null,"-","",null,null,null,null,null,"","","","-",3,75,"","-",{"$f":"IF(R86=\"\",\"\",COUNTIF(R12:R86,\"-\"))","v":73},"","","","","","","0",{"$f":"IF(R86=\"\",\"\",IF(AD86=\"0\",\"0\",COUNTIF(AD12:AD85,AD86)))","v":"0"},"","0","","0","","0","",{"$f":"COUNTIF(AS12:AS86,\"W\")","v":0},{"$f":"IF(AR86=\"\",\"\",COUNTIF(AR12:AR86,\"-\"))","v":73},75,3,"","-"]
[76,{"$f":"IF(REG!B86<>\"\",REG!B86,\"\")","v":""},{"$f":"IF(REG!C86<>\"\",REG!G86,\"\")","v":""},{"$f":"IF('T Q 1-2'!R87=\"\",\"DNR\",IF('T Q 1-2'!R87=\"-\",+'T Q 1-2'!D87,+'T Q 1-2'!R87))","v":"DNR"},null,null,null,"-","",null,null,null,null,null,"","","","-",3,76,"","-",{"$f":"IF(R87=\"\",\"\",COUNTIF(R12:R87,\"-\"))","v":74},"","","","","","","0",{"$f":"IF(R87=\"\",\"\",IF(AD87=\"0\",\"0\",COUNTIF(AD12:AD86,AD87)))","v":"0"},"","0","","0","","0","",{"$f":"COUNTIF(AS12:AS87,\"W\")","v":0},{"$f":"IF(AR87=\"\",\"\",COUNTIF(AR12:AR87,\"-\"))","v":74},76,3,"","-"]
[77,{"$f":"IF(REG!B87<>\"\",REG!B87,\"\")","v":""},{"$f":"IF(REG!C87<>\"\",REG!G87,\"\")","v":""},{"$f":"IF('T Q 1-2'!R88=\"\",\"DNR\",IF('T Q 1-2'!R88=\"-\",+'T Q 1-2'!D88,+'T Q 1-2'!R88))","v":"DNR"},null,null,null,"-","",null,null,null,null,null,"","","","-",3,77,"","-",{"$f":"IF(R88=\"\",\"\",COUNTIF(R12:R88,\"-\"))","v":75},"","","","","","","0",{"$f":"IF(R88=\"\",\"\",IF(AD88=\"0\",\"0\",COUNTIF(AD12:AD87,AD88)))","v":"0"},"","0","","0","","0","",{"$f":"COUNTIF(AS12:AS88,\"W\")","v":0},{"$f":"IF(AR88=\"\",\"\",COUNTIF(AR12:AR88,\"-\"))","v":75},77,3,"","-"]
[78,{"$f":"IF(REG!B88<>\"\",REG!B88,\"\")","v":""},{"$f":"IF(REG!C88<>\"\",REG!G88,\"\")","v":""},{"$f":"IF('T Q 1-2'!R89=\"\",\"DNR\",IF('T Q 1-2'!R89=\"-\",+'T Q 1-2'!D89,+'T Q 1-2'!R89))","v":"DNR"},null,null,null,"-","",null,null,null,null,null,"","","","-",3,78,"","-",{"$f":"IF(R89=\"\",\"\",COUNTIF(R12:R89,\"-\"))","v":76},"","","","","","","0",{"$f":"IF(R89=\"\",\"\",IF(AD89=\"0\",\"0\",COUNTIF(AD12:AD88,AD89)))","v":"0"},"","0","","0","","0","",{"$f":"COUNTIF(AS12:AS89,\"W\")","v":0},{"$f":"IF(AR89=\"\",\"\",COUNTIF(AR12:AR89,\"-\"))","v":76},78,3,"","-"]
[79,{"$f":"IF(REG!B89<>\"\",REG!B89,\"\")","v":""},{"$f":"IF(REG!C89<>\"\",REG!G89,\"\")","v":""},{"$f":"IF('T Q 1-2'!R90=\"\",\"DNR\",IF('T Q 1-2'!R90=\"-\",+'T Q 1-2'!D90,+'T Q 1-2'!R90))","v":"DNR"},null,null,null,"-","",null,null,null,null,null,"","","","-",3,79,"","-",{"$f":"IF(R90=\"\",\"\",COUNTIF(R12:R90,\"-\"))","v":77},"","","","","","","0",{"$f":"IF(R90=\"\",\"\",IF(AD90=\"0\",\"0\",COUNTIF(AD12:AD89,AD90)))","v":"0"},"","0","","0","","0","",{"$f":"COUNTIF(AS12:AS90,\"W\")","v":0},{"$f":"IF(AR90=\"\",\"\",COUNTIF(AR12:AR90,\"-\"))","v":77},79,3,"","-"]
[80,{"$f":"IF(REG!B90<>\"\",REG!B90,\"\")","v":""},{"$f":"IF(REG!C90<>\"\",REG!G90,\"\")","v":""},{"$f":"IF('T Q 1-2'!R91=\"\",\"DNR\",IF('T Q 1-2'!R91=\"-\",+'T Q 1-2'!D91,+'T Q 1-2'!R91))","v":"DNR"},null,null,null,"-","",null,null,null,null,null,"","","","-",3,80,"","-",{"$f":"IF(R91=\"\",\"\",COUNTIF(R12:R91,\"-\"))","v":78},"","","","","","","0",{"$f":"IF(R91=\"\",\"\",IF(AD91=\"0\",\"0\",COUNTIF(AD12:AD90,AD91)))","v":"0"},"","0","","0","","0","",{"$f":"COUNTIF(AS12:AS91,\"W\")","v":0},{"$f":"IF(AR91=\"\",\"\",COUNTIF(AR12:AR91,\"-\"))","v":78},80,3,"","-"]
[81,{"$f":"IF(REG!B91<>\"\",REG!B91,\"\")","v":""},{"$f":"IF(REG!C91<>\"\",REG!G91,\"\")","v":""},{"$f":"IF('T Q 1-2'!R92=\"\",\"DNR\",IF('T Q 1-2'!R92=\"-\",+'T Q 1-2'!D92,+'T Q 1-2'!R92))","v":"DNR"},null,null,null,"-","",null,null,null,null,null,"","","","-",3,81,"","-",{"$f":"IF(R92=\"\",\"\",COUNTIF(R12:R92,\"-\"))","v":79},"","","","","","","0",{"$f":"IF(R92=\"\",\"\",IF(AD92=\"0\",\"0\",COUNTIF(AD12:AD91,AD92)))","v":"0"},"","0","","0","","0","",{"$f":"COUNTIF(AS12:AS92,\"W\")","v":0},{"$f":"IF(AR92=\"\",\"\",COUNTIF(AR12:AR92,\"-\"))","v":79},81,3,"","-"]
[82,{"$f":"IF(REG!B92<>\"\",REG!B92,\"\")","v":""},{"$f":"IF(REG!C92<>\"\",REG!G92,\"\")","v":""},{"$f":"IF('T Q 1-2'!R93=\"\",\"DNR\",IF('T Q 1-2'!R93=\"-\",+'T Q 1-2'!D93,+'T Q 1-2'!R93))","v":"DNR"},null,null,null,"-","",null,null,null,null,null,"","","","-",3,82,"","-",{"$f":"IF(R93=\"\",\"\",COUNTIF(R12:R93,\"-\"))","v":80},"","","","","","","0",{"$f":"IF(R93=\"\",\"\",IF(AD93=\"0\",\"0\",COUNTIF(AD12:AD92,AD93)))","v":"0"},"","0","","0","","0","",{"$f":"COUNTIF(AS12:AS93,\"W\")","v":0},{"$f":"IF(AR93=\"\",\"\",COUNTIF(AR12:AR93,\"-\"))","v":80},82,3,"","-"]
[83,{"$f":"IF(REG!B93<>\"\",REG!B93,\"\")","v":""},{"$f":"IF(REG!C93<>\"\",REG!G93,\"\")","v":""},{"$f":"IF('T Q 1-2'!R94=\"\",\"DNR\",IF('T Q 1-2'!R94=\"-\",+'T Q 1-2'!D94,+'T Q 1-2'!R94))","v":"DNR"},null,null,null,"-","",null,null,null,null,null,"","","","-",3,83,"","-",{"$f":"IF(R94=\"\",\"\",COUNTIF(R12:R94,\"-\"))","v":81},"","","","","","","0",{"$f":"IF(R94=\"\",\"\",IF(AD94=\"0\",\"0\",COUNTIF(AD12:AD93,AD94)))","v":"0"},"","0","","0","","0","",{"$f":"COUNTIF(AS12:AS94,\"W\")","v":0},{"$f":"IF(AR94=\"\",\"\",COUNTIF(AR12:AR94,\"-\"))","v":81},83,3,"","-"]
[84,{"$f":"IF(REG!B94<>\"\",REG!B94,\"\")","v":""},{"$f":"IF(REG!C94<>\"\",REG!G94,\"\")","v":""},{"$f":"IF('T Q 1-2'!R95=\"\",\"DNR\",IF('T Q 1-2'!R95=\"-\",+'T Q 1-2'!D95,+'T Q 1-2'!R95))","v":"DNR"},null,null,null,"-","",null,null,null,null,null,"","","","-",3,84,"","-",{"$f":"IF(R95=\"\",\"\",COUNTIF(R12:R95,\"-\"))","v":82},"","","","","","","0",{"$f":"IF(R95=\"\",\"\",IF(AD95=\"0\",\"0\",COUNTIF(AD12:AD94,AD95)))","v":"0"},"","0","","0","","0","",{"$f":"COUNTIF(AS12:AS95,\"W\")","v":0},{"$f":"IF(AR95=\"\",\"\",COUNTIF(AR12:AR95,\"-\"))","v":82},84,3,"","-"]
[85,{"$f":"IF(REG!B95<>\"\",REG!B95,\"\")","v":""},{"$f":"IF(REG!C95<>\"\",REG!G95,\"\")","v":""},{"$f":"IF('T Q 1-2'!R96=\"\",\"DNR\",IF('T Q 1-2'!R96=\"-\",+'T Q 1-2'!D96,+'T Q 1-2'!R96))","v":"DNR"},null,null,null,"-","",null,null,null,null,null,"","","","-",3,85,"","-",{"$f":"IF(R96=\"\",\"\",COUNTIF(R12:R96,\"-\"))","v":83},"","","","","","","0",{"$f":"IF(R96=\"\",\"\",IF(AD96=\"0\",\"0\",COUNTIF(AD12:AD95,AD96)))","v":"0"},"","0","","0","","0","",{"$f":"COUNTIF(AS12:AS96,\"W\")","v":0},{"$f":"IF(AR96=\"\",\"\",COUNTIF(AR12:AR96,\"-\"))","v":83},85,3,"","-"]
[86,{"$f":"IF(REG!B96<>\"\",REG!B96,\"\")","v":""},{"$f":"IF(REG!C96<>\"\",REG!G96,\"\")","v":""},{"$f":"IF('T Q 1-2'!R97=\"\",\"DNR\",IF('T Q 1-2'!R97=\"-\",+'T Q 1-2'!D97,+'T Q 1-2'!R97))","v":"DNR"},null,null,null,"-","",null,null,null,null,null,"","","","-",3,86,"","-",{"$f":"IF(R97=\"\",\"\",COUNTIF(R12:R97,\"-\"))","v":84},"","","","","","","0",{"$f":"IF(R97=\"\",\"\",IF(AD97=\"0\",\"0\",COUNTIF(AD12:AD96,AD97)))","v":"0"},"","0","","0","","0","",{"$f":"COUNTIF(AS12:AS97,\"W\")","v":0},{"$f":"IF(AR97=\"\",\"\",COUNTIF(AR12:AR97,\"-\"))","v":84},86,3,"","-"]
[87,{"$f":"IF(REG!B97<>\"\",REG!B97,\"\")","v":""},{"$f":"IF(REG!C97<>\"\",REG!G97,\"\")","v":""},{"$f":"IF('T Q 1-2'!R98=\"\",\"DNR\",IF('T Q 1-2'!R98=\"-\",+'T Q 1-2'!D98,+'T Q 1-2'!R98))","v":"DNR"},null,null,null,"-","",null,null,null,null,null,"","","","-",3,87,"","-",{"$f":"IF(R98=\"\",\"\",COUNTIF(R12:R98,\"-\"))","v":85},"","","","","","","0",{"$f":"IF(R98=\"\",\"\",IF(AD98=\"0\",\"0\",COUNTIF(AD12:AD97,AD98)))","v":"0"},"","0","","0","","0","",{"$f":"COUNTIF(AS12:AS98,\"W\")","v":0},{"$f":"IF(AR98=\"\",\"\",COUNTIF(AR12:AR98,\"-\"))","v":85},87,3,"","-"]
[88,{"$f":"IF(REG!B98<>\"\",REG!B98,\"\")","v":""},{"$f":"IF(REG!C98<>\"\",REG!G98,\"\")","v":""},{"$f":"IF('T Q 1-2'!R99=\"\",\"DNR\",IF('T Q 1-2'!R99=\"-\",+'T Q 1-2'!D99,+'T Q 1-2'!R99))","v":"DNR"},null,null,null,"-","",null,null,null,null,null,"","","","-",3,88,"","-",{"$f":"IF(R99=\"\",\"\",COUNTIF(R12:R99,\"-\"))","v":86},"","","","","","","0",{"$f":"IF(R99=\"\",\"\",IF(AD99=\"0\",\"0\",COUNTIF(AD12:AD98,AD99)))","v":"0"},"","0","","0","","0","",{"$f":"COUNTIF(AS12:AS99,\"W\")","v":0},{"$f":"IF(AR99=\"\",\"\",COUNTIF(AR12:AR99,\"-\"))","v":86},88,3,"","-"]
[89,{"$f":"IF(REG!B99<>\"\",REG!B99,\"\")","v":""},{"$f":"IF(REG!C99<>\"\",REG!G99,\"\")","v":""},{"$f":"IF('T Q 1-2'!R100=\"\",\"DNR\",IF('T Q 1-2'!R100=\"-\",+'T Q 1-2'!D100,+'T Q 1-2'!R100))","v":"DNR"},null,null,null,"-","",null,null,null,null,null,"","","","-",3,89,"","-",{"$f":"IF(R100=\"\",\"\",COUNTIF(R12:R100,\"-\"))","v":87},"","","","","","","0",{"$f":"IF(R100=\"\",\"\",IF(AD100=\"0\",\"0\",COUNTIF(AD12:AD99,AD100)))","v":"0"},"","0","","0","","0","",{"$f":"COUNTIF(AS12:AS100,\"W\")","v":0},{"$f":"IF(AR100=\"\",\"\",COUNTIF(AR12:AR100,\"-\"))","v":87},89,3,"","-"]
[90,{"$f":"IF(REG!B100<>\"\",REG!B100,\"\")","v":""},{"$f":"IF(REG!C100<>\"\",REG!G100,\"\")","v":""},{"$f":"IF('T Q 1-2'!R101=\"\",\"DNR\",IF('T Q 1-2'!R101=\"-\",+'T Q 1-2'!D101,+'T Q 1-2'!R101))","v":"DNR"},null,null,null,"-","",null,null,null,null,null,"","","","-",3,90,"","-",{"$f":"IF(R101=\"\",\"\",COUNTIF(R12:R101,\"-\"))","v":88},"","","","","","","0",{"$f":"IF(R101=\"\",\"\",IF(AD101=\"0\",\"0\",COUNTIF(AD12:AD100,AD101)))","v":"0"},"","0","","0","","0","",{"$f":"COUNTIF(AS12:AS101,\"W\")","v":0},{"$f":"IF(AR101=\"\",\"\",COUNTIF(AR12:AR101,\"-\"))","v":88},90,3,"","-"]
[91,{"$f":"IF(REG!B101<>\"\",REG!B101,\"\")","v":""},{"$f":"IF(REG!C101<>\"\",REG!G101,\"\")","v":""},{"$f":"IF('T Q 1-2'!R102=\"\",\"DNR\",IF('T Q 1-2'!R102=\"-\",+'T Q 1-2'!D102,+'T Q 1-2'!R102))","v":"DNR"},null,null,null,"-","",null,null,null,null,null,"","","","-",3,91,"","-",{"$f":"IF(R102=\"\",\"\",COUNTIF(R12:R102,\"-\"))","v":89},"","","","","","","0",{"$f":"IF(R102=\"\",\"\",IF(AD102=\"0\",\"0\",COUNTIF(AD12:AD101,AD102)))","v":"0"},"","0","","0","","0","",{"$f":"COUNTIF(AS12:AS102,\"W\")","v":0},{"$f":"IF(AR102=\"\",\"\",COUNTIF(AR12:AR102,\"-\"))","v":89},91,3,"","-"]
[92,{"$f":"IF(REG!B102<>\"\",REG!B102,\"\")","v":""},{"$f":"IF(REG!C102<>\"\",REG!G102,\"\")","v":""},{"$f":"IF('T Q 1-2'!R103=\"\",\"DNR\",IF('T Q 1-2'!R103=\"-\",+'T Q 1-2'!D103,+'T Q 1-2'!R103))","v":"DNR"},null,null,null,"-","",null,null,null,null,null,"","","","-",3,92,"","-",{"$f":"IF(R103=\"\",\"\",COUNTIF(R12:R103,\"-\"))","v":90},"","","","","","","0",{"$f":"IF(R103=\"\",\"\",IF(AD103=\"0\",\"0\",COUNTIF(AD12:AD102,AD103)))","v":"0"},"","0","","0","","0","",{"$f":"COUNTIF(AS12:AS103,\"W\")","v":0},{"$f":"IF(AR103=\"\",\"\",COUNTIF(AR12:AR103,\"-\"))","v":90},92,3,"","-"]
[93,{"$f":"IF(REG!B103<>\"\",REG!B103,\"\")","v":""},{"$f":"IF(REG!C103<>\"\",REG!G103,\"\")","v":""},{"$f":"IF('T Q 1-2'!R104=\"\",\"DNR\",IF('T Q 1-2'!R104=\"-\",+'T Q 1-2'!D104,+'T Q 1-2'!R104))","v":"DNR"},null,null,null,"-","",null,null,null,null,null,"","","","-",3,93,"","-",{"$f":"IF(R104=\"\",\"\",COUNTIF(R12:R104,\"-\"))","v":91},"","","","","","","0",{"$f":"IF(R104=\"\",\"\",IF(AD104=\"0\",\"0\",COUNTIF(AD12:AD103,AD104)))","v":"0"},"","0","","0","","0","",{"$f":"COUNTIF(AS12:AS104,\"W\")","v":0},{"$f":"IF(AR104=\"\",\"\",COUNTIF(AR12:AR104,\"-\"))","v":91},93,3,"","-"]
[94,{"$f":"IF(REG!B104<>\"\",REG!B104,\"\")","v":""},{"$f":"IF(REG!C104<>\"\",REG!G104,\"\")","v":""},{"$f":"IF('T Q 1-2'!R105=\"\",\"DNR\",IF('T Q 1-2'!R105=\"-\",+'T Q 1-2'!D105,+'T Q 1-2'!R105))","v":"DNR"},null,null,null,"-","",null,null,null,null,null,"","","","-",3,94,"","-",{"$f":"IF(R105=\"\",\"\",COUNTIF(R12:R105,\"-\"))","v":92},"","","","","","","0",{"$f":"IF(R105=\"\",\"\",IF(AD105=\"0\",\"0\",COUNTIF(AD12:AD104,AD105)))","v":"0"},"","0","","0","","0","",{"$f":"COUNTIF(AS12:AS105,\"W\")","v":0},{"$f":"IF(AR105=\"\",\"\",COUNTIF(AR12:AR105,\"-\"))","v":92},94,3,"","-"]
[95,{"$f":"IF(REG!B105<>\"\",REG!B105,\"\")","v":""},{"$f":"IF(REG!C105<>\"\",REG!G105,\"\")","v":""},{"$f":"IF('T Q 1-2'!R106=\"\",\"DNR\",IF('T Q 1-2'!R106=\"-\",+'T Q 1-2'!D106,+'T Q 1-2'!R106))","v":"DNR"},null,null,null,"-","",null,null,null,null,null,"","","","-",3,95,"","-",{"$f":"IF(R106=\"\",\"\",COUNTIF(R12:R106,\"-\"))","v":93},"","","","","","","0",{"$f":"IF(R106=\"\",\"\",IF(AD106=\"0\",\"0\",COUNTIF(AD12:AD105,AD106)))","v":"0"},"","0","","0","","0","",{"$f":"COUNTIF(AS12:AS106,\"W\")","v":0},{"$f":"IF(AR106=\"\",\"\",COUNTIF(AR12:AR106,\"-\"))","v":93},95,3,"","-"]
[96,{"$f":"IF(REG!B106<>\"\",REG!B106,\"\")","v":""},{"$f":"IF(REG!C106<>\"\",REG!G106,\"\")","v":""},{"$f":"IF('T Q 1-2'!R107=\"\",\"DNR\",IF('T Q 1-2'!R107=\"-\",+'T Q 1-2'!D107,+'T Q 1-2'!R107))","v":"DNR"},null,null,null,"-","",null,null,null,null,null,"","","","-",3,96,"","-",{"$f":"IF(R107=\"\",\"\",COUNTIF(R12:R107,\"-\"))","v":94},"","","","","","","0",{"$f":"IF(R107=\"\",\"\",IF(AD107=\"0\",\"0\",COUNTIF(AD12:AD106,AD107)))","v":"0"},"","0","","0","","0","",{"$f":"COUNTIF(AS12:AS107,\"W\")","v":0},{"$f":"IF(AR107=\"\",\"\",COUNTIF(AR12:AR107,\"-\"))","v":94},96,3,"","-"]
[97,{"$f":"IF(REG!B107<>\"\",REG!B107,\"\")","v":""},{"$f":"IF(REG!C107<>\"\",REG!G107,\"\")","v":""},{"$f":"IF('T Q 1-2'!R108=\"\",\"DNR\",IF('T Q 1-2'!R108=\"-\",+'T Q 1-2'!D108,+'T Q 1-2'!R108))","v":"DNR"},null,null,null,"-","",null,null,null,null,null,"","","","-",3,97,"","-",{"$f":"IF(R108=\"\",\"\",COUNTIF(R12:R108,\"-\"))","v":95},"","","","","","","0",{"$f":"IF(R108=\"\",\"\",IF(AD108=\"0\",\"0\",COUNTIF(AD12:AD107,AD108)))","v":"0"},"","0","","0","","0","",{"$f":"COUNTIF(AS12:AS108,\"W\")","v":0},{"$f":"IF(AR108=\"\",\"\",COUNTIF(AR12:AR108,\"-\"))","v":95},97,3,"","-"]
[98,{"$f":"IF(REG!B108<>\"\",REG!B108,\"\")","v":""},{"$f":"IF(REG!C108<>\"\",REG!G108,\"\")","v":""},{"$f":"IF('T Q 1-2'!R109=\"\",\"DNR\",IF('T Q 1-2'!R109=\"-\",+'T Q 1-2'!D109,+'T Q 1-2'!R109))","v":"DNR"},null,null,null,"-","",null,null,null,null,null,"","","","-",3,98,"","-",{"$f":"IF(R109=\"\",\"\",COUNTIF(R12:R109,\"-\"))","v":96},"","","","","","","0",{"$f":"IF(R109=\"\",\"\",IF(AD109=\"0\",\"0\",COUNTIF(AD12:AD108,AD109)))","v":"0"},"","0","","0","","0","",{"$f":"COUNTIF(AS12:AS109,\"W\")","v":0},{"$f":"IF(AR109=\"\",\"\",COUNTIF(AR12:AR109,\"-\"))","v":96},98,3,"","-"]
[99,{"$f":"IF(REG!B109<>\"\",REG!B109,\"\")","v":""},{"$f":"IF(REG!C109<>\"\",REG!G109,\"\")","v":""},{"$f":"IF('T Q 1-2'!R110=\"\",\"DNR\",IF('T Q 1-2'!R110=\"-\",+'T Q 1-2'!D110,+'T Q 1-2'!R110))","v":"DNR"},null,null,null,"-","",null,null,null,null,null,"","","","-",3,99,"","-",{"$f":"IF(R110=\"\",\"\",COUNTIF(R12:R110,\"-\"))","v":97},"","","","","","","0",{"$f":"IF(R110=\"\",\"\",IF(AD110=\"0\",\"0\",COUNTIF(AD12:AD109,AD110)))","v":"0"},"","0","","0","","0","",{"$f":"COUNTIF(AS12:AS110,\"W\")","v":0},{"$f":"IF(AR110=\"\",\"\",COUNTIF(AR12:AR110,\"-\"))","v":97},99,3,"","-"]
[100,{"$f":"IF(REG!B110<>\"\",REG!B110,\"\")","v":""},{"$f":"IF(REG!C110<>\"\",REG!G110,\"\")","v":""},{"$f":"IF('T Q 1-2'!R111=\"\",\"DNR\",IF('T Q 1-2'!R111=\"-\",+'T Q 1-2'!D111,+'T Q 1-2'!R111))","v":"DNR"},null,null,null,"-","",null,null,null,null,null,"","","","-",3,100,"","-",{"$f":"IF(R111=\"\",\"\",COUNTIF(R12:R111,\"-\"))","v":98},"","","","","","","0",{"$f":"IF(R111=\"\",\"\",IF(AD111=\"0\",\"0\",COUNTIF(AD12:AD110,AD111)))","v":"0"},"","0","","0","","0","",{"$f":"COUNTIF(AS12:AS111,\"W\")","v":0},{"$f":"IF(AR111=\"\",\"\",COUNTIF(AR12:AR111,\"-\"))","v":98},100,3,"","-"]

{"sheet":"T Q 4","index":14,"n_rows":111,"n_cols":45,"rows_kept":111,"cut":false,"hidden":false,"merged":[[9,42,10,42],[9,43,10,43],[9,44,10,44],[9,38,10,38],[9,39,10,39],[9,40,10,40],[9,41,10,41],[9,30,10,30],[9,31,10,31],[9,32,10,32],[9,33,10,33],[9,34,10,34],[9,25,10,25],[9,26,10,26],[9,27,10,27],[9,28,10,28],[9,29,10,29],[9,19,10,19],[6,1,6,2],[9,20,10,20],[9,21,10,21],[6,41,6,43],[9,3,9,8],[9,10,9,15],[9,16,10,16],[9,17,10,17],[9,18,10,18],[9,35,10,35],[9,36,10,36],[9,37,10,37],[9,22,10,22],[9,23,10,23],[9,24,10,24],[6,44,7,44],[7,1,7,2],[7,3,7,18],[7,41,7,43],[8,1,8,2],[6,3,6,18],[0,41,0,42],[1,3,1,18],[1,41,1,42],[2,3,2,18],[0,3,0,18],[9,0,10,0],[9,1,10,1],[9,2,10,2],[4,1,4,2],[5,1,5,2]]}
[null,null,null,{"$f":"CONTEST!B4","v":"Skate n Roll Polička  2022"}]
[null,null,null,{"$f":"CONTEST!B6","v":"13.8. - 14.8.2022"}]
[null,null,null,{"$f":"CONCATENATE(CONTEST!B10,\" / \",CONTEST!B16,\" / \",CONTEST!B13)","v":"TIGHT SLALOM / Qualifications / TEEN 12-14"}]
[]
[{"$f":"+'T Q 1-2'!A5","v":0.1},"secs penalty per hit cone"]
[{"$f":"+'T Q 1-2'!A6","v":8},"maximum hit cones before DQ"]
[{"$f":"+'T Q 1-2'!A8","v":1.46},"false start multiplication factor",null,"Under \"Raw Time,\" enter \"DQ\" or\"DNF\" for",null,null,null,null,null,null,null,null,null,null,null,null,null,null,null,null,null,null,null,null,null,null,null,null,null,null,null,null,null,null,null,null,null,null,null,null,null,"Advance Racers who DQ",null,null,"Y"]
[{"$f":"IF(ISERROR(0.1*AR12)=TRUE,\"\",ROUND(0.1*AR12,2))","v":1.46},"secs head-to-head DQ/DNR penalty",null,"\"Disqualified\" and \"DNR\" for \"Did Not Race.\"",null,null,null,null,null,null,null,null,null,null,null,null,null,null,null,null,null,null,null,null,null,null,null,null,null,null,null,null,null,null,null,null,null,null,null,null,null,"all Qualifying Runs? (Y/N)"]
[{"$f":"+'T Q 1-2'!A9","v":1.46},"secs max head-to-head victory margin"]
[null,"START Number","Racer Name","Run 1-3",null,null,null,null,null,null,"Run 4",null,null,null,null,null,"Qual Rank (w/out DQs)","Best Time","Qualifying Position","Qual Rank (w/DQs sequenced)","Racer No. & Name","Best Time","Double DQ Place Factor","No. of Ties per Best Time","Tied-at Time","Tied-at Time Rank","Run 1 Time w/DQ Adjust","Run 2 Time w/DQ Adjust","Total Time w/DQ Adjust","Total Time Rank","Total Tie Place Factor","Tie 1 Total Time Rank","Tie 1 Place Factor","Tie 2 Total Time Rank","Tie 2 Place Factor","Tie 3 Total Time Rank","Tie 3 Place Factor","Placed Racer No. & Name","Withdrawal Place Factor","Double DQ Place Factor 2","Final Spot - Withdrawals","Qualifying Position",{"$f":"CONCATENATE(+CONTEST!B4,\"                                \",+CONTEST!B8,\"                                   \",\"RUN 1-4\",\"                                     \",\"  Racer No. & Name\")","v":"Skate n Roll Polička  2022                                GIANT SLALOM                                   RUN 1-4                                       Racer No. & Name"},"Best Time","Withdraw (W)"]
[null,null,null,"BEST of 1-3","Cones","Reaction Time","False Start","Final Time","Run Rank",null,"Raw Time","Cones","Reaction Time","False Start","Final Time","Run Rank"]
[1,{"$f":"IF(REG!B11<>\"\",REG!B11,\"\")","v":""},{"$f":"IF(REG!C11<>\"\",REG!G11,\"\")","v":"Voves  Jindřich  [CZE] "},{"$f":"IF('T Q 3'!R12=\"\",\"DNR\",IF('T Q 3'!R12=\"-\",+'T Q 3'!D12,+'T Q 3'!R12))","v":14.568999999999999},null,null,null,{"$f":"IF(LEFT(D12:D111,1)=\"D\",\"-\",IF(E12:E111>A6,\"-\",IF(D12:D111>0,D12:D111+E12:E111*A5+G12:G111*A7,\"\")))","v":14.568999999999999},{"$f":"IF(H12:H111=\"\",\"\",IF(H12:H111=\"-\",\"\",RANK(H12:H111,H12:H111,1)))","v":1},null,null,null,null,null,{"$f":"IF(LEFT(K12:K111,1)=\"D\",\"-\",IF(L12:L111>A6,\"-\",IF(K12:K111>0,K12:K111+L12:L111*A5+N12:N111*A7,\"\")))","v":""},{"$f":"IF(O12:O111=\"\",\"\",IF(O12:O111=\"-\",\"\",RANK(O12:O111,O12:O111,1)))","v":""},{"$f":"IF(R12:R111=\"\",\"\",IF(R12:R111=\"-\",\"\",RANK(R12:R111,R12:R111,1)))","v":1},{"$f":"IF(AND(ISBLANK(D12),ISBLANK(K12)),\"\",IF(AND(H12=\"-\",O12=\"-\"),\"-\",IF(AND(H12=\"-\",ISBLANK(K12)),\"-\",MIN(H12,O12))))","v":14.568999999999999},{"$f":"IF(R12:R111=\"\",\"\",VLOOKUP(U12:U111,AL12:AP111,5,FALSE))","v":1},{"$f":"IF(R12:R111=\"\",\"\",IF(R12:R111=\"-\",COUNT(Q12:Q111)+W12:W111,Q12:Q111+AE12:AE111+AG12:AG111+AI12:AI111+AK12:AK111))","v":1},{"$f":"IF(B12:B111 =\"\",\"\",B12:B111 & \" \")&C12:C111","v":"Voves  Jindřich  [CZE] "},{"$f":"R12:R111","v":14.568999999999999},{"$f":"IF(R12=\"\",\"\",COUNTIF(R12:R12,\"-\"))","v":0},{"$f":"IF(Q12:Q111=\"\",\"\",COUNTIF(Q12:Q111,Q12:Q111)-1)","v":0},{"$f":"IF(R12:R111=\"-\",\"\",IF(X12:X111=0,\"\",R12:R111))","v":""},{"$f":"IF(Y12:Y111=\"\",\"\",RANK(Y12:Y111,Y12:Y111,1))","v":""},{"$f":"IF(X12:X111=\"\",\"\",IF(X12:X111=0,\"\",IF(LEFT(H12:H111,1)=\"-\",\"199\",H12:H111)))","v":""},{"$f":"IF(X12:X111=\"\",\"\",IF(X12:X111=0,\"\",IF(LEFT(O12:O111,1)=\"-\",\"199\",O12:O111)))","v":""},{"$f":"IF(ISERROR(AA12:AA111+AB12:AB111)=TRUE,AA12:AA111,AA12:AA111+AB12:AB111)","v":""},{"$f":"IF(R12:R111=\"\",\"\",IF(X12:X111=0,\"0\",IF(ISERROR(RANK(AC12:AC111,AC12:AC111,1))=TRUE,\"0\",RANK(AC12:AC111,AC12:AC111,1))))","v":"0"},0,{"$f":"IF(ISERROR(X12:X111)=TRUE,\"\",IF(Z12:Z111=1,AD12:AD111,\"\"))","v":""},{"$f":"IF(R12:R111=\"\",\"\",IF(AF12:AF111=\"\",\"0\",RANK(AF12:AF111,AF12:AF111,1)-1))","v":"0"},{"$f":"IF(ISERROR(X12:X111)=TRUE,\"\",IF(Z12:Z111=COUNT(AF12:AF111)+1,AD12:AD111,\"\"))","v":""},{"$f":"IF(R12:R111=\"\",\"\",IF(AH12:AH111=\"\",\"0\",RANK(AH12:AH111,AH12:AH111,1)-1))","v":"0"},{"$f":"IF(ISERROR(X12:X111)=TRUE,\"\",IF(Z12:Z111=COUNT(AF12:AF111)+COUNT(AH12:AH111)+1,AD12:AD111,\"\"))","v":""},{"$f":"IF(R12:R111=\"\",\"\",IF(AJ12:AJ111=\"\",\"0\",RANK(AJ12:AJ111,AJ12:AJ111,1)-1))","v":"0"},{"$f":"AQ12:AQ111","v":"Voves  Jindřich  [CZE] "},{"$f":"COUNTIF(AS12:AS12,\"W\")","v":0},{"$f":"IF(AR12=\"\",\"\",COUNTIF(AR12:AR12,\"-\"))","v":0},{"$f":"IF(AQ12:AQ111=\"BYE\",\"\",IF(AS12:AS111=\"W\",\"\",IF(AS7=\"N\",IF(AP12:AP111<=COUNT(Q12:Q111),AP12:AP111-AM12:AM111,\"\"),IF(AP12:AP111<=COUNT(Q12:Q111),AP12:AP111-AM12:AM111,AP12:AP111-AM12:AM111+AN12:AN111-1))))","v":1},{"$f":"IF(R12:R111=\"\",\"\",IF(AP11:AP110+1<=COUNT(Q12:Q111),AP11:AP110+1,COUNT(Q12:Q111)+1))","v":1},{"$f":"IF(R12:R111=\"\",\"BYE\",IF(ISERROR(VLOOKUP(A12:A111,T12:U111,2,FALSE))=TRUE,\"\",VLOOKUP(A12:A111,T12:U111,2,FALSE)))","v":"Voves  Jindřich  [CZE] "},{"$f":"IF(C12:C111=\"BYE\", \"\",IF(A12:A111=\"\",\"\",IF(ISERROR(VLOOKUP(A12:A111,T12:V111,3,FALSE))=TRUE,\"\",VLOOKUP(A12:A111,T12:V111,3,FALSE))))","v":14.568999999999999}]
[2,{"$f":"IF(REG!B12<>\"\",REG!B12,\"\")","v":""},{"$f":"IF(REG!C12<>\"\",REG!G12,\"\")","v":"Rezková  Anna  [CZE] "},{"$f":"IF('T Q 3'!R13=\"\",\"DNR\",IF('T Q 3'!R13=\"-\",+'T Q 3'!D13,+'T Q 3'!R13))","v":15.222},null,null,null,15.222,2,null,null,null,null,null,"","",2,15.222,2,2,"Rezková  Anna  [CZE] ",15.222,{"$f":"IF(R13=\"\",\"\",COUNTIF(R12:R13,\"-\"))","v":0},0,"","","","","","0",{"$f":"IF(R13=\"\",\"\",IF(AD13=\"0\",\"0\",COUNTIF(AD12:AD12,AD13)))","v":"0"},"","0","","0","","0","Rezková  Anna  [CZE] ",{"$f":"COUNTIF(AS12:AS13,\"W\")","v":0},{"$f":"IF(AR13=\"\",\"\",COUNTIF(AR12:AR13,\"-\"))","v":0},2,2,"Rezková  Anna  [CZE] ",15.222]
[3,{"$f":"IF(REG!B13<>\"\",REG!B13,\"\")","v":""},{"$f":"IF(REG!C13<>\"\",REG!G13,\"\")","v":""},{"$f":"IF('T Q 3'!R14=\"\",\"DNR\",IF('T Q 3'!R14=\"-\",+'T Q 3'!D14,+'T Q 3'!R14))","v":"DNR"},null,null,null,"-","",null,null,null,null,null,"","","","-",3,3,"","-",{"$f":"IF(R14=\"\",\"\",COUNTIF(R12:R14,\"-\"))","v":1},"","","","","","","0",{"$f":"IF(R14=\"\",\"\",IF(AD14=\"0\",\"0\",COUNTIF(AD12:AD13,AD14)))","v":"0"},"","0","","0","","0","",{"$f":"COUNTIF(AS12:AS14,\"W\")","v":0},{"$f":"IF(AR14=\"\",\"\",COUNTIF(AR12:AR14,\"-\"))","v":1},3,3,"","-"]
[4,{"$f":"IF(REG!B14<>\"\",REG!B14,\"\")","v":""},{"$f":"IF(REG!C14<>\"\",REG!G14,\"\")","v":""},{"$f":"IF('T Q 3'!R15=\"\",\"DNR\",IF('T Q 3'!R15=\"-\",+'T Q 3'!D15,+'T Q 3'!R15))","v":"DNR"},null,null,null,"-","",null,null,null,null,null,"","","","-",3,4,"","-",{"$f":"IF(R15=\"\",\"\",COUNTIF(R12:R15,\"-\"))","v":2},"","","","","","","0",{"$f":"IF(R15=\"\",\"\",IF(AD15=\"0\",\"0\",COUNTIF(AD12:AD14,AD15)))","v":"0"},"","0","","0","","0","",{"$f":"COUNTIF(AS12:AS15,\"W\")","v":0},{"$f":"IF(AR15=\"\",\"\",COUNTIF(AR12:AR15,\"-\"))","v":2},4,3,"","-"]
[5,{"$f":"IF(REG!B15<>\"\",REG!B15,\"\")","v":""},{"$f":"IF(REG!C15<>\"\",REG!G15,\"\")","v":""},{"$f":"IF('T Q 3'!R16=\"\",\"DNR\",IF('T Q 3'!R16=\"-\",+'T Q 3'!D16,+'T Q 3'!R16))","v":"DNR"},null,null,null,"-","",null,null,null,null,null,"","","","-",3,5,"","-",{"$f":"IF(R16=\"\",\"\",COUNTIF(R12:R16,\"-\"))","v":3},"","","","","","","0",{"$f":"IF(R16=\"\",\"\",IF(AD16=\"0\",\"0\",COUNTIF(AD12:AD15,AD16)))","v":"0"},"","0","","0","","0","",{"$f":"COUNTIF(AS12:AS16,\"W\")","v":0},{"$f":"IF(AR16=\"\",\"\",COUNTIF(AR12:AR16,\"-\"))","v":3},5,3,"","-"]
[6,{"$f":"IF(REG!B16<>\"\",REG!B16,\"\")","v":""},{"$f":"IF(REG!C16<>\"\",REG!G16,\"\")","v":""},{"$f":"IF('T Q 3'!R17=\"\",\"DNR\",IF('T Q 3'!R17=\"-\",+'T Q 3'!D17,+'T Q 3'!R17))","v":"DNR"},null,null,null,"-","",null,null,null,null,null,"","","","-",3,6,"","-",{"$f":"IF(R17=\"\",\"\",COUNTIF(R12:R17,\"-\"))","v":4},"","","","","","","0",{"$f":"IF(R17=\"\",\"\",IF(AD17=\"0\",\"0\",COUNTIF(AD12:AD16,AD17)))","v":"0"},"","0","","0","","0","",{"$f":"COUNTIF(AS12:AS17,\"W\")","v":0},{"$f":"IF(AR17=\"\",\"\",COUNTIF(AR12:AR17,\"-\"))","v":4},6,3,"","-"]
[7,{"$f":"IF(REG!B17<>\"\",REG!B17,\"\")","v":""},{"$f":"IF(REG!C17<>\"\",REG!G17,\"\")","v":""},{"$f":"IF('T Q 3'!R18=\"\",\"DNR\",IF('T Q 3'!R18=\"-\",+'T Q 3'!D18,+'T Q 3'!R18))","v":"DNR"},null,null,null,"-","",null,null,null,null,null,"","","","-",3,7,"","-",{"$f":"IF(R18=\"\",\"\",COUNTIF(R12:R18,\"-\"))","v":5},"","","","","","","0",{"$f":"IF(R18=\"\",\"\",IF(R18=\"\",\"\",IF(AD18=\"0\",\"0\",COUNTIF(AD12:AD17,AD18))))","v":"0"},"","0","","0","","0","",{"$f":"COUNTIF(AS12:AS18,\"W\")","v":0},{"$f":"IF(AR18=\"\",\"\",COUNTIF(AR12:AR18,\"-\"))","v":5},7,3,"","-"]
[8,{"$f":"IF(REG!B18<>\"\",REG!B18,\"\")","v":""},{"$f":"IF(REG!C18<>\"\",REG!G18,\"\")","v":""},{"$f":"IF('T Q 3'!R19=\"\",\"DNR\",IF('T Q 3'!R19=\"-\",+'T Q 3'!D19,+'T Q 3'!R19))","v":"DNR"},null,null,null,"-","",null,null,null,null,null,"","","","-",3,8,"","-",{"$f":"IF(R19=\"\",\"\",COUNTIF(R12:R19,\"-\"))","v":6},"","","","","","","0",{"$f":"IF(R19=\"\",\"\",IF(R19=\"\",\"\",IF(AD19=\"0\",\"0\",COUNTIF(AD12:AD18,AD19))))","v":"0"},"","0","","0","","0","",{"$f":"COUNTIF(AS12:AS19,\"W\")","v":0},{"$f":"IF(AR19=\"\",\"\",COUNTIF(AR12:AR19,\"-\"))","v":6},8,3,"","-"]
[9,{"$f":"IF(REG!B19<>\"\",REG!B19,\"\")","v":""},{"$f":"IF(REG!C19<>\"\",REG!G19,\"\")","v":""},{"$f":"IF('T Q 3'!R20=\"\",\"DNR\",IF('T Q 3'!R20=\"-\",+'T Q 3'!D20,+'T Q 3'!R20))","v":"DNR"},null,null,null,"-","",null,null,null,null,null,"","","","-",3,9,"","-",{"$f":"IF(R20=\"\",\"\",COUNTIF(R12:R20,\"-\"))","v":7},"","","","","","","0",{"$f":"IF(R20=\"\",\"\",IF(R20=\"\",\"\",IF(AD20=\"0\",\"0\",COUNTIF(AD12:AD19,AD20))))","v":"0"},"","0","","0","","0","",{"$f":"COUNTIF(AS12:AS20,\"W\")","v":0},{"$f":"IF(AR20=\"\",\"\",COUNTIF(AR12:AR20,\"-\"))","v":7},9,3,"","-"]
[10,{"$f":"IF(REG!B20<>\"\",REG!B20,\"\")","v":""},{"$f":"IF(REG!C20<>\"\",REG!G20,\"\")","v":""},{"$f":"IF('T Q 3'!R21=\"\",\"DNR\",IF('T Q 3'!R21=\"-\",+'T Q 3'!D21,+'T Q 3'!R21))","v":"DNR"},null,null,null,"-","",null,null,null,null,null,"","","","-",3,10,"","-",{"$f":"IF(R21=\"\",\"\",COUNTIF(R12:R21,\"-\"))","v":8},"","","","","","","0",{"$f":"IF(R21=\"\",\"\",IF(AD21=\"0\",\"0\",COUNTIF(AD12:AD20,AD21)))","v":"0"},"","0","","0","","0","",{"$f":"COUNTIF(AS12:AS21,\"W\")","v":0},{"$f":"IF(AR21=\"\",\"\",COUNTIF(AR12:AR21,\"-\"))","v":8},10,3,"","-"]
[11,{"$f":"IF(REG!B21<>\"\",REG!B21,\"\")","v":""},{"$f":"IF(REG!C21<>\"\",REG!G21,\"\")","v":""},{"$f":"IF('T Q 3'!R22=\"\",\"DNR\",IF('T Q 3'!R22=\"-\",+'T Q 3'!D22,+'T Q 3'!R22))","v":"DNR"},null,null,null,"-","",null,null,null,null,null,"","","","-",3,11,"","-",{"$f":"IF(R22=\"\",\"\",COUNTIF(R12:R22,\"-\"))","v":9},"","","","","","","0",{"$f":"IF(R22=\"\",\"\",IF(AD22=\"0\",\"0\",COUNTIF(AD1:AD21,AD22)))","v":"0"},"","0","","0","","0","",{"$f":"COUNTIF(AS12:AS22,\"W\")","v":0},{"$f":"IF(AR22=\"\",\"\",COUNTIF(AR12:AR22,\"-\"))","v":9},11,3,"","-"]
[12,{"$f":"IF(REG!B22<>\"\",REG!B22,\"\")","v":""},{"$f":"IF(REG!C22<>\"\",REG!G22,\"\")","v":""},{"$f":"IF('T Q 3'!R23=\"\",\"DNR\",IF('T Q 3'!R23=\"-\",+'T Q 3'!D23,+'T Q 3'!R23))","v":"DNR"},null,null,null,"-","",null,null,null,null,null,"","","","-",3,12,"","-",{"$f":"IF(R23=\"\",\"\",COUNTIF(R12:R23,\"-\"))","v":10},"","","","","","","0",{"$f":"IF(R23=\"\",\"\",IF(AD23=\"0\",\"0\",COUNTIF(AD12:AD22,AD23)))","v":"0"},"","0","","0","","0","",{"$f":"COUNTIF(AS12:AS23,\"W\")","v":0},{"$f":"IF(AR23=\"\",\"\",COUNTIF(AR12:AR23,\"-\"))","v":10},12,3,"","-"]
[13,{"$f":"IF(REG!B23<>\"\",REG!B23,\"\")","v":""},{"$f":"IF(REG!C23<>\"\",REG!G23,\"\")","v":""},{"$f":"IF('T Q 3'!R24=\"\",\"DNR\",IF('T Q 3'!R24=\"-\",+'T Q 3'!D24,+'T Q 3'!R24))","v":"DNR"},null,null,null,"-","",null,null,null,null,null,"","","","-",3,13,"","-",{"$f":"IF(R24=\"\",\"\",COUNTIF(R12:R24,\"-\"))","v":11},"","","","","","","0",{"$f":"IF(R24=\"\",\"\",IF(AD24=\"0\",\"0\",COUNTIF(AD12:AD23,AD24)))","v":"0"},"","0","","0","","0","",{"$f":"COUNTIF(AS12:AS24,\"W\")","v":0},{"$f":"IF(AR24=\"\",\"\",COUNTIF(AR12:AR24,\"-\"))","v":11},13,3,"","-"]
[14,{"$f":"IF(REG!B24<>\"\",REG!B24,\"\")","v":""},{"$f":"IF(REG!C24<>\"\",REG!G24,\"\")","v":""},{"$f":"IF('T Q 3'!R25=\"\",\"DNR\",IF('T Q 3'!R25=\"-\",+'T Q 3'!D25,+'T Q 3'!R25))","v":"DNR"},null,null,null,"-","",null,null,null,null,null,"","","","-",3,14,"","-",{"$f":"IF(R25=\"\",\"\",COUNTIF(R12:R25,\"-\"))","v":12},"","","","","","","0",{"$f":"IF(R25=\"\",\"\",IF(AD25=\"0\",\"0\",COUNTIF(AD12:AD24,AD25)))","v":"0"},"","0","","0","","0","",{"$f":"COUNTIF(AS12:AS25,\"W\")","v":0},{"$f":"IF(AR25=\"\",\"\",COUNTIF(AR12:AR25,\"-\"))","v":12},14,3,"","-"]
[15,{"$f":"IF(REG!B25<>\"\",REG!B25,\"\")","v":""},{"$f":"IF(REG!C25<>\"\",REG!G25,\"\")","v":""},{"$f":"IF('T Q 3'!R26=\"\",\"DNR\",IF('T Q 3'!R26=\"-\",+'T Q 3'!D26,+'T Q 3'!R26))","v":"DNR"},null,null,null,"-","",null,null,null,null,null,"","","","-",3,15,"","-",{"$f":"IF(R26=\"\",\"\",COUNTIF(R12:R26,\"-\"))","v":13},"","","","","","","0",{"$f":"IF(R26=\"\",\"\",IF(AD26=\"0\",\"0\",COUNTIF(AD12:AD25,AD26)))","v":"0"},"","0","","0","","0","",{"$f":"COUNTIF(AS12:AS26,\"W\")","v":0},{"$f":"IF(AR26=\"\",\"\",COUNTIF(AR12:AR26,\"-\"))","v":13},15,3,"","-"]
[16,{"$f":"IF(REG!B26<>\"\",REG!B26,\"\")","v":""},{"$f":"IF(REG!C26<>\"\",REG!G26,\"\")","v":""},{"$f":"IF('T Q 3'!R27=\"\",\"DNR\",IF('T Q 3'!R27=\"-\",+'T Q 3'!D27,+'T Q 3'!R27))","v":"DNR"},null,null,null,"-","",null,null,null,null,null,"","","","-",3,16,"","-",{"$f":"IF(R27=\"\",\"\",COUNTIF(R12:R27,\"-\"))","v":14},"","","","","","","0",{"$f":"IF(R27=\"\",\"\",IF(AD27=\"0\",\"0\",COUNTIF(AD12:AD26,AD27)))","v":"0"},"","0","","0","","0","",{"$f":"COUNTIF(AS12:AS27,\"W\")","v":0},{"$f":"IF(AR27=\"\",\"\",COUNTIF(AR12:AR27,\"-\"))","v":14},16,3,"","-"]
[17,{"$f":"IF(REG!B27<>\"\",REG!B27,\"\")","v":""},{"$f":"IF(REG!C27<>\"\",REG!G27,\"\")","v":""},{"$f":"IF('T Q 3'!R28=\"\",\"DNR\",IF('T Q 3'!R28=\"-\",+'T Q 3'!D28,+'T Q 3'!R28))","v":"DNR"},null,null,null,"-","",null,null,null,null,null,"","","","-",3,17,"","-",{"$f":"IF(R28=\"\",\"\",COUNTIF(R12:R28,\"-\"))","v":15},"","","","","","","0",{"$f":"IF(R28=\"\",\"\",IF(AD28=\"0\",\"0\",COUNTIF(AD12:AD27,AD28)))","v":"0"},"","0","","0","","0","",{"$f":"COUNTIF(AS12:AS28,\"W\")","v":0},{"$f":"IF(AR28=\"\",\"\",COUNTIF(AR12:AR28,\"-\"))","v":15},17,3,"","-"]
[18,{"$f":"IF(REG!B28<>\"\",REG!B28,\"\")","v":""},{"$f":"IF(REG!C28<>\"\",REG!G28,\"\")","v":""},{"$f":"IF('T Q 3'!R29=\"\",\"DNR\",IF('T Q 3'!R29=\"-\",+'T Q 3'!D29,+'T Q 3'!R29))","v":"DNR"},null,null,null,"-","",null,null,null,null,null,"","","","-",3,18,"","-",{"$f":"IF(R29=\"\",\"\",COUNTIF(R12:R29,\"-\"))","v":16},"","","","","","","0",{"$f":"IF(R29=\"\",\"\",IF(AD29=\"0\",\"0\",COUNTIF(AD12:AD28,AD29)))","v":"0"},"","0","","0","","0","",{"$f":"COUNTIF(AS12:AS29,\"W\")","v":0},{"$f":"IF(AR29=\"\",\"\",COUNTIF(AR12:AR29,\"-\"))","v":16},18,3,"","-"]
[19,{"$f":"IF(REG!B29<>\"\",REG!B29,\"\")","v":""},{"$f":"IF(REG!C29<>\"\",REG!G29,\"\")","v":""},{"$f":"IF('T Q 3'!R30=\"\",\"DNR\",IF('T Q 3'!R30=\"-\",+'T Q 3'!D30,+'T Q 3'!R30))","v":"DNR"},null,null,null,"-","",null,null,null,null,null,"","","","-",3,19,"","-",{"$f":"IF(R30=\"\",\"\",COUNTIF(R12:R30,\"-\"))","v":17},"","","","","","","0",{"$f":"IF(R30=\"\",\"\",IF(AD30=\"0\",\"0\",COUNTIF(AD12:AD29,AD30)))","v":"0"},"","0","","0","","0","",{"$f":"COUNTIF(AS12:AS30,\"W\")","v":0},{"$f":"IF(AR30=\"\",\"\",COUNTIF(AR12:AR30,\"-\"))","v":17},19,3,"","-"]
[20,{"$f":"IF(REG!B30<>\"\",REG!B30,\"\")","v":""},{"$f":"IF(REG!C30<>\"\",REG!G30,\"\")","v":""},{"$f":"IF('T Q 3'!R31=\"\",\"DNR\",IF('T Q 3'!R31=\"-\",+'T Q 3'!D31,+'T Q 3'!R31))","v":"DNR"},null,null,null,"-","",null,null,null,null,null,"","","","-",3,20,"","-",{"$f":"IF(R31=\"\",\"\",COUNTIF(R12:R31,\"-\"))","v":18},"","","","","","","0",{"$f":"IF(R31=\"\",\"\",IF(AD31=\"0\",\"0\",COUNTIF(AD12:AD30,AD31)))","v":"0"},"","0","","0","","0","",{"$f":"COUNTIF(AS12:AS31,\"W\")","v":0},{"$f":"IF(AR31=\"\",\"\",COUNTIF(AR12:AR31,\"-\"))","v":18},20,3,"","-"]
[21,{"$f":"IF(REG!B31<>\"\",REG!B31,\"\")","v":""},{"$f":"IF(REG!C31<>\"\",REG!G31,\"\")","v":""},{"$f":"IF('T Q 3'!R32=\"\",\"DNR\",IF('T Q 3'!R32=\"-\",+'T Q 3'!D32,+'T Q 3'!R32))","v":"DNR"},null,null,null,"-","",null,null,null,null,null,"","","","-",3,21,"","-",{"$f":"IF(R32=\"\",\"\",COUNTIF(R12:R32,\"-\"))","v":19},"","","","","","","0",{"$f":"IF(R32=\"\",\"\",IF(AD32=\"0\",\"0\",COUNTIF(AD12:AD31,AD32)))","v":"0"},"","0","","0","","0","",{"$f":"COUNTIF(AS12:AS32,\"W\")","v":0},{"$f":"IF(AR32=\"\",\"\",COUNTIF(AR12:AR32,\"-\"))","v":19},21,3,"","-"]
[22,{"$f":"IF(REG!B32<>\"\",REG!B32,\"\")","v":""},{"$f":"IF(REG!C32<>\"\",REG!G32,\"\")","v":""},{"$f":"IF('T Q 3'!R33=\"\",\"DNR\",IF('T Q 3'!R33=\"-\",+'T Q 3'!D33,+'T Q 3'!R33))","v":"DNR"},null,null,null,"-","",null,null,null,null,null,"","","","-",3,22,"","-",{"$f":"IF(R33=\"\",\"\",COUNTIF(R12:R33,\"-\"))","v":20},"","","","","","","0",{"$f":"IF(R33=\"\",\"\",IF(AD33=\"0\",\"0\",COUNTIF(AD12:AD32,AD33)))","v":"0"},"","0","","0","","0","",{"$f":"COUNTIF(AS12:AS33,\"W\")","v":0},{"$f":"IF(AR33=\"\",\"\",COUNTIF(AR12:AR33,\"-\"))","v":20},22,3,"","-"]
[23,{"$f":"IF(REG!B33<>\"\",REG!B33,\"\")","v":""},{"$f":"IF(REG!C33<>\"\",REG!G33,\"\")","v":""},{"$f":"IF('T Q 3'!R34=\"\",\"DNR\",IF('T Q 3'!R34=\"-\",+'T Q 3'!D34,+'T Q 3'!R34))","v":"DNR"},null,null,null,"-","",null,null,null,null,null,"","","","-",3,23,"","-",{"$f":"IF(R34=\"\",\"\",COUNTIF(R12:R34,\"-\"))","v":21},"","","","","","","0",{"$f":"IF(R34=\"\",\"\",IF(AD34=\"0\",\"0\",COUNTIF(AD12:AD33,AD34)))","v":"0"},"","0","","0","","0","",{"$f":"COUNTIF(AS12:AS34,\"W\")","v":0},{"$f":"IF(AR34=\"\",\"\",COUNTIF(AR12:AR34,\"-\"))","v":21},23,3,"","-"]
[24,{"$f":"IF(REG!B34<>\"\",REG!B34,\"\")","v":""},{"$f":"IF(REG!C34<>\"\",REG!G34,\"\")","v":""},{"$f":"IF('T Q 3'!R35=\"\",\"DNR\",IF('T Q 3'!R35=\"-\",+'T Q 3'!D35,+'T Q 3'!R35))","v":"DNR"},null,null,null,"-","",null,null,null,null,null,"","","","-",3,24,"","-",{"$f":"IF(R35=\"\",\"\",COUNTIF(R12:R35,\"-\"))","v":22},"","","","","","","0",{"$f":"IF(R35=\"\",\"\",IF(AD35=\"0\",\"0\",COUNTIF(AD12:AD34,AD35)))","v":"0"},"","0","","0","","0","",{"$f":"COUNTIF(AS12:AS35,\"W\")","v":0},{"$f":"IF(AR35=\"\",\"\",COUNTIF(AR12:AR35,\"-\"))","v":22},24,3,"","-"]
[25,{"$f":"IF(REG!B35<>\"\",REG!B35,\"\")","v":""},{"$f":"IF(REG!C35<>\"\",REG!G35,\"\")","v":""},{"$f":"IF('T Q 3'!R36=\"\",\"DNR\",IF('T Q 3'!R36=\"-\",+'T Q 3'!D36,+'T Q 3'!R36))","v":"DNR"},null,null,null,"-","",null,null,null,null,null,"","","","-",3,25,"","-",{"$f":"IF(R36=\"\",\"\",COUNTIF(R12:R36,\"-\"))","v":23},"","","","","","","0",{"$f":"IF(R36=\"\",\"\",IF(AD36=\"0\",\"0\",COUNTIF(AD12:AD35,AD36)))","v":"0"},"","0","","0","","0","",{"$f":"COUNTIF(AS12:AS36,\"W\")","v":0},{"$f":"IF(AR36=\"\",\"\",COUNTIF(AR12:AR36,\"-\"))","v":23},25,3,"","-"]
[26,{"$f":"IF(REG!B36<>\"\",REG!B36,\"\")","v":""},{"$f":"IF(REG!C36<>\"\",REG!G36,\"\")","v":""},{"$f":"IF('T Q 3'!R37=\"\",\"DNR\",IF('T Q 3'!R37=\"-\",+'T Q 3'!D37,+'T Q 3'!R37))","v":"DNR"},null,null,null,"-","",null,null,null,null,null,"","","","-",3,26,"","-",{"$f":"IF(R37=\"\",\"\",COUNTIF(R12:R37,\"-\"))","v":24},"","","","","","","0",{"$f":"IF(R37=\"\",\"\",IF(AD37=\"0\",\"0\",COUNTIF(AD12:AD36,AD37)))","v":"0"},"","0","","0","","0","",{"$f":"COUNTIF(AS12:AS37,\"W\")","v":0},{"$f":"IF(AR37=\"\",\"\",COUNTIF(AR12:AR37,\"-\"))","v":24},26,3,"","-"]
[27,{"$f":"IF(REG!B37<>\"\",REG!B37,\"\")","v":""},{"$f":"IF(REG!C37<>\"\",REG!G37,\"\")","v":""},{"$f":"IF('T Q 3'!R38=\"\",\"DNR\",IF('T Q 3'!R38=\"-\",+'T Q 3'!D38,+'T Q 3'!R38))","v":"DNR"},null,null,null,"-","",null,null,null,null,null,"","","","-",3,27,"","-",{"$f":"IF(R38=\"\",\"\",COUNTIF(R12:R38,\"-\"))","v":25},"","","","","","","0",{"$f":"IF(R38=\"\",\"\",IF(AD38=\"0\",\"0\",COUNTIF(AD12:AD37,AD38)))","v":"0"},"","0","","0","","0","",{"$f":"COUNTIF(AS12:AS38,\"W\")","v":0},{"$f":"IF(AR38=\"\",\"\",COUNTIF(AR12:AR38,\"-\"))","v":25},27,3,"","-"]
[28,{"$f":"IF(REG!B38<>\"\",REG!B38,\"\")","v":""},{"$f":"IF(REG!C38<>\"\",REG!G38,\"\")","v":""},{"$f":"IF('T Q 3'!R39=\"\",\"DNR\",IF('T Q 3'!R39=\"-\",+'T Q 3'!D39,+'T Q 3'!R39))","v":"DNR"},null,null,null,"-","",null,null,null,null,null,"","","","-",3,28,"","-",{"$f":"IF(R39=\"\",\"\",COUNTIF(R12:R39,\"-\"))","v":26},"","","","","","","0",{"$f":"IF(R39=\"\",\"\",IF(AD39=\"0\",\"0\",COUNTIF(AD12:AD38,AD39)))","v":"0"},"","0","","0","","0","",{"$f":"COUNTIF(AS12:AS39,\"W\")","v":0},{"$f":"IF(AR39=\"\",\"\",COUNTIF(AR12:AR39,\"-\"))","v":26},28,3,"","-"]
[29,{"$f":"IF(REG!B39<>\"\",REG!B39,\"\")","v":""},{"$f":"IF(REG!C39<>\"\",REG!G39,\"\")","v":""},{"$f":"IF('T Q 3'!R40=\"\",\"DNR\",IF('T Q 3'!R40=\"-\",+'T Q 3'!D40,+'T Q 3'!R40))","v":"DNR"},null,null,null,"-","",null,null,null,null,null,"","","","-",3,29,"","-",{"$f":"IF(R40=\"\",\"\",COUNTIF(R12:R40,\"-\"))","v":27},"","","","","","","0",{"$f":"IF(R40=\"\",\"\",IF(AD40=\"0\",\"0\",COUNTIF(AD12:AD39,AD40)))","v":"0"},"","0","","0","","0","",{"$f":"COUNTIF(AS12:AS40,\"W\")","v":0},{"$f":"IF(AR40=\"\",\"\",COUNTIF(AR12:AR40,\"-\"))","v":27},29,3,"","-"]
[30,{"$f":"IF(REG!B40<>\"\",REG!B40,\"\")","v":""},{"$f":"IF(REG!C40<>\"\",REG!G40,\"\")","v":""},{"$f":"IF('T Q 3'!R41=\"\",\"DNR\",IF('T Q 3'!R41=\"-\",+'T Q 3'!D41,+'T Q 3'!R41))","v":"DNR"},null,null,null,"-","",null,null,null,null,null,"","","","-",3,30,"","-",{"$f":"IF(R41=\"\",\"\",COUNTIF(R12:R41,\"-\"))","v":28},"","","","","","","0",{"$f":"IF(R41=\"\",\"\",IF(AD41=\"0\",\"0\",COUNTIF(AD12:AD40,AD41)))","v":"0"},"","0","","0","","0","",{"$f":"COUNTIF(AS12:AS41,\"W\")","v":0},{"$f":"IF(AR41=\"\",\"\",COUNTIF(AR12:AR41,\"-\"))","v":28},30,3,"","-"]
[31,{"$f":"IF(REG!B41<>\"\",REG!B41,\"\")","v":""},{"$f":"IF(REG!C41<>\"\",REG!G41,\"\")","v":""},{"$f":"IF('T Q 3'!R42=\"\",\"DNR\",IF('T Q 3'!R42=\"-\",+'T Q 3'!D42,+'T Q 3'!R42))","v":"DNR"},null,null,null,"-","",null,null,null,null,null,"","","","-",3,31,"","-",{"$f":"IF(R42=\"\",\"\",COUNTIF(R12:R42,\"-\"))","v":29},"","","","","","","0",{"$f":"IF(R42=\"\",\"\",IF(AD42=\"0\",\"0\",COUNTIF(AD12:AD41,AD42)))","v":"0"},"","0","","0","","0","",{"$f":"COUNTIF(AS12:AS42,\"W\")","v":0},{"$f":"IF(AR42=\"\",\"\",COUNTIF(AR12:AR42,\"-\"))","v":29},31,3,"","-"]
[32,{"$f":"IF(REG!B42<>\"\",REG!B42,\"\")","v":""},{"$f":"IF(REG!C42<>\"\",REG!G42,\"\")","v":""},{"$f":"IF('T Q 3'!R43=\"\",\"DNR\",IF('T Q 3'!R43=\"-\",+'T Q 3'!D43,+'T Q 3'!R43))","v":"DNR"},null,null,null,"-","",null,null,null,null,null,"","","","-",3,32,"","-",{"$f":"IF(R43=\"\",\"\",COUNTIF(R12:R43,\"-\"))","v":30},"","","","","","","0",{"$f":"IF(R43=\"\",\"\",IF(AD43=\"0\",\"0\",COUNTIF(AD12:AD42,AD43)))","v":"0"},"","0","","0","","0","",{"$f":"COUNTIF(AS12:AS43,\"W\")","v":0},{"$f":"IF(AR43=\"\",\"\",COUNTIF(AR12:AR43,\"-\"))","v":30},32,3,"","-"]
[33,{"$f":"IF(REG!B43<>\"\",REG!B43,\"\")","v":""},{"$f":"IF(REG!C43<>\"\",REG!G43,\"\")","v":""},{"$f":"IF('T Q 3'!R44=\"\",\"DNR\",IF('T Q 3'!R44=\"-\",+'T Q 3'!D44,+'T Q 3'!R44))","v":"DNR"},null,null,null,"-","",null,null,null,null,null,"","","",{"$f":"IF(AND(ISBLANK(D44),ISBLANK(K44)),\"\",IF(AND(H44=\"-\",O44=\"-\"),\"-\",IF(AND(H44=\"-\",ISBLANK(K44)),\"-\",MIN(H44,O44))))","v":"-"},3,33,"","-",{"$f":"IF(R44=\"\",\"\",COUNTIF(R12:R44,\"-\"))","v":31},"","","","","","","0",{"$f":"IF(R44=\"\",\"\",IF(AD44=\"0\",\"0\",COUNTIF(AD12:AD43,AD44)))","v":"0"},"","0","","0","","0","",{"$f":"COUNTIF(AS12:AS44,\"W\")","v":0},{"$f":"IF(AR44=\"\",\"\",COUNTIF(AR12:AR44,\"-\"))","v":31},33,3,"","-"]
[34,{"$f":"IF(REG!B44<>\"\",REG!B44,\"\")","v":""},{"$f":"IF(REG!C44<>\"\",REG!G44,\"\")","v":""},{"$f":"IF('T Q 3'!R45=\"\",\"DNR\",IF('T Q 3'!R45=\"-\",+'T Q 3'!D45,+'T Q 3'!R45))","v":"DNR"},null,null,null,"-","",null,null,null,null,null,"","","","-",3,34,"","-",{"$f":"IF(R45=\"\",\"\",COUNTIF(R12:R45,\"-\"))","v":32},"","","","","","","0",{"$f":"IF(R45=\"\",\"\",IF(AD45=\"0\",\"0\",COUNTIF(AD12:AD44,AD45)))","v":"0"},"","0","","0","","0","",{"$f":"COUNTIF(AS12:AS45,\"W\")","v":0},{"$f":"IF(AR45=\"\",\"\",COUNTIF(AR12:AR45,\"-\"))","v":32},34,3,"","-"]
[35,{"$f":"IF(REG!B45<>\"\",REG!B45,\"\")","v":""},{"$f":"IF(REG!C45<>\"\",REG!G45,\"\")","v":""},{"$f":"IF('T Q 3'!R46=\"\",\"DNR\",IF('T Q 3'!R46=\"-\",+'T Q 3'!D46,+'T Q 3'!R46))","v":"DNR"},null,null,null,"-","",null,null,null,null,null,"","","","-",3,35,"","-",{"$f":"IF(R46=\"\",\"\",COUNTIF(R12:R46,\"-\"))","v":33},"","","","","","","0",{"$f":"IF(R46=\"\",\"\",IF(AD46=\"0\",\"0\",COUNTIF(AD12:AD45,AD46)))","v":"0"},"","0","","0","","0","",{"$f":"COUNTIF(AS12:AS46,\"W\")","v":0},{"$f":"IF(AR46=\"\",\"\",COUNTIF(AR12:AR46,\"-\"))","v":33},35,3,"","-"]
[36,{"$f":"IF(REG!B46<>\"\",REG!B46,\"\")","v":""},{"$f":"IF(REG!C46<>\"\",REG!G46,\"\")","v":""},{"$f":"IF('T Q 3'!R47=\"\",\"DNR\",IF('T Q 3'!R47=\"-\",+'T Q 3'!D47,+'T Q 3'!R47))","v":"DNR"},null,null,null,"-","",null,null,null,null,null,"","","","-",3,36,"","-",{"$f":"IF(R47=\"\",\"\",COUNTIF(R12:R47,\"-\"))","v":34},"","","","","","","0",{"$f":"IF(R47=\"\",\"\",IF(AD47=\"0\",\"0\",COUNTIF(AD12:AD46,AD47)))","v":"0"},"","0","","0","","0","",{"$f":"COUNTIF(AS12:AS47,\"W\")","v":0},{"$f":"IF(AR47=\"\",\"\",COUNTIF(AR12:AR47,\"-\"))","v":34},36,3,"","-"]
[37,{"$f":"IF(REG!B47<>\"\",REG!B47,\"\")","v":""},{"$f":"IF(REG!C47<>\"\",REG!G47,\"\")","v":""},{"$f":"IF('T Q 3'!R48=\"\",\"DNR\",IF('T Q 3'!R48=\"-\",+'T Q 3'!D48,+'T Q 3'!R48))","v":"DNR"},null,null,null,"-","",null,null,null,null,null,"","","","-",3,37,"","-",{"$f":"IF(R48=\"\",\"\",COUNTIF(R12:R48,\"-\"))","v":35},"","","","","","","0",{"$f":"IF(R48=\"\",\"\",IF(AD48=\"0\",\"0\",COUNTIF(AD12:AD47,AD48)))","v":"0"},"","0","","0","","0","",{"$f":"COUNTIF(AS12:AS48,\"W\")","v":0},{"$f":"IF(AR48=\"\",\"\",COUNTIF(AR12:AR48,\"-\"))","v":35},37,3,"","-"]
[38,{"$f":"IF(REG!B48<>\"\",REG!B48,\"\")","v":""},{"$f":"IF(REG!C48<>\"\",REG!G48,\"\")","v":""},{"$f":"IF('T Q 3'!R49=\"\",\"DNR\",IF('T Q 3'!R49=\"-\",+'T Q 3'!D49,+'T Q 3'!R49))","v":"DNR"},null,null,null,"-","",null,null,null,null,null,"","","","-",3,38,"","-",{"$f":"IF(R49=\"\",\"\",COUNTIF(R12:R49,\"-\"))","v":36},"","","","","","","0",{"$f":"IF(R49=\"\",\"\",IF(AD49=\"0\",\"0\",COUNTIF(AD12:AD48,AD49)))","v":"0"},"","0","","0","","0","",{"$f":"COUNTIF(AS12:AS49,\"W\")","v":0},{"$f":"IF(AR49=\"\",\"\",COUNTIF(AR12:AR49,\"-\"))","v":36},38,3,"","-"]
[39,{"$f":"IF(REG!B49<>\"\",REG!B49,\"\")","v":""},{"$f":"IF(REG!C49<>\"\",REG!G49,\"\")","v":""},{"$f":"IF('T Q 3'!R50=\"\",\"DNR\",IF('T Q 3'!R50=\"-\",+'T Q 3'!D50,+'T Q 3'!R50))","v":"DNR"},null,null,null,"-","",null,null,null,null,null,"","","","-",3,39,"","-",{"$f":"IF(R50=\"\",\"\",COUNTIF(R12:R50,\"-\"))","v":37},"","","","","","","0",{"$f":"IF(R50=\"\",\"\",IF(AD50=\"0\",\"0\",COUNTIF(AD12:AD49,AD50)))","v":"0"},"","0","","0","","0","",{"$f":"COUNTIF(AS12:AS50,\"W\")","v":0},{"$f":"IF(AR50=\"\",\"\",COUNTIF(AR12:AR50,\"-\"))","v":37},39,3,"","-"]
[40,{"$f":"IF(REG!B50<>\"\",REG!B50,\"\")","v":""},{"$f":"IF(REG!C50<>\"\",REG!G50,\"\")","v":""},{"$f":"IF('T Q 3'!R51=\"\",\"DNR\",IF('T Q 3'!R51=\"-\",+'T Q 3'!D51,+'T Q 3'!R51))","v":"DNR"},null,null,null,"-","",null,null,null,null,null,"","","","-",3,40,"","-",{"$f":"IF(R51=\"\",\"\",COUNTIF(R12:R51,\"-\"))","v":38},"","","","","","","0",{"$f":"IF(R51=\"\",\"\",IF(AD51=\"0\",\"0\",COUNTIF(AD12:AD50,AD51)))","v":"0"},"","0","","0","","0","",{"$f":"COUNTIF(AS12:AS51,\"W\")","v":0},{"$f":"IF(AR51=\"\",\"\",COUNTIF(AR12:AR51,\"-\"))","v":38},40,3,"","-"]
[41,{"$f":"IF(REG!B51<>\"\",REG!B51,\"\")","v":""},{"$f":"IF(REG!C51<>\"\",REG!G51,\"\")","v":""},{"$f":"IF('T Q 3'!R52=\"\",\"DNR\",IF('T Q 3'!R52=\"-\",+'T Q 3'!D52,+'T Q 3'!R52))","v":"DNR"},null,null,null,"-","",null,null,null,null,null,"","","","-",3,41,"","-",{"$f":"IF(R52=\"\",\"\",COUNTIF(R12:R52,\"-\"))","v":39},"","","","","","","0",{"$f":"IF(R52=\"\",\"\",IF(AD52=\"0\",\"0\",COUNTIF(AD12:AD51,AD52)))","v":"0"},"","0","","0","","0","",{"$f":"COUNTIF(AS12:AS52,\"W\")","v":0},{"$f":"IF(AR52=\"\",\"\",COUNTIF(AR12:AR52,\"-\"))","v":39},41,3,"","-"]
[42,{"$f":"IF(REG!B52<>\"\",REG!B52,\"\")","v":""},{"$f":"IF(REG!C52<>\"\",REG!G52,\"\")","v":""},{"$f":"IF('T Q 3'!R53=\"\",\"DNR\",IF('T Q 3'!R53=\"-\",+'T Q 3'!D53,+'T Q 3'!R53))","v":"DNR"},null,null,null,"-","",null,null,null,null,null,"","","","-",3,42,"","-",{"$f":"IF(R53=\"\",\"\",COUNTIF(R12:R53,\"-\"))","v":40},"","","","","","","0",{"$f":"IF(R53=\"\",\"\",IF(AD53=\"0\",\"0\",COUNTIF(AD12:AD52,AD53)))","v":"0"},"","0","","0","","0","",{"$f":"COUNTIF(AS12:AS53,\"W\")","v":0},{"$f":"IF(AR53=\"\",\"\",COUNTIF(AR12:AR53,\"-\"))","v":40},42,3,"","-"]
[43,{"$f":"IF(REG!B53<>\"\",REG!B53,\"\")","v":""},{"$f":"IF(REG!C53<>\"\",REG!G53,\"\")","v":""},{"$f":"IF('T Q 3'!R54=\"\",\"DNR\",IF('T Q 3'!R54=\"-\",+'T Q 3'!D54,+'T Q 3'!R54))","v":"DNR"},null,null,null,"-","",null,null,null,null,null,"","","","-",3,43,"","-",{"$f":"IF(R54=\"\",\"\",COUNTIF(R12:R54,\"-\"))","v":41},"","","","","","","0",{"$f":"IF(R54=\"\",\"\",IF(AD54=\"0\",\"0\",COUNTIF(AD12:AD53,AD54)))","v":"0"},"","0","","0","","0","",{"$f":"COUNTIF(AS12:AS54,\"W\")","v":0},{"$f":"IF(AR54=\"\",\"\",COUNTIF(AR12:AR54,\"-\"))","v":41},43,3,"","-"]
[44,{"$f":"IF(REG!B54<>\"\",REG!B54,\"\")","v":""},{"$f":"IF(REG!C54<>\"\",REG!G54,\"\")","v":""},{"$f":"IF('T Q 3'!R55=\"\",\"DNR\",IF('T Q 3'!R55=\"-\",+'T Q 3'!D55,+'T Q 3'!R55))","v":"DNR"},null,null,null,"-","",null,null,null,null,null,"","","","-",3,44,"","-",{"$f":"IF(R55=\"\",\"\",COUNTIF(R12:R55,\"-\"))","v":42},"","","","","","","0",{"$f":"IF(R55=\"\",\"\",IF(AD55=\"0\",\"0\",COUNTIF(AD12:AD54,AD55)))","v":"0"},"","0","","0","","0","",{"$f":"COUNTIF(AS12:AS55,\"W\")","v":0},{"$f":"IF(AR55=\"\",\"\",COUNTIF(AR12:AR55,\"-\"))","v":42},44,3,"","-"]
[45,{"$f":"IF(REG!B55<>\"\",REG!B55,\"\")","v":""},{"$f":"IF(REG!C55<>\"\",REG!G55,\"\")","v":""},{"$f":"IF('T Q 3'!R56=\"\",\"DNR\",IF('T Q 3'!R56=\"-\",+'T Q 3'!D56,+'T Q 3'!R56))","v":"DNR"},null,null,null,"-","",null,null,null,null,null,"","","","-",3,45,"","-",{"$f":"IF(R56=\"\",\"\",COUNTIF(R12:R56,\"-\"))","v":43},"","","","","","","0",{"$f":"IF(R56=\"\",\"\",IF(AD56=\"0\",\"0\",COUNTIF(AD12:AD55,AD56)))","v":"0"},"","0","","0","","0","",{"$f":"COUNTIF(AS12:AS56,\"W\")","v":0},{"$f":"IF(AR56=\"\",\"\",COUNTIF(AR12:AR56,\"-\"))","v":43},45,3,"","-"]
[46,{"$f":"IF(REG!B56<>\"\",REG!B56,\"\")","v":""},{"$f":"IF(REG!C56<>\"\",REG!G56,\"\")","v":""},{"$f":"IF('T Q 3'!R57=\"\",\"DNR\",IF('T Q 3'!R57=\"-\",+'T Q 3'!D57,+'T Q 3'!R57))","v":"DNR"},null,null,null,"-","",null,null,null,null,null,"","","","-",3,46,"","-",{"$f":"IF(R57=\"\",\"\",COUNTIF(R12:R57,\"-\"))","v":44},"","","","","","","0",{"$f":"IF(R57=\"\",\"\",IF(AD57=\"0\",\"0\",COUNTIF(AD12:AD56,AD57)))","v":"0"},"","0","","0","","0","",{"$f":"COUNTIF(AS12:AS57,\"W\")","v":0},{"$f":"IF(AR57=\"\",\"\",COUNTIF(AR12:AR57,\"-\"))","v":44},46,3,"","-"]
[47,{"$f":"IF(REG!B57<>\"\",REG!B57,\"\")","v":""},{"$f":"IF(REG!C57<>\"\",REG!G57,\"\")","v":""},{"$f":"IF('T Q 3'!R58=\"\",\"DNR\",IF('T Q 3'!R58=\"-\",+'T Q 3'!D58,+'T Q 3'!R58))","v":"DNR"},null,null,null,"-","",null,null,null,null,null,"","","","-",3,47,"","-",{"$f":"IF(R58=\"\",\"\",COUNTIF(R12:R58,\"-\"))","v":45},"","","","","","","0",{"$f":"IF(R58=\"\",\"\",IF(AD58=\"0\",\"0\",COUNTIF(AD12:AD57,AD58)))","v":"0"},"","0","","0","","0","",{"$f":"COUNTIF(AS12:AS58,\"W\")","v":0},{"$f":"IF(AR58=\"\",\"\",COUNTIF(AR12:AR58,\"-\"))","v":45},47,3,"","-"]
[48,{"$f":"IF(REG!B58<>\"\",REG!B58,\"\")","v":""},{"$f":"IF(REG!C58<>\"\",REG!G58,\"\")","v":""},{"$f":"IF('T Q 3'!R59=\"\",\"DNR\",IF('T Q 3'!R59=\"-\",+'T Q 3'!D59,+'T Q 3'!R59))","v":"DNR"},null,null,null,"-","",null,null,null,null,null,"","","","-",3,48,"","-",{"$f":"IF(R59=\"\",\"\",COUNTIF(R12:R59,\"-\"))","v":46},"","","","","","","0",{"$f":"IF(R59=\"\",\"\",IF(AD59=\"0\",\"0\",COUNTIF(AD12:AD58,AD59)))","v":"0"},"","0","","0","","0","",{"$f":"COUNTIF(AS12:AS59,\"W\")","v":0},{"$f":"IF(AR59=\"\",\"\",COUNTIF(AR12:AR59,\"-\"))","v":46},48,3,"","-"]
[49,{"$f":"IF(REG!B59<>\"\",REG!B59,\"\")","v":""},{"$f":"IF(REG!C59<>\"\",REG!G59,\"\")","v":""},{"$f":"IF('T Q 3'!R60=\"\",\"DNR\",IF('T Q 3'!R60=\"-\",+'T Q 3'!D60,+'T Q 3'!R60))","v":"DNR"},null,null,null,"-","",null,null,null,null,null,"","","","-",3,49,"","-",{"$f":"IF(R60=\"\",\"\",COUNTIF(R12:R60,\"-\"))","v":47},"","","","","","","0",{"$f":"IF(R60=\"\",\"\",IF(AD60=\"0\",\"0\",COUNTIF(AD12:AD59,AD60)))","v":"0"},"","0","","0","","0","",{"$f":"COUNTIF(AS12:AS60,\"W\")","v":0},{"$f":"IF(AR60=\"\",\"\",COUNTIF(AR12:AR60,\"-\"))","v":47},49,3,"","-"]
[50,{"$f":"IF(REG!B60<>\"\",REG!B60,\"\")","v":""},{"$f":"IF(REG!C60<>\"\",REG!G60,\"\")","v":""},{"$f":"IF('T Q 3'!R61=\"\",\"DNR\",IF('T Q 3'!R61=\"-\",+'T Q 3'!D61,+'T Q 3'!R61))","v":"DNR"},null,null,null,"-","",null,null,null,null,null,"","","","-",3,50,"","-",{"$f":"IF(R61=\"\",\"\",COUNTIF(R12:R61,\"-\"))","v":48},"","","","","","","0",{"$f":"IF(R61=\"\",\"\",IF(AD61=\"0\",\"0\",COUNTIF(AD12:AD60,AD61)))","v":"0"},"","0","","0","","0","",{"$f":"COUNTIF(AS12:AS61,\"W\")","v":0},{"$f":"IF(AR61=\"\",\"\",COUNTIF(AR12:AR61,\"-\"))","v":48},50,3,"","-"]
[51,{"$f":"IF(REG!B61<>\"\",REG!B61,\"\")","v":""},{"$f":"IF(REG!C61<>\"\",REG!G61,\"\")","v":""},{"$f":"IF('T Q 3'!R62=\"\",\"DNR\",IF('T Q 3'!R62=\"-\",+'T Q 3'!D62,+'T Q 3'!R62))","v":"DNR"},null,null,null,"-","",null,null,null,null,null,"","","","-",3,51,"","-",{"$f":"IF(R62=\"\",\"\",COUNTIF(R12:R62,\"-\"))","v":49},"","","","","","","0",{"$f":"IF(R62=\"\",\"\",IF(AD62=\"0\",\"0\",COUNTIF(AD12:AD61,AD62)))","v":"0"},"","0","","0","","0","",{"$f":"COUNTIF(AS12:AS62,\"W\")","v":0},{"$f":"IF(AR62=\"\",\"\",COUNTIF(AR12:AR62,\"-\"))","v":49},51,3,"","-"]
[52,{"$f":"IF(REG!B62<>\"\",REG!B62,\"\")","v":""},{"$f":"IF(REG!C62<>\"\",REG!G62,\"\")","v":""},{"$f":"IF('T Q 3'!R63=\"\",\"DNR\",IF('T Q 3'!R63=\"-\",+'T Q 3'!D63,+'T Q 3'!R63))","v":"DNR"},null,null,null,"-","",null,null,null,null,null,"","","","-",3,52,"","-",{"$f":"IF(R63=\"\",\"\",COUNTIF(R12:R63,\"-\"))","v":50},"","","","","","","0",{"$f":"IF(R63=\"\",\"\",IF(AD63=\"0\",\"0\",COUNTIF(AD12:AD62,AD63)))","v":"0"},"","0","","0","","0","",{"$f":"COUNTIF(AS12:AS63,\"W\")","v":0},{"$f":"IF(AR63=\"\",\"\",COUNTIF(AR12:AR63,\"-\"))","v":50},52,3,"","-"]
[53,{"$f":"IF(REG!B63<>\"\",REG!B63,\"\")","v":""},{"$f":"IF(REG!C63<>\"\",REG!G63,\"\")","v":""},{"$f":"IF('T Q 3'!R64=\"\",\"DNR\",IF('T Q 3'!R64=\"-\",+'T Q 3'!D64,+'T Q 3'!R64))","v":"DNR"},null,null,null,"-","",null,null,null,null,null,"","","","-",3,53,"","-",{"$f":"IF(R64=\"\",\"\",COUNTIF(R12:R64,\"-\"))","v":51},"","","","","","","0",{"$f":"IF(R64=\"\",\"\",IF(AD64=\"0\",\"0\",COUNTIF(AD12:AD63,AD64)))","v":"0"},"","0","","0","","0","",{"$f":"COUNTIF(AS12:AS64,\"W\")","v":0},{"$f":"IF(AR64=\"\",\"\",COUNTIF(AR12:AR64,\"-\"))","v":51},53,3,"","-"]
[54,{"$f":"IF(REG!B64<>\"\",REG!B64,\"\")","v":""},{"$f":"IF(REG!C64<>\"\",REG!G64,\"\")","v":""},{"$f":"IF('T Q 3'!R65=\"\",\"DNR\",IF('T Q 3'!R65=\"-\",+'T Q 3'!D65,+'T Q 3'!R65))","v":"DNR"},null,null,null,"-","",null,null,null,null,null,"","","","-",3,54,"","-",{"$f":"IF(R65=\"\",\"\",COUNTIF(R12:R65,\"-\"))","v":52},"","","","","","","0",{"$f":"IF(R65=\"\",\"\",IF(AD65=\"0\",\"0\",COUNTIF(AD12:AD64,AD65)))","v":"0"},"","0","","0","","0","",{"$f":"COUNTIF(AS12:AS65,\"W\")","v":0},{"$f":"IF(AR65=\"\",\"\",COUNTIF(AR12:AR65,\"-\"))","v":52},54,3,"","-"]
[55,{"$f":"IF(REG!B65<>\"\",REG!B65,\"\")","v":""},{"$f":"IF(REG!C65<>\"\",REG!G65,\"\")","v":""},{"$f":"IF('T Q 3'!R66=\"\",\"DNR\",IF('T Q 3'!R66=\"-\",+'T Q 3'!D66,+'T Q 3'!R66))","v":"DNR"},null,null,null,"-","",null,null,null,null,null,"","","","-",3,55,"","-",{"$f":"IF(R66=\"\",\"\",COUNTIF(R12:R66,\"-\"))","v":53},"","","","","","","0",{"$f":"IF(R66=\"\",\"\",IF(AD66=\"0\",\"0\",COUNTIF(AD12:AD65,AD66)))","v":"0"},"","0","","0","","0","",{"$f":"COUNTIF(AS12:AS66,\"W\")","v":0},{"$f":"IF(AR66=\"\",\"\",COUNTIF(AR12:AR66,\"-\"))","v":53},55,3,"","-"]
[56,{"$f":"IF(REG!B66<>\"\",REG!B66,\"\")","v":""},{"$f":"IF(REG!C66<>\"\",REG!G66,\"\")","v":""},{"$f":"IF('T Q 3'!R67=\"\",\"DNR\",IF('T Q 3'!R67=\"-\",+'T Q 3'!D67,+'T Q 3'!R67))","v":"DNR"},null,null,null,"-","",null,null,null,null,null,"","","","-",3,56,"","-",{"$f":"IF(R67=\"\",\"\",COUNTIF(R12:R67,\"-\"))","v":54},"","","","","","","0",{"$f":"IF(R67=\"\",\"\",IF(AD67=\"0\",\"0\",COUNTIF(AD12:AD66,AD67)))","v":"0"},"","0","","0","","0","",{"$f":"COUNTIF(AS12:AS67,\"W\")","v":0},{"$f":"IF(AR67=\"\",\"\",COUNTIF(AR12:AR67,\"-\"))","v":54},56,3,"","-"]
[57,{"$f":"IF(REG!B67<>\"\",REG!B67,\"\")","v":""},{"$f":"IF(REG!C67<>\"\",REG!G67,\"\")","v":""},{"$f":"IF('T Q 3'!R68=\"\",\"DNR\",IF('T Q 3'!R68=\"-\",+'T Q 3'!D68,+'T Q 3'!R68))","v":"DNR"},null,null,null,"-","",null,null,null,null,null,"","","","-",3,57,"","-",{"$f":"IF(R68=\"\",\"\",COUNTIF(R12:R68,\"-\"))","v":55},"","","","","","","0",{"$f":"IF(R68=\"\",\"\",IF(R68=\"\",\"\",IF(AD68=\"0\",\"0\",COUNTIF(AD12:AD67,AD68))))","v":"0"},"","0","","0","","0","",{"$f":"COUNTIF(AS12:AS68,\"W\")","v":0},{"$f":"IF(AR68=\"\",\"\",COUNTIF(AR12:AR68,\"-\"))","v":55},57,3,"","-"]
[58,{"$f":"IF(REG!B68<>\"\",REG!B68,\"\")","v":""},{"$f":"IF(REG!C68<>\"\",REG!G68,\"\")","v":""},{"$f":"IF('T Q 3'!R69=\"\",\"DNR\",IF('T Q 3'!R69=\"-\",+'T Q 3'!D69,+'T Q 3'!R69))","v":"DNR"},null,null,null,"-","",null,null,null,null,null,"","","","-",3,58,"","-",{"$f":"IF(R69=\"\",\"\",COUNTIF(R12:R69,\"-\"))","v":56},"","","","","","","0",{"$f":"IF(R69=\"\",\"\",IF(R69=\"\",\"\",IF(AD69=\"0\",\"0\",COUNTIF(AD12:AD68,AD69))))","v":"0"},"","0","","0","","0","",{"$f":"COUNTIF(AS12:AS69,\"W\")","v":0},{"$f":"IF(AR69=\"\",\"\",COUNTIF(AR12:AR69,\"-\"))","v":56},58,3,"","-"]
[59,{"$f":"IF(REG!B69<>\"\",REG!B69,\"\")","v":""},{"$f":"IF(REG!C69<>\"\",REG!G69,\"\")","v":""},{"$f":"IF('T Q 3'!R70=\"\",\"DNR\",IF('T Q 3'!R70=\"-\",+'T Q 3'!D70,+'T Q 3'!R70))","v":"DNR"},null,null,null,"-","",null,null,null,null,null,"","","","-",3,59,"","-",{"$f":"IF(R70=\"\",\"\",COUNTIF(R12:R70,\"-\"))","v":57},"","","","","","","0",{"$f":"IF(R70=\"\",\"\",IF(R70=\"\",\"\",IF(AD70=\"0\",\"0\",COUNTIF(AD12:AD69,AD70))))","v":"0"},"","0","","0","","0","",{"$f":"COUNTIF(AS12:AS70,\"W\")","v":0},{"$f":"IF(AR70=\"\",\"\",COUNTIF(AR12:AR70,\"-\"))","v":57},59,3,"","-"]
[60,{"$f":"IF(REG!B70<>\"\",REG!B70,\"\")","v":""},{"$f":"IF(REG!C70<>\"\",REG!G70,\"\")","v":""},{"$f":"IF('T Q 3'!R71=\"\",\"DNR\",IF('T Q 3'!R71=\"-\",+'T Q 3'!D71,+'T Q 3'!R71))","v":"DNR"},null,null,null,"-","",null,null,null,null,null,"","","","-",3,60,"","-",{"$f":"IF(R71=\"\",\"\",COUNTIF(R12:R71,\"-\"))","v":58},"","","","","","","0",{"$f":"IF(R71=\"\",\"\",IF(AD71=\"0\",\"0\",COUNTIF(AD12:AD70,AD71)))","v":"0"},"","0","","0","","0","",{"$f":"COUNTIF(AS12:AS71,\"W\")","v":0},{"$f":"IF(AR71=\"\",\"\",COUNTIF(AR12:AR71,\"-\"))","v":58},60,3,"","-"]
[61,{"$f":"IF(REG!B71<>\"\",REG!B71,\"\")","v":""},{"$f":"IF(REG!C71<>\"\",REG!G71,\"\")","v":""},{"$f":"IF('T Q 3'!R72=\"\",\"DNR\",IF('T Q 3'!R72=\"-\",+'T Q 3'!D72,+'T Q 3'!R72))","v":"DNR"},null,null,null,"-","",null,null,null,null,null,"","","","-",3,61,"","-",{"$f":"IF(R72=\"\",\"\",COUNTIF(R12:R72,\"-\"))","v":59},"","","","","","","0",{"$f":"IF(R72=\"\",\"\",IF(AD72=\"0\",\"0\",COUNTIF(AD52:AD71,AD72)))","v":"0"},"","0","","0","","0","",{"$f":"COUNTIF(AS12:AS72,\"W\")","v":0},{"$f":"IF(AR72=\"\",\"\",COUNTIF(AR12:AR72,\"-\"))","v":59},61,3,"","-"]
[62,{"$f":"IF(REG!B72<>\"\",REG!B72,\"\")","v":""},{"$f":"IF(REG!C72<>\"\",REG!G72,\"\")","v":""},{"$f":"IF('T Q 3'!R73=\"\",\"DNR\",IF('T Q 3'!R73=\"-\",+'T Q 3'!D73,+'T Q 3'!R73))","v":"DNR"},null,null,null,"-","",null,null,null,null,null,"","","","-",3,62,"","-",{"$f":"IF(R73=\"\",\"\",COUNTIF(R12:R73,\"-\"))","v":60},"","","","","","","0",{"$f":"IF(R73=\"\",\"\",IF(AD73=\"0\",\"0\",COUNTIF(AD12:AD72,AD73)))","v":"0"},"","0","","0","","0","",{"$f":"COUNTIF(AS12:AS73,\"W\")","v":0},{"$f":"IF(AR73=\"\",\"\",COUNTIF(AR12:AR73,\"-\"))","v":60},62,3,"","-"]
[63,{"$f":"IF(REG!B73<>\"\",REG!B73,\"\")","v":""},{"$f":"IF(REG!C73<>\"\",REG!G73,\"\")","v":""},{"$f":"IF('T Q 3'!R74=\"\",\"DNR\",IF('T Q 3'!R74=\"-\",+'T Q 3'!D74,+'T Q 3'!R74))","v":"DNR"},null,null,null,"-","",null,null,null,null,null,"","","","-",3,63,"","-",{"$f":"IF(R74=\"\",\"\",COUNTIF(R12:R74,\"-\"))","v":61},"","","","","","","0",{"$f":"IF(R74=\"\",\"\",IF(AD74=\"0\",\"0\",COUNTIF(AD12:AD73,AD74)))","v":"0"},"","0","","0","","0","",{"$f":"COUNTIF(AS12:AS74,\"W\")","v":0},{"$f":"IF(AR74=\"\",\"\",COUNTIF(AR12:AR74,\"-\"))","v":61},63,3,"","-"]
[64,{"$f":"IF(REG!B74<>\"\",REG!B74,\"\")","v":""},{"$f":"IF(REG!C74<>\"\",REG!G74,\"\")","v":""},{"$f":"IF('T Q 3'!R75=\"\",\"DNR\",IF('T Q 3'!R75=\"-\",+'T Q 3'!D75,+'T Q 3'!R75))","v":"DNR"},null,null,null,"-","",null,null,null,null,null,"","","","-",3,64,"","-",{"$f":"IF(R75=\"\",\"\",COUNTIF(R12:R75,\"-\"))","v":62},"","","","","","","0",{"$f":"IF(R75=\"\",\"\",IF(AD75=\"0\",\"0\",COUNTIF(AD12:AD74,AD75)))","v":"0"},"","0","","0","","0","",{"$f":"COUNTIF(AS12:AS75,\"W\")","v":0},{"$f":"IF(AR75=\"\",\"\",COUNTIF(AR12:AR75,\"-\"))","v":62},64,3,"","-"]
[65,{"$f":"IF(REG!B75<>\"\",REG!B75,\"\")","v":""},{"$f":"IF(REG!C75<>\"\",REG!G75,\"\")","v":""},{"$f":"IF('T Q 3'!R76=\"\",\"DNR\",IF('T Q 3'!R76=\"-\",+'T Q 3'!D76,+'T Q 3'!R76))","v":"DNR"},null,null,null,"-","",null,null,null,null,null,"","","",{"$f":"IF(AND(ISBLANK(D76),ISBLANK(K76)),\"\",IF(AND(H76=\"-\",O76=\"-\"),\"-\",IF(AND(H76=\"-\",ISBLANK(K76)),\"-\",MIN(H76,O76))))","v":"-"},3,65,"","-",{"$f":"IF(R76=\"\",\"\",COUNTIF(R12:R76,\"-\"))","v":63},"","","","","","","0",{"$f":"IF(R76=\"\",\"\",IF(AD76=\"0\",\"0\",COUNTIF(AD12:AD75,AD76)))","v":"0"},"","0","","0","","0","",{"$f":"COUNTIF(AS12:AS76,\"W\")","v":0},{"$f":"IF(AR76=\"\",\"\",COUNTIF(AR12:AR76,\"-\"))","v":63},65,3,"","-"]
[66,{"$f":"IF(REG!B76<>\"\",REG!B76,\"\")","v":""},{"$f":"IF(REG!C76<>\"\",REG!G76,\"\")","v":""},{"$f":"IF('T Q 3'!R77=\"\",\"DNR\",IF('T Q 3'!R77=\"-\",+'T Q 3'!D77,+'T Q 3'!R77))","v":"DNR"},null,null,null,"-","",null,null,null,null,null,"","","","-",3,66,"","-",{"$f":"IF(R77=\"\",\"\",COUNTIF(R12:R77,\"-\"))","v":64},"","","","","","","0",{"$f":"IF(R77=\"\",\"\",IF(AD77=\"0\",\"0\",COUNTIF(AD12:AD76,AD77)))","v":"0"},"","0","","0","","0","",{"$f":"COUNTIF(AS12:AS77,\"W\")","v":0},{"$f":"IF(AR77=\"\",\"\",COUNTIF(AR12:AR77,\"-\"))","v":64},66,3,"","-"]
[67,{"$f":"IF(REG!B77<>\"\",REG!B77,\"\")","v":""},{"$f":"IF(REG!C77<>\"\",REG!G77,\"\")","v":""},{"$f":"IF('T Q 3'!R78=\"\",\"DNR\",IF('T Q 3'!R78=\"-\",+'T Q 3'!D78,+'T Q 3'!R78))","v":"DNR"},null,null,null,"-","",null,null,null,null,null,"","","","-",3,67,"","-",{"$f":"IF(R78=\"\",\"\",COUNTIF(R12:R78,\"-\"))","v":65},"","","","","","","0",{"$f":"IF(R78=\"\",\"\",IF(AD78=\"0\",\"0\",COUNTIF(AD12:AD77,AD78)))","v":"0"},"","0","","0","","0","",{"$f":"COUNTIF(AS12:AS78,\"W\")","v":0},{"$f":"IF(AR78=\"\",\"\",COUNTIF(AR12:AR78,\"-\"))","v":65},67,3,"","-"]
[68,{"$f":"IF(REG!B78<>\"\",REG!B78,\"\")","v":""},{"$f":"IF(REG!C78<>\"\",REG!G78,\"\")","v":""},{"$f":"IF('T Q 3'!R79=\"\",\"DNR\",IF('T Q 3'!R79=\"-\",+'T Q 3'!D79,+'T Q 3'!R79))","v":"DNR"},null,null,null,"-","",null,null,null,null,null,"","","","-",3,68,"","-",{"$f":"IF(R79=\"\",\"\",COUNTIF(R12:R79,\"-\"))","v":66},"","","","","","","0",{"$f":"IF(R79=\"\",\"\",IF(AD79=\"0\",\"0\",COUNTIF(AD12:AD78,AD79)))","v":"0"},"","0","","0","","0","",{"$f":"COUNTIF(AS12:AS79,\"W\")","v":0},{"$f":"IF(AR79=\"\",\"\",COUNTIF(AR12:AR79,\"-\"))","v":66},68,3,"","-"]
[69,{"$f":"IF(REG!B79<>\"\",REG!B79,\"\")","v":""},{"$f":"IF(REG!C79<>\"\",REG!G79,\"\")","v":""},{"$f":"IF('T Q 3'!R80=\"\",\"DNR\",IF('T Q 3'!R80=\"-\",+'T Q 3'!D80,+'T Q 3'!R80))","v":"DNR"},null,null,null,"-","",null,null,null,null,null,"","","","-",3,69,"","-",{"$f":"IF(R80=\"\",\"\",COUNTIF(R12:R80,\"-\"))","v":67},"","","","","","","0",{"$f":"IF(R80=\"\",\"\",IF(AD80=\"0\",\"0\",COUNTIF(AD12:AD79,AD80)))","v":"0"},"","0","","0","","0","",{"$f":"COUNTIF(AS12:AS80,\"W\")","v":0},{"$f":"IF(AR80=\"\",\"\",COUNTIF(AR12:AR80,\"-\"))","v":67},69,3,"","-"]
[70,{"$f":"IF(REG!B80<>\"\",REG!B80,\"\")","v":""},{"$f":"IF(REG!C80<>\"\",REG!G80,\"\")","v":""},{"$f":"IF('T Q 3'!R81=\"\",\"DNR\",IF('T Q 3'!R81=\"-\",+'T Q 3'!D81,+'T Q 3'!R81))","v":"DNR"},null,null,null,"-","",null,null,null,null,null,"","","","-",3,70,"","-",{"$f":"IF(R81=\"\",\"\",COUNTIF(R12:R81,\"-\"))","v":68},"","","","","","","0",{"$f":"IF(R81=\"\",\"\",IF(AD81=\"0\",\"0\",COUNTIF(AD12:AD80,AD81)))","v":"0"},"","0","","0","","0","",{"$f":"COUNTIF(AS12:AS81,\"W\")","v":0},{"$f":"IF(AR81=\"\",\"\",COUNTIF(AR12:AR81,\"-\"))","v":68},70,3,"","-"]
[71,{"$f":"IF(REG!B81<>\"\",REG!B81,\"\")","v":""},{"$f":"IF(REG!C81<>\"\",REG!G81,\"\")","v":""},{"$f":"IF('T Q 3'!R82=\"\",\"DNR\",IF('T Q 3'!R82=\"-\",+'T Q 3'!D82,+'T Q 3'!R82))","v":"DNR"},null,null,null,"-","",null,null,null,null,null,"","","","-",3,71,"","-",{"$f":"IF(R82=\"\",\"\",COUNTIF(R12:R82,\"-\"))","v":69},"","","","","","","0",{"$f":"IF(R82=\"\",\"\",IF(AD82=\"0\",\"0\",COUNTIF(AD12:AD81,AD82)))","v":"0"},"","0","","0","","0","",{"$f":"COUNTIF(AS12:AS82,\"W\")","v":0},{"$f":"IF(AR82=\"\",\"\",COUNTIF(AR12:AR82,\"-\"))","v":69},71,3,"","-"]
[72,{"$f":"IF(REG!B82<>\"\",REG!B82,\"\")","v":""},{"$f":"IF(REG!C82<>\"\",REG!G82,\"\")","v":""},{"$f":"IF('T Q 3'!R83=\"\",\"DNR\",IF('T Q 3'!R83=\"-\",+'T Q 3'!D83,+'T Q 3'!R83))","v":"DNR"},null,null,null,"-","",null,null,null,null,null,"","","","-",3,72,"","-",{"$f":"IF(R83=\"\",\"\",COUNTIF(R12:R83,\"-\"))","v":70},"","","","","","","0",{"$f":"IF(R83=\"\",\"\",IF(AD83=\"0\",\"0\",COUNTIF(AD12:AD82,AD83)))","v":"0"},"","0","","0","","0","",{"$f":"COUNTIF(AS12:AS83,\"W\")","v":0},{"$f":"IF(AR83=\"\",\"\",COUNTIF(AR12:AR83,\"-\"))","v":70},72,3,"","-"]
[73,{"$f":"IF(REG!B83<>\"\",REG!B83,\"\")","v":""},{"$f":"IF(REG!C83<>\"\",REG!G83,\"\")","v":""},{"$f":"IF('T Q 3'!R84=\"\",\"DNR\",IF('T Q 3'!R84=\"-\",+'T Q 3'!D84,+'T Q 3'!R84))","v":"DNR"},null,null,null,"-","",null,null,null,null,null,"","","","-",3,73,"","-",{"$f":"IF(R84=\"\",\"\",COUNTIF(R12:R84,\"-\"))","v":71},"","","","","","","0",{"$f":"IF(R84=\"\",\"\",IF(AD84=\"0\",\"0\",COUNTIF(AD12:AD83,AD84)))","v":"0"},"","0","","0","","0","",{"$f":"COUNTIF(AS12:AS84,\"W\")","v":0},{"$f":"IF(AR84=\"\",\"\",COUNTIF(AR12:AR84,\"-\"))","v":71},73,3,"","-"]
[74,{"$f":"IF(REG!B84<>\"\",REG!B84,\"\")","v":""},{"$f":"IF(REG!C84<>\"\",REG!G84,\"\")","v":""},{"$f":"IF('T Q 3'!R85=\"\",\"DNR\",IF('T Q 3'!R85=\"-\",+'T Q 3'!D85,+'T Q 3'!R85))","v":"DNR"},null,null,null,"-","",null,null,null,null,null,"","","","-",3,74,"","-",{"$f":"IF(R85=\"\",\"\",COUNTIF(R12:R85,\"-\"))","v":72},"","","","","","","0",{"$f":"IF(R85=\"\",\"\",IF(AD85=\"0\",\"0\",COUNTIF(AD12:AD84,AD85)))","v":"0"},"","0","","0","","0","",{"$f":"COUNTIF(AS12:AS85,\"W\")","v":0},{"$f":"IF(AR85=\"\",\"\",COUNTIF(AR12:AR85,\"-\"))","v":72},74,3,"","-"]
[75,{"$f":"IF(REG!B85<>\"\",REG!B85,\"\")","v":""},{"$f":"IF(REG!C85<>\"\",REG!G85,\"\")","v":""},{"$f":"IF('T Q 3'!R86=\"\",\"DNR\",IF('T Q 3'!R86=\"-\",+'T Q 3'!D86,+'T Q 3'!R86))","v":"DNR"},null,null,null,"-","",null,null,null,null,null,"","","","-",3,75,"","-",{"$f":"IF(R86=\"\",\"\",COUNTIF(R12:R86,\"-\"))","v":73},"","","","","","","0",{"$f":"IF(R86=\"\",\"\",IF(AD86=\"0\",\"0\",COUNTIF(AD12:AD85,AD86)))","v":"0"},"","0","","0","","0","",{"$f":"COUNTIF(AS12:AS86,\"W\")","v":0},{"$f":"IF(AR86=\"\",\"\",COUNTIF(AR12:AR86,\"-\"))","v":73},75,3,"","-"]
[76,{"$f":"IF(REG!B86<>\"\",REG!B86,\"\")","v":""},{"$f":"IF(REG!C86<>\"\",REG!G86,\"\")","v":""},{"$f":"IF('T Q 3'!R87=\"\",\"DNR\",IF('T Q 3'!R87=\"-\",+'T Q 3'!D87,+'T Q 3'!R87))","v":"DNR"},null,null,null,"-","",null,null,null,null,null,"","","","-",3,76,"","-",{"$f":"IF(R87=\"\",\"\",COUNTIF(R12:R87,\"-\"))","v":74},"","","","","","","0",{"$f":"IF(R87=\"\",\"\",IF(AD87=\"0\",\"0\",COUNTIF(AD12:AD86,AD87)))","v":"0"},"","0","","0","","0","",{"$f":"COUNTIF(AS12:AS87,\"W\")","v":0},{"$f":"IF(AR87=\"\",\"\",COUNTIF(AR12:AR87,\"-\"))","v":74},76,3,"","-"]
[77,{"$f":"IF(REG!B87<>\"\",REG!B87,\"\")","v":""},{"$f":"IF(REG!C87<>\"\",REG!G87,\"\")","v":""},{"$f":"IF('T Q 3'!R88=\"\",\"DNR\",IF('T Q 3'!R88=\"-\",+'T Q 3'!D88,+'T Q 3'!R88))","v":"DNR"},null,null,null,"-","",null,null,null,null,null,"","","","-",3,77,"","-",{"$f":"IF(R88=\"\",\"\",COUNTIF(R12:R88,\"-\"))","v":75},"","","","","","","0",{"$f":"IF(R88=\"\",\"\",IF(AD88=\"0\",\"0\",COUNTIF(AD12:AD87,AD88)))","v":"0"},"","0","","0","","0","",{"$f":"COUNTIF(AS12:AS88,\"W\")","v":0},{"$f":"IF(AR88=\"\",\"\",COUNTIF(AR12:AR88,\"-\"))","v":75},77,3,"","-"]
[78,{"$f":"IF(REG!B88<>\"\",REG!B88,\"\")","v":""},{"$f":"IF(REG!C88<>\"\",REG!G88,\"\")","v":""},{"$f":"IF('T Q 3'!R89=\"\",\"DNR\",IF('T Q 3'!R89=\"-\",+'T Q 3'!D89,+'T Q 3'!R89))","v":"DNR"},null,null,null,"-","",null,null,null,null,null,"","","","-",3,78,"","-",{"$f":"IF(R89=\"\",\"\",COUNTIF(R12:R89,\"-\"))","v":76},"","","","","","","0",{"$f":"IF(R89=\"\",\"\",IF(AD89=\"0\",\"0\",COUNTIF(AD12:AD88,AD89)))","v":"0"},"","0","","0","","0","",{"$f":"COUNTIF(AS12:AS89,\"W\")","v":0},{"$f":"IF(AR89=\"\",\"\",COUNTIF(AR12:AR89,\"-\"))","v":76},78,3,"","-"]
[79,{"$f":"IF(REG!B89<>\"\",REG!B89,\"\")","v":""},{"$f":"IF(REG!C89<>\"\",REG!G89,\"\")","v":""},{"$f":"IF('T Q 3'!R90=\"\",\"DNR\",IF('T Q 3'!R90=\"-\",+'T Q 3'!D90,+'T Q 3'!R90))","v":"DNR"},null,null,null,"-","",null,null,null,null,null,"","","","-",3,79,"","-",{"$f":"IF(R90=\"\",\"\",COUNTIF(R12:R90,\"-\"))","v":77},"","","","","","","0",{"$f":"IF(R90=\"\",\"\",IF(AD90=\"0\",\"0\",COUNTIF(AD12:AD89,AD90)))","v":"0"},"","0","","0","","0","",{"$f":"COUNTIF(AS12:AS90,\"W\")","v":0},{"$f":"IF(AR90=\"\",\"\",COUNTIF(AR12:AR90,\"-\"))","v":77},79,3,"","-"]
[80,{"$f":"IF(REG!B90<>\"\",REG!B90,\"\")","v":""},{"$f":"IF(REG!C90<>\"\",REG!G90,\"\")","v":""},{"$f":"IF('T Q 3'!R91=\"\",\"DNR\",IF('T Q 3'!R91=\"-\",+'T Q 3'!D91,+'T Q 3'!R91))","v":"DNR"},null,null,null,"-","",null,null,null,null,null,"","","","-",3,80,"","-",{"$f":"IF(R91=\"\",\"\",COUNTIF(R12:R91,\"-\"))","v":78},"","","","","","","0",{"$f":"IF(R91=\"\",\"\",IF(AD91=\"0\",\"0\",COUNTIF(AD12:AD90,AD91)))","v":"0"},"","0","","0","","0","",{"$f":"COUNTIF(AS12:AS91,\"W\")","v":0},{"$f":"IF(AR91=\"\",\"\",COUNTIF(AR12:AR91,\"-\"))","v":78},80,3,"","-"]
[81,{"$f":"IF(REG!B91<>\"\",REG!B91,\"\")","v":""},{"$f":"IF(REG!C91<>\"\",REG!G91,\"\")","v":""},{"$f":"IF('T Q 3'!R92=\"\",\"DNR\",IF('T Q 3'!R92=\"-\",+'T Q 3'!D92,+'T Q 3'!R92))","v":"DNR"},null,null,null,"-","",null,null,null,null,null,"","","","-",3,81,"","-",{"$f":"IF(R92=\"\",\"\",COUNTIF(R12:R92,\"-\"))","v":79},"","","","","","","0",{"$f":"IF(R92=\"\",\"\",IF(AD92=\"0\",\"0\",COUNTIF(AD12:AD91,AD92)))","v":"0"},"","0","","0","","0","",{"$f":"COUNTIF(AS12:AS92,\"W\")","v":0},{"$f":"IF(AR92=\"\",\"\",COUNTIF(AR12:AR92,\"-\"))","v":79},81,3,"","-"]
[82,{"$f":"IF(REG!B92<>\"\",REG!B92,\"\")","v":""},{"$f":"IF(REG!C92<>\"\",REG!G92,\"\")","v":""},{"$f":"IF('T Q 3'!R93=\"\",\"DNR\",IF('T Q 3'!R93=\"-\",+'T Q 3'!D93,+'T Q 3'!R93))","v":"DNR"},null,null,null,"-","",null,null,null,null,null,"","","","-",3,82,"","-",{"$f":"IF(R93=\"\",\"\",COUNTIF(R12:R93,\"-\"))","v":80},"","","","","","","0",{"$f":"IF(R93=\"\",\"\",IF(AD93=\"0\",\"0\",COUNTIF(AD12:AD92,AD93)))","v":"0"},"","0","","0","","0","",{"$f":"COUNTIF(AS12:AS93,\"W\")","v":0},{"$f":"IF(AR93=\"\",\"\",COUNTIF(AR12:AR93,\"-\"))","v":80},82,3,"","-"]
[83,{"$f":"IF(REG!B93<>\"\",REG!B93,\"\")","v":""},{"$f":"IF(REG!C93<>\"\",REG!G93,\"\")","v":""},{"$f":"IF('T Q 3'!R94=\"\",\"DNR\",IF('T Q 3'!R94=\"-\",+'T Q 3'!D94,+'T Q 3'!R94))","v":"DNR"},null,null,null,"-","",null,null,null,null,null,"","","","-",3,83,"","-",{"$f":"IF(R94=\"\",\"\",COUNTIF(R12:R94,\"-\"))","v":81},"","","","","","","0",{"$f":"IF(R94=\"\",\"\",IF(AD94=\"0\",\"0\",COUNTIF(AD12:AD93,AD94)))","v":"0"},"","0","","0","","0","",{"$f":"COUNTIF(AS12:AS94,\"W\")","v":0},{"$f":"IF(AR94=\"\",\"\",COUNTIF(AR12:AR94,\"-\"))","v":81},83,3,"","-"]
[84,{"$f":"IF(REG!B94<>\"\",REG!B94,\"\")","v":""},{"$f":"IF(REG!C94<>\"\",REG!G94,\"\")","v":""},{"$f":"IF('T Q 3'!R95=\"\",\"DNR\",IF('T Q 3'!R95=\"-\",+'T Q 3'!D95,+'T Q 3'!R95))","v":"DNR"},null,null,null,"-","",null,null,null,null,null,"","","","-",3,84,"","-",{"$f":"IF(R95=\"\",\"\",COUNTIF(R12:R95,\"-\"))","v":82},"","","","","","","0",{"$f":"IF(R95=\"\",\"\",IF(AD95=\"0\",\"0\",COUNTIF(AD12:AD94,AD95)))","v":"0"},"","0","","0","","0","",{"$f":"COUNTIF(AS12:AS95,\"W\")","v":0},{"$f":"IF(AR95=\"\",\"\",COUNTIF(AR12:AR95,\"-\"))","v":82},84,3,"","-"]
[85,{"$f":"IF(REG!B95<>\"\",REG!B95,\"\")","v":""},{"$f":"IF(REG!C95<>\"\",REG!G95,\"\")","v":""},{"$f":"IF('T Q 3'!R96=\"\",\"DNR\",IF('T Q 3'!R96=\"-\",+'T Q 3'!D96,+'T Q 3'!R96))","v":"DNR"},null,null,null,"-","",null,null,null,null,null,"","","","-",3,85,"","-",{"$f":"IF(R96=\"\",\"\",COUNTIF(R12:R96,\"-\"))","v":83},"","","","","","","0",{"$f":"IF(R96=\"\",\"\",IF(AD96=\"0\",\"0\",COUNTIF(AD12:AD95,AD96)))","v":"0"},"","0","","0","","0","",{"$f":"COUNTIF(AS12:AS96,\"W\")","v":0},{"$f":"IF(AR96=\"\",\"\",COUNTIF(AR12:AR96,\"-\"))","v":83},85,3,"","-"]
[86,{"$f":"IF(REG!B96<>\"\",REG!B96,\"\")","v":""},{"$f":"IF(REG!C96<>\"\",REG!G96,\"\")","v":""},{"$f":"IF('T Q 3'!R97=\"\",\"DNR\",IF('T Q 3'!R97=\"-\",+'T Q 3'!D97,+'T Q 3'!R97))","v":"DNR"},null,null,null,"-","",null,null,null,null,null,"","","","-",3,86,"","-",{"$f":"IF(R97=\"\",\"\",COUNTIF(R12:R97,\"-\"))","v":84},"","","","","","","0",{"$f":"IF(R97=\"\",\"\",IF(AD97=\"0\",\"0\",COUNTIF(AD12:AD96,AD97)))","v":"0"},"","0","","0","","0","",{"$f":"COUNTIF(AS12:AS97,\"W\")","v":0},{"$f":"IF(AR97=\"\",\"\",COUNTIF(AR12:AR97,\"-\"))","v":84},86,3,"","-"]
[87,{"$f":"IF(REG!B97<>\"\",REG!B97,\"\")","v":""},{"$f":"IF(REG!C97<>\"\",REG!G97,\"\")","v":""},{"$f":"IF('T Q 3'!R98=\"\",\"DNR\",IF('T Q 3'!R98=\"-\",+'T Q 3'!D98,+'T Q 3'!R98))","v":"DNR"},null,null,null,"-","",null,null,null,null,null,"","","","-",3,87,"","-",{"$f":"IF(R98=\"\",\"\",COUNTIF(R12:R98,\"-\"))","v":85},"","","","","","","0",{"$f":"IF(R98=\"\",\"\",IF(AD98=\"0\",\"0\",COUNTIF(AD12:AD97,AD98)))","v":"0"},"","0","","0","","0","",{"$f":"COUNTIF(AS12:AS98,\"W\")","v":0},{"$f":"IF(AR98=\"\",\"\",COUNTIF(AR12:AR98,\"-\"))","v":85},87,3,"","-"]
[88,{"$f":"IF(REG!B98<>\"\",REG!B98,\"\")","v":""},{"$f":"IF(REG!C98<>\"\",REG!G98,\"\")","v":""},{"$f":"IF('T Q 3'!R99=\"\",\"DNR\",IF('T Q 3'!R99=\"-\",+'T Q 3'!D99,+'T Q 3'!R99))","v":"DNR"},null,null,null,"-","",null,null,null,null,null,"","","","-",3,88,"","-",{"$f":"IF(R99=\"\",\"\",COUNTIF(R12:R99,\"-\"))","v":86},"","","","","","","0",{"$f":"IF(R99=\"\",\"\",IF(AD99=\"0\",\"0\",COUNTIF(AD12:AD98,AD99)))","v":"0"},"","0","","0","","0","",{"$f":"COUNTIF(AS12:AS99,\"W\")","v":0},{"$f":"IF(AR99=\"\",\"\",COUNTIF(AR12:AR99,\"-\"))","v":86},88,3,"","-"]
[89,{"$f":"IF(REG!B99<>\"\",REG!B99,\"\")","v":""},{"$f":"IF(REG!C99<>\"\",REG!G99,\"\")","v":""},{"$f":"IF('T Q 3'!R100=\"\",\"DNR\",IF('T Q 3'!R100=\"-\",+'T Q 3'!D100,+'T Q 3'!R100))","v":"DNR"},null,null,null,"-","",null,null,null,null,null,"","","","-",3,89,"","-",{"$f":"IF(R100=\"\",\"\",COUNTIF(R12:R100,\"-\"))","v":87},"","","","","","","0",{"$f":"IF(R100=\"\",\"\",IF(AD100=\"0\",\"0\",COUNTIF(AD12:AD99,AD100)))","v":"0"},"","0","","0","","0","",{"$f":"COUNTIF(AS12:AS100,\"W\")","v":0},{"$f":"IF(AR100=\"\",\"\",COUNTIF(AR12:AR100,\"-\"))","v":87},89,3,"","-"]
[90,{"$f":"IF(REG!B100<>\"\",REG!B100,\"\")","v":""},{"$f":"IF(REG!C100<>\"\",REG!G100,\"\")","v":""},{"$f":"IF('T Q 3'!R101=\"\",\"DNR\",IF('T Q 3'!R101=\"-\",+'T Q 3'!D101,+'T Q 3'!R101))","v":"DNR"},null,null,null,"-","",null,null,null,null,null,"","","","-",3,90,"","-",{"$f":"IF(R101=\"\",\"\",COUNTIF(R12:R101,\"-\"))","v":88},"","","","","","","0",{"$f":"IF(R101=\"\",\"\",IF(AD101=\"0\",\"0\",COUNTIF(AD12:AD100,AD101)))","v":"0"},"","0","","0","","0","",{"$f":"COUNTIF(AS12:AS101,\"W\")","v":0},{"$f":"IF(AR101=\"\",\"\",COUNTIF(AR12:AR101,\"-\"))","v":88},90,3,"","-"]
[91,{"$f":"IF(REG!B101<>\"\",REG!B101,\"\")","v":""},{"$f":"IF(REG!C101<>\"\",REG!G101,\"\")","v":""},{"$f":"IF('T Q 3'!R102=\"\",\"DNR\",IF('T Q 3'!R102=\"-\",+'T Q 3'!D102,+'T Q 3'!R102))","v":"DNR"},null,null,null,"-","",null,null,null,null,null,"","","","-",3,91,"","-",{"$f":"IF(R102=\"\",\"\",COUNTIF(R12:R102,\"-\"))","v":89},"","","","","","","0",{"$f":"IF(R102=\"\",\"\",IF(AD102=\"0\",\"0\",COUNTIF(AD12:AD101,AD102)))","v":"0"},"","0","","0","","0","",{"$f":"COUNTIF(AS12:AS102,\"W\")","v":0},{"$f":"IF(AR102=\"\",\"\",COUNTIF(AR12:AR102,\"-\"))","v":89},91,3,"","-"]
[92,{"$f":"IF(REG!B102<>\"\",REG!B102,\"\")","v":""},{"$f":"IF(REG!C102<>\"\",REG!G102,\"\")","v":""},{"$f":"IF('T Q 3'!R103=\"\",\"DNR\",IF('T Q 3'!R103=\"-\",+'T Q 3'!D103,+'T Q 3'!R103))","v":"DNR"},null,null,null,"-","",null,null,null,null,null,"","","","-",3,92,"","-",{"$f":"IF(R103=\"\",\"\",COUNTIF(R12:R103,\"-\"))","v":90},"","","","","","","0",{"$f":"IF(R103=\"\",\"\",IF(AD103=\"0\",\"0\",COUNTIF(AD12:AD102,AD103)))","v":"0"},"","0","","0","","0","",{"$f":"COUNTIF(AS12:AS103,\"W\")","v":0},{"$f":"IF(AR103=\"\",\"\",COUNTIF(AR12:AR103,\"-\"))","v":90},92,3,"","-"]
[93,{"$f":"IF(REG!B103<>\"\",REG!B103,\"\")","v":""},{"$f":"IF(REG!C103<>\"\",REG!G103,\"\")","v":""},{"$f":"IF('T Q 3'!R104=\"\",\"DNR\",IF('T Q 3'!R104=\"-\",+'T Q 3'!D104,+'T Q 3'!R104))","v":"DNR"},null,null,null,"-","",null,null,null,null,null,"","","","-",3,93,"","-",{"$f":"IF(R104=\"\",\"\",COUNTIF(R12:R104,\"-\"))","v":91},"","","","","","","0",{"$f":"IF(R104=\"\",\"\",IF(AD104=\"0\",\"0\",COUNTIF(AD12:AD103,AD104)))","v":"0"},"","0","","0","","0","",{"$f":"COUNTIF(AS12:AS104,\"W\")","v":0},{"$f":"IF(AR104=\"\",\"\",COUNTIF(AR12:AR104,\"-\"))","v":91},93,3,"","-"]
[94,{"$f":"IF(REG!B104<>\"\",REG!B104,\"\")","v":""},{"$f":"IF(REG!C104<>\"\",REG!G104,\"\")","v":""},{"$f":"IF('T Q 3'!R105=\"\",\"DNR\",IF('T Q 3'!R105=\"-\",+'T Q 3'!D105,+'T Q 3'!R105))","v":"DNR"},null,null,null,"-","",null,null,null,null,null,"","","","-",3,94,"","-",{"$f":"IF(R105=\"\",\"\",COUNTIF(R12:R105,\"-\"))","v":92},"","","","","","","0",{"$f":"IF(R105=\"\",\"\",IF(AD105=\"0\",\"0\",COUNTIF(AD12:AD104,AD105)))","v":"0"},"","0","","0","","0","",{"$f":"COUNTIF(AS12:AS105,\"W\")","v":0},{"$f":"IF(AR105=\"\",\"\",COUNTIF(AR12:AR105,\"-\"))","v":92},94,3,"","-"]
[95,{"$f":"IF(REG!B105<>\"\",REG!B105,\"\")","v":""},{"$f":"IF(REG!C105<>\"\",REG!G105,\"\")","v":""},{"$f":"IF('T Q 3'!R106=\"\",\"DNR\",IF('T Q 3'!R106=\"-\",+'T Q 3'!D106,+'T Q 3'!R106))","v":"DNR"},null,null,null,"-","",null,null,null,null,null,"","","","-",3,95,"","-",{"$f":"IF(R106=\"\",\"\",COUNTIF(R12:R106,\"-\"))","v":93},"","","","","","","0",{"$f":"IF(R106=\"\",\"\",IF(AD106=\"0\",\"0\",COUNTIF(AD12:AD105,AD106)))","v":"0"},"","0","","0","","0","",{"$f":"COUNTIF(AS12:AS106,\"W\")","v":0},{"$f":"IF(AR106=\"\",\"\",COUNTIF(AR12:AR106,\"-\"))","v":93},95,3,"","-"]
[96,{"$f":"IF(REG!B106<>\"\",REG!B106,\"\")","v":""},{"$f":"IF(REG!C106<>\"\",REG!G106,\"\")","v":""},{"$f":"IF('T Q 3'!R107=\"\",\"DNR\",IF('T Q 3'!R107=\"-\",+'T Q 3'!D107,+'T Q 3'!R107))","v":"DNR"},null,null,null,"-","",null,null,null,null,null,"","","","-",3,96,"","-",{"$f":"IF(R107=\"\",\"\",COUNTIF(R12:R107,\"-\"))","v":94},"","","","","","","0",{"$f":"IF(R107=\"\",\"\",IF(AD107=\"0\",\"0\",COUNTIF(AD12:AD106,AD107)))","v":"0"},"","0","","0","","0","",{"$f":"COUNTIF(AS12:AS107,\"W\")","v":0},{"$f":"IF(AR107=\"\",\"\",COUNTIF(AR12:AR107,\"-\"))","v":94},96,3,"","-"]
[97,{"$f":"IF(REG!B107<>\"\",REG!B107,\"\")","v":""},{"$f":"IF(REG!C107<>\"\",REG!G107,\"\")","v":""},{"$f":"IF('T Q 3'!R108=\"\",\"DNR\",IF('T Q 3'!R108=\"-\",+'T Q 3'!D108,+'T Q 3'!R108))","v":"DNR"},null,null,null,"-","",null,null,null,null,null,"","","","-",3,97,"","-",{"$f":"IF(R108=\"\",\"\",COUNTIF(R12:R108,\"-\"))","v":95},"","","","","","","0",{"$f":"IF(R108=\"\",\"\",IF(AD108=\"0\",\"0\",COUNTIF(AD12:AD107,AD108)))","v":"0"},"","0","","0","","0","",{"$f":"COUNTIF(AS12:AS108,\"W\")","v":0},{"$f":"IF(AR108=\"\",\"\",COUNTIF(AR12:AR108,\"-\"))","v":95},97,3,"","-"]
[98,{"$f":"IF(REG!B108<>\"\",REG!B108,\"\")","v":""},{"$f":"IF(REG!C108<>\"\",REG!G108,\"\")","v":""},{"$f":"IF('T Q 3'!R109=\"\",\"DNR\",IF('T Q 3'!R109=\"-\",+'T Q 3'!D109,+'T Q 3'!R109))","v":"DNR"},null,null,null,"-","",null,null,null,null,null,"","","","-",3,98,"","-",{"$f":"IF(R109=\"\",\"\",COUNTIF(R12:R109,\"-\"))","v":96},"","","","","","","0",{"$f":"IF(R109=\"\",\"\",IF(AD109=\"0\",\"0\",COUNTIF(AD12:AD108,AD109)))","v":"0"},"","0","","0","","0","",{"$f":"COUNTIF(AS12:AS109,\"W\")","v":0},{"$f":"IF(AR109=\"\",\"\",COUNTIF(AR12:AR109,\"-\"))","v":96},98,3,"","-"]
[99,{"$f":"IF(REG!B109<>\"\",REG!B109,\"\")","v":""},{"$f":"IF(REG!C109<>\"\",REG!G109,\"\")","v":""},{"$f":"IF('T Q 3'!R110=\"\",\"DNR\",IF('T Q 3'!R110=\"-\",+'T Q 3'!D110,+'T Q 3'!R110))","v":"DNR"},null,null,null,"-","",null,null,null,null,null,"","","","-",3,99,"","-",{"$f":"IF(R110=\"\",\"\",COUNTIF(R12:R110,\"-\"))","v":97},"","","","","","","0",{"$f":"IF(R110=\"\",\"\",IF(AD110=\"0\",\"0\",COUNTIF(AD12:AD109,AD110)))","v":"0"},"","0","","0","","0","",{"$f":"COUNTIF(AS12:AS110,\"W\")","v":0},{"$f":"IF(AR110=\"\",\"\",COUNTIF(AR12:AR110,\"-\"))","v":97},99,3,"","-"]
[100,{"$f":"IF(REG!B110<>\"\",REG!B110,\"\")","v":""},{"$f":"IF(REG!C110<>\"\",REG!G110,\"\")","v":""},{"$f":"IF('T Q 3'!R111=\"\",\"DNR\",IF('T Q 3'!R111=\"-\",+'T Q 3'!D111,+'T Q 3'!R111))","v":"DNR"},null,null,null,"-","",null,null,null,null,null,"","","","-",3,100,"","-",{"$f":"IF(R111=\"\",\"\",COUNTIF(R12:R111,\"-\"))","v":98},"","","","","","","0",{"$f":"IF(R111=\"\",\"\",IF(AD111=\"0\",\"0\",COUNTIF(AD12:AD110,AD111)))","v":"0"},"","0","","0","","0","",{"$f":"COUNTIF(AS12:AS111,\"W\")","v":0},{"$f":"IF(AR111=\"\",\"\",COUNTIF(AR12:AR111,\"-\"))","v":98},100,3,"","-"]

{"sheet":"T H2H","index":15,"n_rows":190,"n_cols":23,"rows_kept":190,"cut":false,"hidden":false,"merged":[[0,2,0,18],[88,0,88,1],[4,2,4,8],[4,10,4,16],[4,0,5,0],[4,1,5,1],[4,9,5,9],[1,2,1,15],[2,2,2,15],[1,16,1,18],[4,17,5,17],[4,21,5,21],[4,22,5,22],[4,19,5,19],[4,18,5,18],[4,20,5,20]]}
[null,null,{"$f":"CONTEST!B4","v":"Skate n Roll Polička  2022"}]
[null,{"$f":"_xll.iPush(\"TEEN_Tight_H2H\", \"WCH_SK8_2018\", 'T H2H'!$A$5:$S$86, 'T H2H'!$A$5:$S$86, 'T H2H'!$A$5:$S$86, 1, TRUE)","v":{"$error":"#NAME?"}},{"$f":"CONTEST!B6","v":"13.8. - 14.8.2022"}]
[8,"Top Bracket (32-16-8-4-2)",{"$f":"CONCATENATE(CONTEST!B10,\" / \",CONTEST!B17,\" / \",CONTEST!B13)","v":"TIGHT SLALOM /  Eliminations / TEEN 12-14"}]
[]
["Qualifying Position","Racer No. & Name","Run 1",null,null,null,null,null,null,"R1 Margin","Run 2",null,null,null,null,null,null,"R2 Margin","Round Winner & Combined Margin","Loser’s Final Placement","Round Loser","Qualifying Time","Qualifying Position"]
[null,null,"Raw Time","Cones","Reaction Time","False Start","Final Time","Run Rank","Winner & Margin",null,"Raw Time","Cones","Reaction Time","False Start","Final Time","Run Rank","Winner & Margin"]
[null,"Round of 32"]
[1,{"$f":"IF(A3<A8,\"BYE\",IF(ISERROR(VLOOKUP(A8,'T Q 4'!AO12:'T Q 4'!AQ111,3,FALSE))=TRUE,\"BYE\",VLOOKUP(A8,'T Q 4'!AO12:'T Q 4'!AQ111,3,FALSE)))","v":"Voves  Jindřich  [CZE] "},null,null,null,null,{"$f":"IF(LEFT(C8:C39,1)=\"D\",\"-\",IF(D8:D39>'T Q 4'!A6,\"-\",IF(C8:C39>0,C8:C39+D8:D39*'T Q 4'!A5+F8:F39*'T Q 4'!A7,\"\")))","v":""},{"$f":"IF(G8:G39=\"\",\"\", IF(G8:G39=\"-\",\"\", RANK(G8:G39,G8:G39,1)))","v":""},{"$f":"IF(AND(LEFT(C8,1)=\"D\",LEFT(C9,1)=\"D\"),\"\",IF(OR(C8=\"DNR\",C9=\"DNR\"),IF(C8=\"DNR\",B9,B8),IF(OR(ISBLANK(C8),ISBLANK(C9)),\"\",IF(G8=G9,\"TIE\",IF(G8>G9,B9,B8)))))","v":""},null,null,null,null,null,{"$f":"IF(LEFT(K8:K39,1)=\"D\",\"-\",IF(L8:L39>'T Q 4'!A6,\"-\",IF(K8:K39>0,K8:K39+L8:L39*'T Q 4'!A5+N8:N39*'T Q 4'!A7,\"\")))","v":""},{"$f":"IF(O8:O39=\"\",\"\",IF(O8:O39=\"-\",\"\", RANK(O8:O39,O8:O39,1)))","v":""},{"$f":"IF(AND(LEFT(K8,1)=\"D\",LEFT(K9,1)=\"D\"),\"\",IF(OR(K8=\"DNR\",K9=\"DNR\"),IF(K8=\"DNR\",B9,B8),IF(OR(ISBLANK(K8),ISBLANK(K9)),\"\",IF(O8=O9,\"TIE\",IF(O8>O9,B9,B8)))))","v":""},null,{"$f":"IF(B9=\"BYE\", B8, IF(ISERROR(J9+R9)=TRUE,\"\",IF(J9+R9=0,\"TIE - HOLD RUNOFF\",IF(J9+R9>0,B9,B8))))","v":"Voves  Jindřich  [CZE] "}]
[32,{"$f":"IF(A3<A9,\"BYE\",IF(ISERROR(VLOOKUP(A9,'T Q 4'!AO12:'T Q 4'!AQ111,3,FALSE))=TRUE,\"BYE\",VLOOKUP(A9,'T Q 4'!AO12:'T Q 4'!AQ111,3,FALSE)))","v":"BYE"},null,null,null,null,"","",{"$f":"IF(AND(LEFT(C8,1)=\"D\",LEFT(C9,1)=\"D\"),\"\",IF(OR(C8=\"DNR\",C9=\"DNR\"),\"by \"&ABS(J9)&\" seconds\",IF(OR(ISBLANK(C8),ISBLANK(C9),G8=G9),\"\",\"by \"&ABS(J9)&\" seconds\")))","v":""},{"$f":"IF(AND(LEFT(C8,1)=\"D\",LEFT(C9,1)=\"D\"),\"0\",IF(OR(C8=\"DNR\",C9=\"DNR\"),IF(C8=\"DNR\",1,-1)*'T Q 4'!A8,IF(OR(ISBLANK(C8),ISBLANK(C9)),\"\",IF(OR(G8=\"-\",G9=\"-\"),IF(G8=\"-\",1,-1)*'T Q 4'!A8,IF(ABS(G8-G9)>'T Q 4'!A9,IF(G8-G9>'T Q 4'!A9,1,-1)*'T Q 4'!A9,ROUND(G8-G9,3))))))","v":""},null,null,null,null,"","",{"$f":"IF(AND(LEFT(K8,1)=\"D\",LEFT(K9,1)=\"D\"),\"\",IF(OR(K8=\"DNR\",K9=\"DNR\"),\"by \"&ABS(R9)&\" seconds\",IF(OR(ISBLANK(K8),ISBLANK(K9),O8=O9),\"\",\"by \"&ABS(R9)&\" seconds\")))","v":""},{"$f":"IF(AND(LEFT(K8,1)=\"D\",LEFT(K9,1)=\"D\"),\"0\",IF(OR(K8=\"DNR\",K9=\"DNR\"),IF(K8=\"DNR\",1,-1)*'T Q 4'!A8,IF(OR(ISBLANK(K8),ISBLANK(K9)),\"\",IF(OR(O8=\"-\",O9=\"-\"),IF(O8=\"-\",1,-1)*'T Q 4'!A8,IF(ABS(O8-O9)>'T Q 4'!A9,IF(O8-O9>'T Q 4'!A9,1,-1)*'T Q 4'!A9,ROUND(O8-O9,3))))))","v":""},{"$f":"IF(B9=\"BYE\",\"(BYE)\",IF(ISERROR(J9+R9)=TRUE,\"\",IF(J9+R9=0,\"\",\"by \"&ABS(J9+R9)&\" seconds\")))","v":"(BYE)"},{"$f":"IF(W9:W39=\"\",\"\",IF(ISERROR(W9:W39)=TRUE,\"\",16+RANK(W9:W39,W9:W39,1)))","v":""},{"$f":"IF(B9=\"BYE\", B9, IF(ISERROR(J9+R9)=TRUE,\"\",IF(J9+R9>0,B8,B9)))","v":"BYE"},{"$f":"IF(ISERROR(VLOOKUP(U9,'T Q 4'!U12:V111,2,FALSE))=TRUE,\"\",VLOOKUP(U9,'T Q 4'!U12:V111,2,FALSE))","v":""},{"$f":"IF(ISERROR(VLOOKUP(U9,'T Q 4'!AL12:AO111,4,FALSE))=TRUE,\"\",VLOOKUP(U9,'T Q 4'!AL12:AO111,4,FALSE))","v":""}]
[16,{"$f":"IF(A3<A10,\"BYE\",IF(ISERROR(VLOOKUP(A10,'T Q 4'!AO12:'T Q 4'!AQ111,3,FALSE))=TRUE,\"BYE\",VLOOKUP(A10,'T Q 4'!AO12:'T Q 4'!AQ111,3,FALSE)))","v":"BYE"},null,null,null,null,"","",{"$f":"IF(AND(LEFT(C10,1)=\"D\",LEFT(C11,1)=\"D\"),\"\",IF(OR(C10=\"DNR\",C11=\"DNR\"),IF(C10=\"DNR\",B11,B10),IF(OR(ISBLANK(C10),ISBLANK(C11)),\"\",IF(G10=G11,\"TIE\",IF(G10>G11,B11,B10)))))","v":""},null,null,null,null,null,"","",{"$f":"IF(AND(LEFT(K10,1)=\"D\",LEFT(K11,1)=\"D\"),\"\",IF(OR(K10=\"DNR\",K11=\"DNR\"),IF(K10=\"DNR\",B11,B10),IF(OR(ISBLANK(K10),ISBLANK(K11)),\"\",IF(O10=O11,\"TIE\",IF(O10>O11,B11,B10)))))","v":""},null,{"$f":"IF(B11=\"BYE\", B10, IF(ISERROR(J11+R11)=TRUE,\"\",IF(J11+R11=0,\"TIE - HOLD RUNOFF\",IF(J11+R11>0,B11,B10))))","v":"BYE"},""]
[17,{"$f":"IF(A3<A11,\"BYE\",IF(ISERROR(VLOOKUP(A11,'T Q 4'!AO12:'T Q 4'!AQ111,3,FALSE))=TRUE,\"BYE\",VLOOKUP(A11,'T Q 4'!AO12:'T Q 4'!AQ111,3,FALSE)))","v":"BYE"},null,null,null,null,"","",{"$f":"IF(AND(LEFT(C10,1)=\"D\",LEFT(C11,1)=\"D\"),\"\",IF(OR(C10=\"DNR\",C11=\"DNR\"),\"by \"&ABS(J11)&\" seconds\",IF(OR(ISBLANK(C10),ISBLANK(C11),G10=G11),\"\",\"by \"&ABS(J11)&\" seconds\")))","v":""},{"$f":"IF(AND(LEFT(C10,1)=\"D\",LEFT(C11,1)=\"D\"),\"0\",IF(OR(C10=\"DNR\",C11=\"DNR\"),IF(C10=\"DNR\",1,-1)*'T Q 4'!A8,IF(OR(ISBLANK(C10),ISBLANK(C11)),\"\",IF(OR(G10=\"-\",G11=\"-\"),IF(G10=\"-\",1,-1)*'T Q 4'!A8,IF(ABS(G10-G11)>'T Q 4'!A9,IF(G10-G11>'T Q 4'!A9,1,-1)*'T Q 4'!A9,ROUND(G10-G11,3))))))","v":""},null,null,null,null,"","",{"$f":"IF(AND(LEFT(K10,1)=\"D\",LEFT(K11,1)=\"D\"),\"\",IF(OR(K10=\"DNR\",K11=\"DNR\"),\"by \"&ABS(R11)&\" seconds\",IF(OR(ISBLANK(K10),ISBLANK(K11),O10=O11),\"\",\"by \"&ABS(R11)&\" seconds\")))","v":""},{"$f":"IF(AND(LEFT(K10,1)=\"D\",LEFT(K11,1)=\"D\"),\"0\",IF(OR(K10=\"DNR\",K11=\"DNR\"),IF(K10=\"DNR\",1,-1)*'T Q 4'!A8,IF(OR(ISBLANK(K10),ISBLANK(K11)),\"\",IF(OR(O10=\"-\",O11=\"-\"),IF(O10=\"-\",1,-1)*'T Q 4'!A8,IF(ABS(O10-O11)>'T Q 4'!A9,IF(O10-O11>'T Q 4'!A9,1,-1)*'T Q 4'!A9,ROUND(O10-O11,3))))))","v":""},{"$f":"IF(B11=\"BYE\",\"(BYE)\",IF(ISERROR(J11+R11)=TRUE,\"\",IF(J11+R11=0,\"\",\"by \"&ABS(J11+R11)&\" seconds\")))","v":"(BYE)"},"",{"$f":"IF(B11=\"BYE\", B11, IF(ISERROR(J11+R11)=TRUE,\"\",IF(J11+R11>0,B10,B11)))","v":"BYE"},{"$f":"IF(ISERROR(VLOOKUP(U11,'T Q 4'!U12:V111,2,FALSE))=TRUE,\"\",VLOOKUP(U11,'T Q 4'!U12:V111,2,FALSE))","v":""},{"$f":"IF(ISERROR(VLOOKUP(U11,'T Q 4'!AL12:AO111,4,FALSE))=TRUE,\"\",VLOOKUP(U11,'T Q 4'!AL12:AO111,4,FALSE))","v":""}]
[8,{"$f":"IF(A3<A12,\"BYE\",IF(ISERROR(VLOOKUP(A12,'T Q 4'!AO12:'T Q 4'!AQ111,3,FALSE))=TRUE,\"BYE\",VLOOKUP(A12,'T Q 4'!AO12:'T Q 4'!AQ111,3,FALSE)))","v":""},null,null,null,null,"","",{"$f":"IF(AND(LEFT(C12,1)=\"D\",LEFT(C13,1)=\"D\"),\"\",IF(OR(C12=\"DNR\",C13=\"DNR\"),IF(C12=\"DNR\",B13,B12),IF(OR(ISBLANK(C12),ISBLANK(C13)),\"\",IF(G12=G13,\"TIE\",IF(G12>G13,B13,B12)))))","v":""},null,null,null,null,null,"","",{"$f":"IF(AND(LEFT(K12,1)=\"D\",LEFT(K13,1)=\"D\"),\"\",IF(OR(K12=\"DNR\",K13=\"DNR\"),IF(K12=\"DNR\",B13,B12),IF(OR(ISBLANK(K12),ISBLANK(K13)),\"\",IF(O12=O13,\"TIE\",IF(O12>O13,B13,B12)))))","v":""},null,{"$f":"IF(B13=\"BYE\", B12, IF(ISERROR(J13+R13)=TRUE,\"\",IF(J13+R13=0,\"TIE - HOLD RUNOFF\",IF(J13+R13>0,B13,B12))))","v":""},""]
[25,{"$f":"IF(A3<A13,\"BYE\",IF(ISERROR(VLOOKUP(A13,'T Q 4'!AO12:'T Q 4'!AQ111,3,FALSE))=TRUE,\"BYE\",VLOOKUP(A13,'T Q 4'!AO12:'T Q 4'!AQ111,3,FALSE)))","v":"BYE"},null,null,null,null,"","",{"$f":"IF(AND(LEFT(C12,1)=\"D\",LEFT(C13,1)=\"D\"),\"\",IF(OR(C12=\"DNR\",C13=\"DNR\"),\"by \"&ABS(J13)&\" seconds\",IF(OR(ISBLANK(C12),ISBLANK(C13),G12=G13),\"\",\"by \"&ABS(J13)&\" seconds\")))","v":""},{"$f":"IF(AND(LEFT(C12,1)=\"D\",LEFT(C13,1)=\"D\"),\"0\",IF(OR(C12=\"DNR\",C13=\"DNR\"),IF(C12=\"DNR\",1,-1)*'T Q 4'!A8,IF(OR(ISBLANK(C12),ISBLANK(C13)),\"\",IF(OR(G12=\"-\",G13=\"-\"),IF(G12=\"-\",1,-1)*'T Q 4'!A8,IF(ABS(G12-G13)>'T Q 4'!A9,IF(G12-G13>'T Q 4'!A9,1,-1)*'T Q 4'!A9,ROUND(G12-G13,3))))))","v":""},null,null,null,null,"","",{"$f":"IF(AND(LEFT(K12,1)=\"D\",LEFT(K13,1)=\"D\"),\"\",IF(OR(K12=\"DNR\",K13=\"DNR\"),\"by \"&ABS(R13)&\" seconds\",IF(OR(ISBLANK(K12),ISBLANK(K13),O12=O13),\"\",\"by \"&ABS(R13)&\" seconds\")))","v":""},{"$f":"IF(AND(LEFT(K12,1)=\"D\",LEFT(K13,1)=\"D\"),\"0\",IF(OR(K12=\"DNR\",K13=\"DNR\"),IF(K12=\"DNR\",1,-1)*'T Q 4'!A8,IF(OR(ISBLANK(K12),ISBLANK(K13)),\"\",IF(OR(O12=\"-\",O13=\"-\"),IF(O12=\"-\",1,-1)*'T Q 4'!A8,IF(ABS(O12-O13)>'T Q 4'!A9,IF(O12-O13>'T Q 4'!A9,1,-1)*'T Q 4'!A9,ROUND(O12-O13,3))))))","v":""},{"$f":"IF(B13=\"BYE\",\"(BYE)\",IF(ISERROR(J13+R13)=TRUE,\"\",IF(J13+R13=0,\"\",\"by \"&ABS(J13+R13)&\" seconds\")))","v":"(BYE)"},"",{"$f":"IF(B13=\"BYE\", B13, IF(ISERROR(J13+R13)=TRUE,\"\",IF(J13+R13>0,B12,B13)))","v":"BYE"},{"$f":"IF(ISERROR(VLOOKUP(U13,'T Q 4'!U12:V111,2,FALSE))=TRUE,\"\",VLOOKUP(U13,'T Q 4'!U12:V111,2,FALSE))","v":""},{"$f":"IF(ISERROR(VLOOKUP(U13,'T Q 4'!AL12:AO111,4,FALSE))=TRUE,\"\",VLOOKUP(U13,'T Q 4'!AL12:AO111,4,FALSE))","v":""}]
[9,{"$f":"IF(A3<A14,\"BYE\",IF(ISERROR(VLOOKUP(A14,'T Q 4'!AO12:'T Q 4'!AQ111,3,FALSE))=TRUE,\"BYE\",VLOOKUP(A14,'T Q 4'!AO12:'T Q 4'!AQ111,3,FALSE)))","v":"BYE"},null,null,null,null,"","",{"$f":"IF(AND(LEFT(C14,1)=\"D\",LEFT(C15,1)=\"D\"),\"\",IF(OR(C14=\"DNR\",C15=\"DNR\"),IF(C14=\"DNR\",B15,B14),IF(OR(ISBLANK(C14),ISBLANK(C15)),\"\",IF(G14=G15,\"TIE\",IF(G14>G15,B15,B14)))))","v":""},null,null,null,null,null,"","",{"$f":"IF(AND(LEFT(K14,1)=\"D\",LEFT(K15,1)=\"D\"),\"\",IF(OR(K14=\"DNR\",K15=\"DNR\"),IF(K14=\"DNR\",B15,B14),IF(OR(ISBLANK(K14),ISBLANK(K15)),\"\",IF(O14=O15,\"TIE\",IF(O14>O15,B15,B14)))))","v":""},null,{"$f":"IF(B15=\"BYE\", B14, IF(ISERROR(J15+R15)=TRUE,\"\",IF(J15+R15=0,\"TIE - HOLD RUNOFF\",IF(J15+R15>0,B15,B14))))","v":"BYE"},""]
[24,{"$f":"IF(A3<A15,\"BYE\",IF(ISERROR(VLOOKUP(A15,'T Q 4'!AO12:'T Q 4'!AQ111,3,FALSE))=TRUE,\"BYE\",VLOOKUP(A15,'T Q 4'!AO12:'T Q 4'!AQ111,3,FALSE)))","v":"BYE"},null,null,null,null,"","",{"$f":"IF(AND(LEFT(C14,1)=\"D\",LEFT(C15,1)=\"D\"),\"\",IF(OR(C14=\"DNR\",C15=\"DNR\"),\"by \"&ABS(J15)&\" seconds\",IF(OR(ISBLANK(C14),ISBLANK(C15),G14=G15),\"\",\"by \"&ABS(J15)&\" seconds\")))","v":""},{"$f":"IF(AND(LEFT(C14,1)=\"D\",LEFT(C15,1)=\"D\"),\"0\",IF(OR(C14=\"DNR\",C15=\"DNR\"),IF(C14=\"DNR\",1,-1)*'T Q 4'!A8,IF(OR(ISBLANK(C14),ISBLANK(C15)),\"\",IF(OR(G14=\"-\",G15=\"-\",),IF(G14=\"-\",1,-1)*'T Q 4'!A8,IF(ABS(G14-G15)>'T Q 4'!A9,IF(G14-G15>'T Q 4'!A9,1,-1)*'T Q 4'!A9,ROUND(G14-G15,3))))))","v":""},null,null,null,null,"","",{"$f":"IF(AND(LEFT(K14,1)=\"D\",LEFT(K15,1)=\"D\"),\"\",IF(OR(K14=\"DNR\",K15=\"DNR\"),\"by \"&ABS(R15)&\" seconds\",IF(OR(ISBLANK(K14),ISBLANK(K15),O14=O15),\"\",\"by \"&ABS(R15)&\" seconds\")))","v":""},{"$f":"IF(AND(LEFT(K14,1)=\"D\",LEFT(K15,1)=\"D\"),\"0\",IF(OR(K14=\"DNR\",K15=\"DNR\"),IF(K14=\"DNR\",1,-1)*'T Q 4'!A8,IF(OR(ISBLANK(K14),ISBLANK(K15)),\"\",IF(OR(O14=\"-\",O15=\"-\"),IF(O14=\"-\",1,-1)*'T Q 4'!A8,IF(ABS(O14-O15)>'T Q 4'!A9,IF(O14-O15>'T Q 4'!A9,1,-1)*'T Q 4'!A9,ROUND(O14-O15,3))))))","v":""},{"$f":"IF(B15=\"BYE\",\"(BYE)\",IF(ISERROR(J15+R15)=TRUE,\"\",IF(J15+R15=0,\"\",\"by \"&ABS(J15+R15)&\" seconds\")))","v":"(BYE)"},"",{"$f":"IF(B15=\"BYE\", B15, IF(ISERROR(J15+R15)=TRUE,\"\",IF(J15+R15>0,B14,B15)))","v":"BYE"},{"$f":"IF(ISERROR(VLOOKUP(U15,'T Q 4'!U12:V111,2,FALSE))=TRUE,\"\",VLOOKUP(U15,'T Q 4'!U12:V111,2,FALSE))","v":""},{"$f":"IF(ISERROR(VLOOKUP(U15,'T Q 4'!AL12:AO111,4,FALSE))=TRUE,\"\",VLOOKUP(U15,'T Q 4'!AL12:AO111,4,FALSE))","v":""}]
[4,{"$f":"IF(A3<A16,\"BYE\",IF(ISERROR(VLOOKUP(A16,'T Q 4'!AO12:'T Q 4'!AQ111,3,FALSE))=TRUE,\"BYE\",VLOOKUP(A16,'T Q 4'!AO12:'T Q 4'!AQ111,3,FALSE)))","v":""},null,null,null,null,"","",{"$f":"IF(AND(LEFT(C16,1)=\"D\",LEFT(C17,1)=\"D\"),\"\",IF(OR(C16=\"DNR\",C17=\"DNR\"),IF(C16=\"DNR\",B17,B16),IF(OR(ISBLANK(C16),ISBLANK(C17)),\"\",IF(G16=G17,\"TIE\",IF(G16>G17,B17,B16)))))","v":""},null,null,null,null,null,"","",{"$f":"IF(AND(LEFT(K16,1)=\"D\",LEFT(K17,1)=\"D\"),\"\",IF(OR(K16=\"DNR\",K17=\"DNR\"),IF(K16=\"DNR\",B17,B16),IF(OR(ISBLANK(K16),ISBLANK(K17)),\"\",IF(O16=O17,\"TIE\",IF(O16>O17,B17,B16)))))","v":""},null,{"$f":"IF(B17=\"BYE\", B16, IF(ISERROR(J17+R17)=TRUE,\"\",IF(J17+R17=0,\"TIE - HOLD RUNOFF\",IF(J17+R17>0,B17,B16))))","v":""},""]
[29,{"$f":"IF(A3<A17,\"BYE\",IF(ISERROR(VLOOKUP(A17,'T Q 4'!AO12:'T Q 4'!AQ111,3,FALSE))=TRUE,\"BYE\",VLOOKUP(A17,'T Q 4'!AO12:'T Q 4'!AQ111,3,FALSE)))","v":"BYE"},null,null,null,null,"","",{"$f":"IF(AND(LEFT(C16,1)=\"D\",LEFT(C17,1)=\"D\"),\"\",IF(OR(C16=\"DNR\",C17=\"DNR\"),\"by \"&ABS(J17)&\" seconds\",IF(OR(ISBLANK(C16),ISBLANK(C17),G16=G17),\"\",\"by \"&ABS(J17)&\" seconds\")))","v":""},{"$f":"IF(AND(LEFT(C16,1)=\"D\",LEFT(C17,1)=\"D\"),\"0\",IF(OR(C16=\"DNR\",C17=\"DNR\"),IF(C16=\"DNR\",1,-1)*'T Q 4'!A8,IF(OR(ISBLANK(C16),ISBLANK(C17)),\"\",IF(OR(G16=\"-\",G17=\"-\"),IF(G16=\"-\",1,-1)*'T Q 4'!A8,IF(ABS(G16-G17)>'T Q 4'!A9,IF(G16-G17>'T Q 4'!A9,1,-1)*'T Q 4'!A9,ROUND(G16-G17,3))))))","v":""},null,null,null,null,"","",{"$f":"IF(AND(LEFT(K16,1)=\"D\",LEFT(K17,1)=\"D\"),\"\",IF(OR(K16=\"DNR\",K17=\"DNR\"),\"by \"&ABS(R17)&\" seconds\",IF(OR(ISBLANK(K16),ISBLANK(K17),O16=O17),\"\",\"by \"&ABS(R17)&\" seconds\")))","v":""},{"$f":"IF(AND(LEFT(K16,1)=\"D\",LEFT(K17,1)=\"D\"),\"0\",IF(OR(K16=\"DNR\",K17=\"DNR\"),IF(K16=\"DNR\",1,-1)*'T Q 4'!A8,IF(OR(ISBLANK(K16),ISBLANK(K17)),\"\",IF(OR(O16=\"-\",O17=\"-\"),IF(O16=\"-\",1,-1)*'T Q 4'!A8,IF(ABS(O16-O17)>'T Q 4'!A9,IF(O16-O17>'T Q 4'!A9,1,-1)*'T Q 4'!A9,ROUND(O16-O17,3))))))","v":""},{"$f":"IF(B17=\"BYE\",\"(BYE)\",IF(ISERROR(J17+R17)=TRUE,\"\",IF(J17+R17=0,\"\",\"by \"&ABS(J17+R17)&\" seconds\")))","v":"(BYE)"},"",{"$f":"IF(B17=\"BYE\", B17, IF(ISERROR(J17+R17)=TRUE,\"\",IF(J17+R17>0,B16,B17)))","v":"BYE"},{"$f":"IF(ISERROR(VLOOKUP(U17,'T Q 4'!U12:V111,2,FALSE))=TRUE,\"\",VLOOKUP(U17,'T Q 4'!U12:V111,2,FALSE))","v":""},{"$f":"IF(ISERROR(VLOOKUP(U17,'T Q 4'!AL12:AO111,4,FALSE))=TRUE,\"\",VLOOKUP(U17,'T Q 4'!AL12:AO111,4,FALSE))","v":""}]
[13,{"$f":"IF(A3<A18,\"BYE\",IF(ISERROR(VLOOKUP(A18,'T Q 4'!AO12:'T Q 4'!AQ111,3,FALSE))=TRUE,\"BYE\",VLOOKUP(A18,'T Q 4'!AO12:'T Q 4'!AQ111,3,FALSE)))","v":"BYE"},null,null,null,null,"","",{"$f":"IF(AND(LEFT(C18,1)=\"D\",LEFT(C19,1)=\"D\"),\"\",IF(OR(C18=\"DNR\",C19=\"DNR\"),IF(C18=\"DNR\",B19,B18),IF(OR(ISBLANK(C18),ISBLANK(C19)),\"\",IF(G18=G19,\"TIE\",IF(G18>G19,B19,B18)))))","v":""},null,null,null,null,null,"","",{"$f":"IF(AND(LEFT(K18,1)=\"D\",LEFT(K19,1)=\"D\"),\"\",IF(OR(K18=\"DNR\",K19=\"DNR\"),IF(K18=\"DNR\",B19,B18),IF(OR(ISBLANK(K18),ISBLANK(K19)),\"\",IF(O18=O19,\"TIE\",IF(O18>O19,B19,B18)))))","v":""},null,{"$f":"IF(B19=\"BYE\", B18, IF(ISERROR(J19+R19)=TRUE,\"\",IF(J19+R19=0,\"TIE - HOLD RUNOFF\",IF(J19+R19>0,B19,B18))))","v":"BYE"},""]
[20,{"$f":"IF(A3<A19,\"BYE\",IF(ISERROR(VLOOKUP(A19,'T Q 4'!AO12:'T Q 4'!AQ111,3,FALSE))=TRUE,\"BYE\",VLOOKUP(A19,'T Q 4'!AO12:'T Q 4'!AQ111,3,FALSE)))","v":"BYE"},null,null,null,null,"","",{"$f":"IF(AND(LEFT(C18,1)=\"D\",LEFT(C19,1)=\"D\"),\"\",IF(OR(C18=\"DNR\",C19=\"DNR\"),\"by \"&ABS(J19)&\" seconds\",IF(OR(ISBLANK(C18),ISBLANK(C19),G18=G19),\"\",\"by \"&ABS(J19)&\" seconds\")))","v":""},{"$f":"IF(AND(LEFT(C18,1)=\"D\",LEFT(C19,1)=\"D\"),\"0\",IF(OR(C18=\"DNR\",C19=\"DNR\"),IF(C18=\"DNR\",1,-1)*'T Q 4'!A8,IF(OR(ISBLANK(C18),ISBLANK(C19)),\"\",IF(OR(G18=\"-\",G19=\"-\"),IF(G18=\"-\",1,-1)*'T Q 4'!A8,IF(ABS(G18-G19)>'T Q 4'!A9,IF(G18-G19>'T Q 4'!A9,1,-1)*'T Q 4'!A9,ROUND(G18-G19,3))))))","v":""},null,null,null,null,"","",{"$f":"IF(AND(LEFT(K18,1)=\"D\",LEFT(K19,1)=\"D\"),\"\",IF(OR(K18=\"DNR\",K19=\"DNR\"),\"by \"&ABS(R19)&\" seconds\",IF(OR(ISBLANK(K18),ISBLANK(K19),O18=O19),\"\",\"by \"&ABS(R19)&\" seconds\")))","v":""},{"$f":"IF(AND(LEFT(K18,1)=\"D\",LEFT(K19,1)=\"D\"),\"0\",IF(OR(K18=\"DNR\",K19=\"DNR\"),IF(K18=\"DNR\",1,-1)*'T Q 4'!A8,IF(OR(ISBLANK(K18),ISBLANK(K19)),\"\",IF(OR(O18=\"-\",O19=\"-\"),IF(O18=\"-\",1,-1)*'T Q 4'!A8,IF(ABS(O18-O19)>'T Q 4'!A9,IF(O18-O19>'T Q 4'!A9,1,-1)*'T Q 4'!A9,ROUND(O18-O19,3))))))","v":""},{"$f":"IF(B19=\"BYE\",\"(BYE)\",IF(ISERROR(J19+R19)=TRUE,\"\",IF(J19+R19=0,\"\",\"by \"&ABS(J19+R19)&\" seconds\")))","v":"(BYE)"},"",{"$f":"IF(B19=\"BYE\", B19, IF(ISERROR(J19+R19)=TRUE,\"\",IF(J19+R19>0,B18,B19)))","v":"BYE"},{"$f":"IF(ISERROR(VLOOKUP(U19,'T Q 4'!U12:V111,2,FALSE))=TRUE,\"\",VLOOKUP(U19,'T Q 4'!U12:V111,2,FALSE))","v":""},{"$f":"IF(ISERROR(VLOOKUP(U19,'T Q 4'!AL12:AO111,4,FALSE))=TRUE,\"\",VLOOKUP(U19,'T Q 4'!AL12:AO111,4,FALSE))","v":""}]
[5,{"$f":"IF(A3<A20,\"BYE\",IF(ISERROR(VLOOKUP(A20,'T Q 4'!AO12:'T Q 4'!AQ111,3,FALSE))=TRUE,\"BYE\",VLOOKUP(A20,'T Q 4'!AO12:'T Q 4'!AQ111,3,FALSE)))","v":""},null,null,null,null,"","",{"$f":"IF(AND(LEFT(C20,1)=\"D\",LEFT(C21,1)=\"D\"),\"\",IF(OR(C20=\"DNR\",C21=\"DNR\"),IF(C20=\"DNR\",B21,B20),IF(OR(ISBLANK(C20),ISBLANK(C21)),\"\",IF(G20=G21,\"TIE\",IF(G20>G21,B21,B20)))))","v":""},null,null,null,null,null,"","",{"$f":"IF(AND(LEFT(K20,1)=\"D\",LEFT(K21,1)=\"D\"),\"\",IF(OR(K20=\"DNR\",K21=\"DNR\"),IF(K20=\"DNR\",B21,B20),IF(OR(ISBLANK(K20),ISBLANK(K21)),\"\",IF(O20=O21,\"TIE\",IF(O20>O21,B21,B20)))))","v":""},null,{"$f":"IF(B21=\"BYE\", B20, IF(ISERROR(J21+R21)=TRUE,\"\",IF(J21+R21=0,\"TIE - HOLD RUNOFF\",IF(J21+R21>0,B21,B20))))","v":""},""]
[28,{"$f":"IF(A3<A21,\"BYE\",IF(ISERROR(VLOOKUP(A21,'T Q 4'!AO12:'T Q 4'!AQ111,3,FALSE))=TRUE,\"BYE\",VLOOKUP(A21,'T Q 4'!AO12:'T Q 4'!AQ111,3,FALSE)))","v":"BYE"},null,null,null,null,"","",{"$f":"IF(AND(LEFT(C20,1)=\"D\",LEFT(C21,1)=\"D\"),\"\",IF(OR(C20=\"DNR\",C21=\"DNR\"),\"by \"&ABS(J21)&\" seconds\",IF(OR(ISBLANK(C20),ISBLANK(C21),G20=G21),\"\",\"by \"&ABS(J21)&\" seconds\")))","v":""},{"$f":"IF(AND(LEFT(C20,1)=\"D\",LEFT(C21,1)=\"D\"),\"0\",IF(OR(C20=\"DNR\",C21=\"DNR\"),IF(C20=\"DNR\",1,-1)*'T Q 4'!A8,IF(OR(ISBLANK(C20),ISBLANK(C21)),\"\",IF(OR(G20=\"-\",G21=\"-\"),IF(G20=\"-\",1,-1)*'T Q 4'!A8,IF(ABS(G20-G21)>'T Q 4'!A9,IF(G20-G21>'T Q 4'!A9,1,-1)*'T Q 4'!A9,ROUND(G20-G21,3))))))","v":""},null,null,null,null,"","",{"$f":"IF(AND(LEFT(K20,1)=\"D\",LEFT(K21,1)=\"D\"),\"\",IF(OR(K20=\"DNR\",K21=\"DNR\"),\"by \"&ABS(R21)&\" seconds\",IF(OR(ISBLANK(K20),ISBLANK(K21),O20=O21),\"\",\"by \"&ABS(R21)&\" seconds\")))","v":""},{"$f":"IF(AND(LEFT(K20,1)=\"D\",LEFT(K21,1)=\"D\"),\"0\",IF(OR(K20=\"DNR\",K21=\"DNR\"),IF(K20=\"DNR\",1,-1)*'T Q 4'!A8,IF(OR(ISBLANK(K20),ISBLANK(K21)),\"\",IF(OR(O20=\"-\",O21=\"-\"),IF(O20=\"-\",1,-1)*'T Q 4'!A8,IF(ABS(O20-O21)>'T Q 4'!A9,IF(O20-O21>'T Q 4'!A9,1,-1)*'T Q 4'!A9,ROUND(O20-O21,3))))))","v":""},{"$f":"IF(B21=\"BYE\",\"(BYE)\",IF(ISERROR(J21+R21)=TRUE,\"\",IF(J21+R21=0,\"\",\"by \"&ABS(J21+R21)&\" seconds\")))","v":"(BYE)"},"",{"$f":"IF(B21=\"BYE\", B21, IF(ISERROR(J21+R21)=TRUE,\"\",IF(J21+R21>0,B20,B21)))","v":"BYE"},{"$f":"IF(ISERROR(VLOOKUP(U21,'T Q 4'!U12:V111,2,FALSE))=TRUE,\"\",VLOOKUP(U21,'T Q 4'!U12:V111,2,FALSE))","v":""},{"$f":"IF(ISERROR(VLOOKUP(U21,'T Q 4'!AL12:AO111,4,FALSE))=TRUE,\"\",VLOOKUP(U21,'T Q 4'!AL12:AO111,4,FALSE))","v":""}]
[12,{"$f":"IF(A3<A22,\"BYE\",IF(ISERROR(VLOOKUP(A22,'T Q 4'!AO12:'T Q 4'!AQ111,3,FALSE))=TRUE,\"BYE\",VLOOKUP(A22,'T Q 4'!AO12:'T Q 4'!AQ111,3,FALSE)))","v":"BYE"},null,null,null,null,"","",{"$f":"IF(AND(LEFT(C22,1)=\"D\",LEFT(C23,1)=\"D\"),\"\",IF(OR(C22=\"DNR\",C23=\"DNR\"),IF(C22=\"DNR\",B23,B22),IF(OR(ISBLANK(C22),ISBLANK(C23)),\"\",IF(G22=G23,\"TIE\",IF(G22>G23,B23,B22)))))","v":""},null,null,null,null,null,"","",{"$f":"IF(AND(LEFT(K22,1)=\"D\",LEFT(K23,1)=\"D\"),\"\",IF(OR(K22=\"DNR\",K23=\"DNR\"),IF(K22=\"DNR\",B23,B22),IF(OR(ISBLANK(K22),ISBLANK(K23)),\"\",IF(O22=O23,\"TIE\",IF(O22>O23,B23,B22)))))","v":""},null,{"$f":"IF(B23=\"BYE\", B22, IF(ISERROR(J23+R23)=TRUE,\"\",IF(J23+R23=0,\"TIE - HOLD RUNOFF\",IF(J23+R23>0,B23,B22))))","v":"BYE"},""]
[21,{"$f":"IF(A3<A23,\"BYE\",IF(ISERROR(VLOOKUP(A23,'T Q 4'!AO12:'T Q 4'!AQ111,3,FALSE))=TRUE,\"BYE\",VLOOKUP(A23,'T Q 4'!AO12:'T Q 4'!AQ111,3,FALSE)))","v":"BYE"},null,null,null,null,"","",{"$f":"IF(AND(LEFT(C22,1)=\"D\",LEFT(C23,1)=\"D\"),\"\",IF(OR(C22=\"DNR\",C23=\"DNR\"),\"by \"&ABS(J23)&\" seconds\",IF(OR(ISBLANK(C22),ISBLANK(C23),G22=G23),\"\",\"by \"&ABS(J23)&\" seconds\")))","v":""},{"$f":"IF(AND(LEFT(C22,1)=\"D\",LEFT(C23,1)=\"D\"),\"0\",IF(OR(C22=\"DNR\",C23=\"DNR\"),IF(C22=\"DNR\",1,-1)*'T Q 4'!A8,IF(OR(ISBLANK(C22),ISBLANK(C23)),\"\",IF(OR(G22=\"-\",G23=\"-\"),IF(G22=\"-\",1,-1)*'T Q 4'!A8,IF(ABS(G22-G23)>'T Q 4'!A9,IF(G22-G23>'T Q 4'!A9,1,-1)*'T Q 4'!A9,ROUND(G22-G23,3))))))","v":""},null,null,null,null,"","",{"$f":"IF(AND(LEFT(K22,1)=\"D\",LEFT(K23,1)=\"D\"),\"\",IF(OR(K22=\"DNR\",K23=\"DNR\"),\"by \"&ABS(R23)&\" seconds\",IF(OR(ISBLANK(K22),ISBLANK(K23),O22=O23),\"\",\"by \"&ABS(R23)&\" seconds\")))","v":""},{"$f":"IF(AND(LEFT(K22,1)=\"D\",LEFT(K23,1)=\"D\"),\"0\",IF(OR(K22=\"DNR\",K23=\"DNR\"),IF(K22=\"DNR\",1,-1)*'T Q 4'!A8,IF(OR(ISBLANK(K22),ISBLANK(K23)),\"\",IF(OR(O22=\"-\",O23=\"-\"),IF(O22=\"-\",1,-1)*'T Q 4'!A8,IF(ABS(O22-O23)>'T Q 4'!A9,IF(O22-O23>'T Q 4'!A9,1,-1)*'T Q 4'!A9,ROUND(O22-O23,3))))))","v":""},{"$f":"IF(B23=\"BYE\",\"(BYE)\",IF(ISERROR(J23+R23)=TRUE,\"\",IF(J23+R23=0,\"\",\"by \"&ABS(J23+R23)&\" seconds\")))","v":"(BYE)"},"",{"$f":"IF(B23=\"BYE\", B23, IF(ISERROR(J23+R23)=TRUE,\"\",IF(J23+R23>0,B22,B23)))","v":"BYE"},{"$f":"IF(ISERROR(VLOOKUP(U23,'T Q 4'!U12:V111,2,FALSE))=TRUE,\"\",VLOOKUP(U23,'T Q 4'!U12:V111,2,FALSE))","v":""},{"$f":"IF(ISERROR(VLOOKUP(U23,'T Q 4'!AL12:AO111,4,FALSE))=TRUE,\"\",VLOOKUP(U23,'T Q 4'!AL12:AO111,4,FALSE))","v":""}]
[2,{"$f":"IF(A3<A24,\"BYE\",IF(ISERROR(VLOOKUP(A24,'T Q 4'!AO12:'T Q 4'!AQ111,3,FALSE))=TRUE,\"BYE\",VLOOKUP(A24,'T Q 4'!AO12:'T Q 4'!AQ111,3,FALSE)))","v":"Rezková  Anna  [CZE] "},null,null,null,null,"","",{"$f":"IF(AND(LEFT(C24,1)=\"D\",LEFT(C25,1)=\"D\"),\"\",IF(OR(C24=\"DNR\",C25=\"DNR\"),IF(C24=\"DNR\",B25,B24),IF(OR(ISBLANK(C24),ISBLANK(C25)),\"\",IF(G24=G25,\"TIE\",IF(G24>G25,B25,B24)))))","v":""},null,null,null,null,null,"","",{"$f":"IF(AND(LEFT(K24,1)=\"D\",LEFT(K25,1)=\"D\"),\"\",IF(OR(K24=\"DNR\",K25=\"DNR\"),IF(K24=\"DNR\",B25,B24),IF(OR(ISBLANK(K24),ISBLANK(K25)),\"\",IF(O24=O25,\"TIE\",IF(O24>O25,B25,B24)))))","v":""},null,{"$f":"IF(B25=\"BYE\", B24, IF(ISERROR(J25+R25)=TRUE,\"\",IF(J25+R25=0,\"TIE - HOLD RUNOFF\",IF(J25+R25>0,B25,B24))))","v":"Rezková  Anna  [CZE] "},""]
[31,{"$f":"IF(A3<A25,\"BYE\",IF(ISERROR(VLOOKUP(A25,'T Q 4'!AO12:'T Q 4'!AQ111,3,FALSE))=TRUE,\"BYE\",VLOOKUP(A25,'T Q 4'!AO12:'T Q 4'!AQ111,3,FALSE)))","v":"BYE"},null,null,null,null,"","",{"$f":"IF(AND(LEFT(C24,1)=\"D\",LEFT(C25,1)=\"D\"),\"\",IF(OR(C24=\"DNR\",C25=\"DNR\"),\"by \"&ABS(J25)&\" seconds\",IF(OR(ISBLANK(C24),ISBLANK(C25),G24=G25),\"\",\"by \"&ABS(J25)&\" seconds\")))","v":""},{"$f":"IF(AND(LEFT(C24,1)=\"D\",LEFT(C25,1)=\"D\"),\"0\",IF(OR(C24=\"DNR\",C25=\"DNR\"),IF(C24=\"DNR\",1,-1)*'T Q 4'!A8,IF(OR(ISBLANK(C24),ISBLANK(C25)),\"\",IF(OR(G24=\"-\",G25=\"-\"),IF(G24=\"-\",1,-1)*'T Q 4'!A8,IF(ABS(G24-G25)>'T Q 4'!A9,IF(G24-G25>'T Q 4'!A9,1,-1)*'T Q 4'!A9,ROUND(G24-G25,3))))))","v":""},null,null,null,null,"","",{"$f":"IF(AND(LEFT(K24,1)=\"D\",LEFT(K25,1)=\"D\"),\"\",IF(OR(K24=\"DNR\",K25=\"DNR\"),\"by \"&ABS(R25)&\" seconds\",IF(OR(ISBLANK(K24),ISBLANK(K25),O24=O25),\"\",\"by \"&ABS(R25)&\" seconds\")))","v":""},{"$f":"IF(AND(LEFT(K24,1)=\"D\",LEFT(K25,1)=\"D\"),\"0\",IF(OR(K24=\"DNR\",K25=\"DNR\"),IF(K24=\"DNR\",1,-1)*'T Q 4'!A8,IF(OR(ISBLANK(K24),ISBLANK(K25)),\"\",IF(OR(O24=\"-\",O25=\"-\"),IF(O24=\"-\",1,-1)*'T Q 4'!A8,IF(ABS(O24-O25)>'T Q 4'!A9,IF(O24-O25>'T Q 4'!A9,1,-1)*'T Q 4'!A9,ROUND(O24-O25,3))))))","v":""},{"$f":"IF(B25=\"BYE\",\"(BYE)\",IF(ISERROR(J25+R25)=TRUE,\"\",IF(J25+R25=0,\"\",\"by \"&ABS(J25+R25)&\" seconds\")))","v":"(BYE)"},"",{"$f":"IF(B25=\"BYE\", B25, IF(ISERROR(J25+R25)=TRUE,\"\",IF(J25+R25>0,B24,B25)))","v":"BYE"},{"$f":"IF(ISERROR(VLOOKUP(U25,'T Q 4'!U12:V111,2,FALSE))=TRUE,\"\",VLOOKUP(U25,'T Q 4'!U12:V111,2,FALSE))","v":""},{"$f":"IF(ISERROR(VLOOKUP(U25,'T Q 4'!AL12:AO111,4,FALSE))=TRUE,\"\",VLOOKUP(U25,'T Q 4'!AL12:AO111,4,FALSE))","v":""}]
[15,{"$f":"IF(A3<A26,\"BYE\",IF(ISERROR(VLOOKUP(A26,'T Q 4'!AO12:'T Q 4'!AQ111,3,FALSE))=TRUE,\"BYE\",VLOOKUP(A26,'T Q 4'!AO12:'T Q 4'!AQ111,3,FALSE)))","v":"BYE"},null,null,null,null,"","",{"$f":"IF(AND(LEFT(C26,1)=\"D\",LEFT(C27,1)=\"D\"),\"\",IF(OR(C26=\"DNR\",C27=\"DNR\"),IF(C26=\"DNR\",B27,B26),IF(OR(ISBLANK(C26),ISBLANK(C27)),\"\",IF(G26=G27,\"TIE\",IF(G26>G27,B27,B26)))))","v":""},null,null,null,null,null,"","",{"$f":"IF(AND(LEFT(K26,1)=\"D\",LEFT(K27,1)=\"D\"),\"\",IF(OR(K26=\"DNR\",K27=\"DNR\"),IF(K26=\"DNR\",B27,B26),IF(OR(ISBLANK(K26),ISBLANK(K27)),\"\",IF(O26=O27,\"TIE\",IF(O26>O27,B27,B26)))))","v":""},null,{"$f":"IF(B27=\"BYE\", B26, IF(ISERROR(J27+R27)=TRUE,\"\",IF(J27+R27=0,\"TIE - HOLD RUNOFF\",IF(J27+R27>0,B27,B26))))","v":"BYE"},""]
[18,{"$f":"IF(A3<A27,\"BYE\",IF(ISERROR(VLOOKUP(A27,'T Q 4'!AO12:'T Q 4'!AQ111,3,FALSE))=TRUE,\"BYE\",VLOOKUP(A27,'T Q 4'!AO12:'T Q 4'!AQ111,3,FALSE)))","v":"BYE"},null,null,null,null,"","",{"$f":"IF(AND(LEFT(C26,1)=\"D\",LEFT(C27,1)=\"D\"),\"\",IF(OR(C26=\"DNR\",C27=\"DNR\"),\"by \"&ABS(J27)&\" seconds\",IF(OR(ISBLANK(C26),ISBLANK(C27),G26=G27),\"\",\"by \"&ABS(J27)&\" seconds\")))","v":""},{"$f":"IF(AND(LEFT(C26,1)=\"D\",LEFT(C27,1)=\"D\"),\"0\",IF(OR(C26=\"DNR\",C27=\"DNR\"),IF(C26=\"DNR\",1,-1)*'T Q 4'!A8,IF(OR(ISBLANK(C26),ISBLANK(C27)),\"\",IF(OR(G26=\"-\",G27=\"-\"),IF(G26=\"-\",1,-1)*'T Q 4'!A8,IF(ABS(G26-G27)>'T Q 4'!A9,IF(G26-G27>'T Q 4'!A9,1,-1)*'T Q 4'!A9,ROUND(G26-G27,3))))))","v":""},null,null,null,null,"","",{"$f":"IF(AND(LEFT(K26,1)=\"D\",LEFT(K27,1)=\"D\"),\"\",IF(OR(K26=\"DNR\",K27=\"DNR\"),\"by \"&ABS(R27)&\" seconds\",IF(OR(ISBLANK(K26),ISBLANK(K27),O26=O27),\"\",\"by \"&ABS(R27)&\" seconds\")))","v":""},{"$f":"IF(AND(LEFT(K26,1)=\"D\",LEFT(K27,1)=\"D\"),\"0\",IF(OR(K26=\"DNR\",K27=\"DNR\"),IF(K26=\"DNR\",1,-1)*'T Q 4'!A8,IF(OR(ISBLANK(K26),ISBLANK(K27)),\"\",IF(OR(O26=\"-\",O27=\"-\"),IF(O26=\"-\",1,-1)*'T Q 4'!A8,IF(ABS(O26-O27)>'T Q 4'!A9,IF(O26-O27>'T Q 4'!A9,1,-1)*'T Q 4'!A9,ROUND(O26-O27,3))))))","v":""},{"$f":"IF(B27=\"BYE\",\"(BYE)\",IF(ISERROR(J27+R27)=TRUE,\"\",IF(J27+R27=0,\"\",\"by \"&ABS(J27+R27)&\" seconds\")))","v":"(BYE)"},"",{"$f":"IF(B27=\"BYE\", B27, IF(ISERROR(J27+R27)=TRUE,\"\",IF(J27+R27>0,B26,B27)))","v":"BYE"},{"$f":"IF(ISERROR(VLOOKUP(U27,'T Q 4'!U12:V111,2,FALSE))=TRUE,\"\",VLOOKUP(U27,'T Q 4'!U12:V111,2,FALSE))","v":""},{"$f":"IF(ISERROR(VLOOKUP(U27,'T Q 4'!AL12:AO111,4,FALSE))=TRUE,\"\",VLOOKUP(U27,'T Q 4'!AL12:AO111,4,FALSE))","v":""}]
[7,{"$f":"IF(A3<A28,\"BYE\",IF(ISERROR(VLOOKUP(A28,'T Q 4'!AO12:'T Q 4'!AQ111,3,FALSE))=TRUE,\"BYE\",VLOOKUP(A28,'T Q 4'!AO12:'T Q 4'!AQ111,3,FALSE)))","v":""},null,null,null,null,"","",{"$f":"IF(AND(LEFT(C28,1)=\"D\",LEFT(C29,1)=\"D\"),\"\",IF(OR(C28=\"DNR\",C29=\"DNR\"),IF(C28=\"DNR\",B29,B28),IF(OR(ISBLANK(C28),ISBLANK(C29)),\"\",IF(G28=G29,\"TIE\",IF(G28>G29,B29,B28)))))","v":""},null,null,null,null,null,"","",{"$f":"IF(AND(LEFT(K28,1)=\"D\",LEFT(K29,1)=\"D\"),\"\",IF(OR(K28=\"DNR\",K29=\"DNR\"),IF(K28=\"DNR\",B29,B28),IF(OR(ISBLANK(K28),ISBLANK(K29)),\"\",IF(O28=O29,\"TIE\",IF(O28>O29,B29,B28)))))","v":""},null,{"$f":"IF(B29=\"BYE\", B28, IF(ISERROR(J29+R29)=TRUE,\"\",IF(J29+R29=0,\"TIE - HOLD RUNOFF\",IF(J29+R29>0,B29,B28))))","v":""},""]
[26,{"$f":"IF(A3<A29,\"BYE\",IF(ISERROR(VLOOKUP(A29,'T Q 4'!AO12:'T Q 4'!AQ111,3,FALSE))=TRUE,\"BYE\",VLOOKUP(A29,'T Q 4'!AO12:'T Q 4'!AQ111,3,FALSE)))","v":"BYE"},null,null,null,null,"","",{"$f":"IF(AND(LEFT(C28,1)=\"D\",LEFT(C29,1)=\"D\"),\"\",IF(OR(C28=\"DNR\",C29=\"DNR\"),\"by \"&ABS(J29)&\" seconds\",IF(OR(ISBLANK(C28),ISBLANK(C29),G28=G29),\"\",\"by \"&ABS(J29)&\" seconds\")))","v":""},{"$f":"IF(AND(LEFT(C28,1)=\"D\",LEFT(C29,1)=\"D\"),\"0\",IF(OR(C28=\"DNR\",C29=\"DNR\"),IF(C28=\"DNR\",1,-1)*'T Q 4'!A8,IF(OR(ISBLANK(C28),ISBLANK(C29)),\"\",IF(OR(G28=\"-\",G29=\"-\"),IF(G28=\"-\",1,-1)*'T Q 4'!A8,IF(ABS(G28-G29)>'T Q 4'!A9,IF(G28-G29>'T Q 4'!A9,1,-1)*'T Q 4'!A9,ROUND(G28-G29,3))))))","v":""},null,null,null,null,"","",{"$f":"IF(AND(LEFT(K28,1)=\"D\",LEFT(K29,1)=\"D\"),\"\",IF(OR(K28=\"DNR\",K29=\"DNR\"),\"by \"&ABS(R29)&\" seconds\",IF(OR(ISBLANK(K28),ISBLANK(K29),O28=O29),\"\",\"by \"&ABS(R29)&\" seconds\")))","v":""},{"$f":"IF(AND(LEFT(K28,1)=\"D\",LEFT(K29,1)=\"D\"),\"0\",IF(OR(K28=\"DNR\",K29=\"DNR\"),IF(K28=\"DNR\",1,-1)*'T Q 4'!A8,IF(OR(ISBLANK(K28),ISBLANK(K29)),\"\",IF(OR(O28=\"-\",O29=\"-\"),IF(O28=\"-\",1,-1)*'T Q 4'!A8,IF(ABS(O28-O29)>'T Q 4'!A9,IF(O28-O29>'T Q 4'!A9,1,-1)*'T Q 4'!A9,ROUND(O28-O29,3))))))","v":""},{"$f":"IF(B29=\"BYE\",\"(BYE)\",IF(ISERROR(J29+R29)=TRUE,\"\",IF(J29+R29=0,\"\",\"by \"&ABS(J29+R29)&\" seconds\")))","v":"(BYE)"},"",{"$f":"IF(B29=\"BYE\", B29, IF(ISERROR(J29+R29)=TRUE,\"\",IF(J29+R29>0,B28,B29)))","v":"BYE"},{"$f":"IF(ISERROR(VLOOKUP(U29,'T Q 4'!U12:V111,2,FALSE))=TRUE,\"\",VLOOKUP(U29,'T Q 4'!U12:V111,2,FALSE))","v":""},{"$f":"IF(ISERROR(VLOOKUP(U29,'T Q 4'!AL12:AO111,4,FALSE))=TRUE,\"\",VLOOKUP(U29,'T Q 4'!AL12:AO111,4,FALSE))","v":""}]
[10,{"$f":"IF(A3<A30,\"BYE\",IF(ISERROR(VLOOKUP(A30,'T Q 4'!AO12:'T Q 4'!AQ111,3,FALSE))=TRUE,\"BYE\",VLOOKUP(A30,'T Q 4'!AO12:'T Q 4'!AQ111,3,FALSE)))","v":"BYE"},null,null,null,null,"","",{"$f":"IF(AND(LEFT(C30,1)=\"D\",LEFT(C31,1)=\"D\"),\"\",IF(OR(C30=\"DNR\",C31=\"DNR\"),IF(C30=\"DNR\",B31,B30),IF(OR(ISBLANK(C30),ISBLANK(C31)),\"\",IF(G30=G31,\"TIE\",IF(G30>G31,B31,B30)))))","v":""},null,null,null,null,null,"","",{"$f":"IF(AND(LEFT(K30,1)=\"D\",LEFT(K31,1)=\"D\"),\"\",IF(OR(K30=\"DNR\",K31=\"DNR\"),IF(K30=\"DNR\",B31,B30),IF(OR(ISBLANK(K30),ISBLANK(K31)),\"\",IF(O30=O31,\"TIE\",IF(O30>O31,B31,B30)))))","v":""},null,{"$f":"IF(B31=\"BYE\", B30, IF(ISERROR(J31+R31)=TRUE,\"\",IF(J31+R31=0,\"TIE - HOLD RUNOFF\",IF(J31+R31>0,B31,B30))))","v":"BYE"},""]
[23,{"$f":"IF(A3<A31,\"BYE\",IF(ISERROR(VLOOKUP(A31,'T Q 4'!AO12:'T Q 4'!AQ111,3,FALSE))=TRUE,\"BYE\",VLOOKUP(A31,'T Q 4'!AO12:'T Q 4'!AQ111,3,FALSE)))","v":"BYE"},null,null,null,null,"","",{"$f":"IF(AND(LEFT(C30,1)=\"D\",LEFT(C31,1)=\"D\"),\"\",IF(OR(C30=\"DNR\",C31=\"DNR\"),\"by \"&ABS(J31)&\" seconds\",IF(OR(ISBLANK(C30),ISBLANK(C31),G30=G31),\"\",\"by \"&ABS(J31)&\" seconds\")))","v":""},{"$f":"IF(AND(LEFT(C30,1)=\"D\",LEFT(C31,1)=\"D\"),\"0\",IF(OR(C30=\"DNR\",C31=\"DNR\"),IF(C30=\"DNR\",1,-1)*'T Q 4'!A8,IF(OR(ISBLANK(C30),ISBLANK(C31)),\"\",IF(OR(G30=\"-\",G31=\"-\"),IF(G30=\"-\",1,-1)*'T Q 4'!A8,IF(ABS(G30-G31)>'T Q 4'!A9,IF(G30-G31>'T Q 4'!A9,1,-1)*'T Q 4'!A9,ROUND(G30-G31,3))))))","v":""},null,null,null,null,"","",{"$f":"IF(AND(LEFT(K30,1)=\"D\",LEFT(K31,1)=\"D\"),\"\",IF(OR(K30=\"DNR\",K31=\"DNR\"),\"by \"&ABS(R31)&\" seconds\",IF(OR(ISBLANK(K30),ISBLANK(K31),O30=O31),\"\",\"by \"&ABS(R31)&\" seconds\")))","v":""},{"$f":"IF(AND(LEFT(K30,1)=\"D\",LEFT(K31,1)=\"D\"),\"0\",IF(OR(K30=\"DNR\",K31=\"DNR\"),IF(K30=\"DNR\",1,-1)*'T Q 4'!A8,IF(OR(ISBLANK(K30),ISBLANK(K31)),\"\",IF(OR(O30=\"-\",O31=\"-\"),IF(O30=\"-\",1,-1)*'T Q 4'!A8,IF(ABS(O30-O31)>'T Q 4'!A9,IF(O30-O31>'T Q 4'!A9,1,-1)*'T Q 4'!A9,ROUND(O30-O31,3))))))","v":""},{"$f":"IF(B31=\"BYE\",\"(BYE)\",IF(ISERROR(J31+R31)=TRUE,\"\",IF(J31+R31=0,\"\",\"by \"&ABS(J31+R31)&\" seconds\")))","v":"(BYE)"},"",{"$f":"IF(B31=\"BYE\", B31, IF(ISERROR(J31+R31)=TRUE,\"\",IF(J31+R31>0,B30,B31)))","v":"BYE"},{"$f":"IF(ISERROR(VLOOKUP(U31,'T Q 4'!U12:V111,2,FALSE))=TRUE,\"\",VLOOKUP(U31,'T Q 4'!U12:V111,2,FALSE))","v":""},{"$f":"IF(ISERROR(VLOOKUP(U31,'T Q 4'!AL12:AO111,4,FALSE))=TRUE,\"\",VLOOKUP(U31,'T Q 4'!AL12:AO111,4,FALSE))","v":""}]
[3,{"$f":"IF(A3<A32,\"BYE\",IF(ISERROR(VLOOKUP(A32,'T Q 4'!AO12:'T Q 4'!AQ111,3,FALSE))=TRUE,\"BYE\",VLOOKUP(A32,'T Q 4'!AO12:'T Q 4'!AQ111,3,FALSE)))","v":""},null,null,null,null,"","",{"$f":"IF(AND(LEFT(C32,1)=\"D\",LEFT(C33,1)=\"D\"),\"\",IF(OR(C32=\"DNR\",C33=\"DNR\"),IF(C32=\"DNR\",B33,B32),IF(OR(ISBLANK(C32),ISBLANK(C33)),\"\",IF(G32=G33,\"TIE\",IF(G32>G33,B33,B32)))))","v":""},null,null,null,null,null,"","",{"$f":"IF(AND(LEFT(K32,1)=\"D\",LEFT(K33,1)=\"D\"),\"\",IF(OR(K32=\"DNR\",K33=\"DNR\"),IF(K32=\"DNR\",B33,B32),IF(OR(ISBLANK(K32),ISBLANK(K33)),\"\",IF(O32=O33,\"TIE\",IF(O32>O33,B33,B32)))))","v":""},null,{"$f":"IF(B33=\"BYE\", B32, IF(ISERROR(J33+R33)=TRUE,\"\",IF(J33+R33=0,\"TIE - HOLD RUNOFF\",IF(J33+R33>0,B33,B32))))","v":""},""]
[30,{"$f":"IF(A3<A33,\"BYE\",IF(ISERROR(VLOOKUP(A33,'T Q 4'!AO12:'T Q 4'!AQ111,3,FALSE))=TRUE,\"BYE\",VLOOKUP(A33,'T Q 4'!AO12:'T Q 4'!AQ111,3,FALSE)))","v":"BYE"},null,null,null,null,"","",{"$f":"IF(AND(LEFT(C32,1)=\"D\",LEFT(C33,1)=\"D\"),\"\",IF(OR(C32=\"DNR\",C33=\"DNR\"),\"by \"&ABS(J33)&\" seconds\",IF(OR(ISBLANK(C32),ISBLANK(C33),G32=G33),\"\",\"by \"&ABS(J33)&\" seconds\")))","v":""},{"$f":"IF(AND(LEFT(C32,1)=\"D\",LEFT(C33,1)=\"D\"),\"0\",IF(OR(C32=\"DNR\",C33=\"DNR\"),IF(C32=\"DNR\",1,-1)*'T Q 4'!A8,IF(OR(ISBLANK(C32),ISBLANK(C33)),\"\",IF(OR(G32=\"-\",G33=\"-\"),IF(G32=\"-\",1,-1)*'T Q 4'!A8,IF(ABS(G32-G33)>'T Q 4'!A9,IF(G32-G33>'T Q 4'!A9,1,-1)*'T Q 4'!A9,ROUND(G32-G33,3))))))","v":""},null,null,null,null,"","",{"$f":"IF(AND(LEFT(K32,1)=\"D\",LEFT(K33,1)=\"D\"),\"\",IF(OR(K32=\"DNR\",K33=\"DNR\"),\"by \"&ABS(R33)&\" seconds\",IF(OR(ISBLANK(K32),ISBLANK(K33),O32=O33),\"\",\"by \"&ABS(R33)&\" seconds\")))","v":""},{"$f":"IF(AND(LEFT(K32,1)=\"D\",LEFT(K33,1)=\"D\"),\"0\",IF(OR(K32=\"DNR\",K33=\"DNR\"),IF(K32=\"DNR\",1,-1)*'T Q 4'!A8,IF(OR(ISBLANK(K32),ISBLANK(K33)),\"\",IF(OR(O32=\"-\",O33=\"-\"),IF(O32=\"-\",1,-1)*'T Q 4'!A8,IF(ABS(O32-O33)>'T Q 4'!A9,IF(O32-O33>'T Q 4'!A9,1,-1)*'T Q 4'!A9,ROUND(O32-O33,3))))))","v":""},{"$f":"IF(B33=\"BYE\",\"(BYE)\",IF(ISERROR(J33+R33)=TRUE,\"\",IF(J33+R33=0,\"\",\"by \"&ABS(J33+R33)&\" seconds\")))","v":"(BYE)"},"",{"$f":"IF(B33=\"BYE\", B33, IF(ISERROR(J33+R33)=TRUE,\"\",IF(J33+R33>0,B32,B33)))","v":"BYE"},{"$f":"IF(ISERROR(VLOOKUP(U33,'T Q 4'!U12:V111,2,FALSE))=TRUE,\"\",VLOOKUP(U33,'T Q 4'!U12:V111,2,FALSE))","v":""},{"$f":"IF(ISERROR(VLOOKUP(U33,'T Q 4'!AL12:AO111,4,FALSE))=TRUE,\"\",VLOOKUP(U33,'T Q 4'!AL12:AO111,4,FALSE))","v":""}]
[14,{"$f":"IF(A3<A34,\"BYE\",IF(ISERROR(VLOOKUP(A34,'T Q 4'!AO12:'T Q 4'!AQ111,3,FALSE))=TRUE,\"BYE\",VLOOKUP(A34,'T Q 4'!AO12:'T Q 4'!AQ111,3,FALSE)))","v":"BYE"},null,null,null,null,"","",{"$f":"IF(AND(LEFT(C34,1)=\"D\",LEFT(C35,1)=\"D\"),\"\",IF(OR(C34=\"DNR\",C35=\"DNR\"),IF(C34=\"DNR\",B35,B34),IF(OR(ISBLANK(C34),ISBLANK(C35)),\"\",IF(G34=G35,\"TIE\",IF(G34>G35,B35,B34)))))","v":""},null,null,null,null,null,"","",{"$f":"IF(AND(LEFT(K34,1)=\"D\",LEFT(K35,1)=\"D\"),\"\",IF(OR(K34=\"DNR\",K35=\"DNR\"),IF(K34=\"DNR\",B35,B34),IF(OR(ISBLANK(K34),ISBLANK(K35)),\"\",IF(O34=O35,\"TIE\",IF(O34>O35,B35,B34)))))","v":""},null,{"$f":"IF(B35=\"BYE\", B34, IF(ISERROR(J35+R35)=TRUE,\"\",IF(J35+R35=0,\"TIE - HOLD RUNOFF\",IF(J35+R35>0,B35,B34))))","v":"BYE"},""]
[19,{"$f":"IF(A3<A35,\"BYE\",IF(ISERROR(VLOOKUP(A35,'T Q 4'!AO12:'T Q 4'!AQ111,3,FALSE))=TRUE,\"BYE\",VLOOKUP(A35,'T Q 4'!AO12:'T Q 4'!AQ111,3,FALSE)))","v":"BYE"},null,null,null,null,"","",{"$f":"IF(AND(LEFT(C34,1)=\"D\",LEFT(C35,1)=\"D\"),\"\",IF(OR(C34=\"DNR\",C35=\"DNR\"),\"by \"&ABS(J35)&\" seconds\",IF(OR(ISBLANK(C34),ISBLANK(C35),G34=G35),\"\",\"by \"&ABS(J35)&\" seconds\")))","v":""},{"$f":"IF(AND(LEFT(C34,1)=\"D\",LEFT(C35,1)=\"D\"),\"0\",IF(OR(C34=\"DNR\",C35=\"DNR\"),IF(C34=\"DNR\",1,-1)*'T Q 4'!A8,IF(OR(ISBLANK(C34),ISBLANK(C35)),\"\",IF(OR(G34=\"-\",G35=\"-\"),IF(G34=\"-\",1,-1)*'T Q 4'!A8,IF(ABS(G34-G35)>'T Q 4'!A9,IF(G34-G35>'T Q 4'!A9,1,-1)*'T Q 4'!A9,ROUND(G34-G35,3))))))","v":""},null,null,null,null,"","",{"$f":"IF(AND(LEFT(K34,1)=\"D\",LEFT(K35,1)=\"D\"),\"\",IF(OR(K34=\"DNR\",K35=\"DNR\"),\"by \"&ABS(R35)&\" seconds\",IF(OR(ISBLANK(K34),ISBLANK(K35),O34=O35),\"\",\"by \"&ABS(R35)&\" seconds\")))","v":""},{"$f":"IF(AND(LEFT(K34,1)=\"D\",LEFT(K35,1)=\"D\"),\"0\",IF(OR(K34=\"DNR\",K35=\"DNR\"),IF(K34=\"DNR\",1,-1)*'T Q 4'!A8,IF(OR(ISBLANK(K34),ISBLANK(K35)),\"\",IF(OR(O34=\"-\",O35=\"-\"),IF(O34=\"-\",1,-1)*'T Q 4'!A8,IF(ABS(O34-O35)>'T Q 4'!A9,IF(O34-O35>'T Q 4'!A9,1,-1)*'T Q 4'!A9,ROUND(O34-O35,3))))))","v":""},{"$f":"IF(B35=\"BYE\",\"(BYE)\",IF(ISERROR(J35+R35)=TRUE,\"\",IF(J35+R35=0,\"\",\"by \"&ABS(J35+R35)&\" seconds\")))","v":"(BYE)"},"",{"$f":"IF(B35=\"BYE\", B35, IF(ISERROR(J35+R35)=TRUE,\"\",IF(J35+R35>0,B34,B35)))","v":"BYE"},{"$f":"IF(ISERROR(VLOOKUP(U35,'T Q 4'!U12:V111,2,FALSE))=TRUE,\"\",VLOOKUP(U35,'T Q 4'!U12:V111,2,FALSE))","v":""},{"$f":"IF(ISERROR(VLOOKUP(U35,'T Q 4'!AL12:AO111,4,FALSE))=TRUE,\"\",VLOOKUP(U35,'T Q 4'!AL12:AO111,4,FALSE))","v":""}]
[6,{"$f":"IF(A3<A36,\"BYE\",IF(ISERROR(VLOOKUP(A36,'T Q 4'!AO12:'T Q 4'!AQ111,3,FALSE))=TRUE,\"BYE\",VLOOKUP(A36,'T Q 4'!AO12:'T Q 4'!AQ111,3,FALSE)))","v":""},null,null,null,null,"","",{"$f":"IF(AND(LEFT(C36,1)=\"D\",LEFT(C37,1)=\"D\"),\"\",IF(OR(C36=\"DNR\",C37=\"DNR\"),IF(C36=\"DNR\",B37,B36),IF(OR(ISBLANK(C36),ISBLANK(C37)),\"\",IF(G36=G37,\"TIE\",IF(G36>G37,B37,B36)))))","v":""},null,null,null,null,null,"","",{"$f":"IF(AND(LEFT(K36,1)=\"D\",LEFT(K37,1)=\"D\"),\"\",IF(OR(K36=\"DNR\",K37=\"DNR\"),IF(K36=\"DNR\",B37,B36),IF(OR(ISBLANK(K36),ISBLANK(K37)),\"\",IF(O36=O37,\"TIE\",IF(O36>O37,B37,B36)))))","v":""},null,{"$f":"IF(B37=\"BYE\", B36, IF(ISERROR(J37+R37)=TRUE,\"\",IF(J37+R37=0,\"TIE - HOLD RUNOFF\",IF(J37+R37>0,B37,B36))))","v":""},""]
[27,{"$f":"IF(A3<A37,\"BYE\",IF(ISERROR(VLOOKUP(A37,'T Q 4'!AO12:'T Q 4'!AQ111,3,FALSE))=TRUE,\"BYE\",VLOOKUP(A37,'T Q 4'!AO12:'T Q 4'!AQ111,3,FALSE)))","v":"BYE"},null,null,null,null,"","",{"$f":"IF(AND(LEFT(C36,1)=\"D\",LEFT(C37,1)=\"D\"),\"\",IF(OR(C36=\"DNR\",C37=\"DNR\"),\"by \"&ABS(J37)&\" seconds\",IF(OR(ISBLANK(C36),ISBLANK(C37),G36=G37),\"\",\"by \"&ABS(J37)&\" seconds\")))","v":""},{"$f":"IF(AND(LEFT(C36,1)=\"D\",LEFT(C37,1)=\"D\"),\"0\",IF(OR(C36=\"DNR\",C37=\"DNR\"),IF(C36=\"DNR\",1,-1)*'T Q 4'!A8,IF(OR(ISBLANK(C36),ISBLANK(C37)),\"\",IF(OR(G36=\"-\",G37=\"-\"),IF(G36=\"-\",1,-1)*'T Q 4'!A8,IF(ABS(G36-G37)>'T Q 4'!A9,IF(G36-G37>'T Q 4'!A9,1,-1)*'T Q 4'!A9,ROUND(G36-G37,3))))))","v":""},null,null,null,null,"","",{"$f":"IF(AND(LEFT(K36,1)=\"D\",LEFT(K37,1)=\"D\"),\"\",IF(OR(K36=\"DNR\",K37=\"DNR\"),\"by \"&ABS(R37)&\" seconds\",IF(OR(ISBLANK(K36),ISBLANK(K37),O36=O37),\"\",\"by \"&ABS(R37)&\" seconds\")))","v":""},{"$f":"IF(AND(LEFT(K36,1)=\"D\",LEFT(K37,1)=\"D\"),\"0\",IF(OR(K36=\"DNR\",K37=\"DNR\"),IF(K36=\"DNR\",1,-1)*'T Q 4'!A8,IF(OR(ISBLANK(K36),ISBLANK(K37)),\"\",IF(OR(O36=\"-\",O37=\"-\"),IF(O36=\"-\",1,-1)*'T Q 4'!A8,IF(ABS(O36-O37)>'T Q 4'!A9,IF(O36-O37>'T Q 4'!A9,1,-1)*'T Q 4'!A9,ROUND(O36-O37,3))))))","v":""},{"$f":"IF(B37=\"BYE\",\"(BYE)\",IF(ISERROR(J37+R37)=TRUE,\"\",IF(J37+R37=0,\"\",\"by \"&ABS(J37+R37)&\" seconds\")))","v":"(BYE)"},"",{"$f":"IF(B37=\"BYE\", B37, IF(ISERROR(J37+R37)=TRUE,\"\",IF(J37+R37>0,B36,B37)))","v":"BYE"},{"$f":"IF(ISERROR(VLOOKUP(U37,'T Q 4'!U12:V111,2,FALSE))=TRUE,\"\",VLOOKUP(U37,'T Q 4'!U12:V111,2,FALSE))","v":""},{"$f":"IF(ISERROR(VLOOKUP(U37,'T Q 4'!AL12:AO111,4,FALSE))=TRUE,\"\",VLOOKUP(U37,'T Q 4'!AL12:AO111,4,FALSE))","v":""}]
[11,{"$f":"IF(A3<A38,\"BYE\",IF(ISERROR(VLOOKUP(A38,'T Q 4'!AO12:'T Q 4'!AQ111,3,FALSE))=TRUE,\"BYE\",VLOOKUP(A38,'T Q 4'!AO12:'T Q 4'!AQ111,3,FALSE)))","v":"BYE"},null,null,null,null,"","",{"$f":"IF(AND(LEFT(C38,1)=\"D\",LEFT(C39,1)=\"D\"),\"\",IF(OR(C38=\"DNR\",C39=\"DNR\"),IF(C38=\"DNR\",B39,B38),IF(OR(ISBLANK(C38),ISBLANK(C39)),\"\",IF(G38=G39,\"TIE\",IF(G38>G39,B39,B38)))))","v":""},null,null,null,null,null,"","",{"$f":"IF(AND(LEFT(K38,1)=\"D\",LEFT(K39,1)=\"D\"),\"\",IF(OR(K38=\"DNR\",K39=\"DNR\"),IF(K38=\"DNR\",B39,B38),IF(OR(ISBLANK(K38),ISBLANK(K39)),\"\",IF(O38=O39,\"TIE\",IF(O38>O39,B39,B38)))))","v":""},null,{"$f":"IF(B39=\"BYE\", B38, IF(ISERROR(J39+R39)=TRUE,\"\",IF(J39+R39=0,\"TIE - HOLD RUNOFF\",IF(J39+R39>0,B39,B38))))","v":"BYE"},""]
[22,{"$f":"IF(A3<A39,\"BYE\",IF(ISERROR(VLOOKUP(A39,'T Q 4'!AO12:'T Q 4'!AQ111,3,FALSE))=TRUE,\"BYE\",VLOOKUP(A39,'T Q 4'!AO12:'T Q 4'!AQ111,3,FALSE)))","v":"BYE"},null,null,null,null,"","",{"$f":"IF(AND(LEFT(C38,1)=\"D\",LEFT(C39,1)=\"D\"),\"\",IF(OR(C38=\"DNR\",C39=\"DNR\"),\"by \"&ABS(J39)&\" seconds\",IF(OR(ISBLANK(C38),ISBLANK(C39),G38=G39),\"\",\"by \"&ABS(J39)&\" seconds\")))","v":""},{"$f":"IF(AND(LEFT(C38,1)=\"D\",LEFT(C39,1)=\"D\"),\"0\",IF(OR(C38=\"DNR\",C39=\"DNR\"),IF(C38=\"DNR\",1,-1)*'T Q 4'!A8,IF(OR(ISBLANK(C38),ISBLANK(C39)),\"\",IF(OR(G38=\"-\",G39=\"-\"),IF(G38=\"-\",1,-1)*'T Q 4'!A8,IF(ABS(G38-G39)>'T Q 4'!A9,IF(G38-G39>'T Q 4'!A9,1,-1)*'T Q 4'!A9,ROUND(G38-G39,3))))))","v":""},null,null,null,null,"","",{"$f":"IF(AND(LEFT(K38,1)=\"D\",LEFT(K39,1)=\"D\"),\"\",IF(OR(K38=\"DNR\",K39=\"DNR\"),\"by \"&ABS(R39)&\" seconds\",IF(OR(ISBLANK(K38),ISBLANK(K39),O38=O39),\"\",\"by \"&ABS(R39)&\" seconds\")))","v":""},{"$f":"IF(AND(LEFT(K38,1)=\"D\",LEFT(K39,1)=\"D\"),\"0\",IF(OR(K38=\"DNR\",K39=\"DNR\"),IF(K38=\"DNR\",1,-1)*'T Q 4'!A8,IF(OR(ISBLANK(K38),ISBLANK(K39)),\"\",IF(OR(O38=\"-\",O39=\"-\"),IF(O38=\"-\",1,-1)*'T Q 4'!A8,IF(ABS(O38-O39)>'T Q 4'!A9,IF(O38-O39>'T Q 4'!A9,1,-1)*'T Q 4'!A9,ROUND(O38-O39,3))))))","v":""},{"$f":"IF(B39=\"BYE\",\"(BYE)\",IF(ISERROR(J39+R39)=TRUE,\"\",IF(J39+R39=0,\"\",\"by \"&ABS(J39+R39)&\" seconds\")))","v":"(BYE)"},"",{"$f":"IF(B39=\"BYE\", B39, IF(ISERROR(J39+R39)=TRUE,\"\",IF(J39+R39>0,B38,B39)))","v":"BYE"},{"$f":"IF(ISERROR(VLOOKUP(U39,'T Q 4'!U12:V111,2,FALSE))=TRUE,\"\",VLOOKUP(U39,'T Q 4'!U12:V111,2,FALSE))","v":""},{"$f":"IF(ISERROR(VLOOKUP(U39,'T Q 4'!AL12:AO111,4,FALSE))=TRUE,\"\",VLOOKUP(U39,'T Q 4'!AL12:AO111,4,FALSE))","v":""}]
[]
[]
[null,"Round of 16"]
[{"$f":"IF(S8=B8, A8, A9)","v":1},{"$f":"IF(A3>16,IF(S8=\"TIE - HOLD RUNOFF\",\"\",S8),IF(A3<16,\"BYE\",IF(ISERROR(VLOOKUP(A43,'T Q 1-2'!AO12:'T Q 1-2'!AQ111,3,FALSE))=TRUE,\"BYE\",VLOOKUP(A43,'T Q 1-2'!AO12:'T Q 1-2'!AQ111,3,FALSE))))","v":"BYE"},null,null,null,null,{"$f":"IF(LEFT(C43:C58,1)=\"D\",\"-\",IF(D43:D58>'T Q 1-2'!A6,\"-\",IF(C43:C58>0,C43:C58+D43:D58*'T Q 1-2'!A5+F43:F58*'T Q 1-2'!A7,\"\")))","v":""},{"$f":"IF(G43:G58=\"\",\"\",IF(G43:G58=\"-\",\"\",RANK(G43:G58,G43:G58,1)))","v":""},{"$f":"IF(AND(LEFT(C43,1)=\"D\",LEFT(C44,1)=\"D\"),\"\",IF(OR(C43=\"DNR\",C44=\"DNR\"),IF(C43=\"DNR\",B44,B43),IF(OR(ISBLANK(C43),ISBLANK(C44)),\"\",IF(G43=G44,\"TIE\",IF(G43>G44,B44,B43)))))","v":""},null,null,null,null,null,null,null,{"$f":"IF(AND(LEFT(K43,1)=\"D\",LEFT(K44,1)=\"D\"),\"\",IF(OR(K43=\"DNR\",K44=\"DNR\"),IF(K43=\"DNR\",B44,B43),IF(OR(ISBLANK(K43),ISBLANK(K44)),\"\",IF(O43=O44,\"TIE\",IF(O43>O44,B44,B43)))))","v":""},null,{"$f":"IF(B44=\"BYE\", B43, IF(ISERROR(J44+R44)=TRUE,\"\",IF(J44+R44=0,\"TIE - HOLD RUNOFF\",IF(J44+R44>0,B44,B43))))","v":"BYE"}]
[{"$f":"IF(S10=B10, A10, A11)","v":16},{"$f":"IF(A3>16,IF(S10=\"TIE - HOLD RUNOFF\",\"\",S10),IF(A3<16,\"BYE\",IF(ISERROR(VLOOKUP(A44,'T Q 1-2'!AO12:'T Q 1-2'!AQ111,3,FALSE))=TRUE,\"BYE\",VLOOKUP(A44,'T Q 1-2'!AO12:'T Q 1-2'!AQ111,3,FALSE))))","v":"BYE"},null,null,null,null,"","",{"$f":"IF(AND(LEFT(C43,1)=\"D\",LEFT(C44,1)=\"D\"),\"\",IF(OR(C43=\"DNR\",C44=\"DNR\"),\"by \"&ABS(J44)&\" seconds\",IF(OR(ISBLANK(C43),ISBLANK(C44),G43=G44),\"\",\"by \"&ABS(J44)&\" seconds\")))","v":""},{"$f":"IF(AND(LEFT(C43,1)=\"D\",LEFT(C44,1)=\"D\"),\"0\",IF(OR(C43=\"DNR\",C44=\"DNR\"),IF(C43=\"DNR\",1,-1)*'T Q 1-2'!A8,IF(OR(ISBLANK(C43),ISBLANK(C44)),\"\",IF(OR(G43=\"-\",G44=\"-\"),IF(G43=\"-\",1,-1)*'T Q 1-2'!A8,IF(ABS(G43-G44)>'T Q 1-2'!A9,IF(G43-G44>'T Q 1-2'!A9,1,-1)*'T Q 1-2'!A9,ROUND(G43-G44,3))))))","v":""},null,null,null,null,null,null,{"$f":"IF(AND(LEFT(K43,1)=\"D\",LEFT(K44,1)=\"D\"),\"\",IF(OR(K43=\"DNR\",K44=\"DNR\"),\"by \"&ABS(R44)&\" seconds\",IF(OR(ISBLANK(K43),ISBLANK(K44),O43=O44),\"\",\"by \"&ABS(R44)&\" seconds\")))","v":""},{"$f":"IF(AND(LEFT(K43,1)=\"D\",LEFT(K44,1)=\"D\"),\"0\",IF(OR(K43=\"DNR\",K44=\"DNR\"),IF(K43=\"DNR\",1,-1)*'T Q 1-2'!A8,IF(OR(ISBLANK(K43),ISBLANK(K44)),\"\",IF(OR(O43=\"-\",O44=\"-\"),IF(O43=\"-\",1,-1)*'T Q 1-2'!A8,IF(ABS(O43-O44)>'T Q 1-2'!A9,IF(O43-O44>'T Q 1-2'!A9,1,-1)*'T Q 1-2'!A9,ROUND(O43-O44,3))))))","v":""},{"$f":"IF(B44=\"BYE\",\"(BYE)\",IF(ISERROR(J44+R44)=TRUE,\"\",IF(J44+R44=0,\"\",\"by \"&ABS(J44+R44)&\" seconds\")))","v":"(BYE)"},{"$f":"IF(W44:W58=\"\",\"\",IF(ISERROR(W44:W58)=TRUE,\"\",8+RANK(W44:W58,W44:W58,1)))","v":""},{"$f":"IF(B44=\"BYE\", B44, IF(ISERROR(J44+R44)=TRUE,\"\",IF(J44+R44>0,B43,B44)))","v":"BYE"},{"$f":"IF(ISERROR(VLOOKUP(U44,'T Q 1-2'!U12:V111,2,FALSE))=TRUE,\"\",VLOOKUP(U44,'T Q 1-2'!U12:V111,2,FALSE))","v":""},{"$f":"IF(ISERROR(VLOOKUP(U44,'T Q 1-2'!AL12:AO111,4,FALSE))=TRUE,\"\",VLOOKUP(U44,'T Q 1-2'!AL12:AO111,4,FALSE))","v":""}]
[{"$f":"IF(S12=B12, A12, A13)","v":8},{"$f":"IF(A3>16,IF(S12=\"TIE - HOLD RUNOFF\",\"\",S12),IF(A3<16,\"BYE\",IF(ISERROR(VLOOKUP(A45,'T Q 1-2'!AO12:'T Q 1-2'!AQ111,3,FALSE))=TRUE,\"BYE\",VLOOKUP(A45,'T Q 1-2'!AO12:'T Q 1-2'!AQ111,3,FALSE))))","v":"BYE"},null,null,null,null,"","",{"$f":"IF(AND(LEFT(C45,1)=\"D\",LEFT(C46,1)=\"D\"),\"\",IF(OR(C45=\"DNR\",C46=\"DNR\"),IF(C45=\"DNR\",B46,B45),IF(OR(ISBLANK(C45),ISBLANK(C46)),\"\",IF(G45=G46,\"TIE\",IF(G45>G46,B46,B45)))))","v":""},null,null,null,null,null,null,null,{"$f":"IF(AND(LEFT(K45,1)=\"D\",LEFT(K46,1)=\"D\"),\"\",IF(OR(K45=\"DNR\",K46=\"DNR\"),IF(K45=\"DNR\",B46,B45),IF(OR(ISBLANK(K45),ISBLANK(K46)),\"\",IF(O45=O46,\"TIE\",IF(O45>O46,B46,B45)))))","v":""},null,{"$f":"IF(B46=\"BYE\", B45, IF(ISERROR(J46+R46)=TRUE,\"\",IF(J46+R46=0,\"TIE - HOLD RUNOFF\",IF(J46+R46>0,B46,B45))))","v":"BYE"},""]
[{"$f":"IF(S14=B14, A14, A15)","v":9},{"$f":"IF(A3>16,IF(S14=\"TIE - HOLD RUNOFF\",\"\",S14),IF(A3<16,\"BYE\",IF(ISERROR(VLOOKUP(A46,'T Q 1-2'!AO12:'T Q 1-2'!AQ111,3,FALSE))=TRUE,\"BYE\",VLOOKUP(A46,'T Q 1-2'!AO12:'T Q 1-2'!AQ111,3,FALSE))))","v":"BYE"},null,null,null,null,"","",{"$f":"IF(AND(LEFT(C45,1)=\"D\",LEFT(C46,1)=\"D\"),\"\",IF(OR(C45=\"DNR\",C46=\"DNR\"),\"by \"&ABS(J46)&\" seconds\",IF(OR(ISBLANK(C45),ISBLANK(C46),G45=G46),\"\",\"by \"&ABS(J46)&\" seconds\")))","v":""},{"$f":"IF(AND(LEFT(C45,1)=\"D\",LEFT(C46,1)=\"D\"),\"0\",IF(OR(C45=\"DNR\",C46=\"DNR\"),IF(C45=\"DNR\",1,-1)*'T Q 1-2'!A8,IF(OR(ISBLANK(C45),ISBLANK(C46)),\"\",IF(OR(G45=\"-\",G46=\"-\"),IF(G45=\"-\",1,-1)*'T Q 1-2'!A8,IF(ABS(G45-G46)>'T Q 1-2'!A9,IF(G45-G46>'T Q 1-2'!A9,1,-1)*'T Q 1-2'!A9,ROUND(G45-G46,3))))))","v":""},null,null,null,null,null,null,{"$f":"IF(AND(LEFT(K45,1)=\"D\",LEFT(K46,1)=\"D\"),\"\",IF(OR(K45=\"DNR\",K46=\"DNR\"),\"by \"&ABS(R46)&\" seconds\",IF(OR(ISBLANK(K45),ISBLANK(K46),O45=O46),\"\",\"by \"&ABS(R46)&\" seconds\")))","v":""},{"$f":"IF(AND(LEFT(K45,1)=\"D\",LEFT(K46,1)=\"D\"),\"0\",IF(OR(K45=\"DNR\",K46=\"DNR\"),IF(K45=\"DNR\",1,-1)*'T Q 1-2'!A8,IF(OR(ISBLANK(K45),ISBLANK(K46)),\"\",IF(OR(O45=\"-\",O46=\"-\"),IF(O45=\"-\",1,-1)*'T Q 1-2'!A8,IF(ABS(O45-O46)>'T Q 1-2'!A9,IF(O45-O46>'T Q 1-2'!A9,1,-1)*'T Q 1-2'!A9,ROUND(O45-O46,3))))))","v":""},{"$f":"IF(B46=\"BYE\",\"(BYE)\",IF(ISERROR(J46+R46)=TRUE,\"\",IF(J46+R46=0,\"\",\"by \"&ABS(J46+R46)&\" seconds\")))","v":"(BYE)"},"",{"$f":"IF(B46=\"BYE\", B46, IF(ISERROR(J46+R46)=TRUE,\"\",IF(J46+R46>0,B45,B46)))","v":"BYE"},{"$f":"IF(ISERROR(VLOOKUP(U46,'T Q 1-2'!U12:V111,2,FALSE))=TRUE,\"\",VLOOKUP(U46,'T Q 1-2'!U12:V111,2,FALSE))","v":""},{"$f":"IF(ISERROR(VLOOKUP(U46,'T Q 1-2'!AL12:AO111,4,FALSE))=TRUE,\"\",VLOOKUP(U46,'T Q 1-2'!AL12:AO111,4,FALSE))","v":""}]
[{"$f":"IF(S16=B16, A16, A17)","v":4},{"$f":"IF(A3>16,IF(S16=\"TIE - HOLD RUNOFF\",\"\",S16),IF(A3<16,\"BYE\",IF(ISERROR(VLOOKUP(A47,'T Q 1-2'!AO12:'T Q 1-2'!AQ111,3,FALSE))=TRUE,\"BYE\",VLOOKUP(A47,'T Q 1-2'!AO12:'T Q 1-2'!AQ111,3,FALSE))))","v":"BYE"},null,null,null,null,"","",{"$f":"IF(AND(LEFT(C47,1)=\"D\",LEFT(C48,1)=\"D\"),\"\",IF(OR(C47=\"DNR\",C48=\"DNR\"),IF(C47=\"DNR\",B48,B47),IF(OR(ISBLANK(C47),ISBLANK(C48)),\"\",IF(G47=G48,\"TIE\",IF(G47>G48,B48,B47)))))","v":""},null,null,null,null,null,null,null,{"$f":"IF(AND(LEFT(K47,1)=\"D\",LEFT(K48,1)=\"D\"),\"\",IF(OR(K47=\"DNR\",K48=\"DNR\"),IF(K47=\"DNR\",B48,B47),IF(OR(ISBLANK(K47),ISBLANK(K48)),\"\",IF(O47=O48,\"TIE\",IF(O47>O48,B48,B47)))))","v":""},null,{"$f":"IF(B48=\"BYE\", B47, IF(ISERROR(J48+R48)=TRUE,\"\",IF(J48+R48=0,\"TIE - HOLD RUNOFF\",IF(J48+R48>0,B48,B47))))","v":"BYE"},""]
[{"$f":"IF(S18=B18, A18, A19)","v":13},{"$f":"IF(A3>16,IF(S18=\"TIE - HOLD RUNOFF\",\"\",S18),IF(A3<16,\"BYE\",IF(ISERROR(VLOOKUP(A48,'T Q 1-2'!AO12:'T Q 1-2'!AQ111,3,FALSE))=TRUE,\"BYE\",VLOOKUP(A48,'T Q 1-2'!AO12:'T Q 1-2'!AQ111,3,FALSE))))","v":"BYE"},null,null,null,null,"","",{"$f":"IF(AND(LEFT(C47,1)=\"D\",LEFT(C48,1)=\"D\"),\"\",IF(OR(C47=\"DNR\",C48=\"DNR\"),\"by \"&ABS(J48)&\" seconds\",IF(OR(ISBLANK(C47),ISBLANK(C48),G47=G48),\"\",\"by \"&ABS(J48)&\" seconds\")))","v":""},{"$f":"IF(AND(LEFT(C47,1)=\"D\",LEFT(C48,1)=\"D\"),\"0\",IF(OR(C47=\"DNR\",C48=\"DNR\"),IF(C47=\"DNR\",1,-1)*'T Q 1-2'!A8,IF(OR(ISBLANK(C47),ISBLANK(C48)),\"\",IF(OR(G47=\"-\",G48=\"-\"),IF(G47=\"-\",1,-1)*'T Q 1-2'!A8,IF(ABS(G47-G48)>'T Q 1-2'!A9,IF(G47-G48>'T Q 1-2'!A9,1,-1)*'T Q 1-2'!A9,ROUND(G47-G48,3))))))","v":""},null,null,null,null,null,null,{"$f":"IF(AND(LEFT(K47,1)=\"D\",LEFT(K48,1)=\"D\"),\"\",IF(OR(K47=\"DNR\",K48=\"DNR\"),\"by \"&ABS(R48)&\" seconds\",IF(OR(ISBLANK(K47),ISBLANK(K48),O47=O48),\"\",\"by \"&ABS(R48)&\" seconds\")))","v":""},{"$f":"IF(AND(LEFT(K47,1)=\"D\",LEFT(K48,1)=\"D\"),\"0\",IF(OR(K47=\"DNR\",K48=\"DNR\"),IF(K47=\"DNR\",1,-1)*'T Q 1-2'!A8,IF(OR(ISBLANK(K47),ISBLANK(K48)),\"\",IF(OR(O47=\"-\",O48=\"-\"),IF(O47=\"-\",1,-1)*'T Q 1-2'!A8,IF(ABS(O47-O48)>'T Q 1-2'!A9,IF(O47-O48>'T Q 1-2'!A9,1,-1)*'T Q 1-2'!A9,ROUND(O47-O48,3))))))","v":""},{"$f":"IF(B48=\"BYE\",\"(BYE)\",IF(ISERROR(J48+R48)=TRUE,\"\",IF(J48+R48=0,\"\",\"by \"&ABS(J48+R48)&\" seconds\")))","v":"(BYE)"},"",{"$f":"IF(B48=\"BYE\", B48, IF(ISERROR(J48+R48)=TRUE,\"\",IF(J48+R48>0,B47,B48)))","v":"BYE"},{"$f":"IF(ISERROR(VLOOKUP(U48,'T Q 1-2'!U12:V111,2,FALSE))=TRUE,\"\",VLOOKUP(U48,'T Q 1-2'!U12:V111,2,FALSE))","v":""},{"$f":"IF(ISERROR(VLOOKUP(U48,'T Q 1-2'!AL12:AO111,4,FALSE))=TRUE,\"\",VLOOKUP(U48,'T Q 1-2'!AL12:AO111,4,FALSE))","v":""}]
[{"$f":"IF(S20=B20, A20, A21)","v":5},{"$f":"IF(A3>16,IF(S20=\"TIE - HOLD RUNOFF\",\"\",S20),IF(A3<16,\"BYE\",IF(ISERROR(VLOOKUP(A49,'T Q 1-2'!AO12:'T Q 1-2'!AQ111,3,FALSE))=TRUE,\"BYE\",VLOOKUP(A49,'T Q 1-2'!AO12:'T Q 1-2'!AQ111,3,FALSE))))","v":"BYE"},null,null,null,null,"","",{"$f":"IF(AND(LEFT(C49,1)=\"D\",LEFT(C50,1)=\"D\"),\"\",IF(OR(C49=\"DNR\",C50=\"DNR\"),IF(C49=\"DNR\",B50,B49),IF(OR(ISBLANK(C49),ISBLANK(C50)),\"\",IF(G49=G50,\"TIE\",IF(G49>G50,B50,B49)))))","v":""},null,null,null,null,null,null,null,{"$f":"IF(AND(LEFT(K49,1)=\"D\",LEFT(K50,1)=\"D\"),\"\",IF(OR(K49=\"DNR\",K50=\"DNR\"),IF(K49=\"DNR\",B50,B49),IF(OR(ISBLANK(K49),ISBLANK(K50)),\"\",IF(O49=O50,\"TIE\",IF(O49>O50,B50,B49)))))","v":""},null,{"$f":"IF(B50=\"BYE\", B49, IF(ISERROR(J50+R50)=TRUE,\"\",IF(J50+R50=0,\"TIE - HOLD RUNOFF\",IF(J50+R50>0,B50,B49))))","v":"BYE"},""]
[{"$f":"IF(S22=B22, A22, A23)","v":12},{"$f":"IF(A3>16,IF(S22=\"TIE - HOLD RUNOFF\",\"\",S22),IF(A3<16,\"BYE\",IF(ISERROR(VLOOKUP(A50,'T Q 1-2'!AO12:'T Q 1-2'!AQ111,3,FALSE))=TRUE,\"BYE\",VLOOKUP(A50,'T Q 1-2'!AO12:'T Q 1-2'!AQ111,3,FALSE))))","v":"BYE"},null,null,null,null,"","",{"$f":"IF(AND(LEFT(C49,1)=\"D\",LEFT(C50,1)=\"D\"),\"\",IF(OR(C49=\"DNR\",C50=\"DNR\"),\"by \"&ABS(J50)&\" seconds\",IF(OR(ISBLANK(C49),ISBLANK(C50),G49=G50),\"\",\"by \"&ABS(J50)&\" seconds\")))","v":""},{"$f":"IF(AND(LEFT(C49,1)=\"D\",LEFT(C50,1)=\"D\"),\"0\",IF(OR(C49=\"DNR\",C50=\"DNR\"),IF(C49=\"DNR\",1,-1)*'T Q 1-2'!A8,IF(OR(ISBLANK(C49),ISBLANK(C50)),\"\",IF(OR(G49=\"-\",G50=\"-\"),IF(G49=\"-\",1,-1)*'T Q 1-2'!A8,IF(ABS(G49-G50)>'T Q 1-2'!A9,IF(G49-G50>'T Q 1-2'!A9,1,-1)*'T Q 1-2'!A9,ROUND(G49-G50,3))))))","v":""},null,null,null,null,null,null,{"$f":"IF(AND(LEFT(K49,1)=\"D\",LEFT(K50,1)=\"D\"),\"\",IF(OR(K49=\"DNR\",K50=\"DNR\"),\"by \"&ABS(R50)&\" seconds\",IF(OR(ISBLANK(K49),ISBLANK(K50),O49=O50),\"\",\"by \"&ABS(R50)&\" seconds\")))","v":""},{"$f":"IF(AND(LEFT(K49,1)=\"D\",LEFT(K50,1)=\"D\"),\"0\",IF(OR(K49=\"DNR\",K50=\"DNR\"),IF(K49=\"DNR\",1,-1)*'T Q 1-2'!A8,IF(OR(ISBLANK(K49),ISBLANK(K50)),\"\",IF(OR(O49=\"-\",O50=\"-\"),IF(O49=\"-\",1,-1)*'T Q 1-2'!A8,IF(ABS(O49-O50)>'T Q 1-2'!A9,IF(O49-O50>'T Q 1-2'!A9,1,-1)*'T Q 1-2'!A9,ROUND(O49-O50,3))))))","v":""},{"$f":"IF(B50=\"BYE\",\"(BYE)\",IF(ISERROR(J50+R50)=TRUE,\"\",IF(J50+R50=0,\"\",\"by \"&ABS(J50+R50)&\" seconds\")))","v":"(BYE)"},"",{"$f":"IF(B50=\"BYE\", B50, IF(ISERROR(J50+R50)=TRUE,\"\",IF(J50+R50>0,B49,B50)))","v":"BYE"},{"$f":"IF(ISERROR(VLOOKUP(U50,'T Q 1-2'!U12:V111,2,FALSE))=TRUE,\"\",VLOOKUP(U50,'T Q 1-2'!U12:V111,2,FALSE))","v":""},{"$f":"IF(ISERROR(VLOOKUP(U50,'T Q 1-2'!AL12:AO111,4,FALSE))=TRUE,\"\",VLOOKUP(U50,'T Q 1-2'!AL12:AO111,4,FALSE))","v":""}]
[{"$f":"IF(S24=B24, A24, A25)","v":2},{"$f":"IF(A3>16,IF(S24=\"TIE - HOLD RUNOFF\",\"\",S24),IF(A3<16,\"BYE\",IF(ISERROR(VLOOKUP(A51,'T Q 1-2'!AO12:'T Q 1-2'!AQ111,3,FALSE))=TRUE,\"BYE\",VLOOKUP(A51,'T Q 1-2'!AO12:'T Q 1-2'!AQ111,3,FALSE))))","v":"BYE"},null,null,null,null,"","",{"$f":"IF(AND(LEFT(C51,1)=\"D\",LEFT(C52,1)=\"D\"),\"\",IF(OR(C51=\"DNR\",C52=\"DNR\"),IF(C51=\"DNR\",B52,B51),IF(OR(ISBLANK(C51),ISBLANK(C52)),\"\",IF(G51=G52,\"TIE\",IF(G51>G52,B52,B51)))))","v":""},null,null,null,null,null,null,null,{"$f":"IF(AND(LEFT(K51,1)=\"D\",LEFT(K52,1)=\"D\"),\"\",IF(OR(K51=\"DNR\",K52=\"DNR\"),IF(K51=\"DNR\",B52,B51),IF(OR(ISBLANK(K51),ISBLANK(K52)),\"\",IF(O51=O52,\"TIE\",IF(O51>O52,B52,B51)))))","v":""},null,{"$f":"IF(B52=\"BYE\", B51, IF(ISERROR(J52+R52)=TRUE,\"\",IF(J52+R52=0,\"TIE - HOLD RUNOFF\",IF(J52+R52>0,B52,B51))))","v":"BYE"},""]
[{"$f":"IF(S26=B26, A26, A27)","v":15},{"$f":"IF(A3>16,IF(S26=\"TIE - HOLD RUNOFF\",\"\",S26),IF(A3<16,\"BYE\",IF(ISERROR(VLOOKUP(A52,'T Q 1-2'!AO12:'T Q 1-2'!AQ111,3,FALSE))=TRUE,\"BYE\",VLOOKUP(A52,'T Q 1-2'!AO12:'T Q 1-2'!AQ111,3,FALSE))))","v":"BYE"},null,null,null,null,"","",{"$f":"IF(AND(LEFT(C51,1)=\"D\",LEFT(C52,1)=\"D\"),\"\",IF(OR(C51=\"DNR\",C52=\"DNR\"),\"by \"&ABS(J52)&\" seconds\",IF(OR(ISBLANK(C51),ISBLANK(C52),G51=G52),\"\",\"by \"&ABS(J52)&\" seconds\")))","v":""},{"$f":"IF(AND(LEFT(C51,1)=\"D\",LEFT(C52,1)=\"D\"),\"0\",IF(OR(C51=\"DNR\",C52=\"DNR\"),IF(C51=\"DNR\",1,-1)*'T Q 1-2'!A8,IF(OR(ISBLANK(C51),ISBLANK(C52)),\"\",IF(OR(G51=\"-\",G52=\"-\"),IF(G51=\"-\",1,-1)*'T Q 1-2'!A8,IF(ABS(G51-G52)>'T Q 1-2'!A9,IF(G51-G52>'T Q 1-2'!A9,1,-1)*'T Q 1-2'!A9,ROUND(G51-G52,3))))))","v":""},null,null,null,null,null,null,{"$f":"IF(AND(LEFT(K51,1)=\"D\",LEFT(K52,1)=\"D\"),\"\",IF(OR(K51=\"DNR\",K52=\"DNR\"),\"by \"&ABS(R52)&\" seconds\",IF(OR(ISBLANK(K51),ISBLANK(K52),O51=O52),\"\",\"by \"&ABS(R52)&\" seconds\")))","v":""},{"$f":"IF(AND(LEFT(K51,1)=\"D\",LEFT(K52,1)=\"D\"),\"0\",IF(OR(K51=\"DNR\",K52=\"DNR\"),IF(K51=\"DNR\",1,-1)*'T Q 1-2'!A8,IF(OR(ISBLANK(K51),ISBLANK(K52)),\"\",IF(OR(O51=\"-\",O52=\"-\"),IF(O51=\"-\",1,-1)*'T Q 1-2'!A8,IF(ABS(O51-O52)>'T Q 1-2'!A9,IF(O51-O52>'T Q 1-2'!A9,1,-1)*'T Q 1-2'!A9,ROUND(O51-O52,3))))))","v":""},{"$f":"IF(B52=\"BYE\",\"(BYE)\",IF(ISERROR(J52+R52)=TRUE,\"\",IF(J52+R52=0,\"\",\"by \"&ABS(J52+R52)&\" seconds\")))","v":"(BYE)"},"",{"$f":"IF(B52=\"BYE\", B52, IF(ISERROR(J52+R52)=TRUE,\"\",IF(J52+R52>0,B51,B52)))","v":"BYE"},{"$f":"IF(ISERROR(VLOOKUP(U52,'T Q 1-2'!U12:V111,2,FALSE))=TRUE,\"\",VLOOKUP(U52,'T Q 1-2'!U12:V111,2,FALSE))","v":""},{"$f":"IF(ISERROR(VLOOKUP(U52,'T Q 1-2'!AL12:AO111,4,FALSE))=TRUE,\"\",VLOOKUP(U52,'T Q 1-2'!AL12:AO111,4,FALSE))","v":""}]
[{"$f":"IF(S28=B28, A28, A29)","v":7},{"$f":"IF(A3>16,IF(S28=\"TIE - HOLD RUNOFF\",\"\",S28),IF(A3<16,\"BYE\",IF(ISERROR(VLOOKUP(A53,'T Q 1-2'!AO12:'T Q 1-2'!AQ111,3,FALSE))=TRUE,\"BYE\",VLOOKUP(A53,'T Q 1-2'!AO12:'T Q 1-2'!AQ111,3,FALSE))))","v":"BYE"},null,null,null,null,"","",{"$f":"IF(AND(LEFT(C53,1)=\"D\",LEFT(C54,1)=\"D\"),\"\",IF(OR(C53=\"DNR\",C54=\"DNR\"),IF(C53=\"DNR\",B54,B53),IF(OR(ISBLANK(C53),ISBLANK(C54)),\"\",IF(G53=G54,\"TIE\",IF(G53>G54,B54,B53)))))","v":""},null,null,null,null,null,null,null,{"$f":"IF(AND(LEFT(K53,1)=\"D\",LEFT(K54,1)=\"D\"),\"\",IF(OR(K53=\"DNR\",K54=\"DNR\"),IF(K53=\"DNR\",B54,B53),IF(OR(ISBLANK(K53),ISBLANK(K54)),\"\",IF(O53=O54,\"TIE\",IF(O53>O54,B54,B53)))))","v":""},null,{"$f":"IF(B54=\"BYE\", B53, IF(ISERROR(J54+R54)=TRUE,\"\",IF(J54+R54=0,\"TIE - HOLD RUNOFF\",IF(J54+R54>0,B54,B53))))","v":"BYE"},""]
[{"$f":"IF(S30=B30, A30, A31)","v":10},{"$f":"IF(A3>16,IF(S30=\"TIE - HOLD RUNOFF\",\"\",S30),IF(A3<16,\"BYE\",IF(ISERROR(VLOOKUP(A54,'T Q 1-2'!AO12:'T Q 1-2'!AQ111,3,FALSE))=TRUE,\"BYE\",VLOOKUP(A54,'T Q 1-2'!AO12:'T Q 1-2'!AQ111,3,FALSE))))","v":"BYE"},null,null,null,null,"","",{"$f":"IF(AND(LEFT(C53,1)=\"D\",LEFT(C54,1)=\"D\"),\"\",IF(OR(C53=\"DNR\",C54=\"DNR\"),\"by \"&ABS(J54)&\" seconds\",IF(OR(ISBLANK(C53),ISBLANK(C54),G53=G54),\"\",\"by \"&ABS(J54)&\" seconds\")))","v":""},{"$f":"IF(AND(LEFT(C53,1)=\"D\",LEFT(C54,1)=\"D\"),\"0\",IF(OR(C53=\"DNR\",C54=\"DNR\"),IF(C53=\"DNR\",1,-1)*'T Q 1-2'!A8,IF(OR(ISBLANK(C53),ISBLANK(C54)),\"\",IF(OR(G53=\"-\",G54=\"-\"),IF(G53=\"-\",1,-1)*'T Q 1-2'!A8,IF(ABS(G53-G54)>'T Q 1-2'!A9,IF(G53-G54>'T Q 1-2'!A9,1,-1)*'T Q 1-2'!A9,ROUND(G53-G54,3))))))","v":""},null,null,null,null,null,null,{"$f":"IF(AND(LEFT(K53,1)=\"D\",LEFT(K54,1)=\"D\"),\"\",IF(OR(K53=\"DNR\",K54=\"DNR\"),\"by \"&ABS(R54)&\" seconds\",IF(OR(ISBLANK(K53),ISBLANK(K54),O53=O54),\"\",\"by \"&ABS(R54)&\" seconds\")))","v":""},{"$f":"IF(AND(LEFT(K53,1)=\"D\",LEFT(K54,1)=\"D\"),\"0\",IF(OR(K53=\"DNR\",K54=\"DNR\"),IF(K53=\"DNR\",1,-1)*'T Q 1-2'!A8,IF(OR(ISBLANK(K53),ISBLANK(K54)),\"\",IF(OR(O53=\"-\",O54=\"-\"),IF(O53=\"-\",1,-1)*'T Q 1-2'!A8,IF(ABS(O53-O54)>'T Q 1-2'!A9,IF(O53-O54>'T Q 1-2'!A9,1,-1)*'T Q 1-2'!A9,ROUND(O53-O54,3))))))","v":""},{"$f":"IF(B54=\"BYE\",\"(BYE)\",IF(ISERROR(J54+R54)=TRUE,\"\",IF(J54+R54=0,\"\",\"by \"&ABS(J54+R54)&\" seconds\")))","v":"(BYE)"},"",{"$f":"IF(B54=\"BYE\", B54, IF(ISERROR(J54+R54)=TRUE,\"\",IF(J54+R54>0,B53,B54)))","v":"BYE"},{"$f":"IF(ISERROR(VLOOKUP(U54,'T Q 1-2'!U12:V111,2,FALSE))=TRUE,\"\",VLOOKUP(U54,'T Q 1-2'!U12:V111,2,FALSE))","v":""},{"$f":"IF(ISERROR(VLOOKUP(U54,'T Q 1-2'!AL12:AO111,4,FALSE))=TRUE,\"\",VLOOKUP(U54,'T Q 1-2'!AL12:AO111,4,FALSE))","v":""}]
[{"$f":"IF(S32=B32, A32, A33)","v":3},{"$f":"IF(A3>16,IF(S32=\"TIE - HOLD RUNOFF\",\"\",S32),IF(A3<16,\"BYE\",IF(ISERROR(VLOOKUP(A55,'T Q 1-2'!AO12:'T Q 1-2'!AQ111,3,FALSE))=TRUE,\"BYE\",VLOOKUP(A55,'T Q 1-2'!AO12:'T Q 1-2'!AQ111,3,FALSE))))","v":"BYE"},null,null,null,null,"","",{"$f":"IF(AND(LEFT(C55,1)=\"D\",LEFT(C56,1)=\"D\"),\"\",IF(OR(C55=\"DNR\",C56=\"DNR\"),IF(C55=\"DNR\",B56,B55),IF(OR(ISBLANK(C55),ISBLANK(C56)),\"\",IF(G55=G56,\"TIE\",IF(G55>G56,B56,B55)))))","v":""},null,null,null,null,null,null,null,{"$f":"IF(AND(LEFT(K55,1)=\"D\",LEFT(K56,1)=\"D\"),\"\",IF(OR(K55=\"DNR\",K56=\"DNR\"),IF(K55=\"DNR\",B56,B55),IF(OR(ISBLANK(K55),ISBLANK(K56)),\"\",IF(O55=O56,\"TIE\",IF(O55>O56,B56,B55)))))","v":""},null,{"$f":"IF(B56=\"BYE\", B55, IF(ISERROR(J56+R56)=TRUE,\"\",IF(J56+R56=0,\"TIE - HOLD RUNOFF\",IF(J56+R56>0,B56,B55))))","v":"BYE"},""]
[{"$f":"IF(S34=B34, A34, A35)","v":14},{"$f":"IF(A3>16,IF(S34=\"TIE - HOLD RUNOFF\",\"\",S34),IF(A3<16,\"BYE\",IF(ISERROR(VLOOKUP(A56,'T Q 1-2'!AO12:'T Q 1-2'!AQ111,3,FALSE))=TRUE,\"BYE\",VLOOKUP(A56,'T Q 1-2'!AO12:'T Q 1-2'!AQ111,3,FALSE))))","v":"BYE"},null,null,null,null,"","",{"$f":"IF(AND(LEFT(C55,1)=\"D\",LEFT(C56,1)=\"D\"),\"\",IF(OR(C55=\"DNR\",C56=\"DNR\"),\"by \"&ABS(J56)&\" seconds\",IF(OR(ISBLANK(C55),ISBLANK(C56),G55=G56),\"\",\"by \"&ABS(J56)&\" seconds\")))","v":""},{"$f":"IF(AND(LEFT(C55,1)=\"D\",LEFT(C56,1)=\"D\"),\"0\",IF(OR(C55=\"DNR\",C56=\"DNR\"),IF(C55=\"DNR\",1,-1)*'T Q 1-2'!A8,IF(OR(ISBLANK(C55),ISBLANK(C56)),\"\",IF(OR(G55=\"-\",G56=\"-\"),IF(G55=\"-\",1,-1)*'T Q 1-2'!A8,IF(ABS(G55-G56)>'T Q 1-2'!A9,IF(G55-G56>'T Q 1-2'!A9,1,-1)*'T Q 1-2'!A9,ROUND(G55-G56,3))))))","v":""},null,null,null,null,null,null,{"$f":"IF(AND(LEFT(K55,1)=\"D\",LEFT(K56,1)=\"D\"),\"\",IF(OR(K55=\"DNR\",K56=\"DNR\"),\"by \"&ABS(R56)&\" seconds\",IF(OR(ISBLANK(K55),ISBLANK(K56),O55=O56),\"\",\"by \"&ABS(R56)&\" seconds\")))","v":""},{"$f":"IF(AND(LEFT(K55,1)=\"D\",LEFT(K56,1)=\"D\"),\"0\",IF(OR(K55=\"DNR\",K56=\"DNR\"),IF(K55=\"DNR\",1,-1)*'T Q 1-2'!A8,IF(OR(ISBLANK(K55),ISBLANK(K56)),\"\",IF(OR(O55=\"-\",O56=\"-\"),IF(O55=\"-\",1,-1)*'T Q 1-2'!A8,IF(ABS(O55-O56)>'T Q 1-2'!A9,IF(O55-O56>'T Q 1-2'!A9,1,-1)*'T Q 1-2'!A9,ROUND(O55-O56,3))))))","v":""},{"$f":"IF(B56=\"BYE\",\"(BYE)\",IF(ISERROR(J56+R56)=TRUE,\"\",IF(J56+R56=0,\"\",\"by \"&ABS(J56+R56)&\" seconds\")))","v":"(BYE)"},"",{"$f":"IF(B56=\"BYE\", B56, IF(ISERROR(J56+R56)=TRUE,\"\",IF(J56+R56>0,B55,B56)))","v":"BYE"},{"$f":"IF(ISERROR(VLOOKUP(U56,'T Q 1-2'!U12:V111,2,FALSE))=TRUE,\"\",VLOOKUP(U56,'T Q 1-2'!U12:V111,2,FALSE))","v":""},{"$f":"IF(ISERROR(VLOOKUP(U56,'T Q 1-2'!AL12:AO111,4,FALSE))=TRUE,\"\",VLOOKUP(U56,'T Q 1-2'!AL12:AO111,4,FALSE))","v":""}]
[{"$f":"IF(S36=B36, A36, A37)","v":6},{"$f":"IF(A3>16,IF(S36=\"TIE - HOLD RUNOFF\",\"\",S36),IF(A3<16,\"BYE\",IF(ISERROR(VLOOKUP(A57,'T Q 1-2'!AO12:'T Q 1-2'!AQ111,3,FALSE))=TRUE,\"BYE\",VLOOKUP(A57,'T Q 1-2'!AO12:'T Q 1-2'!AQ111,3,FALSE))))","v":"BYE"},null,null,null,null,"","",{"$f":"IF(AND(LEFT(C57,1)=\"D\",LEFT(C58,1)=\"D\"),\"\",IF(OR(C57=\"DNR\",C58=\"DNR\"),IF(C57=\"DNR\",B58,B57),IF(OR(ISBLANK(C57),ISBLANK(C58)),\"\",IF(G57=G58,\"TIE\",IF(G57>G58,B58,B57)))))","v":""},null,null,null,null,null,null,null,{"$f":"IF(AND(LEFT(K57,1)=\"D\",LEFT(K58,1)=\"D\"),\"\",IF(OR(K57=\"DNR\",K58=\"DNR\"),IF(K57=\"DNR\",B58,B57),IF(OR(ISBLANK(K57),ISBLANK(K58)),\"\",IF(O57=O58,\"TIE\",IF(O57>O58,B58,B57)))))","v":""},null,{"$f":"IF(B58=\"BYE\", B57, IF(ISERROR(J58+R58)=TRUE,\"\",IF(J58+R58=0,\"TIE - HOLD RUNOFF\",IF(J58+R58>0,B58,B57))))","v":"BYE"},""]
[{"$f":"IF(S38=B38, A38, A39)","v":11},{"$f":"IF(A3>16,IF(S38=\"TIE - HOLD RUNOFF\",\"\",S38),IF(A3<16,\"BYE\",IF(ISERROR(VLOOKUP(A58,'T Q 1-2'!AO12:'T Q 1-2'!AQ111,3,FALSE))=TRUE,\"BYE\",VLOOKUP(A58,'T Q 1-2'!AO12:'T Q 1-2'!AQ111,3,FALSE))))","v":"BYE"},null,null,null,null,"","",{"$f":"IF(AND(LEFT(C57,1)=\"D\",LEFT(C58,1)=\"D\"),\"\",IF(OR(C57=\"DNR\",C58=\"DNR\"),\"by \"&ABS(J58)&\" seconds\",IF(OR(ISBLANK(C57),ISBLANK(C58),G57=G58),\"\",\"by \"&ABS(J58)&\" seconds\")))","v":""},{"$f":"IF(AND(LEFT(C57,1)=\"D\",LEFT(C58,1)=\"D\"),\"0\",IF(OR(C57=\"DNR\",C58=\"DNR\"),IF(C57=\"DNR\",1,-1)*'T Q 1-2'!A8,IF(OR(ISBLANK(C57),ISBLANK(C58)),\"\",IF(OR(G57=\"-\",G58=\"-\"),IF(G57=\"-\",1,-1)*'T Q 1-2'!A8,IF(ABS(G57-G58)>'T Q 1-2'!A9,IF(G57-G58>'T Q 1-2'!A9,1,-1)*'T Q 1-2'!A9,ROUND(G57-G58,3))))))","v":""},null,null,null,null,null,null,{"$f":"IF(AND(LEFT(K57,1)=\"D\",LEFT(K58,1)=\"D\"),\"\",IF(OR(K57=\"DNR\",K58=\"DNR\"),\"by \"&ABS(R58)&\" seconds\",IF(OR(ISBLANK(K57),ISBLANK(K58),O57=O58),\"\",\"by \"&ABS(R58)&\" seconds\")))","v":""},{"$f":"IF(AND(LEFT(K57,1)=\"D\",LEFT(K58,1)=\"D\"),\"0\",IF(OR(K57=\"DNR\",K58=\"DNR\"),IF(K57=\"DNR\",1,-1)*'T Q 1-2'!A8,IF(OR(ISBLANK(K57),ISBLANK(K58)),\"\",IF(OR(O57=\"-\",O58=\"-\"),IF(O57=\"-\",1,-1)*'T Q 1-2'!A8,IF(ABS(O57-O58)>'T Q 1-2'!A9,IF(O57-O58>'T Q 1-2'!A9,1,-1)*'T Q 1-2'!A9,ROUND(O57-O58,3))))))","v":""},{"$f":"IF(B58=\"BYE\",\"(BYE)\",IF(ISERROR(J58+R58)=TRUE,\"\",IF(J58+R58=0,\"\",\"by \"&ABS(J58+R58)&\" seconds\")))","v":"(BYE)"},"",{"$f":"IF(B58=\"BYE\", B58, IF(ISERROR(J58+R58)=TRUE,\"\",IF(J58+R58>0,B57,B58)))","v":"BYE"},{"$f":"IF(ISERROR(VLOOKUP(U58,'T Q 1-2'!U12:V111,2,FALSE))=TRUE,\"\",VLOOKUP(U58,'T Q 1-2'!U12:V111,2,FALSE))","v":""},{"$f":"IF(ISERROR(VLOOKUP(U58,'T Q 1-2'!AL12:AO111,4,FALSE))=TRUE,\"\",VLOOKUP(U58,'T Q 1-2'!AL12:AO111,4,FALSE))","v":""}]
[]
[]
[null,"Round of 8"]
[{"$f":"IF(S43=B43, A43, A44)","v":1},{"$f":"IF(A3>8,IF(S43=\"TIE - HOLD RUNOFF\",\"\",S43),IF(A3<8,\"BYE\",IF(ISERROR(VLOOKUP(A62,'T Q 1-2'!AO12:'T Q 1-2'!AQ111,3,FALSE))=TRUE,\"BYE\",VLOOKUP(A62,'T Q 1-2'!AO12:'T Q 1-2'!AQ111,3,FALSE))))","v":"Voves  Jindřich  [CZE] "},null,null,null,null,{"$f":"IF(LEFT(C62:C69,1)=\"D\",\"-\",IF(D62:D69>'T Q 1-2'!A6,\"-\",IF(C62:C69>0,C62:C69+D62:D69*'T Q 1-2'!A5+F62:F69*'T Q 1-2'!A7,\"\")))","v":""},{"$f":"IF(G62:G69=\"\",\"\",IF(G62:G69=\"-\",\"\",RANK(G62:G69,G62:G69,1)))","v":""},{"$f":"IF(AND(LEFT(C62,1)=\"D\",LEFT(C63,1)=\"D\"),\"\",IF(OR(C62=\"DNR\",C63=\"DNR\"),IF(C62=\"DNR\",B63,B62),IF(OR(ISBLANK(C62),ISBLANK(C63)),\"\",IF(G62=G63,\"TIE\",IF(G62>G63,B63,B62)))))","v":""},null,null,null,null,null,{"$f":"IF(LEFT(K62:K69,1)=\"D\",\"-\",IF(L62:L69>'T Q 1-2'!A6,\"-\",IF(K62:K69>0,K62:K69+L62:L69*'T Q 1-2'!A5+N62:N69*'T Q 1-2'!A7,\"\")))","v":""},{"$f":"IF(O62:O69=\"\",\"\",IF(O62:O69=\"-\",\"\",RANK(O62:O69,O62:O69,1)))","v":""},{"$f":"IF(AND(LEFT(K62,1)=\"D\",LEFT(K63,1)=\"D\"),\"\",IF(OR(K62=\"DNR\",K63=\"DNR\"),IF(K62=\"DNR\",B63,B62),IF(OR(ISBLANK(K62),ISBLANK(K63)),\"\",IF(O62=O63,\"TIE\",IF(O62>O63,B63,B62)))))","v":""},null,{"$f":"IF(B63=\"BYE\", B62, IF(ISERROR(J63+R63)=TRUE,\"\",IF(J63+R63=0,\"TIE - HOLD RUNOFF\",IF(J63+R63>0,B63,B62))))","v":"Voves  Jindřich  [CZE] "}]
[{"$f":"IF(S45=B45, A45, A46)","v":8},{"$f":"IF(A3>8,IF(S45=\"TIE - HOLD RUNOFF\",\"\",S45),IF(A3<8,\"BYE\",IF(ISERROR(VLOOKUP(A63,'T Q 1-2'!AO12:'T Q 1-2'!AQ111,3,FALSE))=TRUE,\"BYE\",VLOOKUP(A63,'T Q 1-2'!AO12:'T Q 1-2'!AQ111,3,FALSE))))","v":"BYE"},null,null,null,null,"","",{"$f":"IF(AND(LEFT(C62,1)=\"D\",LEFT(C63,1)=\"D\"),\"\",IF(OR(C62=\"DNR\",C63=\"DNR\"),\"by \"&ABS(J63)&\" seconds\",IF(OR(ISBLANK(C62),ISBLANK(C63),G62=G63),\"\",\"by \"&ABS(J63)&\" seconds\")))","v":""},{"$f":"IF(AND(LEFT(C62,1)=\"D\",LEFT(C63,1)=\"D\"),\"0\",IF(OR(C62=\"DNR\",C63=\"DNR\"),IF(C62=\"DNR\",1,-1)*'T Q 1-2'!A8,IF(OR(ISBLANK(C62),ISBLANK(C63)),\"\",IF(OR(G62=\"-\",G63=\"-\"),IF(G62=\"-\",1,-1)*'T Q 1-2'!A8,IF(ABS(G62-G63)>'T Q 1-2'!A9,IF(G62-G63>'T Q 1-2'!A9,1,-1)*'T Q 1-2'!A9,ROUND(G62-G63,3))))))","v":""},null,null,null,null,"","",{"$f":"IF(AND(LEFT(K62,1)=\"D\",LEFT(K63,1)=\"D\"),\"\",IF(OR(K62=\"DNR\",K63=\"DNR\"),\"by \"&ABS(R63)&\" seconds\",IF(OR(ISBLANK(K62),ISBLANK(K63),O62=O63),\"\",\"by \"&ABS(R63)&\" seconds\")))","v":""},{"$f":"IF(AND(LEFT(K62,1)=\"D\",LEFT(K63,1)=\"D\"),\"0\",IF(OR(K62=\"DNR\",K63=\"DNR\"),IF(K62=\"DNR\",1,-1)*'T Q 1-2'!A8,IF(OR(ISBLANK(K62),ISBLANK(K63)),\"\",IF(OR(O62=\"-\",O63=\"-\"),IF(O62=\"-\",1,-1)*'T Q 1-2'!A8,IF(ABS(O62-O63)>'T Q 1-2'!A9,IF(O62-O63>'T Q 1-2'!A9,1,-1)*'T Q 1-2'!A9,ROUND(O62-O63,3))))))","v":""},{"$f":"IF(B63=\"BYE\",\"(BYE)\",IF(ISERROR(J63+R63)=TRUE,\"\",IF(J63+R63=0,\"\",\"by \"&ABS(J63+R63)&\" seconds\")))","v":"(BYE)"},{"$f":"IF(W63:W69=\"\",\"\",IF(ISERROR(W63:W69)=TRUE,\"\",4+RANK(W63:W69,W63:W69,1)))","v":""},{"$f":"IF(B63=\"BYE\", B63, IF(ISERROR(J63+R63)=TRUE,\"\",IF(J63+R63>0,B62,B63)))","v":"BYE"},{"$f":"IF(ISERROR(VLOOKUP(U63,'T Q 1-2'!U12:V111,2,FALSE))=TRUE,\"\",VLOOKUP(U63,'T Q 1-2'!U12:V111,2,FALSE))","v":""},{"$f":"IF(ISERROR(VLOOKUP(U63,'T Q 1-2'!AL12:AO111,4,FALSE))=TRUE,\"\",VLOOKUP(U63,'T Q 1-2'!AL12:AO111,4,FALSE))","v":""}]
[{"$f":"IF(S47=B47, A47, A48)","v":4},{"$f":"IF(A3>8,IF(S47=\"TIE - HOLD RUNOFF\",\"\",S47),IF(A3<8,\"BYE\",IF(ISERROR(VLOOKUP(A64,'T Q 1-2'!AO12:'T Q 1-2'!AQ111,3,FALSE))=TRUE,\"BYE\",VLOOKUP(A64,'T Q 1-2'!AO12:'T Q 1-2'!AQ111,3,FALSE))))","v":"BYE"},null,null,null,null,"","",{"$f":"IF(AND(LEFT(C64,1)=\"D\",LEFT(C65,1)=\"D\"),\"\",IF(OR(C64=\"DNR\",C65=\"DNR\"),IF(C64=\"DNR\",B65,B64),IF(OR(ISBLANK(C64),ISBLANK(C65)),\"\",IF(G64=G65,\"TIE\",IF(G64>G65,B65,B64)))))","v":""},null,null,null,null,null,"","",{"$f":"IF(AND(LEFT(K64,1)=\"D\",LEFT(K65,1)=\"D\"),\"\",IF(OR(K64=\"DNR\",K65=\"DNR\"),IF(K64=\"DNR\",B65,B64),IF(OR(ISBLANK(K64),ISBLANK(K65)),\"\",IF(O64=O65,\"TIE\",IF(O64>O65,B65,B64)))))","v":""},null,{"$f":"IF(B65=\"BYE\", B64, IF(ISERROR(J65+R65)=TRUE,\"\",IF(J65+R65=0,\"TIE - HOLD RUNOFF\",IF(J65+R65>0,B65,B64))))","v":"BYE"},""]
[{"$f":"IF(S49=B49, A49, A50)","v":5},{"$f":"IF(A3>8,IF(S49=\"TIE - HOLD RUNOFF\",\"\",S49),IF(A3<8,\"BYE\",IF(ISERROR(VLOOKUP(A65,'T Q 1-2'!AO12:'T Q 1-2'!AQ111,3,FALSE))=TRUE,\"BYE\",VLOOKUP(A65,'T Q 1-2'!AO12:'T Q 1-2'!AQ111,3,FALSE))))","v":"BYE"},null,null,null,null,"","",{"$f":"IF(AND(LEFT(C64,1)=\"D\",LEFT(C65,1)=\"D\"),\"\",IF(OR(C64=\"DNR\",C65=\"DNR\"),\"by \"&ABS(J65)&\" seconds\",IF(OR(ISBLANK(C64),ISBLANK(C65),G64=G65),\"\",\"by \"&ABS(J65)&\" seconds\")))","v":""},{"$f":"IF(AND(LEFT(C64,1)=\"D\",LEFT(C65,1)=\"D\"),\"0\",IF(OR(C64=\"DNR\",C65=\"DNR\"),IF(C64=\"DNR\",1,-1)*'T Q 1-2'!A8,IF(OR(ISBLANK(C64),ISBLANK(C65)),\"\",IF(OR(G64=\"-\",G65=\"-\"),IF(G64=\"-\",1,-1)*'T Q 1-2'!A8,IF(ABS(G64-G65)>'T Q 1-2'!A9,IF(G64-G65>'T Q 1-2'!A9,1,-1)*'T Q 1-2'!A9,ROUND(G64-G65,3))))))","v":""},null,null,null,null,"","",{"$f":"IF(AND(LEFT(K64,1)=\"D\",LEFT(K65,1)=\"D\"),\"\",IF(OR(K64=\"DNR\",K65=\"DNR\"),\"by \"&ABS(R65)&\" seconds\",IF(OR(ISBLANK(K64),ISBLANK(K65),O64=O65),\"\",\"by \"&ABS(R65)&\" seconds\")))","v":""},{"$f":"IF(AND(LEFT(K64,1)=\"D\",LEFT(K65,1)=\"D\"),\"0\",IF(OR(K64=\"DNR\",K65=\"DNR\"),IF(K64=\"DNR\",1,-1)*'T Q 1-2'!A8,IF(OR(ISBLANK(K64),ISBLANK(K65)),\"\",IF(OR(O64=\"-\",O65=\"-\"),IF(O64=\"-\",1,-1)*'T Q 1-2'!A8,IF(ABS(O64-O65)>'T Q 1-2'!A9,IF(O64-O65>'T Q 1-2'!A9,1,-1)*'T Q 1-2'!A9,ROUND(O64-O65,3))))))","v":""},{"$f":"IF(B65=\"BYE\",\"(BYE)\",IF(ISERROR(J65+R65)=TRUE,\"\",IF(J65+R65=0,\"\",\"by \"&ABS(J65+R65)&\" seconds\")))","v":"(BYE)"},"",{"$f":"IF(B65=\"BYE\", B65, IF(ISERROR(J65+R65)=TRUE,\"\",IF(J65+R65>0,B64,B65)))","v":"BYE"},{"$f":"IF(ISERROR(VLOOKUP(U65,'T Q 1-2'!U12:V111,2,FALSE))=TRUE,\"\",VLOOKUP(U65,'T Q 1-2'!U12:V111,2,FALSE))","v":""},{"$f":"IF(ISERROR(VLOOKUP(U65,'T Q 1-2'!AL12:AO111,4,FALSE))=TRUE,\"\",VLOOKUP(U65,'T Q 1-2'!AL12:AO111,4,FALSE))","v":""}]
[{"$f":"IF(S51=B51, A51, A52)","v":2},{"$f":"IF(A3>8,IF(S51=\"TIE - HOLD RUNOFF\",\"\",S51),IF(A3<8,\"BYE\",IF(ISERROR(VLOOKUP(A66,'T Q 1-2'!AO12:'T Q 1-2'!AQ111,3,FALSE))=TRUE,\"BYE\",VLOOKUP(A66,'T Q 1-2'!AO12:'T Q 1-2'!AQ111,3,FALSE))))","v":"Rezková  Anna  [CZE] "},null,null,null,null,"","",{"$f":"IF(AND(LEFT(C66,1)=\"D\",LEFT(C67,1)=\"D\"),\"\",IF(OR(C66=\"DNR\",C67=\"DNR\"),IF(C66=\"DNR\",B67,B66),IF(OR(ISBLANK(C66),ISBLANK(C67)),\"\",IF(G66=G67,\"TIE\",IF(G66>G67,B67,B66)))))","v":""},null,null,null,null,null,"","",{"$f":"IF(AND(LEFT(K66,1)=\"D\",LEFT(K67,1)=\"D\"),\"\",IF(OR(K66=\"DNR\",K67=\"DNR\"),IF(K66=\"DNR\",B67,B66),IF(OR(ISBLANK(K66),ISBLANK(K67)),\"\",IF(O66=O67,\"TIE\",IF(O66>O67,B67,B66)))))","v":""},null,{"$f":"IF(B67=\"BYE\", B66, IF(ISERROR(J67+R67)=TRUE,\"\",IF(J67+R67=0,\"TIE - HOLD RUNOFF\",IF(J67+R67>0,B67,B66))))","v":"Rezková  Anna  [CZE] "},""]
[{"$f":"IF(S53=B53, A53, A54)","v":7},{"$f":"IF(A3>8,IF(S53=\"TIE - HOLD RUNOFF\",\"\",S53),IF(A3<8,\"BYE\",IF(ISERROR(VLOOKUP(A67,'T Q 1-2'!AO12:'T Q 1-2'!AQ111,3,FALSE))=TRUE,\"BYE\",VLOOKUP(A67,'T Q 1-2'!AO12:'T Q 1-2'!AQ111,3,FALSE))))","v":"BYE"},null,null,null,null,"","",{"$f":"IF(AND(LEFT(C66,1)=\"D\",LEFT(C67,1)=\"D\"),\"\",IF(OR(C66=\"DNR\",C67=\"DNR\"),\"by \"&ABS(J67)&\" seconds\",IF(OR(ISBLANK(C66),ISBLANK(C67),G66=G67),\"\",\"by \"&ABS(J67)&\" seconds\")))","v":""},{"$f":"IF(AND(LEFT(C66,1)=\"D\",LEFT(C67,1)=\"D\"),\"0\",IF(OR(C66=\"DNR\",C67=\"DNR\"),IF(C66=\"DNR\",1,-1)*'T Q 1-2'!A8,IF(OR(ISBLANK(C66),ISBLANK(C67)),\"\",IF(OR(G66=\"-\",G67=\"-\"),IF(G66=\"-\",1,-1)*'T Q 1-2'!A8,IF(ABS(G66-G67)>'T Q 1-2'!A9,IF(G66-G67>'T Q 1-2'!A9,1,-1)*'T Q 1-2'!A9,ROUND(G66-G67,3))))))","v":""},null,null,null,null,"","",{"$f":"IF(AND(LEFT(K66,1)=\"D\",LEFT(K67,1)=\"D\"),\"\",IF(OR(K66=\"DNR\",K67=\"DNR\"),\"by \"&ABS(R67)&\" seconds\",IF(OR(ISBLANK(K66),ISBLANK(K67),O66=O67),\"\",\"by \"&ABS(R67)&\" seconds\")))","v":""},{"$f":"IF(AND(LEFT(K66,1)=\"D\",LEFT(K67,1)=\"D\"),\"0\",IF(OR(K66=\"DNR\",K67=\"DNR\"),IF(K66=\"DNR\",1,-1)*'T Q 1-2'!A8,IF(OR(ISBLANK(K66),ISBLANK(K67)),\"\",IF(OR(O66=\"-\",O67=\"-\"),IF(O66=\"-\",1,-1)*'T Q 1-2'!A8,IF(ABS(O66-O67)>'T Q 1-2'!A9,IF(O66-O67>'T Q 1-2'!A9,1,-1)*'T Q 1-2'!A9,ROUND(O66-O67,3))))))","v":""},{"$f":"IF(B67=\"BYE\",\"(BYE)\",IF(ISERROR(J67+R67)=TRUE,\"\",IF(J67+R67=0,\"\",\"by \"&ABS(J67+R67)&\" seconds\")))","v":"(BYE)"},"",{"$f":"IF(B67=\"BYE\", B67, IF(ISERROR(J67+R67)=TRUE,\"\",IF(J67+R67>0,B66,B67)))","v":"BYE"},{"$f":"IF(ISERROR(VLOOKUP(U67,'T Q 1-2'!U12:V111,2,FALSE))=TRUE,\"\",VLOOKUP(U67,'T Q 1-2'!U12:V111,2,FALSE))","v":""},{"$f":"IF(ISERROR(VLOOKUP(U67,'T Q 1-2'!AL12:AO111,4,FALSE))=TRUE,\"\",VLOOKUP(U67,'T Q 1-2'!AL12:AO111,4,FALSE))","v":""}]
[{"$f":"IF(S55=B55, A55, A56)","v":3},{"$f":"IF(A3>8,IF(S55=\"TIE - HOLD RUNOFF\",\"\",S55),IF(A3<8,\"BYE\",IF(ISERROR(VLOOKUP(A68,'T Q 1-2'!AO12:'T Q 1-2'!AQ111,3,FALSE))=TRUE,\"BYE\",VLOOKUP(A68,'T Q 1-2'!AO12:'T Q 1-2'!AQ111,3,FALSE))))","v":"BYE"},null,null,null,null,"","",{"$f":"IF(AND(LEFT(C68,1)=\"D\",LEFT(C69,1)=\"D\"),\"\",IF(OR(C68=\"DNR\",C69=\"DNR\"),IF(C68=\"DNR\",B69,B68),IF(OR(ISBLANK(C68),ISBLANK(C69)),\"\",IF(G68=G69,\"TIE\",IF(G68>G69,B69,B68)))))","v":""},null,null,null,null,null,"","",{"$f":"IF(AND(LEFT(K68,1)=\"D\",LEFT(K69,1)=\"D\"),\"\",IF(OR(K68=\"DNR\",K69=\"DNR\"),IF(K68=\"DNR\",B69,B68),IF(OR(ISBLANK(K68),ISBLANK(K69)),\"\",IF(O68=O69,\"TIE\",IF(O68>O69,B69,B68)))))","v":""},null,{"$f":"IF(B69=\"BYE\", B68, IF(ISERROR(J69+R69)=TRUE,\"\",IF(J69+R69=0,\"TIE - HOLD RUNOFF\",IF(J69+R69>0,B69,B68))))","v":"BYE"},""]
[{"$f":"IF(S57=B57, A57, A58)","v":6},{"$f":"IF(A3>8,IF(S57=\"TIE - HOLD RUNOFF\",\"\",S57),IF(A3<8,\"BYE\",IF(ISERROR(VLOOKUP(A69,'T Q 1-2'!AO12:'T Q 1-2'!AQ111,3,FALSE))=TRUE,\"BYE\",VLOOKUP(A69,'T Q 1-2'!AO12:'T Q 1-2'!AQ111,3,FALSE))))","v":"BYE"},null,null,null,null,"","",{"$f":"IF(AND(LEFT(C68,1)=\"D\",LEFT(C69,1)=\"D\"),\"\",IF(OR(C68=\"DNR\",C69=\"DNR\"),\"by \"&ABS(J69)&\" seconds\",IF(OR(ISBLANK(C68),ISBLANK(C69),G68=G69),\"\",\"by \"&ABS(J69)&\" seconds\")))","v":""},{"$f":"IF(AND(LEFT(C68,1)=\"D\",LEFT(C69,1)=\"D\"),\"0\",IF(OR(C68=\"DNR\",C69=\"DNR\"),IF(C68=\"DNR\",1,-1)*'T Q 1-2'!A8,IF(OR(ISBLANK(C68),ISBLANK(C69)),\"\",IF(OR(G68=\"-\",G69=\"-\"),IF(G68=\"-\",1,-1)*'T Q 1-2'!A8,IF(ABS(G68-G69)>'T Q 1-2'!A9,IF(G68-G69>'T Q 1-2'!A9,1,-1)*'T Q 1-2'!A9,ROUND(G68-G69,3))))))","v":""},null,null,null,null,"","",{"$f":"IF(AND(LEFT(K68,1)=\"D\",LEFT(K69,1)=\"D\"),\"\",IF(OR(K68=\"DNR\",K69=\"DNR\"),\"by \"&ABS(R69)&\" seconds\",IF(OR(ISBLANK(K68),ISBLANK(K69),O68=O69),\"\",\"by \"&ABS(R69)&\" seconds\")))","v":""},{"$f":"IF(AND(LEFT(K68,1)=\"D\",LEFT(K69,1)=\"D\"),\"0\",IF(OR(K68=\"DNR\",K69=\"DNR\"),IF(K68=\"DNR\",1,-1)*'T Q 1-2'!A8,IF(OR(ISBLANK(K68),ISBLANK(K69)),\"\",IF(OR(O68=\"-\",O69=\"-\"),IF(O68=\"-\",1,-1)*'T Q 1-2'!A8,IF(ABS(O68-O69)>'T Q 1-2'!A9,IF(O68-O69>'T Q 1-2'!A9,1,-1)*'T Q 1-2'!A9,ROUND(O68-O69,3))))))","v":""},{"$f":"IF(B69=\"BYE\",\"(BYE)\",IF(ISERROR(J69+R69)=TRUE,\"\",IF(J69+R69=0,\"\",\"by \"&ABS(J69+R69)&\" seconds\")))","v":"(BYE)"},"",{"$f":"IF(B69=\"BYE\", B69, IF(ISERROR(J69+R69)=TRUE,\"\",IF(J69+R69>0,B68,B69)))","v":"BYE"},{"$f":"IF(ISERROR(VLOOKUP(U69,'T Q 1-2'!U12:V111,2,FALSE))=TRUE,\"\",VLOOKUP(U69,'T Q 1-2'!U12:V111,2,FALSE))","v":""},{"$f":"IF(ISERROR(VLOOKUP(U69,'T Q 1-2'!AL12:AO111,4,FALSE))=TRUE,\"\",VLOOKUP(U69,'T Q 1-2'!AL12:AO111,4,FALSE))","v":""}]
[]
[]
[null,"Round of 4"]
[{"$f":"IF(S62=B62, A62, A63)","v":1},{"$f":"IF(A3>4,IF(S62=\"TIE - HOLD RUNOFF\",\"\",S62),IF(A3<4,\"BYE\",IF(ISERROR(VLOOKUP(A73,'T Q 1-2'!AO12:'T Q 1-2'!AQ111,3,FALSE))=TRUE,\"BYE\",VLOOKUP(A73,'T Q 1-2'!AO12:'T Q 1-2'!AQ111,3,FALSE))))","v":"Voves  Jindřich  [CZE] "},null,null,null,null,{"$f":"IF(LEFT(C73:C76,1)=\"D\",\"-\",IF(D73:D76>'T Q 1-2'!A6,\"-\",IF(C73:C76>0,C73:C76+D73:D76*'T Q 1-2'!A5+F73:F76*'T Q 1-2'!A7,\"\")))","v":""},{"$f":"IF(G73:G76=\"\",\"\",IF(G73:G76=\"-\",\"\",RANK(G73:G76,G73:G76,1)))","v":""},{"$f":"IF(AND(LEFT(C73,1)=\"D\",LEFT(C74,1)=\"D\"),\"\",IF(OR(C73=\"DNR\",C74=\"DNR\"),IF(C73=\"DNR\",B74,B73),IF(OR(ISBLANK(C73),ISBLANK(C74)),\"\",IF(G73=G74,\"TIE\",IF(G73>G74,B74,B73)))))","v":""},null,null,null,null,null,{"$f":"IF(LEFT(K73:K76,1)=\"D\",\"-\",IF(L73:L76>'T Q 1-2'!A6,\"-\",IF(K73:K76>0,K73:K76+L73:L76*'T Q 1-2'!A5+N73:N76*'T Q 1-2'!A7,\"\")))","v":""},{"$f":"IF(O73:O76=\"\",\"\",IF(O73:O76=\"-\",\"\",RANK(O73:O76,O73:O76,1)))","v":""},{"$f":"IF(AND(LEFT(K73,1)=\"D\",LEFT(K74,1)=\"D\"),\"\",IF(OR(K73=\"DNR\",K74=\"DNR\"),IF(K73=\"DNR\",B74,B73),IF(OR(ISBLANK(K73),ISBLANK(K74)),\"\",IF(O73=O74,\"TIE\",IF(O73>O74,B74,B73)))))","v":""},null,{"$f":"IF(B74=\"BYE\", B73, IF(ISERROR(J74+R74)=TRUE,\"\",IF(J74+R74=0,\"TIE - HOLD RUNOFF\",IF(J74+R74>0,B74,B73))))","v":"Voves  Jindřich  [CZE] "}]
[{"$f":"IF(S64=B64, A64, A65)","v":4},{"$f":"IF(A3>4,IF(S64=\"TIE - HOLD RUNOFF\",\"\",S64),IF(A3<4,\"BYE\",IF(ISERROR(VLOOKUP(A74,'T Q 1-2'!AO12:'T Q 1-2'!AQ111,3,FALSE))=TRUE,\"BYE\",VLOOKUP(A74,'T Q 1-2'!AO12:'T Q 1-2'!AQ111,3,FALSE))))","v":"BYE"},null,null,null,null,"","",{"$f":"IF(AND(LEFT(C73,1)=\"D\",LEFT(C74,1)=\"D\"),\"\",IF(OR(C73=\"DNR\",C74=\"DNR\"),\"by \"&ABS(J74)&\" seconds\",IF(OR(ISBLANK(C73),ISBLANK(C74),G73=G74),\"\",\"by \"&ABS(J74)&\" seconds\")))","v":""},{"$f":"IF(AND(LEFT(C73,1)=\"D\",LEFT(C74,1)=\"D\"),\"0\",IF(OR(C73=\"DNR\",C74=\"DNR\"),IF(C73=\"DNR\",1,-1)*'T Q 1-2'!A8,IF(OR(ISBLANK(C73),ISBLANK(C74)),\"\",IF(OR(G73=\"-\",G74=\"-\"),IF(G73=\"-\",1,-1)*'T Q 1-2'!A8,IF(ABS(G73-G74)>'T Q 1-2'!A9,IF(G73-G74>'T Q 1-2'!A9,1,-1)*'T Q 1-2'!A9,ROUND(G73-G74,3))))))","v":""},null,null,null,null,"","",{"$f":"IF(AND(LEFT(K73,1)=\"D\",LEFT(K74,1)=\"D\"),\"\",IF(OR(K73=\"DNR\",K74=\"DNR\"),\"by \"&ABS(R74)&\" seconds\",IF(OR(ISBLANK(K73),ISBLANK(K74),O73=O74),\"\",\"by \"&ABS(R74)&\" seconds\")))","v":""},{"$f":"IF(AND(LEFT(K73,1)=\"D\",LEFT(K74,1)=\"D\"),\"0\",IF(OR(K73=\"DNR\",K74=\"DNR\"),IF(K73=\"DNR\",1,-1)*'T Q 1-2'!A8,IF(OR(ISBLANK(K73),ISBLANK(K74)),\"\",IF(OR(O73=\"-\",O74=\"-\"),IF(O73=\"-\",1,-1)*'T Q 1-2'!A8,IF(ABS(O73-O74)>'T Q 1-2'!A9,IF(O73-O74>'T Q 1-2'!A9,1,-1)*'T Q 1-2'!A9,ROUND(O73-O74,3))))))","v":""},{"$f":"IF(B74=\"BYE\",\"(BYE)\",IF(ISERROR(J74+R74)=TRUE,\"\",IF(J74+R74=0,\"\",\"by \"&ABS(J74+R74)&\" seconds\")))","v":"(BYE)"},null,{"$f":"IF(B74=\"BYE\", B74, IF(ISERROR(J74+R74)=TRUE,\"\",IF(J74+R74>0,B73,B74)))","v":"BYE"}]
[{"$f":"IF(S66=B66, A66, A67)","v":2},{"$f":"IF(A3>4,IF(S66=\"TIE - HOLD RUNOFF\",\"\",S66),IF(A3<4,\"BYE\",IF(ISERROR(VLOOKUP(A75,'T Q 1-2'!AO12:'T Q 1-2'!AQ111,3,FALSE))=TRUE,\"BYE\",VLOOKUP(A75,'T Q 1-2'!AO12:'T Q 1-2'!AQ111,3,FALSE))))","v":"Rezková  Anna  [CZE] "},null,null,null,null,"","",{"$f":"IF(AND(LEFT(C75,1)=\"D\",LEFT(C76,1)=\"D\"),\"\",IF(OR(C75=\"DNR\",C76=\"DNR\"),IF(C75=\"DNR\",B76,B75),IF(OR(ISBLANK(C75),ISBLANK(C76)),\"\",IF(G75=G76,\"TIE\",IF(G75>G76,B76,B75)))))","v":""},null,null,null,null,null,"","",{"$f":"IF(AND(LEFT(K75,1)=\"D\",LEFT(K76,1)=\"D\"),\"\",IF(OR(K75=\"DNR\",K76=\"DNR\"),IF(K75=\"DNR\",B76,B75),IF(OR(ISBLANK(K75),ISBLANK(K76)),\"\",IF(O75=O76,\"TIE\",IF(O75>O76,B76,B75)))))","v":""},null,{"$f":"IF(B76=\"BYE\", B75, IF(ISERROR(J76+R76)=TRUE,\"\",IF(J76+R76=0,\"TIE - HOLD RUNOFF\",IF(J76+R76>0,B76,B75))))","v":"Rezková  Anna  [CZE] "}]
[{"$f":"IF(S68=B68, A68, A69)","v":3},{"$f":"IF(A3>4,IF(S68=\"TIE - HOLD RUNOFF\",\"\",S68),IF(A3<4,\"BYE\",IF(ISERROR(VLOOKUP(A76,'T Q 1-2'!AO12:'T Q 1-2'!AQ111,3,FALSE))=TRUE,\"BYE\",VLOOKUP(A76,'T Q 1-2'!AO12:'T Q 1-2'!AQ111,3,FALSE))))","v":"BYE"},null,null,null,null,"","",{"$f":"IF(AND(LEFT(C75,1)=\"D\",LEFT(C76,1)=\"D\"),\"\",IF(OR(C75=\"DNR\",C76=\"DNR\"),\"by \"&ABS(J76)&\" seconds\",IF(OR(ISBLANK(C75),ISBLANK(C76),G75=G76),\"\",\"by \"&ABS(J76)&\" seconds\")))","v":""},{"$f":"IF(AND(LEFT(C75,1)=\"D\",LEFT(C76,1)=\"D\"),\"0\",IF(OR(C75=\"DNR\",C76=\"DNR\"),IF(C75=\"DNR\",1,-1)*'T Q 1-2'!A8,IF(OR(ISBLANK(C75),ISBLANK(C76)),\"\",IF(OR(G75=\"-\",G76=\"-\"),IF(G75=\"-\",1,-1)*'T Q 1-2'!A8,IF(ABS(G75-G76)>'T Q 1-2'!A9,IF(G75-G76>'T Q 1-2'!A9,1,-1)*'T Q 1-2'!A9,ROUND(G75-G76,3))))))","v":""},null,null,null,null,"","",{"$f":"IF(AND(LEFT(K75,1)=\"D\",LEFT(K76,1)=\"D\"),\"\",IF(OR(K75=\"DNR\",K76=\"DNR\"),\"by \"&ABS(R76)&\" seconds\",IF(OR(ISBLANK(K75),ISBLANK(K76),O75=O76),\"\",\"by \"&ABS(R76)&\" seconds\")))","v":""},{"$f":"IF(AND(LEFT(K75,1)=\"D\",LEFT(K76,1)=\"D\"),\"0\",IF(OR(K75=\"DNR\",K76=\"DNR\"),IF(K75=\"DNR\",1,-1)*'T Q 1-2'!A8,IF(OR(ISBLANK(K75),ISBLANK(K76)),\"\",IF(OR(O75=\"-\",O76=\"-\"),IF(O75=\"-\",1,-1)*'T Q 1-2'!A8,IF(ABS(O75-O76)>'T Q 1-2'!A9,IF(O75-O76>'T Q 1-2'!A9,1,-1)*'T Q 1-2'!A9,ROUND(O75-O76,3))))))","v":""},{"$f":"IF(B76=\"BYE\",\"(BYE)\",IF(ISERROR(J76+R76)=TRUE,\"\",IF(J76+R76=0,\"\",\"by \"&ABS(J76+R76)&\" seconds\")))","v":"(BYE)"},null,{"$f":"IF(B76=\"BYE\", B76, IF(ISERROR(J76+R76)=TRUE,\"\",IF(J76+R76>0,B75,B76)))","v":"BYE"}]
[]
[]
[null,"Consolation Round"]
[{"$f":"IF(B74=\"BYE\",IF(S75=B75,A76,A75),IF(S73=B73, A74, A73))","v":3},{"$f":"IF(A3>2,IF(B74=\"BYE\",\"BYE\",IF(U74=\"\",\"\",U74)),IF(ISERROR(VLOOKUP(A80,'T Q 1-2'!AO12:'T Q 1-2'!AQ111,3,FALSE))=TRUE,\"BYE\",VLOOKUP(A80,'T Q 1-2'!AO12:'T Q 1-2'!AQ111,3,FALSE)))","v":"BYE"},null,null,null,null,{"$f":"IF(LEFT(C80:C81,1)=\"D\",\"-\",IF(D80:D81>'T Q 1-2'!A6,\"-\",IF(C80:C81>0,C80:C81+D80:D81*'T Q 1-2'!A5+F80:F81*'T Q 1-2'!A7,\"\")))","v":""},{"$f":"IF(G80:G81=\"\",\"\",IF(G80:G81=\"-\",\"\",RANK(G80:G81,G80:G81,1)))","v":""},{"$f":"IF(AND(LEFT(C80,1)=\"D\",LEFT(C81,1)=\"D\"),\"\",IF(OR(C80=\"DNR\",C81=\"DNR\"),IF(C80=\"DNR\",B81,B80),IF(OR(ISBLANK(C80),ISBLANK(C81)),\"\",IF(G80=G81,\"TIE\",IF(G80>G81,B81,B80)))))","v":""},null,null,null,null,null,{"$f":"IF(LEFT(K80:K81,1)=\"D\",\"-\",IF(L80:L81>'T Q 1-2'!A6,\"-\",IF(K80:K81>0,K80:K81+L80:L81*'T Q 1-2'!A5+N80:N81*'T Q 1-2'!A7,\"\")))","v":""},{"$f":"IF(O80:O81=\"\",\"\",IF(O80:O81=\"-\",\"\",RANK(O80:O81,O80:O81,1)))","v":""},{"$f":"IF(AND(LEFT(K80,1)=\"D\",LEFT(K81,1)=\"D\"),\"\",IF(OR(K80=\"DNR\",K81=\"DNR\"),IF(K80=\"DNR\",B81,B80),IF(OR(ISBLANK(K80),ISBLANK(K81)),\"\",IF(O80=O81,\"TIE\",IF(O80>O81,B81,B80)))))","v":""},null,{"$f":"IF(B80=\"BYE\", B81, IF(ISERROR(J81+R81)=TRUE,\"\",IF(J81+R81=0,\"TIE - HOLD RUNOFF\",IF(J81+R81>0,B81,B80))))","v":"BYE"},{"$f":"IF(W80:W81=\"\",\"\",IF(ISERROR(W80:W81)=TRUE,\"\",2+RANK(W80:W81,W80:W81,1)))","v":""},{"$f":"IF(B81=\"BYE\", B80, IF(ISERROR(J81+R81)=TRUE,\"\",IF(J81+R81>0,B81,B80)))","v":"BYE"},{"$f":"IF(ISERROR(VLOOKUP(U80,'T Q 1-2'!U12:V111,2,FALSE))=TRUE,\"\",VLOOKUP(U80,'T Q 1-2'!U12:V111,2,FALSE))","v":""},{"$f":"IF(ISERROR(VLOOKUP(U80,'T Q 1-2'!AL12:AO111,4,FALSE))=TRUE,\"\",VLOOKUP(U80,'T Q 1-2'!AL12:AO111,4,FALSE))","v":""}]
[{"$f":"IF(B74=\"BYE\",A74,IF(S75=B75, A76, A75))","v":4},{"$f":"IF(A3>2,IF(B76=\"BYE\",\"BYE\",IF(U76=\"\",\"\",U76)),IF(ISERROR(VLOOKUP(A81,'T Q 1-2'!AO12:'T Q 1-2'!AQ111,3,FALSE))=TRUE,\"BYE\",VLOOKUP(A81,'T Q 1-2'!AO12:'T Q 1-2'!AQ111,3,FALSE)))","v":"BYE"},null,null,null,null,"","",{"$f":"IF(AND(LEFT(C80,1)=\"D\",LEFT(C81,1)=\"D\"),\"\",IF(OR(C80=\"DNR\",C81=\"DNR\"),\"by \"&ABS(J81)&\" seconds\",IF(OR(ISBLANK(C80),ISBLANK(C81),G80=G81),\"\",\"by \"&ABS(J81)&\" seconds\")))","v":""},{"$f":"IF(AND(LEFT(C80,1)=\"D\",LEFT(C81,1)=\"D\"),\"0\",IF(OR(C80=\"DNR\",C81=\"DNR\"),IF(C80=\"DNR\",1,-1)*'T Q 1-2'!A8,IF(OR(ISBLANK(C80),ISBLANK(C81)),\"\",IF(OR(G80=\"-\",G81=\"-\"),IF(G80=\"-\",1,-1)*'T Q 1-2'!A8,IF(ABS(G80-G81)>'T Q 1-2'!A9,IF(G80-G81>'T Q 1-2'!A9,1,-1)*'T Q 1-2'!A9,ROUND(G80-G81,3))))))","v":""},null,null,null,null,"","",{"$f":"IF(AND(LEFT(K80,1)=\"D\",LEFT(K81,1)=\"D\"),\"\",IF(OR(K80=\"DNR\",K81=\"DNR\"),\"by \"&ABS(R81)&\" seconds\",IF(OR(ISBLANK(K80),ISBLANK(K81),O80=O81),\"\",\"by \"&ABS(R81)&\" seconds\")))","v":""},{"$f":"IF(AND(LEFT(K80,1)=\"D\",LEFT(K81,1)=\"D\"),\"0\",IF(OR(K80=\"DNR\",K81=\"DNR\"),IF(K80=\"DNR\",1,-1)*'T Q 1-2'!A8,IF(OR(ISBLANK(K80),ISBLANK(K81)),\"\",IF(OR(O80=\"-\",O81=\"-\"),IF(O80=\"-\",1,-1)*'T Q 1-2'!A8,IF(ABS(O80-O81)>'T Q 1-2'!A9,IF(O80-O81>'T Q 1-2'!A9,1,-1)*'T Q 1-2'!A9,ROUND(O80-O81,3))))))","v":""},{"$f":"IF(B81=\"BYE\",\"(BYE)\",IF(ISERROR(J81+R81)=TRUE,\"\",IF(J81+R81=0,\"\",\"by \"&ABS(J81+R81)&\" seconds\")))","v":"(BYE)"},"",{"$f":"IF(B81=\"BYE\", B81, IF(ISERROR(J81+R81)=TRUE,\"\",IF(J81+R81>0,B80,B81)))","v":"BYE"},{"$f":"IF(ISERROR(VLOOKUP(U81,'T Q 1-2'!U12:V111,2,FALSE))=TRUE,\"\",VLOOKUP(U81,'T Q 1-2'!U12:V111,2,FALSE))","v":""},{"$f":"IF(ISERROR(VLOOKUP(U81,'T Q 1-2'!AL12:AO111,4,FALSE))=TRUE,\"\",VLOOKUP(U81,'T Q 1-2'!AL12:AO111,4,FALSE))","v":""}]
[]
[]
[null,"Final Round"]
[{"$f":"IF(S73=B73, A73, A74)","v":1},{"$f":"IF(A3>2,IF(S73=\"TIE - HOLD RUNOFF\",\"\",S73),IF(ISERROR(VLOOKUP(A85,'T Q 1-2'!AO12:'T Q 1-2'!AQ111,3,FALSE))=TRUE,\"BYE\",VLOOKUP(A85,'T Q 1-2'!AO12:'T Q 1-2'!AQ111,3,FALSE)))","v":"Voves  Jindřich  [CZE] "},null,null,null,null,{"$f":"IF(LEFT(C85:C86,1)=\"D\",\"-\",IF(D85:D86>'T Q 1-2'!A6,\"-\",IF(C85:C86>0,C85:C86+D85:D86*'T Q 1-2'!A5+F85:F86*'T Q 1-2'!A7,\"\")))","v":""},{"$f":"IF(G85:G86=\"\",\"\",IF(G85:G86=\"-\",\"\",RANK(G85:G86,G85:G86,1)))","v":""},{"$f":"IF(AND(LEFT(C85,1)=\"D\",LEFT(C86,1)=\"D\"),\"\",IF(OR(C85=\"DNR\",C86=\"DNR\"),IF(C85=\"DNR\",B86,B85),IF(OR(ISBLANK(C85),ISBLANK(C86)),\"\",IF(G85=G86,\"TIE\",IF(G85>G86,B86,B85)))))","v":""},null,null,null,null,null,{"$f":"IF(LEFT(K85:K86,1)=\"D\",\"-\",IF(L85:L86>'T Q 1-2'!A6,\"-\",IF(K85:K86>0,K85:K86+L85:L86*'T Q 1-2'!A5+N85:N86*'T Q 1-2'!A7,\"\")))","v":""},{"$f":"IF(O85:O86=\"\",\"\",IF(O85:O86=\"-\",\"\",RANK(O85:O86,O85:O86,1)))","v":""},{"$f":"IF(AND(LEFT(K85,1)=\"D\",LEFT(K86,1)=\"D\"),\"\",IF(OR(K85=\"DNR\",K86=\"DNR\"),IF(K85=\"DNR\",B86,B85),IF(OR(ISBLANK(K85),ISBLANK(K86)),\"\",IF(O85=O86,\"TIE\",IF(O85>O86,B86,B85)))))","v":""},null,{"$f":"IF(B86=\"BYE\", B85, IF(ISERROR(J86+R86)=TRUE,\"\",IF(J86+R86=0,\"TIE - HOLD RUNOFF\",IF(J86+R86>0,B86,B85))))","v":""},{"$f":"IF(W85:W86=\"\",\"\",IF(ISERROR(W85:W86)=TRUE,\"\",RANK(W85:W86,W85:W86,1)))","v":""},{"$f":"IF(B86=\"BYE\", B85, IF(ISERROR(J86+R86)=TRUE,\"\",IF(J86+R86>0,B86,B85)))","v":""},{"$f":"IF(ISERROR(VLOOKUP(U85,'T Q 1-2'!U12:V111,2,FALSE))=TRUE,\"\",VLOOKUP(U85,'T Q 1-2'!U12:V111,2,FALSE))","v":""},{"$f":"IF(ISERROR(VLOOKUP(U85,'T Q 1-2'!AL12:AO111,4,FALSE))=TRUE,\"\",VLOOKUP(U85,'T Q 1-2'!AL12:AO111,4,FALSE))","v":""}]
[{"$f":"IF(S75=B75, A75, A76)","v":2},{"$f":"IF(A3>2,IF(S75=\"TIE - HOLD RUNOFF\",\"\",S75),IF(ISERROR(VLOOKUP(A86,'T Q 1-2'!AO12:'T Q 1-2'!AQ111,3,FALSE))=TRUE,\"BYE\",VLOOKUP(A86,'T Q 1-2'!AO12:'T Q 1-2'!AQ111,3,FALSE)))","v":"Rezková  Anna  [CZE] "},null,null,null,null,"","",{"$f":"IF(AND(LEFT(C85,1)=\"D\",LEFT(C86,1)=\"D\"),\"\",IF(OR(C85=\"DNR\",C86=\"DNR\"),\"by \"&ABS(J86)&\" seconds\",IF(OR(ISBLANK(C85),ISBLANK(C86),G85=G86),\"\",\"by \"&ABS(J86)&\" seconds\")))","v":""},{"$f":"IF(AND(LEFT(C85,1)=\"D\",LEFT(C86,1)=\"D\"),\"0\",IF(OR(C85=\"DNR\",C86=\"DNR\"),IF(C85=\"DNR\",1,-1)*'T Q 1-2'!A8,IF(OR(ISBLANK(C85),ISBLANK(C86)),\"\",IF(OR(G85=\"-\",G86=\"-\"),IF(G85=\"-\",1,-1)*'T Q 1-2'!A8,IF(ABS(G85-G86)>'T Q 1-2'!A9,IF(G85-G86>'T Q 1-2'!A9,1,-1)*'T Q 1-2'!A9,ROUND(G85-G86,3))))))","v":""},null,null,null,null,"","",{"$f":"IF(AND(LEFT(K85,1)=\"D\",LEFT(K86,1)=\"D\"),\"\",IF(OR(K85=\"DNR\",K86=\"DNR\"),\"by \"&ABS(R86)&\" seconds\",IF(OR(ISBLANK(K85),ISBLANK(K86),O85=O86),\"\",\"by \"&ABS(R86)&\" seconds\")))","v":""},{"$f":"IF(AND(LEFT(K85,1)=\"D\",LEFT(K86,1)=\"D\"),\"0\",IF(OR(K85=\"DNR\",K86=\"DNR\"),IF(K85=\"DNR\",1,-1)*'T Q 1-2'!A8,IF(OR(ISBLANK(K85),ISBLANK(K86)),\"\",IF(OR(O85=\"-\",O86=\"-\"),IF(O85=\"-\",1,-1)*'T Q 1-2'!A8,IF(ABS(O85-O86)>'T Q 1-2'!A9,IF(O85-O86>'T Q 1-2'!A9,1,-1)*'T Q 1-2'!A9,ROUND(O85-O86,3))))))","v":""},{"$f":"IF(B86=\"BYE\",\"(BYE)\",IF(ISERROR(J86+R86)=TRUE,\"\",IF(J86+R86=0,\"\",\"by \"&ABS(J86+R86)&\" seconds\")))","v":""},"",{"$f":"IF(B86=\"BYE\", B86, IF(ISERROR(J86+R86)=TRUE,\"\",IF(J86+R86>0,B85,B86)))","v":""},{"$f":"IF(ISERROR(VLOOKUP(U86,'T Q 1-2'!U12:V111,2,FALSE))=TRUE,\"\",VLOOKUP(U86,'T Q 1-2'!U12:V111,2,FALSE))","v":""},{"$f":"IF(ISERROR(VLOOKUP(U86,'T Q 1-2'!AL12:AO111,4,FALSE))=TRUE,\"\",VLOOKUP(U86,'T Q 1-2'!AL12:AO111,4,FALSE))","v":""}]
[]
[]
["AM",null,null,null,null,null,null,null,"Final Results"]
["Final Position","Racer No. & Name","Qualifying Time","Qualifying Position",null,null,"Points Earned","Final Position","Racer No. & Name"]
[1,{"$f":"IF(S85=\"BYE\",\"\",S85)","v":""},{"$f":"V85","v":""},{"$f":"W85","v":""},null,null,null,1,{"$f":"IF(B91<>\"\",B91,'T Q 4'!AQ12)","v":"Voves  Jindřich  [CZE] "}]
[2,{"$f":"IF(U86=\"BYE\",\"\",U86)","v":""},{"$f":"V86","v":""},{"$f":"W86","v":""},null,null,null,2,{"$f":"IF(B92<>\"\",B92,'T Q 4'!AQ13)","v":"Rezková  Anna  [CZE] "}]
[3,{"$f":"IF(S80=\"BYE\",\"\",S80)","v":""},{"$f":"V80","v":""},{"$f":"W80","v":""},null,null,null,3,{"$f":"IF(B93<>\"\",B93,'T Q 4'!AQ14)","v":""}]
[4,{"$f":"IF(U81=\"BYE\",\"\",U81)","v":""},{"$f":"V81","v":""},{"$f":"W81","v":""},null,null,null,4,{"$f":"IF(B94<>\"\",B94,'T Q 4'!AQ15)","v":""}]
[5,{"$f":"IF(ISERROR(VLOOKUP(5,T63:V69,2,FALSE))=TRUE,\"\",VLOOKUP(5,T63:V69,2,FALSE))","v":""},{"$f":"IF(ISERROR(ROUND(VLOOKUP(5,T63:V69,3,FALSE),3))=TRUE,\"\",ROUND(VLOOKUP(5,T63:V69,3,FALSE),3))","v":""},{"$f":"IF(ISERROR(VLOOKUP(5,T63:W69,4,FALSE))=TRUE,\"\",VLOOKUP(5,T63:W69,4,FALSE))","v":""},null,null,null,5,{"$f":"IF(B95<>\"\",B95,'T Q 4'!AQ16)","v":""}]
[6,{"$f":"IF(ISERROR(VLOOKUP(6,T63:V69,2,FALSE))=TRUE,\"\",VLOOKUP(6,T63:V69,2,FALSE))","v":""},{"$f":"IF(ISERROR(ROUND(VLOOKUP(6,T63:V69,3,FALSE),3))=TRUE,\"\",ROUND(VLOOKUP(6,T63:V69,3,FALSE),3))","v":""},{"$f":"IF(ISERROR(VLOOKUP(6,T63:W69,4,FALSE))=TRUE,\"\",VLOOKUP(6,T63:W69,4,FALSE))","v":""},null,null,null,6,{"$f":"IF(B96<>\"\",B96,'T Q 4'!AQ17)","v":""}]
[7,{"$f":"IF(ISERROR(VLOOKUP(7,T63:V69,2,FALSE))=TRUE,\"\",VLOOKUP(7,T63:V69,2,FALSE))","v":""},{"$f":"IF(ISERROR(ROUND(VLOOKUP(7,T63:V69,3,FALSE),3))=TRUE,\"\",ROUND(VLOOKUP(7,T63:V69,3,FALSE),3))","v":""},{"$f":"IF(ISERROR(VLOOKUP(7,T63:W69,4,FALSE))=TRUE,\"\",VLOOKUP(7,T63:W69,4,FALSE))","v":""},null,null,null,7,{"$f":"IF(B97<>\"\",B97,'T Q 4'!AQ18)","v":""}]
[8,{"$f":"IF(ISERROR(VLOOKUP(8,T63:V69,2,FALSE))=TRUE,\"\",VLOOKUP(8,T63:V69,2,FALSE))","v":""},{"$f":"IF(ISERROR(ROUND(VLOOKUP(8,T63:V69,3,FALSE),3))=TRUE,\"\",ROUND(VLOOKUP(8,T63:V69,3,FALSE),3))","v":""},{"$f":"IF(ISERROR(VLOOKUP(8,T63:W69,4,FALSE))=TRUE,\"\",VLOOKUP(8,T63:W69,4,FALSE))","v":""},null,null,null,8,{"$f":"IF(B98<>\"\",B98,'T Q 4'!AQ19)","v":""}]
[9,{"$f":"IF(ISERROR(VLOOKUP(9,T44:V58,2,FALSE))=TRUE,\"\",VLOOKUP(9,T44:V58,2,FALSE))","v":""},{"$f":"IF(ISERROR(ROUND(VLOOKUP(9,T44:V58,3,FALSE),3))=TRUE,\"\",ROUND(VLOOKUP(9,T44:V58,3,FALSE),3))","v":""},{"$f":"IF(ISERROR(VLOOKUP(9,T44:W58,4,FALSE))=TRUE,\"\",VLOOKUP(9,T44:W58,4,FALSE))","v":""},null,null,null,9,{"$f":"IF(B99<>\"\",B99,'T Q 4'!AQ20)","v":""}]
[10,{"$f":"IF(ISERROR(VLOOKUP(10,T44:V58,2,FALSE))=TRUE,\"\",VLOOKUP(10,T44:V58,2,FALSE))","v":""},{"$f":"IF(ISERROR(ROUND(VLOOKUP(10,T44:V58,3,FALSE),3))=TRUE,\"\",ROUND(VLOOKUP(10,T44:V58,3,FALSE),3))","v":""},{"$f":"IF(ISERROR(VLOOKUP(10,T44:W58,4,FALSE))=TRUE,\"\",VLOOKUP(10,T44:W58,4,FALSE))","v":""},null,null,null,10,{"$f":"IF(B100<>\"\",B100,'T Q 4'!AQ21)","v":""}]
[11,{"$f":"IF(ISERROR(VLOOKUP(11,T44:V58,2,FALSE))=TRUE,\"\",VLOOKUP(11,T44:V58,2,FALSE))","v":""},{"$f":"IF(ISERROR(ROUND(VLOOKUP(11,T44:V58,3,FALSE),3))=TRUE,\"\",ROUND(VLOOKUP(11,T44:V58,3,FALSE),3))","v":""},{"$f":"IF(ISERROR(VLOOKUP(11,T44:W58,4,FALSE))=TRUE,\"\",VLOOKUP(11,T44:W58,4,FALSE))","v":""},null,null,null,11,{"$f":"IF(B101<>\"\",B101,'T Q 4'!AQ22)","v":""}]
[12,{"$f":"IF(ISERROR(VLOOKUP(12,T44:V58,2,FALSE))=TRUE,\"\",VLOOKUP(12,T44:V58,2,FALSE))","v":""},{"$f":"IF(ISERROR(ROUND(VLOOKUP(12,T44:V58,3,FALSE),3))=TRUE,\"\",ROUND(VLOOKUP(12,T44:V58,3,FALSE),3))","v":""},{"$f":"IF(ISERROR(VLOOKUP(12,T44:W58,4,FALSE))=TRUE,\"\",VLOOKUP(12,T44:W58,4,FALSE))","v":""},null,null,null,12,{"$f":"IF(B102<>\"\",B102,'T Q 4'!AQ23)","v":""}]
[13,{"$f":"IF(ISERROR(VLOOKUP(13,T44:V58,2,FALSE))=TRUE,\"\",VLOOKUP(13,T44:V58,2,FALSE))","v":""},{"$f":"IF(ISERROR(ROUND(VLOOKUP(13,T44:V58,3,FALSE),3))=TRUE,\"\",ROUND(VLOOKUP(13,T44:V58,3,FALSE),3))","v":""},{"$f":"IF(ISERROR(VLOOKUP(13,T44:W58,4,FALSE))=TRUE,\"\",VLOOKUP(13,T44:W58,4,FALSE))","v":""},null,null,null,13,{"$f":"IF(B103<>\"\",B103,'T Q 4'!AQ24)","v":""}]
[14,{"$f":"IF(ISERROR(VLOOKUP(14,T44:V58,2,FALSE))=TRUE,\"\",VLOOKUP(14,T44:V58,2,FALSE))","v":""},{"$f":"IF(ISERROR(ROUND(VLOOKUP(14,T44:V58,3,FALSE),3)),\"\",ROUND(VLOOKUP(14,T44:V58,3,FALSE),3))","v":""},{"$f":"IF(ISERROR(VLOOKUP(14,T44:W58,4,FALSE)),\"\",VLOOKUP(14,T44:W58,4,FALSE))","v":""},null,null,null,14,{"$f":"IF(B104<>\"\",B104,'T Q 4'!AQ25)","v":""}]
[15,{"$f":"IF(ISERROR(VLOOKUP(15,T44:V58,2,FALSE))=TRUE,\"\",VLOOKUP(15,T44:V58,2,FALSE))","v":""},{"$f":"IF(ISERROR(ROUND(VLOOKUP(15,T44:V58,3,FALSE),3))=TRUE,\"\",ROUND(VLOOKUP(15,T44:V58,3,FALSE),3))","v":""},{"$f":"IF(ISERROR(VLOOKUP(15,T44:W58,4,FALSE))=TRUE,\"\",VLOOKUP(15,T44:W58,4,FALSE))","v":""},null,null,null,15,{"$f":"IF(B105<>\"\",B105,'T Q 4'!AQ26)","v":""}]
[16,{"$f":"IF(ISERROR(VLOOKUP(16,T44:V58,2,FALSE))=TRUE,\"\",VLOOKUP(16,T44:V58,2,FALSE))","v":""},{"$f":"IF(ISERROR(ROUND(VLOOKUP(16,T44:V58,3,FALSE),3))=TRUE,\"\",ROUND(VLOOKUP(16,T44:V58,3,FALSE),3))","v":""},{"$f":"IF(ISERROR(VLOOKUP(16,T44:W58,4,FALSE))=TRUE,\"\",VLOOKUP(16,T44:W58,4,FALSE))","v":""},null,null,null,16,{"$f":"IF(B106<>\"\",B106,'T Q 4'!AQ27)","v":""}]
[17,{"$f":"IF(ISERROR(VLOOKUP(17,T9:V39,2,FALSE))=TRUE,\"\",VLOOKUP(17,T9:V39,2,FALSE))","v":""},{"$f":"IF(ISERROR(ROUND(VLOOKUP(17,T9:V39,3,FALSE),3))=TRUE,\"\",ROUND(VLOOKUP(17,T9:V39,3,FALSE),3))","v":""},{"$f":"IF(ISERROR(VLOOKUP(17,T9:W39,4,FALSE))=TRUE,\"\",VLOOKUP(17,T9:W39,4,FALSE))","v":""},null,null,null,17,{"$f":"IF(B107<>\"\",B107,'T Q 4'!AQ28)","v":""}]
[18,{"$f":"IF(ISERROR(VLOOKUP(18,T9:V39,2,FALSE))=TRUE,\"\",VLOOKUP(18,T9:V39,2,FALSE))","v":""},{"$f":"IF(ISERROR(ROUND(VLOOKUP(18,T9:V39,3,FALSE),3))=TRUE,\"\",ROUND(VLOOKUP(18,T9:V39,3,FALSE),3))","v":""},{"$f":"IF(ISERROR(VLOOKUP(18,T9:W39,4,FALSE))=TRUE,\"\",VLOOKUP(18,T9:W39,4,FALSE))","v":""},null,null,null,18,{"$f":"IF(B108<>\"\",B108,'T Q 4'!AQ29)","v":""}]
[19,{"$f":"IF(ISERROR(VLOOKUP(19,T9:V39,2,FALSE))=TRUE,\"\",VLOOKUP(19,T9:V39,2,FALSE))","v":""},{"$f":"IF(ISERROR(ROUND(VLOOKUP(19,T9:V39,3,FALSE),3))=TRUE,\"\",ROUND(VLOOKUP(19,T9:V39,3,FALSE),3))","v":""},{"$f":"IF(ISERROR(VLOOKUP(19,T9:W39,4,FALSE))=TRUE,\"\",VLOOKUP(19,T9:W39,4,FALSE))","v":""},null,null,null,19,{"$f":"IF(B109<>\"\",B109,'T Q 4'!AQ30)","v":""}]
[20,{"$f":"IF(ISERROR(VLOOKUP(20,T9:V39,2,FALSE))=TRUE,\"\",VLOOKUP(20,T9:V39,2,FALSE))","v":""},{"$f":"IF(ISERROR(ROUND(VLOOKUP(20,T9:V39,3,FALSE),3))=TRUE,\"\",ROUND(VLOOKUP(20,T9:V39,3,FALSE),3))","v":""},{"$f":"IF(ISERROR(VLOOKUP(20,T9:W39,4,FALSE))=TRUE,\"\",VLOOKUP(20,T9:W39,4,FALSE))","v":""},null,null,null,20,{"$f":"IF(B110<>\"\",B110,'T Q 4'!AQ31)","v":""}]
[21,{"$f":"IF(ISERROR(VLOOKUP(21,T9:V39,2,FALSE))=TRUE,\"\",VLOOKUP(21,T9:V39,2,FALSE))","v":""},{"$f":"IF(ISERROR(ROUND(VLOOKUP(21,T9:V39,3,FALSE),3))=TRUE,\"\",ROUND(VLOOKUP(21,T9:V39,3,FALSE),3))","v":""},{"$f":"IF(ISERROR(VLOOKUP(21,T9:W39,4,FALSE))=TRUE,\"\",VLOOKUP(21,T9:W39,4,FALSE))","v":""},null,null,null,21,{"$f":"IF(B111<>\"\",B111,'T Q 4'!AQ32)","v":""}]
[22,{"$f":"IF(ISERROR(VLOOKUP(22,T9:V39,2,FALSE))=TRUE,\"\",VLOOKUP(22,T9:V39,2,FALSE))","v":""},{"$f":"IF(ISERROR(ROUND(VLOOKUP(22,T9:V39,3,FALSE),3))=TRUE,\"\",ROUND(VLOOKUP(22,T9:V39,3,FALSE),3))","v":""},{"$f":"IF(ISERROR(VLOOKUP(22,T9:W39,4,FALSE))=TRUE,\"\",VLOOKUP(22,T9:W39,4,FALSE))","v":""},null,null,null,22,{"$f":"IF(B112<>\"\",B112,'T Q 4'!AQ33)","v":""}]
[23,{"$f":"IF(ISERROR(VLOOKUP(23,T9:V39,2,FALSE))=TRUE,\"\",VLOOKUP(23,T9:V39,2,FALSE))","v":""},{"$f":"IF(ISERROR(ROUND(VLOOKUP(23,T9:V39,3,FALSE),3))=TRUE,\"\",ROUND(VLOOKUP(23,T9:V39,3,FALSE),3))","v":""},{"$f":"IF(ISERROR(VLOOKUP(23,T9:W39,4,FALSE))=TRUE,\"\",VLOOKUP(23,T9:W39,4,FALSE))","v":""},null,null,null,23,{"$f":"IF(B113<>\"\",B113,'T Q 4'!AQ34)","v":""}]
[24,{"$f":"IF(ISERROR(VLOOKUP(24,T9:V39,2,FALSE))=TRUE,\"\",VLOOKUP(24,T9:V39,2,FALSE))","v":""},{"$f":"IF(ISERROR(ROUND(VLOOKUP(24,T9:V39,3,FALSE),3))=TRUE,\"\",ROUND(VLOOKUP(24,T9:V39,3,FALSE),3))","v":""},{"$f":"IF(ISERROR(VLOOKUP(24,T9:W39,4,FALSE))=TRUE,\"\",VLOOKUP(24,T9:W39,4,FALSE))","v":""},null,null,null,24,{"$f":"IF(B114<>\"\",B114,'T Q 4'!AQ35)","v":""}]
[25,{"$f":"IF(ISERROR(VLOOKUP(25,T9:V39,2,FALSE))=TRUE,\"\",VLOOKUP(25,T9:V39,2,FALSE))","v":""},{"$f":"IF(ISERROR(ROUND(VLOOKUP(25,T9:V39,3,FALSE),3))=TRUE,\"\",ROUND(VLOOKUP(25,T9:V39,3,FALSE),3))","v":""},{"$f":"IF(ISERROR(VLOOKUP(25,T9:W39,4,FALSE))=TRUE,\"\",VLOOKUP(25,T9:W39,4,FALSE))","v":""},null,null,null,25,{"$f":"IF(B115<>\"\",B115,'T Q 4'!AQ36)","v":""}]
[26,{"$f":"IF(ISERROR(VLOOKUP(26,T9:V39,2,FALSE))=TRUE,\"\",VLOOKUP(26,T9:V39,2,FALSE))","v":""},{"$f":"IF(ISERROR(ROUND(VLOOKUP(26,T9:V39,3,FALSE),3))=TRUE,\"\",ROUND(VLOOKUP(26,T9:V39,3,FALSE),3))","v":""},{"$f":"IF(ISERROR(VLOOKUP(26,T9:W39,4,FALSE))=TRUE,\"\",VLOOKUP(26,T9:W39,4,FALSE))","v":""},null,null,null,26,{"$f":"IF(B116<>\"\",B116,'T Q 4'!AQ37)","v":""}]
[27,{"$f":"IF(ISERROR(VLOOKUP(27,T9:V39,2,FALSE))=TRUE,\"\",VLOOKUP(27,T9:V39,2,FALSE))","v":""},{"$f":"IF(ISERROR(ROUND(VLOOKUP(27,T9:V39,3,FALSE),3))=TRUE,\"\",ROUND(VLOOKUP(27,T9:V39,3,FALSE),3))","v":""},{"$f":"IF(ISERROR(VLOOKUP(27,T9:W39,4,FALSE))=TRUE,\"\",VLOOKUP(27,T9:W39,4,FALSE))","v":""},null,null,null,27,{"$f":"IF(B117<>\"\",B117,'T Q 4'!AQ38)","v":""}]
[28,{"$f":"IF(ISERROR(VLOOKUP(28,T9:V39,2,FALSE))=TRUE,\"\",VLOOKUP(28,T9:V39,2,FALSE))","v":""},{"$f":"IF(ISERROR(ROUND(VLOOKUP(28,T9:V39,3,FALSE),3))=TRUE,\"\",ROUND(VLOOKUP(28,T9:V39,3,FALSE),3))","v":""},{"$f":"IF(ISERROR(VLOOKUP(28,T9:W39,4,FALSE))=TRUE,\"\",VLOOKUP(28,T9:W39,4,FALSE))","v":""},null,null,null,28,{"$f":"IF(B118<>\"\",B118,'T Q 4'!AQ39)","v":""}]
[29,{"$f":"IF(ISERROR(VLOOKUP(29,T9:V39,2,FALSE))=TRUE,\"\",VLOOKUP(29,T9:V39,2,FALSE))","v":""},{"$f":"IF(ISERROR(ROUND(VLOOKUP(29,T9:V39,3,FALSE),3))=TRUE,\"\",ROUND(VLOOKUP(29,T9:V39,3,FALSE),3))","v":""},{"$f":"IF(ISERROR(VLOOKUP(29,T9:W39,4,FALSE))=TRUE,\"\",VLOOKUP(29,T9:W39,4,FALSE))","v":""},null,null,null,29,{"$f":"IF(B119<>\"\",B119,'T Q 4'!AQ40)","v":""}]
[30,{"$f":"IF(ISERROR(VLOOKUP(30,T9:V39,2,FALSE))=TRUE,\"\",VLOOKUP(30,T9:V39,2,FALSE))","v":""},{"$f":"IF(ISERROR(ROUND(VLOOKUP(30,T9:V39,3,FALSE),3))=TRUE,\"\",ROUND(VLOOKUP(30,T9:V39,3,FALSE),3))","v":""},{"$f":"IF(ISERROR(VLOOKUP(30,T9:W39,4,FALSE))=TRUE,\"\",VLOOKUP(30,T9:W39,4,FALSE))","v":""},null,null,null,30,{"$f":"IF(B120<>\"\",B120,'T Q 4'!AQ41)","v":""}]
[31,{"$f":"IF(ISERROR(VLOOKUP(31,T9:V39,2,FALSE))=TRUE,\"\",VLOOKUP(31,T9:V39,2,FALSE))","v":""},{"$f":"IF(ISERROR(ROUND(VLOOKUP(31,T9:V39,3,FALSE),3))=TRUE,\"\",ROUND(VLOOKUP(31,T9:V39,3,FALSE),3))","v":""},{"$f":"IF(ISERROR(VLOOKUP(31,T9:W39,4,FALSE))=TRUE,\"\",VLOOKUP(31,T9:W39,4,FALSE))","v":""},null,null,null,31,{"$f":"IF(B121<>\"\",B121,'T Q 4'!AQ42)","v":""}]
[32,{"$f":"IF(ISERROR(VLOOKUP(32,T9:V39,2,FALSE))=TRUE,\"\",VLOOKUP(32,T9:V39,2,FALSE))","v":""},{"$f":"IF(ISERROR(ROUND(VLOOKUP(32,T9:V39,3,FALSE),3))=TRUE,\"\",ROUND(VLOOKUP(32,T9:V39,3,FALSE),3))","v":""},{"$f":"IF(ISERROR(VLOOKUP(32,T9:W39,4,FALSE))=TRUE,\"\",VLOOKUP(32,T9:W39,4,FALSE))","v":""},null,null,null,32,{"$f":"IF(B122<>\"\",B122,'T Q 4'!AQ43)","v":""}]
[null,null,null,null,null,null,null,33,{"$f":"IF(B123<>\"\",B123,'T Q 4'!AQ44)","v":""}]
[null,null,null,null,null,null,null,34,{"$f":"IF(B124<>\"\",B124,'T Q 4'!AQ45)","v":""}]
[null,null,null,null,null,null,null,35,{"$f":"IF(B125<>\"\",B125,'T Q 4'!AQ46)","v":""}]
[null,null,null,null,null,null,null,36,{"$f":"IF(B126<>\"\",B126,'T Q 4'!AQ47)","v":""}]
[null,null,null,null,null,null,null,37,{"$f":"IF(B127<>\"\",B127,'T Q 4'!AQ48)","v":""}]
[null,null,null,null,null,null,null,38,{"$f":"IF(B128<>\"\",B128,'T Q 4'!AQ49)","v":""}]
[null,null,null,null,null,null,null,39,{"$f":"IF(B129<>\"\",B129,'T Q 4'!AQ50)","v":""}]
[null,null,null,null,null,null,null,40,{"$f":"IF(B130<>\"\",B130,'T Q 4'!AQ51)","v":""}]
[null,null,null,null,null,null,null,41,{"$f":"IF(B131<>\"\",B131,'T Q 4'!AQ52)","v":""}]
[null,null,null,null,null,null,null,42,{"$f":"IF(B132<>\"\",B132,'T Q 4'!AQ53)","v":""}]
[null,null,null,null,null,null,null,43,{"$f":"IF(B133<>\"\",B133,'T Q 4'!AQ54)","v":""}]
[null,null,null,null,null,null,null,44,{"$f":"IF(B134<>\"\",B134,'T Q 4'!AQ55)","v":""}]
[null,null,null,null,null,null,null,45,{"$f":"IF(B135<>\"\",B135,'T Q 4'!AQ56)","v":""}]
[null,null,null,null,null,null,null,46,{"$f":"IF(B136<>\"\",B136,'T Q 4'!AQ57)","v":""}]
[null,null,null,null,null,null,null,47,{"$f":"IF(B137<>\"\",B137,'T Q 4'!AQ58)","v":""}]
[null,null,null,null,null,null,null,48,{"$f":"IF(B138<>\"\",B138,'T Q 4'!AQ59)","v":""}]
[null,null,null,null,null,null,null,49,{"$f":"IF(B139<>\"\",B139,'T Q 4'!AQ60)","v":""}]
[null,null,null,null,null,null,null,50,{"$f":"IF(B140<>\"\",B140,'T Q 4'!AQ61)","v":""}]
[null,null,null,null,null,null,null,51,{"$f":"IF(B141<>\"\",B141,'T Q 4'!AQ62)","v":""}]
[null,null,null,null,null,null,null,52,{"$f":"IF(B142<>\"\",B142,'T Q 4'!AQ63)","v":""}]
[null,null,null,null,null,null,null,53,{"$f":"IF(B143<>\"\",B143,'T Q 4'!AQ64)","v":""}]
[null,null,null,null,null,null,null,54,{"$f":"IF(B144<>\"\",B144,'T Q 4'!AQ65)","v":""}]
[null,null,null,null,null,null,null,55,{"$f":"IF(B145<>\"\",B145,'T Q 4'!AQ66)","v":""}]
[null,null,null,null,null,null,null,56,{"$f":"IF(B146<>\"\",B146,'T Q 4'!AQ67)","v":""}]
[null,null,null,null,null,null,null,57,{"$f":"IF(B147<>\"\",B147,'T Q 4'!AQ68)","v":""}]
[null,null,null,null,null,null,null,58,{"$f":"IF(B148<>\"\",B148,'T Q 4'!AQ69)","v":""}]
[null,null,null,null,null,null,null,59,{"$f":"IF(B149<>\"\",B149,'T Q 4'!AQ70)","v":""}]
[null,null,null,null,null,null,null,60,{"$f":"IF(B150<>\"\",B150,'T Q 4'!AQ71)","v":""}]
[null,null,null,null,null,null,null,61,{"$f":"IF(B151<>\"\",B151,'T Q 4'!AQ72)","v":""}]
[null,null,null,null,null,null,null,62,{"$f":"IF(B152<>\"\",B152,'T Q 4'!AQ73)","v":""}]
[null,null,null,null,null,null,null,63,{"$f":"IF(B153<>\"\",B153,'T Q 4'!AQ74)","v":""}]
[null,null,null,null,null,null,null,64,{"$f":"IF(B154<>\"\",B154,'T Q 4'!AQ75)","v":""}]
[null,null,null,null,null,null,null,65,{"$f":"IF(B155<>\"\",B155,'T Q 4'!AQ76)","v":""}]
[null,null,null,null,null,null,null,66,{"$f":"IF(B156<>\"\",B156,'T Q 4'!AQ77)","v":""}]
[null,null,null,null,null,null,null,67,{"$f":"IF(B157<>\"\",B157,'T Q 4'!AQ78)","v":""}]
[null,null,null,null,null,null,null,68,{"$f":"IF(B158<>\"\",B158,'T Q 4'!AQ79)","v":""}]
[null,null,null,null,null,null,null,69,{"$f":"IF(B159<>\"\",B159,'T Q 4'!AQ80)","v":""}]
[null,null,null,null,null,null,null,70,{"$f":"IF(B160<>\"\",B160,'T Q 4'!AQ81)","v":""}]
[null,null,null,null,null,null,null,71,{"$f":"IF(B161<>\"\",B161,'T Q 4'!AQ82)","v":""}]
[null,null,null,null,null,null,null,72,{"$f":"IF(B162<>\"\",B162,'T Q 4'!AQ83)","v":""}]
[null,null,null,null,null,null,null,73,{"$f":"IF(B163<>\"\",B163,'T Q 4'!AQ84)","v":""}]
[null,null,null,null,null,null,null,74,{"$f":"IF(B164<>\"\",B164,'T Q 4'!AQ85)","v":""}]
[null,null,null,null,null,null,null,75,{"$f":"IF(B165<>\"\",B165,'T Q 4'!AQ86)","v":""}]
[null,null,null,null,null,null,null,76,{"$f":"IF(B166<>\"\",B166,'T Q 4'!AQ87)","v":""}]
[null,null,null,null,null,null,null,77,{"$f":"IF(B167<>\"\",B167,'T Q 4'!AQ88)","v":""}]
[null,null,null,null,null,null,null,78,{"$f":"IF(B168<>\"\",B168,'T Q 4'!AQ89)","v":""}]
[null,null,null,null,null,null,null,79,{"$f":"IF(B169<>\"\",B169,'T Q 4'!AQ90)","v":""}]
[null,null,null,null,null,null,null,80,{"$f":"IF(B170<>\"\",B170,'T Q 4'!AQ91)","v":""}]
[null,null,null,null,null,null,null,81,{"$f":"IF(B171<>\"\",B171,'T Q 4'!AQ92)","v":""}]
[null,null,null,null,null,null,null,82,{"$f":"IF(B172<>\"\",B172,'T Q 4'!AQ93)","v":""}]
[null,null,null,null,null,null,null,83,{"$f":"IF(B173<>\"\",B173,'T Q 4'!AQ94)","v":""}]
[null,null,null,null,null,null,null,84,{"$f":"IF(B174<>\"\",B174,'T Q 4'!AQ95)","v":""}]
[null,null,null,null,null,null,null,85,{"$f":"IF(B175<>\"\",B175,'T Q 4'!AQ96)","v":""}]
[null,null,null,null,null,null,null,86,{"$f":"IF(B176<>\"\",B176,'T Q 4'!AQ97)","v":""}]
[null,null,null,null,null,null,null,87,{"$f":"IF(B177<>\"\",B177,'T Q 4'!AQ98)","v":""}]
[null,null,null,null,null,null,null,88,{"$f":"IF(B178<>\"\",B178,'T Q 4'!AQ99)","v":""}]
[null,null,null,null,null,null,null,89,{"$f":"IF(B179<>\"\",B179,'T Q 4'!AQ100)","v":""}]
[null,null,null,null,null,null,null,90,{"$f":"IF(B180<>\"\",B180,'T Q 4'!AQ101)","v":""}]
[null,null,null,null,null,null,null,91,{"$f":"IF(B181<>\"\",B181,'T Q 4'!AQ102)","v":""}]
[null,null,null,null,null,null,null,92,{"$f":"IF(B182<>\"\",B182,'T Q 4'!AQ103)","v":""}]
[null,null,null,null,null,null,null,93,{"$f":"IF(B183<>\"\",B183,'T Q 4'!AQ104)","v":""}]
[null,null,null,null,null,null,null,94,{"$f":"IF(B184<>\"\",B184,'T Q 4'!AQ105)","v":""}]
[null,null,null,null,null,null,null,95,{"$f":"IF(B185<>\"\",B185,'T Q 4'!AQ106)","v":""}]
[null,null,null,null,null,null,null,96,{"$f":"IF(B186<>\"\",B186,'T Q 4'!AQ107)","v":""}]
[null,null,null,null,null,null,null,97,{"$f":"IF(B187<>\"\",B187,'T Q 4'!AQ108)","v":""}]
[null,null,null,null,null,null,null,98,{"$f":"IF(B188<>\"\",B188,'T Q 4'!AQ109)","v":""}]
[null,null,null,null,null,null,null,99,{"$f":"IF(B189<>\"\",B189,'T Q 4'!AQ110)","v":""}]
[null,null,null,null,null,null,null,100,{"$f":"IF(B190<>\"\",B190,'T Q 4'!AQ111)","v":""}]